BEGIN:VCALENDAR
VERSION:2.0
PRODID:-//LA Guestlist - ECPv6.15.20//NONSGML v1.0//EN
CALSCALE:GREGORIAN
METHOD:PUBLISH
X-ORIGINAL-URL:https://laguestlist.com
X-WR-CALDESC:Events for LA Guestlist
REFRESH-INTERVAL;VALUE=DURATION:PT1H
X-Robots-Tag:noindex
X-PUBLISHED-TTL:PT1H
BEGIN:VTIMEZONE
TZID:America/Los_Angeles
BEGIN:DAYLIGHT
TZOFFSETFROM:-0800
TZOFFSETTO:-0700
TZNAME:PDT
DTSTART:20220313T100000
END:DAYLIGHT
BEGIN:STANDARD
TZOFFSETFROM:-0700
TZOFFSETTO:-0800
TZNAME:PST
DTSTART:20221106T090000
END:STANDARD
BEGIN:DAYLIGHT
TZOFFSETFROM:-0800
TZOFFSETTO:-0700
TZNAME:PDT
DTSTART:20230312T100000
END:DAYLIGHT
BEGIN:STANDARD
TZOFFSETFROM:-0700
TZOFFSETTO:-0800
TZNAME:PST
DTSTART:20231105T090000
END:STANDARD
BEGIN:DAYLIGHT
TZOFFSETFROM:-0800
TZOFFSETTO:-0700
TZNAME:PDT
DTSTART:20240310T100000
END:DAYLIGHT
BEGIN:STANDARD
TZOFFSETFROM:-0700
TZOFFSETTO:-0800
TZNAME:PST
DTSTART:20241103T090000
END:STANDARD
END:VTIMEZONE
BEGIN:VEVENT
DTSTART;TZID=America/Los_Angeles:20230415T120000
DTEND;TZID=America/Los_Angeles:20230415T170000
DTSTAMP:20260420T210342
CREATED:20230408T235100Z
LAST-MODIFIED:20230408T235100Z
UID:48457-1681560000-1681578000@laguestlist.com
SUMMARY:Lucky Brand Desert Mirage 2023
DESCRIPTION:Invite Only – Lucky Brand Desert Mirage is back for some more desert festivites including surprise guest performances and live DJ sets.
URL:https://laguestlist.com/event/lucky-brand-desert-mirage-2023/
LOCATION:CA
CATEGORIES:Coachella
ATTACH;FMTTYPE=image/png:https://laguestlist.com/wp-content/uploads/2023/04/lucky-1.png
END:VEVENT
END:VCALENDAR