BEGIN:VCALENDAR
VERSION:2.0
PRODID:-//LA Guestlist - ECPv6.15.20//NONSGML v1.0//EN
CALSCALE:GREGORIAN
METHOD:PUBLISH
X-ORIGINAL-URL:https://laguestlist.com
X-WR-CALDESC:Events for LA Guestlist
REFRESH-INTERVAL;VALUE=DURATION:PT1H
X-Robots-Tag:noindex
X-PUBLISHED-TTL:PT1H
BEGIN:VTIMEZONE
TZID:America/Los_Angeles
BEGIN:DAYLIGHT
TZOFFSETFROM:-0800
TZOFFSETTO:-0700
TZNAME:PDT
DTSTART:20170312T100000
END:DAYLIGHT
BEGIN:STANDARD
TZOFFSETFROM:-0700
TZOFFSETTO:-0800
TZNAME:PST
DTSTART:20171105T090000
END:STANDARD
BEGIN:DAYLIGHT
TZOFFSETFROM:-0800
TZOFFSETTO:-0700
TZNAME:PDT
DTSTART:20180311T100000
END:DAYLIGHT
BEGIN:STANDARD
TZOFFSETFROM:-0700
TZOFFSETTO:-0800
TZNAME:PST
DTSTART:20181104T090000
END:STANDARD
BEGIN:DAYLIGHT
TZOFFSETFROM:-0800
TZOFFSETTO:-0700
TZNAME:PDT
DTSTART:20190310T100000
END:DAYLIGHT
BEGIN:STANDARD
TZOFFSETFROM:-0700
TZOFFSETTO:-0800
TZNAME:PST
DTSTART:20191103T090000
END:STANDARD
END:VTIMEZONE
BEGIN:VEVENT
DTSTART;TZID=America/Los_Angeles:20180402T200000
DTEND;TZID=America/Los_Angeles:20180402T220000
DTSTAMP:20260423T114956
CREATED:20180327T012237Z
LAST-MODIFIED:20180327T012237Z
UID:31804-1522699200-1522706400@laguestlist.com
SUMMARY:Live Talks LA with Sean Penn
DESCRIPTION:Ticketed – Live Talks LA Presents Sean Penn in conversation with Jane Smiley discussing his debut novel\, “Bob Honey Who Just Do Stuff.”
URL:https://laguestlist.com/event/live-talks-la-with-sean-penn/
LOCATION:Ann and Jerry Moss Theater\, 3131 Olympic Blvd\, Santa Monica\, CA\, 90404\, United States
CATEGORIES:Things to do
ATTACH;FMTTYPE=image/jpeg:https://laguestlist.com/wp-content/uploads/2018/03/Penn.jpg
END:VEVENT
BEGIN:VEVENT
DTSTART;TZID=America/Los_Angeles:20180403T100000
DTEND;TZID=America/Los_Angeles:20180403T180000
DTSTAMP:20260423T114956
CREATED:20180323T190635Z
LAST-MODIFIED:20180323T190635Z
UID:31621-1522749600-1522778400@laguestlist.com
SUMMARY:Morgane Le Fay Sample Sale
DESCRIPTION:Open – Morgane Le Fay is a luxury fashion company that designs ready to wear\, evening gowns\, and bridal. Their design philosophy is that fashion can be a healing force that allows the wearer to feel limitless. \nThey will be hosting a sample sale from on Tuesday\, April 3rd through Tuesday\, April 10th\, in Santa Monica and then re-open in Malibu on April 16th through the 22nd. Discounts begin at 75% off!
URL:https://laguestlist.com/event/morgane-le-fay-sample-sale/
LOCATION:Morgane Le Fay Sample Sale\, 1627 Montana Ave.\, Santa Monica\, CA\, 90403\, United States
CATEGORIES:Sale
ATTACH;FMTTYPE=image/png:https://laguestlist.com/wp-content/uploads/2018/03/unnamed-1-1.png
END:VEVENT
BEGIN:VEVENT
DTSTART;TZID=America/Los_Angeles:20180403T203000
DTEND;TZID=America/Los_Angeles:20180403T233000
DTSTAMP:20260423T114956
CREATED:20180329T153945Z
LAST-MODIFIED:20180329T153945Z
UID:31877-1522787400-1522798200@laguestlist.com
SUMMARY:Emo Nite LA at The Echoplex
DESCRIPTION:$10 at the Door – Bringing together people who share the love of emo rock music from the 90’s\, 2000’s\, and today\, Emo Nite LA\, the event started by three friends at a small dive bar has grown into a full-blown phenomenon that has attracted some of the biggest and most diverse names in entertainment.
URL:https://laguestlist.com/event/emo-nite-la-at-the-echoplex/
LOCATION:Echoplex\, 1822 Sunset Blvd\, Los Angeles\, CA\, 90026\, United States
CATEGORIES:Concert
ATTACH;FMTTYPE=image/jpeg:https://laguestlist.com/wp-content/uploads/2018/03/unnamed-6-2.jpg
END:VEVENT
BEGIN:VEVENT
DTSTART;TZID=America/Los_Angeles:20180404T100000
DTEND;TZID=America/Los_Angeles:20180404T180000
DTSTAMP:20260423T114956
CREATED:20180402T232540Z
LAST-MODIFIED:20180402T232540Z
UID:31949-1522836000-1522864800@laguestlist.com
SUMMARY:Lack of Color x Fred Segal Pop Up Shop
DESCRIPTION:Open – the last day of the Lack of Color x Fred Segal Pop Up Shop at Fred Segal on Sunset to shop the “Summer of Sun” collection by the Californian Dream.
URL:https://laguestlist.com/event/lack-of-color-x-fred-segal-pop-up-shop/
LOCATION:Fred Segal Sunset
CATEGORIES:Fashion
ATTACH;FMTTYPE=image/png:https://laguestlist.com/wp-content/uploads/2018/04/unnamed-4.png
END:VEVENT
BEGIN:VEVENT
DTSTART;TZID=America/Los_Angeles:20180404T180000
DTEND;TZID=America/Los_Angeles:20180404T200000
DTSTAMP:20260423T114956
CREATED:20180325T233456Z
LAST-MODIFIED:20180325T233456Z
UID:31711-1522864800-1522872000@laguestlist.com
SUMMARY:Noah Waxman Sene Pop Up
DESCRIPTION:RSVP/strong> – Join us for cocktails to celebrate the launch of NYC shoemaker Noah Waxman’s first LA outpost. The SENE store will feature Noah’s newest collection of men’s and women’s footwear including an all-new exclusive design inspired by century old-Delft tiles in the window of a Dutch home. The brand is renowned for its collection of footwear that merges all-American style with the legacy of traditional European shoemaking.
URL:https://laguestlist.com/event/noah-waxman-sene-pop-up/
CATEGORIES:Event,Fashion
ATTACH;FMTTYPE=image/png:https://laguestlist.com/wp-content/uploads/2018/03/Screen-Shot-2018-03-25-at-4.33.25-PM.png
END:VEVENT
BEGIN:VEVENT
DTSTART;TZID=America/Los_Angeles:20180404T183000
DTEND;TZID=America/Los_Angeles:20180404T203000
DTSTAMP:20260423T114956
CREATED:20180402T223622Z
LAST-MODIFIED:20180402T223622Z
UID:31905-1522866600-1522873800@laguestlist.com
SUMMARY:OK! Magazine & SPLAT “Desert Vibes” Party
DESCRIPTION:Invite Only – OK! Magazine & SPLAT “Desert Vibes” Party hosted by Emma Kenney.
URL:https://laguestlist.com/event/ok-magazine-splat-desert-vibes-party/
CATEGORIES:Coachella
ATTACH;FMTTYPE=image/png:https://laguestlist.com/wp-content/uploads/2018/04/Screen-Shot-2018-04-02-at-3.34.46-PM.png
END:VEVENT
BEGIN:VEVENT
DTSTART;TZID=America/Los_Angeles:20180405T100000
DTEND;TZID=America/Los_Angeles:20180405T170000
DTSTAMP:20260423T114956
CREATED:20180329T152814Z
LAST-MODIFIED:20180329T152814Z
UID:31868-1522922400-1522947600@laguestlist.com
SUMMARY:MCM Autumn/Winter 2018 Collections Preview
DESCRIPTION:Invite Only – The preview of the MCM Autumn/Winter 2018 Men’s & Women’s Collections on Thursday\, April 5th
URL:https://laguestlist.com/event/mcm-autumn-winter-2018-collections-preview/
CATEGORIES:Event,Fashion
ATTACH;FMTTYPE=image/png:https://laguestlist.com/wp-content/uploads/2018/03/Screen-Shot-2018-03-29-at-8.26.23-AM.png
END:VEVENT
BEGIN:VEVENT
DTSTART;TZID=America/Los_Angeles:20180405T180000
DTEND;TZID=America/Los_Angeles:20180405T210000
DTSTAMP:20260423T114956
CREATED:20180403T010322Z
LAST-MODIFIED:20180403T010322Z
UID:32007-1522951200-1522962000@laguestlist.com
SUMMARY:COACH3LLA Designer Pop Up Event
DESCRIPTION:RSVP – Kick off the festival season at Estrella Restaurant with complimentary pampering\, amazing raffle prizes from our sponsors\, a live music performance and shopping from the best local designers! Come party and shop with us.
URL:https://laguestlist.com/event/coach3lla-designer-pop-up-event/
CATEGORIES:Coachella
ATTACH;FMTTYPE=image/png:https://laguestlist.com/wp-content/uploads/2018/04/Screen-Shot-2018-04-02-at-6.02.13-PM.png
END:VEVENT
BEGIN:VEVENT
DTSTART;TZID=America/Los_Angeles:20180405T190000
DTEND;TZID=America/Los_Angeles:20180405T220000
DTSTAMP:20260423T114956
CREATED:20180402T224929Z
LAST-MODIFIED:20180402T224929Z
UID:31915-1522954800-1522965600@laguestlist.com
SUMMARY:Champion Store Launch Party
DESCRIPTION:Invite Only – Come celebrate with us for the launching of the new Champion Store located on La Brea.
URL:https://laguestlist.com/event/champion-store-launch-party/
CATEGORIES:Things to do
ATTACH;FMTTYPE=image/png:https://laguestlist.com/wp-content/uploads/2018/04/Screen-Shot-2018-04-02-at-3.42.18-PM.png
END:VEVENT
BEGIN:VEVENT
DTSTART;TZID=America/Los_Angeles:20180405T190000
DTEND;TZID=America/Los_Angeles:20180405T220000
DTSTAMP:20260423T114956
CREATED:20180402T235222Z
LAST-MODIFIED:20180402T235222Z
UID:31959-1522954800-1522965600@laguestlist.com
SUMMARY:John Legend x Google Pixel 2
DESCRIPTION:Invite Only – John Legend with exclusively debut his new single “A Good Night\,” where guests will get to see the video premiere\, captured entirely on Google Pixel 2.
URL:https://laguestlist.com/event/john-legend-x-google-pixel-2/
CATEGORIES:Music,Technology
ATTACH;FMTTYPE=image/jpeg:https://laguestlist.com/wp-content/uploads/2018/04/c3dd4d86801b4ceca8dac7405306d58d.jpg
END:VEVENT
BEGIN:VEVENT
DTSTART;TZID=America/Los_Angeles:20180405T190000
DTEND;TZID=America/Los_Angeles:20180405T220000
DTSTAMP:20260423T114956
CREATED:20180403T003821Z
LAST-MODIFIED:20180403T003821Z
UID:31982-1522954800-1522965600@laguestlist.com
SUMMARY:Das Days in LA: 3ST Product Launch Party
DESCRIPTION:RSVP – Celebrate the launch of adidas’ newest skate shoes\, the 3ST.001 and 3ST.002\, by designing and building your own mini versions at the pop-up adidas Makers Lab.
URL:https://laguestlist.com/event/das-days-in-la-3st-product-launch-party/
LOCATION:The Seventh Letter Gallery\, 346 North Fairfax Ave\, Los Angeles\, CA\, 90036\, United States
CATEGORIES:Art,Sports
ATTACH;FMTTYPE=image/png:https://laguestlist.com/wp-content/uploads/2018/04/Screen-Shot-2018-04-02-at-5.36.21-PM.png
END:VEVENT
BEGIN:VEVENT
DTSTART;TZID=America/Los_Angeles:20180405T190000
DTEND;TZID=America/Los_Angeles:20180405T230000
DTSTAMP:20260423T114956
CREATED:20180405T220453Z
LAST-MODIFIED:20180405T220453Z
UID:32154-1522954800-1522969200@laguestlist.com
SUMMARY:Yardbird Grand Opening
DESCRIPTION:Invite Only – Yardbird Grand Opening with drinks\, light bites\, sounds by DJ SKE and a special live performance by Runaway June.
URL:https://laguestlist.com/event/yardbird-grand-opening/
CATEGORIES:Gastronomy
ATTACH;FMTTYPE=image/png:https://laguestlist.com/wp-content/uploads/2018/04/Screen-Shot-2018-04-05-at-2.58.50-PM.png
END:VEVENT
BEGIN:VEVENT
DTSTART;TZID=America/Los_Angeles:20180406T110000
DTEND;TZID=America/Los_Angeles:20180406T180000
DTSTAMP:20260423T114956
CREATED:20180405T220739Z
LAST-MODIFIED:20180405T220739Z
UID:32157-1523012400-1523037600@laguestlist.com
SUMMARY:PrettyLittleThing Festival Gifting Suite
DESCRIPTION:Invite Only – PrettyLittleThing Festival Gifting Suite with customization stands\, treats and glam by the Gypsy Shrine.
URL:https://laguestlist.com/event/prettylittlething-festival-gifting-suite/
CATEGORIES:Coachella
ATTACH;FMTTYPE=image/png:https://laguestlist.com/wp-content/uploads/2018/04/Screen-Shot-2018-04-05-at-3.05.34-PM.png
END:VEVENT
BEGIN:VEVENT
DTSTART;TZID=America/Los_Angeles:20180406T110000
DTEND;TZID=America/Los_Angeles:20180406T190000
DTSTAMP:20260423T114956
CREATED:20180404T172400Z
LAST-MODIFIED:20180404T172400Z
UID:32063-1523012400-1523041200@laguestlist.com
SUMMARY:#REVOLVESocialClub LA POP-UP
DESCRIPTION:Open – the REVOLVE Social Club is opening its doors to the public to get you Coachella ready with a special festival pop-up\, nike will also have an installation on the second floor.
URL:https://laguestlist.com/event/revolvesocialclub-la-pop-up/
LOCATION:REVOLVE Social Club\, 8070 Melrose Ave.\, Los Angeles\, CA\, United States
ATTACH;FMTTYPE=image/png:https://laguestlist.com/wp-content/uploads/2018/04/Screen-Shot-2018-04-04-at-10.20.59-AM.png
END:VEVENT
BEGIN:VEVENT
DTSTART;TZID=America/Los_Angeles:20180406T170000
DTEND;TZID=America/Los_Angeles:20180406T200000
DTSTAMP:20260423T114956
CREATED:20180404T205455Z
LAST-MODIFIED:20180404T205455Z
UID:32115-1523034000-1523044800@laguestlist.com
SUMMARY:Get Festival Ready with LF the Brand
DESCRIPTION:Open – LF the Brand\, to invite you to get festival ready at their Venice location this Friday! Join us and customize your favorite pieces with on-site embroidery\, and win gift bags while supplies last.
URL:https://laguestlist.com/event/get-festival-ready-with-lf-the-brand/
LOCATION:LF Stores\, 1312 Abbot Kinney Blvd.\, Venice\, CA\, United States
CATEGORIES:Coachella,Things to do
ATTACH;FMTTYPE=image/png:https://laguestlist.com/wp-content/uploads/2018/04/unnamed-2-1.png
END:VEVENT
BEGIN:VEVENT
DTSTART;TZID=America/Los_Angeles:20180406T170000
DTEND;TZID=America/Los_Angeles:20180406T220000
DTSTAMP:20260423T114956
CREATED:20180403T000809Z
LAST-MODIFIED:20180403T000809Z
UID:31969-1523034000-1523052000@laguestlist.com
SUMMARY:TRASHed x Coachella 2018 | Art of Recycling Exhibit
DESCRIPTION:RSVP – Help us celebrate 15 years of getting TRASHed at Coachella! View over 100 redesigned recycling bins by your favorite artists and designer before they roll to the Polo Field.  \nCoachella + Global Inheritance are hosting an exhibition in Downtown Los Angeles on Friday\, April 6th from 5-10PM!
URL:https://laguestlist.com/event/trashed-x-coachella-2018-art-of-recycling-exhibit/
LOCATION:MaRS – Museum as Retail Space\, 649 S Anderson Street\, Los Angeles\, CA\, 90023\, United States
CATEGORIES:Coachella
ATTACH;FMTTYPE=image/jpeg:https://laguestlist.com/wp-content/uploads/2018/04/29351633_10155913926055399_5004442508081520294_o.jpg
END:VEVENT
BEGIN:VEVENT
DTSTART;TZID=America/Los_Angeles:20180406T190000
DTEND;TZID=America/Los_Angeles:20180406T210000
DTSTAMP:20260423T114956
CREATED:20180403T001222Z
LAST-MODIFIED:20180403T001222Z
UID:31973-1523041200-1523048400@laguestlist.com
SUMMARY:Undo Mag 7 Launch: Los Angeles
DESCRIPTION:RSVP – Undo Mag Issue 7 Bad Habits: Addictions\, Prescriptions and Supplements Launch Party in Los Angeles.
URL:https://laguestlist.com/event/undo-mag-7-launch-los-angeles/
CATEGORIES:Magazine
ATTACH;FMTTYPE=image/png:https://laguestlist.com/wp-content/uploads/2018/04/Screen-Shot-2018-04-02-at-5.10.51-PM.png
END:VEVENT
BEGIN:VEVENT
DTSTART;TZID=America/Los_Angeles:20180406T190000
DTEND;TZID=America/Los_Angeles:20180406T210000
DTSTAMP:20260423T114956
CREATED:20180404T183956Z
LAST-MODIFIED:20180404T183956Z
UID:32075-1523041200-1523048400@laguestlist.com
SUMMARY:2018 Swisher Sweets Spark Award with Gucci Mane
DESCRIPTION:Invite Only – 2018 Swisher Sweets Spark Award\, honoring trap music pioneer\, Gucci Mane. Joined by Machine Gun Kelly\, Fetty Wap\, and other confirmed special guests.
URL:https://laguestlist.com/event/2018-swisher-sweets-spark-award-with-gucci-mane/
CATEGORIES:Award Show
ATTACH;FMTTYPE=image/jpeg:https://laguestlist.com/wp-content/uploads/2018/04/12700729-gucci.jpg
END:VEVENT
BEGIN:VEVENT
DTSTART;TZID=America/Los_Angeles:20180406T190000
DTEND;TZID=America/Los_Angeles:20180406T220000
DTSTAMP:20260423T114956
CREATED:20180403T004306Z
LAST-MODIFIED:20180403T004306Z
UID:31988-1523041200-1523052000@laguestlist.com
SUMMARY:Das Days: The Nine Club
DESCRIPTION:Invite Only -Experience the excitement of ‘The Nine Club’ as part of a live studio audience. Hosted by Chris Roberts\, the show will feature special guests from the adidas team and a few famous personalities from around Los Angeles.
URL:https://laguestlist.com/event/das-days-the-nine-club/
LOCATION:The Seventh Letter Gallery\, 346 North Fairfax Ave\, Los Angeles\, CA\, 90036\, United States
CATEGORIES:Pop-Up Shop
ATTACH;FMTTYPE=image/png:https://laguestlist.com/wp-content/uploads/2018/04/Screen-Shot-2018-04-02-at-5.41.07-PM.png
END:VEVENT
BEGIN:VEVENT
DTSTART;TZID=America/Los_Angeles:20180406T220000
DTEND;TZID=America/Los_Angeles:20180406T220000
DTSTAMP:20260423T114956
CREATED:20180402T225900Z
LAST-MODIFIED:20180402T225900Z
UID:31925-1523052000-1523052000@laguestlist.com
SUMMARY:nANA JUDY x Chroncierge
DESCRIPTION:Invite Only – nANA JUDY and Chroncierge are gearing up with Coachella with a Pre-Party that you will not want to miss.
URL:https://laguestlist.com/event/nana-judy-x-chroncierge/
CATEGORIES:Things to do
ATTACH;FMTTYPE=image/png:https://laguestlist.com/wp-content/uploads/2018/04/Screen-Shot-2018-04-02-at-3.56.44-PM.png
END:VEVENT
BEGIN:VEVENT
DTSTART;TZID=America/Los_Angeles:20180406T220000
DTEND;TZID=America/Los_Angeles:20180406T220000
DTSTAMP:20260423T114956
CREATED:20180402T234607Z
LAST-MODIFIED:20180402T234607Z
UID:31953-1523052000-1523052000@laguestlist.com
SUMMARY:The Hundreds Presents SPITSET
DESCRIPTION:RSVP – The Hundreds presents SPITSET\, A free show in Los Angeles featuring performances by Buddy & Villain Park\, DJ sets by Mia Carucci & Alexander Spit and Free drinks by Sapporo.
URL:https://laguestlist.com/event/the-hundreds-presents-spitset-2/
CATEGORIES:Things to do
ATTACH;FMTTYPE=image/png:https://laguestlist.com/wp-content/uploads/2018/04/Screen-Shot-2018-04-02-at-4.43.56-PM.png
END:VEVENT
BEGIN:VEVENT
DTSTART;TZID=America/Los_Angeles:20180407T100000
DTEND;TZID=America/Los_Angeles:20180407T160000
DTSTAMP:20260423T114956
CREATED:20180327T001956Z
LAST-MODIFIED:20180327T001956Z
UID:31795-1523095200-1523116800@laguestlist.com
SUMMARY:Waves: TEDxUCLA 2018
DESCRIPTION:Ticketed – Join hundreds of big thinkers at Royce Hall for a day of mainstage talks\, exhibitions\, and activities that will expand your horizons and chart a new course for your creativity.
URL:https://laguestlist.com/event/waves-tedxucla-2018/
LOCATION:UCLA
CATEGORIES:Networking
ATTACH;FMTTYPE=image/png:https://laguestlist.com/wp-content/uploads/2018/03/Screen-Shot-2018-03-26-at-5.18.15-PM.png
END:VEVENT
BEGIN:VEVENT
DTSTART;TZID=America/Los_Angeles:20180407T110000
DTEND;TZID=America/Los_Angeles:20180407T160000
DTSTAMP:20260423T114956
CREATED:20180405T014501Z
LAST-MODIFIED:20180405T014501Z
UID:32142-1523098800-1523116800@laguestlist.com
SUMMARY:Levi's Festival Customization Event
DESCRIPTION:Open – Finalize your festival fashion at the Levi’s Store in Malibu. Join Levi’s this weekend and customize your festival look. We’ll be offering a free tote and customization package (patch\, pin and monogram) with each purchase\, plus 30% off purchases of $100 or more. Attendees will also have access to cut-off customization\, fringe\, airbrushing\, rhinestone and studding options so you can deck out your denim\, get festival-ready and create one-of-a-kind pieces.
URL:https://laguestlist.com/event/levis-festival-customization-event/
LOCATION:Levi’s Malibu\, 3862 Cross Creek Rd\, Malibu\, CA\, 90265\, United States
CATEGORIES:Fashion,Things to do
ATTACH;FMTTYPE=image/png:https://laguestlist.com/wp-content/uploads/2018/04/levis-logo-400x400.png
END:VEVENT
BEGIN:VEVENT
DTSTART;TZID=America/Los_Angeles:20180407T110000
DTEND;TZID=America/Los_Angeles:20180407T190000
DTSTAMP:20260423T114956
CREATED:20180404T172508Z
LAST-MODIFIED:20180404T172508Z
UID:32066-1523098800-1523127600@laguestlist.com
SUMMARY:#REVOLVESocialClub LA POP-UP
DESCRIPTION:Open – the REVOLVE Social Club is opening its doors to the public to get you Coachella ready with a special festival pop-up\, nike will also have an installation on the second floor.
URL:https://laguestlist.com/event/revolvesocialclub-la-pop-up-2/
LOCATION:REVOLVE Social Club\, 8070 Melrose Ave.\, Los Angeles\, CA\, United States
CATEGORIES:Coachella
ATTACH;FMTTYPE=image/png:https://laguestlist.com/wp-content/uploads/2018/04/Screen-Shot-2018-04-04-at-10.20.59-AM.png
END:VEVENT
BEGIN:VEVENT
DTSTART;TZID=America/Los_Angeles:20180407T140000
DTEND;TZID=America/Los_Angeles:20180407T180000
DTSTAMP:20260423T114956
CREATED:20180402T225552Z
LAST-MODIFIED:20180402T225552Z
UID:31922-1523109600-1523124000@laguestlist.com
SUMMARY:Buchella by Pop Your Shop!
DESCRIPTION:RSVP – Pop Your Shop & J.D. Luxe hosts its 3rd annual Pre Coachella shopping event\, #Buchella\, featuring top festival fashion from the J.D. Luxe Fashion Mobile Boutique Truck\, and several other brands that will be highlighting ‘boho chic’ essentials for the desert!  Located in the heart of Malibu\, Rosenthal Wines is the perfect backdrop creating the festival feel by the beach\, before heading to desert festival.  \nPop-Up includes: Live Music\, Mini Manicures\, Flower Crown Making\, Food Trucks\, Variety of amazing wines\, Tipi lounge w/ flash tats\, Photo booth & more.
URL:https://laguestlist.com/event/buchella-by-pop-your-shop/
LOCATION:Rosenthal  Winery\, 18471 Pacific Coast Highway\, Malibe\, CA\, 90265\, United States
CATEGORIES:Coachella,Things to do
ATTACH;FMTTYPE=image/jpeg:https://laguestlist.com/wp-content/uploads/2018/04/unnamed-3-1.jpg
END:VEVENT
BEGIN:VEVENT
DTSTART;TZID=America/Los_Angeles:20180407T170000
DTEND;TZID=America/Los_Angeles:20180407T190000
DTSTAMP:20260423T114956
CREATED:20180405T015643Z
LAST-MODIFIED:20180405T015643Z
UID:32148-1523120400-1523127600@laguestlist.com
SUMMARY:Get Baked\, LA by Publish Brand & Mr Holmes
DESCRIPTION:RSVP – Lifestyle brand\, Publish\, has teamed up with LA’s Mr. Holmes Bakehouse to give you the chance to meet the teams and get a sense of what it takes to realize a dream. This event is the launch of the Publish.ed Program\, linking with likeminded creatives to inspire future entrepreneurs with true stories\, struggles\, and most importantly\, successes. Join us for a night of free drinks\, mouth-watering pastries\, exclusive collaborative merchandise and live Q&A panel from the founders of both brands.
URL:https://laguestlist.com/event/get-baked-la-by-publish-brand-mr-holmes/
LOCATION:Mr Holmes Bakehouse\, 111 South Avenue 59\, Los Angeles\, CA\, 90042\, United States
CATEGORIES:Networking
ATTACH;FMTTYPE=image/jpeg:https://laguestlist.com/wp-content/uploads/2018/04/https_2F2Fcdn.evbuc_.com2Fimages2F430663552F1137050152912F12Foriginal.jpg
END:VEVENT
BEGIN:VEVENT
DTSTART;TZID=America/Los_Angeles:20180407T170000
DTEND;TZID=America/Los_Angeles:20180407T230000
DTSTAMP:20260423T114956
CREATED:20180403T004038Z
LAST-MODIFIED:20180403T004038Z
UID:31985-1523120400-1523142000@laguestlist.com
SUMMARY:Das Days Block Party Ft. Chief Keef
DESCRIPTION:RSVP – Join the adidas skate team for an all-day/all-night party featuring a best trick skate jam\, the premiere of Diego Najera’s newest video part and a live music showcase presented by local LA skate shop Brooklyn Projects.
URL:https://laguestlist.com/event/das-days-block-party-ft-chief-keef/
LOCATION:Union\, 4067 West Pico Boulevard\, Los Angeles\, CA\, 90019\, United States
CATEGORIES:Art,Sports
ATTACH;FMTTYPE=image/jpeg:https://laguestlist.com/wp-content/uploads/2018/04/DAS-DAYS_INVITE_4-7-18_preview.jpg
END:VEVENT
BEGIN:VEVENT
DTSTART;TZID=America/Los_Angeles:20180407T183000
DTEND;TZID=America/Los_Angeles:20180407T230000
DTSTAMP:20260423T114956
CREATED:20180403T205612Z
LAST-MODIFIED:20180403T205612Z
UID:32031-1523125800-1523142000@laguestlist.com
SUMMARY:My Friend's Place 30th Anniversary Gala
DESCRIPTION:Ticketed – My Friend’s Place will commemorate 30 years of providing vital\, life-changing services to tens of thousands homeless youth in Los Angeles with a 30th Anniversary Gala event on April 7\, 2018 at the Hollywood Palladium. The announcement was made today by the organization’s executive director\, Heather Carmichael\, along with event co-chairs art consultant Sylvia Chivaratanond and WholeWorldBand CEO\, Gregory Butler.
URL:https://laguestlist.com/event/my-friends-place-30th-anniversary-gala/
LOCATION:The Palladium\, 6215 Sunset Boulevard\,  Los Angeles\, CA\, 90028\, United States
CATEGORIES:Charity
ATTACH;FMTTYPE=image/jpeg:https://laguestlist.com/wp-content/uploads/2018/04/Social-Image-768x731.jpg
END:VEVENT
BEGIN:VEVENT
DTSTART;TZID=America/Los_Angeles:20180407T193000
DTEND;TZID=America/Los_Angeles:20180407T230000
DTSTAMP:20260423T114956
CREATED:20180403T005644Z
LAST-MODIFIED:20180403T005644Z
UID:32001-1523129400-1523142000@laguestlist.com
SUMMARY:Los Angeles' Young Literati 10th Annual Toast
DESCRIPTION:Ticketed – The Library Foundation of Los Angeles’ Young Literati will present their 10th Annual Toast at 7:30 p.m. on Saturday\, April 7 at Hudson Loft in DTLA.
URL:https://laguestlist.com/event/los-angeles-young-literati-10th-annual-toast/
LOCATION:Hudson Loft\, 1200 S. Hope St\, Los Angeles\, CA\, 90015\, United States
CATEGORIES:Charity
ATTACH;FMTTYPE=image/jpeg:https://laguestlist.com/wp-content/uploads/2018/04/Final-Toastlogo-300x199.jpg
END:VEVENT
BEGIN:VEVENT
DTSTART;TZID=America/Los_Angeles:20180408T110000
DTEND;TZID=America/Los_Angeles:20180408T160000
DTSTAMP:20260423T114956
CREATED:20180405T014556Z
LAST-MODIFIED:20180405T014556Z
UID:32146-1523185200-1523203200@laguestlist.com
SUMMARY:Levi's Festival Customization Event
DESCRIPTION:Open – Finalize your festival fashion at the Levi’s Store in Malibu. Join Levi’s this weekend and customize your festival look. We’ll be offering a free tote and customization package (patch\, pin and monogram) with each purchase\, plus 30% off purchases of $100 or more. Attendees will also have access to cut-off customization\, fringe\, airbrushing\, rhinestone and studding options so you can deck out your denim\, get festival-ready and create one-of-a-kind pieces.
URL:https://laguestlist.com/event/levis-festival-customization-event-2/
LOCATION:Levi’s Malibu\, 3862 Cross Creek Rd\, Malibu\, CA\, 90265\, United States
CATEGORIES:Things to do
ATTACH;FMTTYPE=image/png:https://laguestlist.com/wp-content/uploads/2018/04/levis-logo-400x400.png
END:VEVENT
END:VCALENDAR