BEGIN:VCALENDAR
VERSION:2.0
PRODID:-//LA Guestlist - ECPv6.15.20//NONSGML v1.0//EN
CALSCALE:GREGORIAN
METHOD:PUBLISH
X-WR-CALNAME:LA Guestlist
X-ORIGINAL-URL:https://laguestlist.com
X-WR-CALDESC:Events for LA Guestlist
REFRESH-INTERVAL;VALUE=DURATION:PT1H
X-Robots-Tag:noindex
X-PUBLISHED-TTL:PT1H
BEGIN:VTIMEZONE
TZID:America/Los_Angeles
BEGIN:DAYLIGHT
TZOFFSETFROM:-0800
TZOFFSETTO:-0700
TZNAME:PDT
DTSTART:20170312T100000
END:DAYLIGHT
BEGIN:STANDARD
TZOFFSETFROM:-0700
TZOFFSETTO:-0800
TZNAME:PST
DTSTART:20171105T090000
END:STANDARD
BEGIN:DAYLIGHT
TZOFFSETFROM:-0800
TZOFFSETTO:-0700
TZNAME:PDT
DTSTART:20180311T100000
END:DAYLIGHT
BEGIN:STANDARD
TZOFFSETFROM:-0700
TZOFFSETTO:-0800
TZNAME:PST
DTSTART:20181104T090000
END:STANDARD
BEGIN:DAYLIGHT
TZOFFSETFROM:-0800
TZOFFSETTO:-0700
TZNAME:PDT
DTSTART:20190310T100000
END:DAYLIGHT
BEGIN:STANDARD
TZOFFSETFROM:-0700
TZOFFSETTO:-0800
TZNAME:PST
DTSTART:20191103T090000
END:STANDARD
END:VTIMEZONE
BEGIN:VEVENT
DTSTART;TZID=America/Los_Angeles:20180101T080000
DTEND;TZID=America/Los_Angeles:20180101T170000
DTSTAMP:20260420T212053
CREATED:20171218T232011Z
LAST-MODIFIED:20171218T232011Z
UID:29732-1514793600-1514826000@laguestlist.com
SUMMARY:The 2018 Rose Parade
DESCRIPTION:Open – The Rose Parade will start at 8:00am PST. On January 1\, 2018\, the world focuses its attention on Pasadena\, California\, USA\, home of the Rose Parade and Rose Bowl Game. It’s a celebration more than a century old – a festival of flowers\, music and sports unequaled anywhere else in the world. It’s America’s New Year Celebration\, a greeting to the world on the first day of the year\, and a salute to the community spirit and love of pageantry that have thrived in Pasadena for more than 100 years.
URL:https://laguestlist.com/event/2018-rose-parade/
LOCATION:The Rose Bowl\, 1001 Rose Bowl Drive\, Pasadena\, CA\, 91103\, United States
CATEGORIES:Things to do
ATTACH;FMTTYPE=image/jpeg:https://laguestlist.com/wp-content/uploads/2017/12/TOR_RP-2016-THEME-FYA_color_white.jpg
END:VEVENT
BEGIN:VEVENT
DTSTART;TZID=America/Los_Angeles:20180101T100000
DTEND;TZID=America/Los_Angeles:20180101T120000
DTSTAMP:20260420T212053
CREATED:20171218T231529Z
LAST-MODIFIED:20171218T231529Z
UID:29729-1514800800-1514808000@laguestlist.com
SUMMARY:Museum of Illusions Grand Opening
DESCRIPTION:Ticketed – Museum of Illusions – Grand opening! Winter 2018! A visitor to the Museum of Illusions is not a passive observer but a full-fledged participant of the paintings created by the best artists. This is a place where photography is not just encouraged – it is part and parcel of the exhibition. The museum of optical illusions is intended to fill visitors’ photo albums with vivid and unusual photographs. The Museum of optical illusions opens its doors for the viewers of all ages\, without restrictions\, and guarantees – no one will feel bored!
URL:https://laguestlist.com/event/museum-illusions-grand-opening/
CATEGORIES:The New Order
ATTACH;FMTTYPE=image/png:https://laguestlist.com/wp-content/uploads/2017/12/Screen-Shot-2017-12-18-at-3.13.35-PM.png
END:VEVENT
BEGIN:VEVENT
DTSTART;TZID=America/Los_Angeles:20180101T140000
DTEND;TZID=America/Los_Angeles:20180101T220000
DTSTAMP:20260420T212053
CREATED:20171226T205905Z
LAST-MODIFIED:20171226T205905Z
UID:29764-1514815200-1514844000@laguestlist.com
SUMMARY:The New-Over - New Year's Day in L.A.
DESCRIPTION:RSVP – The Do-Over and adidas Originals kick off 2018 in a major way! The New-Over returns\, saving your New Year’s festivities with our annual New Year’s Day swirler to give you your first best party of 2018! Open vodka bar from 2-3pm + the big blue VOID x adidas Originals x The Do-Over Sound System keeping the bounce moving!
URL:https://laguestlist.com/event/new-new-years-day-l/
LOCATION:Lure Nightclub\, 1439 Ivar Ave\, Los Angeles\, CA\, 90028\, United States
CATEGORIES:Event
ATTACH;FMTTYPE=image/png:https://laguestlist.com/wp-content/uploads/2017/12/unnamed-1-2.png
END:VEVENT
BEGIN:VEVENT
DTSTART;TZID=America/Los_Angeles:20180102T190000
DTEND;TZID=America/Los_Angeles:20180102T230000
DTSTAMP:20260420T212053
CREATED:20171218T232412Z
LAST-MODIFIED:20171218T232412Z
UID:29735-1514919600-1514934000@laguestlist.com
SUMMARY:2018 Palm Springs International Film Festival Awards Gala
DESCRIPTION:Invite Only – The Palm Springs International Film Festival’s signature showpiece event – and by far our biggest fundraiser – is the annual Film Awards Gala. This dazzling celebration of old school Hollywood star power\, glamour and talent kicks off Awards season each year\, and takes locals back to the time when Palm Springs was the playground for Hollywood’s biggest stars with Gal Gadot  honored with the Rising Star Award.
URL:https://laguestlist.com/event/2018-palm-springs-international-film-festival-awards-gala/
LOCATION:Palm Springs
CATEGORIES:Award Show,Movies
ATTACH;FMTTYPE=image/jpeg:https://laguestlist.com/wp-content/uploads/2017/12/posterart_ff18_horizontal.jpg
END:VEVENT
BEGIN:VEVENT
DTSTART;TZID=America/Los_Angeles:20180104T190000
DTEND;TZID=America/Los_Angeles:20180104T210000
DTSTAMP:20260420T212053
CREATED:20171218T225645Z
LAST-MODIFIED:20171218T225645Z
UID:29723-1515092400-1515099600@laguestlist.com
SUMMARY:Gym Shark Pop Up Party
DESCRIPTION:Invite Only – Swing by for cocktails and hors d’oeuvres while shopping the latest Gymshark collection with ultimate fitness babe\, Nikki Blackketter! If rocking the cutest fitness apparel isn’t enough to convince you to jump on the “New Year\, New You” bandwagon\, Nikki is sharing some of her fave workout tips for that extra motivation.
URL:https://laguestlist.com/event/gym-shark-pop-party/
CATEGORIES:Pop-Up Shop
ATTACH;FMTTYPE=image/png:https://laguestlist.com/wp-content/uploads/2017/12/Screen-Shot-2017-12-18-at-2.55.09-PM.png
END:VEVENT
BEGIN:VEVENT
DTSTART;TZID=America/Los_Angeles:20180104T193000
DTEND;TZID=America/Los_Angeles:20180104T223000
DTSTAMP:20260420T212053
CREATED:20171218T210519Z
LAST-MODIFIED:20171218T210519Z
UID:29711-1515094200-1515105000@laguestlist.com
SUMMARY:W Magazine Best Performances Celebration
DESCRIPTION:Invite Only – W Magazine Best Performances Celebration in honor of the 75th Annual Golden Globe Awards in partnership with Audi and Dior.
URL:https://laguestlist.com/event/w-magazine-best-performances-celebration/
CATEGORIES:Award Show,Magazine
ATTACH;FMTTYPE=image/png:https://laguestlist.com/wp-content/uploads/2017/12/Screen-Shot-2017-12-18-at-1.03.33-PM.png
END:VEVENT
BEGIN:VEVENT
DTSTART;TZID=America/Los_Angeles:20180105T170000
DTEND;TZID=America/Los_Angeles:20180105T190000
DTSTAMP:20260420T212053
CREATED:20171229T172155Z
LAST-MODIFIED:20171229T172155Z
UID:29802-1515171600-1515178800@laguestlist.com
SUMMARY:VFILES and Mountain Dew Present: Pass The Aux
DESCRIPTION:Invite Only – VFILES and Mountain Dew® are releasing a CAMOOUT capsule collection exclusively available at PacSun. To celebrate the launch\, VFILES will be hosting Pass the Aux.
URL:https://laguestlist.com/event/vfiles-mountain-dew-present-pass-aux/
CATEGORIES:Things to do
ATTACH;FMTTYPE=image/jpeg:https://laguestlist.com/wp-content/uploads/2017/12/unnamed-2-2.jpg
END:VEVENT
BEGIN:VEVENT
DTSTART;TZID=America/Los_Angeles:20180105T200000
DTEND;TZID=America/Los_Angeles:20180105T233000
DTSTAMP:20260420T212053
CREATED:20180104T174315Z
LAST-MODIFIED:20180104T174315Z
UID:29835-1515182400-1515195000@laguestlist.com
SUMMARY:Esquire Golden Globes Party
DESCRIPTION:Esquire teams with Maserati to present a private party at the home of Hollywood power couple Mike and Irena Medavoy to celebrate the Golden Globes.
URL:https://laguestlist.com/event/esquire-golden-globes-party/
CATEGORIES:Award Show,Magazine
ATTACH;FMTTYPE=image/png:https://laguestlist.com/wp-content/uploads/2018/01/Screen-Shot-2018-01-04-at-10.38.28-AM.png
END:VEVENT
BEGIN:VEVENT
DTSTART;TZID=America/Los_Angeles:20180106T140000
DTEND;TZID=America/Los_Angeles:20180106T170000
DTSTAMP:20260420T212053
CREATED:20171218T205602Z
LAST-MODIFIED:20171218T205602Z
UID:29702-1515247200-1515258000@laguestlist.com
SUMMARY:BAFTA Los Angeles Awards Season Tea 2018
DESCRIPTION:Invite Only – The British Academy of Film and Television Arts Los Angeles (BAFTA Los Angeles) will celebrate the 2018 Awards Season with their annual Tea Party on Saturday\, January 6\, 2018. The BAFTA Los Angeles Tea Party is one of the most prestigious events in the annual awards calendar\, celebrating excellence in the craft\, and wishing the best of luck to all nominees for the awards season ahead. Awards Season Nominees along with leading executives\, celebrities\, and BAFTA members will enjoy British tea and scones\, and cocktails in the uniquely relaxed surroundings of a traditional British Tea Party.
URL:https://laguestlist.com/event/bafta-los-angeles-awards-season-tea-2018/
LOCATION:Four Seasons Hotel\, 9500 Wilshire Blvd.\, Beverly Hills\, CA\, 90212\, United States
CATEGORIES:Award Show
ATTACH;FMTTYPE=image/jpeg:https://laguestlist.com/wp-content/uploads/2017/12/BAFTA.jpg
END:VEVENT
BEGIN:VEVENT
DTSTART;TZID=America/Los_Angeles:20180106T180000
DTEND;TZID=America/Los_Angeles:20180106T210000
DTSTAMP:20260420T212053
CREATED:20171218T212521Z
LAST-MODIFIED:20171226T235750Z
UID:29717-1515261600-1515272400@laguestlist.com
SUMMARY:Tami Bahat: "Revisiting Humanity: Secrets and Lifetimes" hosted by Erika Christensen
DESCRIPTION:Open – Los Angeles photographer Tami Bahat will present her first solo exhibition in Los Angeles at Building Bridges Art Exchange in Bergamot Station opening on Saturday\, January 6\, 2018 hosted by Erika Christensen. The show will feature new work from her ongoing series Dramatis Personae and will be open to the public from January 7\, 2018 to February 8\, 2018.
URL:https://laguestlist.com/event/tami-bahat-revisiting-humanity-secrets-lifetimes-hosted-erika-christensen/
LOCATION:Bergamot Station\, 2525 Michigan Ave\, Santa Monica\, CA\, 90404\, United States
CATEGORIES:Art
ATTACH;FMTTYPE=image/png:https://laguestlist.com/wp-content/uploads/2017/12/unnamed-1-1.png
END:VEVENT
BEGIN:VEVENT
DTSTART;TZID=America/Los_Angeles:20180106T180000
DTEND;TZID=America/Los_Angeles:20180106T230000
DTSTAMP:20260420T212053
CREATED:20180102T215445Z
LAST-MODIFIED:20180102T215445Z
UID:29829-1515261600-1515279600@laguestlist.com
SUMMARY:8th Annual Help Haiti Home Gala
DESCRIPTION:Invite Only –  J/P Haitian Relief Organization will gather some of Hollywood’s finest including Sean Penn On Saturday in support of the Haitian Community at Milk Studio.
URL:https://laguestlist.com/event/8th-annual-help-haiti-home-gala/
LOCATION:Milk Studio\, 855 N Cahuenga Blvd\, Los Angeles\, CA\, 90038\, United States
CATEGORIES:Charity
ATTACH;FMTTYPE=image/png:https://laguestlist.com/wp-content/uploads/2018/01/JP-logo.png
END:VEVENT
BEGIN:VEVENT
DTSTART;TZID=America/Los_Angeles:20180106T190000
DTEND;TZID=America/Los_Angeles:20180106T230000
DTSTAMP:20260420T212053
CREATED:20180102T215037Z
LAST-MODIFIED:20180102T215037Z
UID:29826-1515265200-1515279600@laguestlist.com
SUMMARY:Art of Elysium Heaven Gala 2018
DESCRIPTION:Ticketed – HEAVEN is a one night artistic installation conceptually curated by a chosen Visionary. The Visionary is annually selected based upon their creative contribution to the community. This elegant black tie affair is held annually the night before the Golden Globes and promises an unparalleled creative experience\, rooted in our mission and representing the spirit of our diverse artistic disciplines. Each year we honor one of our supporters as The Spirit of Elysium for their tireless dedication and volunteerism to the organization.
URL:https://laguestlist.com/event/art-elysium-heaven-gala-2018/
LOCATION:The Barker Hangar\, 3021 Airport Ave\, Santa Monica\, CA\, 90405\, United States
CATEGORIES:Award Show,Charity
ATTACH;FMTTYPE=image/png:https://laguestlist.com/wp-content/uploads/2018/01/Screen-Shot-2018-01-02-at-2.46.48-PM.png
END:VEVENT
BEGIN:VEVENT
DTSTART;TZID=America/Los_Angeles:20180106T220000
DTEND;TZID=America/Los_Angeles:20180106T220000
DTSTAMP:20260420T212053
CREATED:20180105T173520Z
LAST-MODIFIED:20180105T173520Z
UID:29854-1515276000-1515276000@laguestlist.com
SUMMARY:Deadmau5 & Friends
DESCRIPTION:Ticketed – One the biggest artists on the planet has just announced a very special birthday party. Deadmau5 and friends will be taking over Sound Nightclub in what is set to be a party for the ages Presented by Sound Nightclub.
URL:https://laguestlist.com/event/deadmau5-friends/
LOCATION:Sound Nightclub\, 1642 N Las Palmas Ave\,  Los Angeles\, CA\, 90028\, United States
CATEGORIES:Nightlife
ATTACH;FMTTYPE=image/png:https://laguestlist.com/wp-content/uploads/2018/01/Screen-Shot-2018-01-05-at-10.26.49-AM.png
END:VEVENT
BEGIN:VEVENT
DTSTART;TZID=America/Los_Angeles:20180107T170000
DTEND;TZID=America/Los_Angeles:20180107T200000
DTSTAMP:20260420T212053
CREATED:20171218T214003Z
LAST-MODIFIED:20171218T214003Z
UID:29720-1515344400-1515355200@laguestlist.com
SUMMARY:75th Golden Globe Awards
DESCRIPTION:Invite Only – Seth Meyers will host the 75th Golden Globe Awards from the International Ballroom of the Beverly Hilton on Jan. 7. The 75th Golden Globes will air live at 5 p.m. PT/8 p.m. ET on NBC.
URL:https://laguestlist.com/event/75th-golden-globe-awards/
LOCATION:The Beverly Hilton\, 9876 Wilshire Boulevard\, Beverly Hills\, CA\, 90210\, United States
CATEGORIES:Award Show
ATTACH;FMTTYPE=image/gif:https://laguestlist.com/wp-content/uploads/2017/12/golden-globe-75th-anni.gif
END:VEVENT
BEGIN:VEVENT
DTSTART;TZID=America/Los_Angeles:20180109T190000
DTEND;TZID=America/Los_Angeles:20180109T220000
DTSTAMP:20260420T212053
CREATED:20180106T000335Z
LAST-MODIFIED:20180106T000335Z
UID:29891-1515524400-1515535200@laguestlist.com
SUMMARY:Museum of Illusions x Average Socialite Party
DESCRIPTION:Invite Only – The opening party of Museum of Illusions in Hollywood. Average Socialite is proud to be a partner of this new museum opening in Los Angeles. Expect cocktails\, small bites\, a step-and-repeat\, and a photobooth at the party!
URL:https://laguestlist.com/event/museum-illusions-x-average-socialite-party/
CATEGORIES:Things to do
ATTACH;FMTTYPE=image/jpeg:https://laguestlist.com/wp-content/uploads/2018/01/unnamed-1-1.jpg
END:VEVENT
BEGIN:VEVENT
DTSTART;TZID=America/Los_Angeles:20180109T200000
DTEND;TZID=America/Los_Angeles:20180109T200000
DTSTAMP:20260420T212053
CREATED:20180108T202502Z
LAST-MODIFIED:20180108T202502Z
UID:29910-1515528000-1515528000@laguestlist.com
SUMMARY:Emissary: Women in Art
DESCRIPTION:Ticketed – Cocktail hour\, panel discussion with innovative and controversial women in art. Saint Sinner performs LIVE. Sounds by DJ SheRock. -Special guests include: Illma Gore\, The Kaplan Twins\, Niqko\, Meg Zany\, Alexandra Velasco and Cooper T. Moll
URL:https://laguestlist.com/event/emissary-women-art/
LOCATION:Blind Dragon\, 9201 Sunset Blvd\, Los Angeles\, CA\, 90069\, United States
CATEGORIES:Things to do
ATTACH;FMTTYPE=image/jpeg:https://laguestlist.com/wp-content/uploads/2018/01/unnamed-4-1.jpg
END:VEVENT
BEGIN:VEVENT
DTSTART;TZID=America/Los_Angeles:20180109T220000
DTEND;TZID=America/Los_Angeles:20180109T220000
DTSTAMP:20260420T212053
CREATED:20180109T000314Z
LAST-MODIFIED:20180109T000314Z
UID:29922-1515535200-1515535200@laguestlist.com
SUMMARY:American Apparel Billboard Release Party
DESCRIPTION:Open – American Apparel Billboard Release Party at Doheny Room hosted by hosted by Mermaid Vision.
URL:https://laguestlist.com/event/american-apparel-billboard-release-party/
LOCATION:Doheny Room\, 9077 Santa Monica Blvd\, West Hollywood\, CA\, 90069\, United States
CATEGORIES:Fashion
ATTACH;FMTTYPE=image/jpeg:https://laguestlist.com/wp-content/uploads/2018/01/unnamed-1-2.jpg
END:VEVENT
BEGIN:VEVENT
DTSTART;TZID=America/Los_Angeles:20180110T190000
DTEND;TZID=America/Los_Angeles:20180110T230000
DTSTAMP:20260420T212053
CREATED:20180103T174649Z
LAST-MODIFIED:20180103T174649Z
UID:29832-1515610800-1515625200@laguestlist.com
SUMMARY:LA Art Show Opening Night
DESCRIPTION:Ticketed – LA Art Show Opening Night Premiere Party. Be the first to preview art from top galleries and enjoy culinary delights and specialty beverages courtesy of L.A.s finest restaurants or an evening of creativity and philanthropy benefiting St. Jude Children’s Research Hospital!
URL:https://laguestlist.com/event/la-art-show-opening-night/
LOCATION:Los Angeles Convention Center\, 1201 S Figueroa St\, Los Angeles\, CA\, 90015\, United States
CATEGORIES:Art
ATTACH;FMTTYPE=image/png:https://laguestlist.com/wp-content/uploads/2018/01/Screen-Shot-2018-01-03-at-10.40.42-AM.png
END:VEVENT
BEGIN:VEVENT
DTSTART;TZID=America/Los_Angeles:20180111T170000
DTEND;TZID=America/Los_Angeles:20180111T203000
DTSTAMP:20260420T212053
CREATED:20180104T181445Z
LAST-MODIFIED:20180104T181445Z
UID:29844-1515690000-1515702600@laguestlist.com
SUMMARY:23rd Annual Critics’ Choice Awards
DESCRIPTION:Invite Only – The Broadcast Film Critics Association (BFCA) and the Broadcast Television Journalists Association (BTJA) announced that actor\, author\, and activist Olivia Munn will host the 23rd Annual Critics’ Choice Awards.  The winners will be revealed live at the star-studded Critics’ Choice Awards gala on Thursday\, January 11\, 2018\, which will be broadcast from the Barker Hangar in Santa Monica on The CW Network at 8PM ET (delayed PT).
URL:https://laguestlist.com/event/23rd-annual-critics-choice-awards/
LOCATION:The Barker Hangar\, 3021 Airport Ave\, Santa Monica\, CA\, 90405\, United States
CATEGORIES:Award Show
ATTACH;FMTTYPE=image/png:https://laguestlist.com/wp-content/uploads/2018/01/Screen-Shot-2018-01-04-at-11.08.40-AM.png
END:VEVENT
BEGIN:VEVENT
DTSTART;TZID=America/Los_Angeles:20180111T180000
DTEND;TZID=America/Los_Angeles:20180111T220000
DTSTAMP:20260420T212053
CREATED:20171229T172415Z
LAST-MODIFIED:20171229T172415Z
UID:29805-1515693600-1515708000@laguestlist.com
SUMMARY:Ulloo 42 Launch Event
DESCRIPTION:Invite Only – Come spend an evening enjoying entirely unique\, one-of-a-kind furniture pieces designed by Ulloo 42’s very own Suzanne Currie\, accompanied by cocktails and canapés.
URL:https://laguestlist.com/event/ulloo-42-launch-event/
CATEGORIES:Things to do
ATTACH;FMTTYPE=image/png:https://laguestlist.com/wp-content/uploads/2017/12/Screen-Shot-2017-12-29-at-10.22.48-AM.png
END:VEVENT
BEGIN:VEVENT
DTSTART;TZID=America/Los_Angeles:20180111T190000
DTEND;TZID=America/Los_Angeles:20180111T220000
DTSTAMP:20260420T212053
CREATED:20180104T211236Z
LAST-MODIFIED:20180104T211246Z
UID:29847-1515697200-1515708000@laguestlist.com
SUMMARY:Marie Claire 3rd Annual Image Makers Awards
DESCRIPTION:Invite Only – Marie Claire is hosting its third annual Image Makers Awards to be held on Thursday\, January 11 at Delilah in Los Angeles. The invite-only event will spotlight Hollywood’s behind-the-scenes superstar creative artists who construct timeless red-carpet moments\, mastermind next season’s trends\, and make the A-list look and feel like the most gorgeous version of themselves. The 2018 event will also mark the first-ever Influencer Award\, celebrating Issa Rae – Co-Creator\, Executive Producer\, Writer and Star of HBO’s Insecure – who with her own unique flare and infectious sense of humor has garnered millions of views online and earned 2 Golden Globe nominations for Best Actress. The Image Maker Awards are presented by MDNA Skin and in partnership with AG Jeans.
URL:https://laguestlist.com/event/marie-claire-3rd-annual-image-makers-awards/
LOCATION:Delilah\, 7969 Santa Monica Blvd.\, West Hollywood\, CA\, 90046\, United States
CATEGORIES:Award Show,Magazine
ATTACH;FMTTYPE=image/jpeg:https://laguestlist.com/wp-content/uploads/2018/01/unnamed-1.jpg
END:VEVENT
BEGIN:VEVENT
DTSTART;TZID=America/Los_Angeles:20180112T170000
DTEND;TZID=America/Los_Angeles:20180112T220000
DTSTAMP:20260420T212053
CREATED:20180112T192620Z
LAST-MODIFIED:20180112T192620Z
UID:29980-1515776400-1515794400@laguestlist.com
SUMMARY:Joyrich x Snoop Dogg Capsule Collection
DESCRIPTION:Open – Celebrate the Joyrich x Snoop Dogg Capsule Collection with a special guest performance.
URL:https://laguestlist.com/event/joyrich-x-snoop-dogg-capsule-collection/
LOCATION:Joyrich Store\, 7700 Melrose Ave.\, Los Angeles\, CA\, 90046\, United States
CATEGORIES:Fashion
ATTACH;FMTTYPE=image/png:https://laguestlist.com/wp-content/uploads/2018/01/Screen-Shot-2018-01-12-at-11.23.54-AM.png
END:VEVENT
BEGIN:VEVENT
DTSTART;TZID=America/Los_Angeles:20180112T190000
DTEND;TZID=America/Los_Angeles:20180112T220000
DTSTAMP:20260420T212053
CREATED:20180112T061822Z
LAST-MODIFIED:20180112T061822Z
UID:29977-1515783600-1515794400@laguestlist.com
SUMMARY:F*CK ME\, F*CK YOU an Exhibition by Sarah Bahbah
DESCRIPTION:Invite Only – Enjoy cocktails & an exclusive viewing of Sarah Bahbah’s explicitly transparent exploration of the internal voices of young women through photography with sounds by Honeyy.
URL:https://laguestlist.com/event/fck-fck-exhibition-sarah-bahbah/
CATEGORIES:Art
ATTACH;FMTTYPE=image/png:https://laguestlist.com/wp-content/uploads/2018/01/Screen-Shot-2018-01-11-at-10.16.08-PM.png
END:VEVENT
BEGIN:VEVENT
DTSTART;TZID=America/Los_Angeles:20180112T190000
DTEND;TZID=America/Los_Angeles:20180112T230000
DTSTAMP:20260420T212053
CREATED:20180111T210304Z
LAST-MODIFIED:20180111T210304Z
UID:29948-1515783600-1515798000@laguestlist.com
SUMMARY:Into Action // Opening Night with Black Eye Peas
DESCRIPTION:Invite Only – INTO ACTION is a celebration of community power + cultural resistance taking place January 13-21 in Downtown Los Angeles. This gathering is dedicated to engaging artists and activists to shine a light on injustices\, galvanize communities\, and turn ideas into action. INTO ACTION combines world-class art — creative installations\, powerful panels\, music performances — and citizens\, in a free nine-day festival uniting art\, activism\, and community.  INTO ACTION is a gathering for those eager to shape the world in which we live. This is where creativity and organizing come together to create lasting change. This January\, we illuminate our resilience\, and we take back our hope.
URL:https://laguestlist.com/event/action-opening-night-black-eye-peas/
CATEGORIES:Art
ATTACH;FMTTYPE=image/png:https://laguestlist.com/wp-content/uploads/2018/01/Screen-Shot-2018-01-11-at-1.00.12-PM.png
END:VEVENT
BEGIN:VEVENT
DTSTART;TZID=America/Los_Angeles:20180112T220000
DTEND;TZID=America/Los_Angeles:20180112T220000
DTSTAMP:20260420T212053
CREATED:20180109T215819Z
LAST-MODIFIED:20180109T215819Z
UID:29940-1515794400-1515794400@laguestlist.com
SUMMARY:Academy Grand Opening ft. Krewella
DESCRIPTION:Ticketed – This January\, Insomniac and Exchange LA invite you to celebrate the GRAND OPENING of Academy\, Los Angeles’ newest nightlife venue featuring high-energy sets from dance music’s most notable artists kicking off with Krewella.
URL:https://laguestlist.com/event/academy-grand-opening-ft-krewella/
LOCATION:Academy LA\, 6021 Hollywood Blvd.\, Los Angeles\, CA\, 90028\, United States
CATEGORIES:Nightlife
ATTACH;FMTTYPE=image/png:https://laguestlist.com/wp-content/uploads/2018/01/Screen-Shot-2018-01-09-at-2.55.35-PM.png
END:VEVENT
BEGIN:VEVENT
DTSTART;TZID=America/Los_Angeles:20180113T180000
DTEND;TZID=America/Los_Angeles:20180113T210000
DTSTAMP:20260420T212053
CREATED:20180112T193018Z
LAST-MODIFIED:20180112T193018Z
UID:29983-1515866400-1515877200@laguestlist.com
SUMMARY:Burton Girls Night Out
DESCRIPTION:Open – Hey LA! Come join us for a special Burton Girls Night at 8175 Melrose Ave! Come have a glass (or two) of your preferred beverage\, listen to some amazing music\, learn about all the amazing Burton product and meet the amazing Burton Girls (Tavia Bonetti\, Skylar Dombroski\, Kristen Fejtek & Alex Thomopolous) !
URL:https://laguestlist.com/event/burton-girls-night/
LOCATION:Burton Flagship Store\, 8175 Melrose Ave\, Los Angeles\, CA\, 90046\, United States
ATTACH;FMTTYPE=image/jpeg:https://laguestlist.com/wp-content/uploads/2018/01/26229654_10100463545549814_5132431742340548709_n.jpg
END:VEVENT
BEGIN:VEVENT
DTSTART;TZID=America/Los_Angeles:20180113T190000
DTEND;TZID=America/Los_Angeles:20180113T220000
DTSTAMP:20260420T212053
CREATED:20180104T180643Z
LAST-MODIFIED:20180104T180643Z
UID:29841-1515870000-1515880800@laguestlist.com
SUMMARY:NYX Makeup Presents Love You So Mochi
DESCRIPTION:Invite Only – NYX Makeup Presents Love You So Mochi with My/Mo Mochi Ice Cream.
URL:https://laguestlist.com/event/nyx-makeup-presents-love-mochi/
CATEGORIES:Beauty
ATTACH;FMTTYPE=image/png:https://laguestlist.com/wp-content/uploads/2018/01/Screen-Shot-2018-01-04-at-11.04.51-AM.png
END:VEVENT
BEGIN:VEVENT
DTSTART;TZID=America/Los_Angeles:20180113T190000
DTEND;TZID=America/Los_Angeles:20180113T220000
DTSTAMP:20260420T212053
CREATED:20180111T211810Z
LAST-MODIFIED:20180111T211810Z
UID:29961-1515870000-1515880800@laguestlist.com
SUMMARY:Los Angeles Confidential Annual Award Issue
DESCRIPTION:Invite Only – Editor-in-chief Spencer Beck\, Group publisher Chris Gialanella\, and Los Angeles Confidential are celebrating their annual Awards Issue Presented by Cadillac.
URL:https://laguestlist.com/event/los-angeles-confidential-annual-award-issue/
ATTACH;FMTTYPE=image/png:https://laguestlist.com/wp-content/uploads/2018/01/Screen-Shot-2018-01-11-at-1.15.02-PM.png
END:VEVENT
BEGIN:VEVENT
DTSTART;TZID=America/Los_Angeles:20180115T160000
DTEND;TZID=America/Los_Angeles:20180115T190000
DTSTAMP:20260420T212053
CREATED:20180108T183444Z
LAST-MODIFIED:20180111T210952Z
UID:29895-1516032000-1516042800@laguestlist.com
SUMMARY:Ashton Michael "Mercy Collection" Runway Show
DESCRIPTION:RSVPy – the Debut of the Ashton Michael “Mercy Collection” Runway Show.
URL:https://laguestlist.com/event/ashton-michael-mercy-collection-runway-show/
CATEGORIES:Fashion
ATTACH;FMTTYPE=image/jpeg:https://laguestlist.com/wp-content/uploads/2018/01/unnamed-1-3.jpg
END:VEVENT
BEGIN:VEVENT
DTSTART;TZID=America/Los_Angeles:20180115T190000
DTEND;TZID=America/Los_Angeles:20180115T230000
DTSTAMP:20260420T212053
CREATED:20180111T213451Z
LAST-MODIFIED:20180111T213451Z
UID:29974-1516042800-1516057200@laguestlist.com
SUMMARY:Marilyn Manson at Hollywood Palladium
DESCRIPTION:Ticketed – The Nu-metal icon and king of controversy returns with his Heaven Upside Down tour. Marilyn Manson at the Hollywood Palladium.
URL:https://laguestlist.com/event/marilyn-manson-hollywood-palladium/
LOCATION:The Palladium\, 6215 Sunset Boulevard\,  Los Angeles\, CA\, 90028\, United States
CATEGORIES:Concert
ATTACH;FMTTYPE=image/jpeg:https://laguestlist.com/wp-content/uploads/2018/01/557059271_form_320770_mobile_image_1510877595.jpg
END:VEVENT
END:VCALENDAR