BEGIN:VCALENDAR
VERSION:2.0
PRODID:-//LA Guestlist - ECPv6.15.20//NONSGML v1.0//EN
CALSCALE:GREGORIAN
METHOD:PUBLISH
X-ORIGINAL-URL:https://laguestlist.com
X-WR-CALDESC:Events for LA Guestlist
REFRESH-INTERVAL;VALUE=DURATION:PT1H
X-Robots-Tag:noindex
X-PUBLISHED-TTL:PT1H
BEGIN:VTIMEZONE
TZID:America/Los_Angeles
BEGIN:DAYLIGHT
TZOFFSETFROM:-0800
TZOFFSETTO:-0700
TZNAME:PDT
DTSTART:20220313T100000
END:DAYLIGHT
BEGIN:STANDARD
TZOFFSETFROM:-0700
TZOFFSETTO:-0800
TZNAME:PST
DTSTART:20221106T090000
END:STANDARD
BEGIN:DAYLIGHT
TZOFFSETFROM:-0800
TZOFFSETTO:-0700
TZNAME:PDT
DTSTART:20230312T100000
END:DAYLIGHT
BEGIN:STANDARD
TZOFFSETFROM:-0700
TZOFFSETTO:-0800
TZNAME:PST
DTSTART:20231105T090000
END:STANDARD
BEGIN:DAYLIGHT
TZOFFSETFROM:-0800
TZOFFSETTO:-0700
TZNAME:PDT
DTSTART:20240310T100000
END:DAYLIGHT
BEGIN:STANDARD
TZOFFSETFROM:-0700
TZOFFSETTO:-0800
TZNAME:PST
DTSTART:20241103T090000
END:STANDARD
END:VTIMEZONE
BEGIN:VEVENT
DTSTART;TZID=America/Los_Angeles:20230923T140000
DTEND;TZID=America/Los_Angeles:20230923T200000
DTSTAMP:20260421T002249
CREATED:20230913T050340Z
LAST-MODIFIED:20230913T050340Z
UID:49237-1695477600-1695499200@laguestlist.com
SUMMARY:Matua Wine Present Endless Summer
DESCRIPTION:RSVP – Matua Wines is celebrating the launch of their first ever canned spritzer with the Endless Summer pool party with a DJ set by Charly Jordan\, and lots of fun activations.
URL:https://laguestlist.com/event/matua-wine-present-endless-summer/
LOCATION:Skybar at Mondrian\, 8440 Sunset Boulevard\, West Hollywood\, CA\, 90069\, United States
CATEGORIES:Fun in the Sun
ATTACH;FMTTYPE=image/png:https://laguestlist.com/wp-content/uploads/2023/09/matua.png
END:VEVENT
BEGIN:VEVENT
DTSTART;TZID=America/Los_Angeles:20230923T200000
DTEND;TZID=America/Los_Angeles:20230924T000000
DTSTAMP:20260421T002249
CREATED:20230922T012150Z
LAST-MODIFIED:20230922T012150Z
UID:49277-1695499200-1695513600@laguestlist.com
SUMMARY:Mr. T's 1 Year Celebration
DESCRIPTION:Invite Only – The popular and exclusive restaurant\, Mr. T’s\, will celebrate their One Year Anniversary party with wine and cocktail lounge with award-winning French cuisine.
URL:https://laguestlist.com/event/mr-ts-1-year-celebration/
CATEGORIES:Holiday Party
ATTACH;FMTTYPE=image/png:https://laguestlist.com/wp-content/uploads/2023/09/mrt.png
END:VEVENT
BEGIN:VEVENT
DTSTART;TZID=America/Los_Angeles:20230928T100000
DTEND;TZID=America/Los_Angeles:20230928T120000
DTSTAMP:20260421T002249
CREATED:20230910T031432Z
LAST-MODIFIED:20230910T031432Z
UID:49200-1695895200-1695902400@laguestlist.com
SUMMARY:VUORI BlissBlend™ Activation
DESCRIPTION:Invite Only – Activewear disrupter\, VUwill host a first-of-its-kind experiential event on September 28th\, celebrating the new women’s Vuori BlissBlend™ launch. Guests will experience a series of immersive aura and movement activations featuring outfitting from the BlissBlend™ collection as well as light bites\, refreshments and more.
URL:https://laguestlist.com/event/vuori-blissblend-activation/
CATEGORIES:Launch Party
ATTACH;FMTTYPE=image/png:https://laguestlist.com/wp-content/uploads/2023/09/vuori.png
END:VEVENT
BEGIN:VEVENT
DTSTART;TZID=America/Los_Angeles:20230929T180000
DTEND;TZID=America/Los_Angeles:20230929T220000
DTSTAMP:20260421T002249
CREATED:20230927T041314Z
LAST-MODIFIED:20230927T041314Z
UID:49311-1696010400-1696024800@laguestlist.com
SUMMARY:Nights Of The Jack VIP Opening
DESCRIPTION:Invite Only – LA’s leading immersive event for celebrities\, adults and kids alike is returning for the 6th year and coming back with their legendary mile-long walking trail\, immersive scenes\, elevated food & beverage experience\, and unparalleled lantern art installations. New upgrades this season include interactive AR games\, digital video games\, AR selfie experiences and bigger and brighter installations\, for 30 nights of spooky fun through Halloween!
URL:https://laguestlist.com/event/nights-of-the-jack-vip-opening/
LOCATION:King Gillette Ranch\, 26800 Mulholland Hwy\, Calabasas\, CA\, 91302\, United States
CATEGORIES:Halloween
ATTACH;FMTTYPE=image/png:https://laguestlist.com/wp-content/uploads/2023/09/jacl.png
END:VEVENT
BEGIN:VEVENT
DTSTART;TZID=America/Los_Angeles:20230929T220000
DTEND;TZID=America/Los_Angeles:20230930T020000
DTSTAMP:20260421T002249
CREATED:20230929T161804Z
LAST-MODIFIED:20230929T161804Z
UID:49334-1696024800-1696039200@laguestlist.com
SUMMARY:Sinners & Santos Opening with The Chainsmokers
DESCRIPTION:Table Reservations – Jaja Tequila Presents Sinners & Santos Grand Opening at Level 8 with a special performance by The Chainsmokers.
URL:https://laguestlist.com/event/sinners-santos-opening-with-the-chainsmokers/
LOCATION:Level 8\, 1254 S Figueroa St\, Los Angeles\, CA\, 90015\, United States
CATEGORIES:Grand Opening
ATTACH;FMTTYPE=image/jpeg:https://laguestlist.com/wp-content/uploads/2023/09/Screensho-1.jpg
END:VEVENT
BEGIN:VEVENT
DTSTART;TZID=America/Los_Angeles:20230930T120000
DTEND;TZID=America/Los_Angeles:20231001T200000
DTSTAMP:20260421T002249
CREATED:20230928T143204Z
LAST-MODIFIED:20230928T143204Z
UID:49322-1696075200-1696190400@laguestlist.com
SUMMARY:Kitchen Nightmares Rage Room
DESCRIPTION:RSVP – FOX is opening restaurant-themed rag rooms and knife-throwing experiences on Saturday\, September 30 and Sunday\, October 1 to celebrate the return of the hit series Kitchen Nightmares. Fans will embrace the furious fun by smashing away their aggravation with Kitchen Nightmares-branded bats\, small kitchen appliances\, rolling pins\, liquor bottles\, vases and more. They will demolish dinner plates and glasses\, while host and executive producer\, Gordon Ramsay’s voice explodes throughout the experience\, encourage maximum breakage! FOX will also transform the traditional axe throwing experience into a kitchen theme\, giving fans the opportunity to pitch chefs’ knives at a bullseye in close range.
URL:https://laguestlist.com/event/kitchen-nightmares-rage-room/
CATEGORIES:Entertainment
ATTACH;FMTTYPE=image/png:https://laguestlist.com/wp-content/uploads/2023/09/kitchen.png
END:VEVENT
BEGIN:VEVENT
DTSTART;TZID=America/Los_Angeles:20230930T140000
DTEND;TZID=America/Los_Angeles:20230930T220000
DTSTAMP:20260421T002249
CREATED:20230912T010435Z
LAST-MODIFIED:20230912T010435Z
UID:49223-1696082400-1696111200@laguestlist.com
SUMMARY:Puffcon Black Party
DESCRIPTION:Ticketed – The return of the biggest event for our community ever held in LA! Puffcon is a customer appreciation day for Puffco fans and supporters with Music by 2 Chainz\, Curren$y\, Fulcrum\, Ryan Celsius and two very special returning artists that are performing newly released music.
URL:https://laguestlist.com/event/puffcon-black-party/
LOCATION:Los Angeles Center Studios\, 1201 West 5th Street\, Los Angeles\, CA\, 90017\, United States
CATEGORIES:Things to do
ATTACH;FMTTYPE=image/png:https://laguestlist.com/wp-content/uploads/2023/09/ouff.png
END:VEVENT
BEGIN:VEVENT
DTSTART;TZID=America/Los_Angeles:20230930T140000
DTEND;TZID=America/Los_Angeles:20231001T000000
DTSTAMP:20260421T002249
CREATED:20230910T001950Z
LAST-MODIFIED:20230910T001950Z
UID:49183-1696082400-1696118400@laguestlist.com
SUMMARY:2nd Annual Melrose Hill
DESCRIPTION:RSVP – 2nd Annual Melrose Hill Hosted by Ggiata\, Bricks & Wood\, Postmates\, & Basic.Space. They will be shutting down the Melrose Ave with an insane DJ lineup\, and are bringing in some amazing restaurants and brands from the Melrose Hill community & beyond! This year\, our benefactor from the block party will be No Us Without You LA.
URL:https://laguestlist.com/event/2nd-annual-melrose-hill/
CATEGORIES:Things to do
ATTACH;FMTTYPE=image/png:https://laguestlist.com/wp-content/uploads/2023/09/melrose.png
END:VEVENT
BEGIN:VEVENT
DTSTART;TZID=America/Los_Angeles:20230930T200000
DTEND;TZID=America/Los_Angeles:20230930T230000
DTSTAMP:20260421T002249
CREATED:20230913T045842Z
LAST-MODIFIED:20230913T045842Z
UID:49236-1696104000-1696114800@laguestlist.com
SUMMARY:Made in L.A. 2023: Acts of Living
DESCRIPTION:RSVP – Celebrate the opening of Made in L.A. 2023: Acts of Living\, the Hammer’s biennial exhibition showcasing artists from across Los Angeles. Be among the first to see the exhibition\, and dance in the courtyard to music from Made in L.A. artist collective Mas Exitos.
URL:https://laguestlist.com/event/made-in-l-a-2023-acts-of-living/
LOCATION:Hammer Museum\, 10899 Wilshire Blvd\, Los Angeles\, CA\, 90024\, United States
CATEGORIES:Art
END:VEVENT
BEGIN:VEVENT
DTSTART;TZID=America/Los_Angeles:20230930T220000
DTEND;TZID=America/Los_Angeles:20231001T010000
DTSTAMP:20260421T002249
CREATED:20230913T045148Z
LAST-MODIFIED:20230913T045148Z
UID:49231-1696111200-1696122000@laguestlist.com
SUMMARY:RIPNDIP x LickNDip
DESCRIPTION:Invite Only – RIPNDIP is throwing a fun party in LA in collaboration with LickNDip.
URL:https://laguestlist.com/event/ripndip-x-lickndip/
LOCATION:Los Angeles
CATEGORIES:Launch Party
ATTACH;FMTTYPE=image/jpeg:https://laguestlist.com/wp-content/uploads/2023/09/1-5.jpg
END:VEVENT
BEGIN:VEVENT
DTSTART;TZID=America/Los_Angeles:20231001T160000
DTEND;TZID=America/Los_Angeles:20231001T230000
DTSTAMP:20260421T002249
CREATED:20230928T142611Z
LAST-MODIFIED:20230928T142611Z
UID:49320-1696176000-1696201200@laguestlist.com
SUMMARY:Purple Disco Machine & Chromeo
DESCRIPTION:Ticketed – Chromeo\, the legendary funk duo of Dave 1 and P-Thugg\, will embark on the FUNK YOURSELF tour this fall\, their first headline run in over four years\, including a stop in Los Angeles with Purple Disco Machine at Shrine Auditorium Outdoors this Sunday Oct. 1.
URL:https://laguestlist.com/event/purple-disco-machine-chromeo/
LOCATION:Shrine Expo Hall\, 665 W Jefferson Blvd\, Los Angeles\, CA\, 90007\, United States
CATEGORIES:Concert
ATTACH;FMTTYPE=image/jpeg:https://laguestlist.com/wp-content/uploads/2023/09/1-2.jpg
END:VEVENT
BEGIN:VEVENT
DTSTART;TZID=America/Los_Angeles:20231003T190000
DTEND;TZID=America/Los_Angeles:20231003T220000
DTSTAMP:20260421T002249
CREATED:20231001T024609Z
LAST-MODIFIED:20231001T024609Z
UID:49399-1696359600-1696370400@laguestlist.com
SUMMARY:Dr. Martens x Nordstrom Glass Box
DESCRIPTION:Invite Only – Dr. Martens x Nordstrom Glass Box opening night celebration at the Grove with very special performances.
URL:https://laguestlist.com/event/dr-martens-x-nordstrom-glass-box/
LOCATION:The Grove\, 189 The Grove Drive\, Los Angeles\, Los Angeles\, CA\, 90036\, United States
CATEGORIES:Fashion
ATTACH;FMTTYPE=image/png:https://laguestlist.com/wp-content/uploads/2023/09/dr.png
END:VEVENT
BEGIN:VEVENT
DTSTART;TZID=America/Los_Angeles:20231004T180000
DTEND;TZID=America/Los_Angeles:20231004T220000
DTSTAMP:20260421T002249
CREATED:20230910T030521Z
LAST-MODIFIED:20230910T030521Z
UID:49196-1696442400-1696456800@laguestlist.com
SUMMARY:Selena Gomez Hosts Rare Impact Fund Benefit
DESCRIPTION:Ticketed – Selena Gomez will host the inaugural Rare Impact Fund Benefit. Funds raised at the first annual benefit will support The Rare Impact Fund’s mission to reduce the stigma associated with mental health and expand access to mental health services and education for young people around the world. Confirmed talent for the evening includes Emmy-winning actor Martin Short and Grammy-nominated music producer Marshmello.
URL:https://laguestlist.com/event/selena-gomez-hosts-rare-impact-fund-benefit/
LOCATION:Los Angeles
CATEGORIES:Charity
ATTACH;FMTTYPE=image/png:https://laguestlist.com/wp-content/uploads/2023/09/rare.png
END:VEVENT
BEGIN:VEVENT
DTSTART;TZID=America/Los_Angeles:20231005T160000
DTEND;TZID=America/Los_Angeles:20231005T190000
DTSTAMP:20260421T002249
CREATED:20231001T024009Z
LAST-MODIFIED:20231001T024009Z
UID:49397-1696521600-1696532400@laguestlist.com
SUMMARY:Opening of Hollywood Forever’s Rick Castro Photography
DESCRIPTION:Invite Only – Starting on October 5th through November 30th\, the exhibition at Hollywood Forever will display 87 of Rick Castro’s most captivating photographs from 1986 through 2022\, curated by Hollywood Forever’s President Tyler Cassity.  \nThe 87 works feature mask wearing as well as portraits of different figures related to Hollywood Forever (including  trans residents – The Goddess Bunny  AKA Sandi Crisp and Holly Woodlawn\, images from Hollywood Cemetery circa 1990\, Gore Vidal\, (is not a resident) as well as intimate photographic portraits of Rick’s family members over time.
URL:https://laguestlist.com/event/opening-of-hollywood-forevers-rick-castro-photography/
LOCATION:Hollywood Forever Cemetery\, 6000 Santa Monica Blvd\, Los Angeles\, CA\, 90038\, United States
CATEGORIES:Photography
ATTACH;FMTTYPE=image/png:https://laguestlist.com/wp-content/uploads/2023/09/unnamed.png
END:VEVENT
BEGIN:VEVENT
DTSTART;TZID=America/Los_Angeles:20231005T190000
DTEND;TZID=America/Los_Angeles:20231005T220000
DTSTAMP:20260421T002249
CREATED:20230929T162218Z
LAST-MODIFIED:20230929T162218Z
UID:49337-1696532400-1696543200@laguestlist.com
SUMMARY:FLAUNT x ESPRIT
DESCRIPTION:Invite Only – FLAUNT Magazine and ESPRIT are teaming up to celebrate the Denim Community in LA at the Grove.
URL:https://laguestlist.com/event/flaunt-x-esprit/
CATEGORIES:Fashion,Magazine
ATTACH;FMTTYPE=image/png:https://laguestlist.com/wp-content/uploads/2023/09/esprit.png
END:VEVENT
BEGIN:VEVENT
DTSTART;TZID=America/Los_Angeles:20231005T200000
DTEND;TZID=America/Los_Angeles:20231005T230000
DTSTAMP:20260421T002249
CREATED:20230922T163753Z
LAST-MODIFIED:20230922T163753Z
UID:49280-1696536000-1696546800@laguestlist.com
SUMMARY:Barry's 25th Anniversary
DESCRIPTION:Invite Only – Barry’s was born and raised in LA\, and now they’re going all in on the west coast city just in time for their 25th anniversary.  to celebrate the 25th anniversary\, Barry’s is hosting an experiential event with a celebrity DJ.
URL:https://laguestlist.com/event/barrys-25th-anniversary/
CATEGORIES:Event,Sports
ATTACH;FMTTYPE=image/png:https://laguestlist.com/wp-content/uploads/2023/09/barrys25.png
END:VEVENT
BEGIN:VEVENT
DTSTART;TZID=America/Los_Angeles:20231006T180000
DTEND;TZID=America/Los_Angeles:20231007T140000
DTSTAMP:20260421T002249
CREATED:20231005T042729Z
LAST-MODIFIED:20231005T042729Z
UID:49416-1696615200-1696687200@laguestlist.com
SUMMARY:Barry’s 25th Anniversary Classes
DESCRIPTION:RSVP – Barry’s\, leading global fitness brand\, is marking a major milestone by ringing in its 25th anniversary with its largest workout classes to date with over 225 clients on October 6th and 7th. The original-style RUN x LIFT classes will be taught by Barry’s fan favorite instructors\, along with Barry’s Global CEO\, Joey Gonzalez. These mega-classes will also kick off Barry’s longest-ever challenge called “25 Years of You” in which clients will complete either 12 or 25 classes over 35 days. The global challenge will also include local community events across studios worldwide.
URL:https://laguestlist.com/event/barrys-25th-anniversary-classes/
LOCATION:Red Studios\, 846 N. Cahuenga Blvd.\, Los Angeles\, CA\, 90038\, United States
CATEGORIES:Fitness
ATTACH;FMTTYPE=image/jpeg:https://laguestlist.com/wp-content/uploads/2023/10/25bd_cha_lp_subhero_container-1-1440x1187-1.jpg
END:VEVENT
BEGIN:VEVENT
DTSTART;TZID=America/Los_Angeles:20231006T220000
DTEND;TZID=America/Los_Angeles:20231007T030000
DTSTAMP:20260421T002249
CREATED:20230929T162822Z
LAST-MODIFIED:20230929T162822Z
UID:49339-1696629600-1696647600@laguestlist.com
SUMMARY:Disclosure in LA
DESCRIPTION:Ticketed – On October 6\, the duo will make their way to Los Angeles for their latest show. Limited details might be known about this event\, as the venue is still to be announced\, but it’s sure to be a night that fans of Disclosure won’t soon forget wherever it takes place.
URL:https://laguestlist.com/event/disclosure-in-la/
CATEGORIES:Concert
ATTACH;FMTTYPE=image/jpeg:https://laguestlist.com/wp-content/uploads/2023/09/IMG_7878.jpg
END:VEVENT
BEGIN:VEVENT
DTSTART;TZID=America/Los_Angeles:20231007T180000
DTEND;TZID=America/Los_Angeles:20231007T210000
DTSTAMP:20260421T002249
CREATED:20230913T051248Z
LAST-MODIFIED:20230913T051248Z
UID:49241-1696701600-1696712400@laguestlist.com
SUMMARY:Addams Family Values 30th Anniversary
DESCRIPTION:Ticketed – Addams Family Values 30th Anniversary screening presented with Paramount Scares at Hollywood Forever with DJ Raul Campos.
URL:https://laguestlist.com/event/addams-family-values-30th-anniversary/
LOCATION:Hollywood Forever Cemetery\, 6000 Santa Monica Blvd\, Los Angeles\, CA\, 90038\, United States
CATEGORIES:Entertainment
ATTACH;FMTTYPE=image/png:https://laguestlist.com/wp-content/uploads/2023/09/addams.png
END:VEVENT
BEGIN:VEVENT
DTSTART;TZID=America/Los_Angeles:20231008T120000
DTEND;TZID=America/Los_Angeles:20231008T200000
DTSTAMP:20260421T002249
CREATED:20230910T002415Z
LAST-MODIFIED:20230910T002415Z
UID:49185-1696766400-1696795200@laguestlist.com
SUMMARY:Family Food Style Festival 2023
DESCRIPTION:Ticketed – A family-oriented food festival believing in bringing people together through the collective love of food. Known for mixing food and fashion– we connect the best brands and the tastiest restaurants to create limited one-of-a-kind collaborative food and merchandise items exclusively available at our event! At Family Style you’re able to order from the delicious food lineup of top-tier restaurants\, shop our exclusive merchandise offerings\, enjoy music from some of the best DJs in the city\, and enjoy probably the most incredible day of the year.
URL:https://laguestlist.com/event/family-food-style-festival-2023/
LOCATION:Television City Studios\, 130 N. Fairfax Ave.\, Los Angeles\, CA\, 90036\, United States
CATEGORIES:Gastronomy
ATTACH;FMTTYPE=image/png:https://laguestlist.com/wp-content/uploads/2023/09/family.png
END:VEVENT
BEGIN:VEVENT
DTSTART;TZID=America/Los_Angeles:20231013T200000
DTEND;TZID=America/Los_Angeles:20231014T000000
DTSTAMP:20260421T002249
CREATED:20231009T002445Z
LAST-MODIFIED:20231009T002445Z
UID:49433-1697227200-1697241600@laguestlist.com
SUMMARY:NYX Makeup Presents "The Mon-Star Bash"
DESCRIPTION:Invite Only – NYX Makeup Presents “The Mon-Star Bash” with lots of surprises performances.
URL:https://laguestlist.com/event/nyx-makeup-presents-the-mon-star-bash/
LOCATION:The Majestic Downtown\, 650 S Spring St\, Los Angeles\, CA\, 90014\, United States
CATEGORIES:Halloween
ATTACH;FMTTYPE=image/png:https://laguestlist.com/wp-content/uploads/2023/10/Nyx.png
END:VEVENT
BEGIN:VEVENT
DTSTART;TZID=America/Los_Angeles:20231014T173000
DTEND;TZID=America/Los_Angeles:20231014T220000
DTSTAMP:20260421T002249
CREATED:20231009T003657Z
LAST-MODIFIED:20231009T003657Z
UID:49440-1697304600-1697320800@laguestlist.com
SUMMARY:12th Annual Benefit Gala
DESCRIPTION:Ticketed – Join Wags and Walks and host Max Greenfield\, star of New Girl  & The Neighborhood for our fun-filled 12th Annual Benefit Gala\, October 14\, 2023! Each year our gala brings together 500 donors\, volunteers\, adopters\, community partners and celebrities with the goal of raising critical funds to support our life-saving programs.
URL:https://laguestlist.com/event/12th-annual-benefit-gala/
LOCATION:The Taglyan\, 1201 Vine St\, Los Angeles\, CA\, 90038\, United States
CATEGORIES:Charity
ATTACH;FMTTYPE=image/png:https://laguestlist.com/wp-content/uploads/2023/10/a4518f5b-c9c3-ed2d-6406-1f9441c2646e.png
END:VEVENT
BEGIN:VEVENT
DTSTART;TZID=America/Los_Angeles:20231018T160000
DTEND;TZID=America/Los_Angeles:20231018T180000
DTSTAMP:20260421T002249
CREATED:20231018T085716Z
LAST-MODIFIED:20231018T085716Z
UID:49452-1697644800-1697652000@laguestlist.com
SUMMARY:TrueBody Sculpting Event w/ Olivia Culpo
DESCRIPTION:Invite Only – The unveiling of the new truBody body sculpting brand and learn from Olivia Culpo why she is a fan! The brand will be offering truBody truFlex treatments on-site\, food\, cocktails\, and other activities.
URL:https://laguestlist.com/event/truebody-sculpting-event-w-olivia-culpo/
ATTACH;FMTTYPE=image/png:https://laguestlist.com/wp-content/uploads/2023/10/thing.png
END:VEVENT
BEGIN:VEVENT
DTSTART;TZID=America/Los_Angeles:20231018T200000
DTEND;TZID=America/Los_Angeles:20231019T000000
DTSTAMP:20260421T002249
CREATED:20231009T002743Z
LAST-MODIFIED:20231009T002743Z
UID:49435-1697659200-1697673600@laguestlist.com
SUMMARY:White Fox 10th Birthday Party
DESCRIPTION:Invite Only – White Fox 10th Birthday Party in Hollywood.
URL:https://laguestlist.com/event/white-fox-10th-birthday-party/
CATEGORIES:Event
ATTACH;FMTTYPE=image/png:https://laguestlist.com/wp-content/uploads/2023/10/white.png
END:VEVENT
BEGIN:VEVENT
DTSTART;TZID=America/Los_Angeles:20231021T100000
DTEND;TZID=America/Los_Angeles:20231021T180000
DTSTAMP:20260421T002249
CREATED:20230927T035545Z
LAST-MODIFIED:20230927T035545Z
UID:49307-1697882400-1697911200@laguestlist.com
SUMMARY:Hello Sunshine: Shine Away
DESCRIPTION:Ticketed – Hello Sunshine\, a part of Candle Media\, today announced its exciting programming lineup for the inaugural Shine Away event\, a new experiential franchise created in collaboration with AT&T. Set to take place Saturday\, October 21 at Rolling Greens in Downtown Los Angeles\, the marquee consumer event will bring the Hello Sunshine community together for a day of connection\, entertainment\, and joy.
URL:https://laguestlist.com/event/hello-sunshine-shine-away/
LOCATION:Rolling Greens\, 7505 Beverly Blvd.\, Los Angeles\, CA\, 90036\, United States
CATEGORIES:Networking
ATTACH;FMTTYPE=image/jpeg:https://laguestlist.com/wp-content/uploads/2023/09/1-7-1.jpg
END:VEVENT
BEGIN:VEVENT
DTSTART;TZID=America/Los_Angeles:20231021T190000
DTEND;TZID=America/Los_Angeles:20231021T230000
DTSTAMP:20260421T002249
CREATED:20230910T030935Z
LAST-MODIFIED:20230910T030935Z
UID:49198-1697914800-1697929200@laguestlist.com
SUMMARY:Will Ferrell's Best Night of Your Life
DESCRIPTION:Ticketed – Will Ferrell has announced the second installment of his ‘Best Night of Your Life’\, an out of this world night of music and comedy to benefit Cancer for College on Saturday\, October 21\, 2023 at the Greek Theatre in Los Angeles. The event will be hosted by Ferrell\, who has recruited a star-studded lineup.
URL:https://laguestlist.com/event/will-ferrells-best-night-of-your-life-2/
LOCATION:Greek Theatre\, 2700 N. Vermont Ave\, Los Angeles\, CA\, 90027\, United States
CATEGORIES:Charity,Comedy
ATTACH;FMTTYPE=image/jpeg:https://laguestlist.com/wp-content/uploads/2023/09/1-7.jpg
END:VEVENT
BEGIN:VEVENT
DTSTART;TZID=America/Los_Angeles:20231022T110000
DTEND;TZID=America/Los_Angeles:20231022T200000
DTSTAMP:20260421T002249
CREATED:20231001T200822Z
LAST-MODIFIED:20231001T200822Z
UID:49406-1697972400-1698004800@laguestlist.com
SUMMARY:Tenderfest 2023
DESCRIPTION:Ticketed – The Third Annual Tenderfest is back and bigger than ever! We’ve got your favorite comfort food in all styles\, shapes and sizes. We’ve collaborated with the world’s best chicken spots like Pioneer Chicken\, Raising Cane’s\, Le Coupe\, Delilah\, Community Goods\, Love Baked Wings\, Harold & Belle’s\, Caviar Kaspia and Trippie Redd’s Strips and Dips to bring you tenders with classic nostalgic style\, off the charts spices and unexpected flavor combinations
URL:https://laguestlist.com/event/tenderfest-2023/
LOCATION:Wallis Annenberg Center for the Performing Arts\, 9390 N. Santa Monica Blvd.\, Beverly Hills\, CA\, 90210\, United States
CATEGORIES:Gastronomy
ATTACH;FMTTYPE=image/png:https://laguestlist.com/wp-content/uploads/2023/10/image1.png
END:VEVENT
BEGIN:VEVENT
DTSTART;TZID=America/Los_Angeles:20231022T140000
DTEND;TZID=America/Los_Angeles:20231022T190000
DTSTAMP:20260421T002249
CREATED:20231018T085444Z
LAST-MODIFIED:20231018T085444Z
UID:49450-1697983200-1698001200@laguestlist.com
SUMMARY:Passion Tree Minis Launch Party
DESCRIPTION:Invite Only – Passion Tree Minis is celebrating the launch of the first-ever mini hard seltzer\, perfect for those who embrace balance\, celebrate responsibly and cherish the #minimoments in life with a special party in the Hollywood Hills.
URL:https://laguestlist.com/event/passion-tree-minis-launch-party/
CATEGORIES:Launch Party
ATTACH;FMTTYPE=image/png:https://laguestlist.com/wp-content/uploads/2023/10/miini.png
END:VEVENT
BEGIN:VEVENT
DTSTART;TZID=America/Los_Angeles:20231026T170000
DTEND;TZID=America/Los_Angeles:20231026T200000
DTSTAMP:20260421T002249
CREATED:20231025T192504Z
LAST-MODIFIED:20231025T192504Z
UID:49465-1698339600-1698350400@laguestlist.com
SUMMARY:Fred Segal Santa Monica Store Opening
DESCRIPTION:Invite Only – Fred Segal will be celebrating the grand opening of their new store in Santa Monica on Thursday\, October 26th.
URL:https://laguestlist.com/event/fred-segal-santa-monica-store-opening/
CATEGORIES:Grand Opening
ATTACH;FMTTYPE=image/png:https://laguestlist.com/wp-content/uploads/2023/10/Fred.png
END:VEVENT
BEGIN:VEVENT
DTSTART;TZID=America/Los_Angeles:20231026T190000
DTEND;TZID=America/Los_Angeles:20231026T220000
DTSTAMP:20260421T002249
CREATED:20231025T194730Z
LAST-MODIFIED:20231025T194730Z
UID:49467-1698346800-1698357600@laguestlist.com
SUMMARY:PleasureMed Grand Opening
DESCRIPTION:Open – Located in the heart of West Hollywood\, PleasureMed presents three concepts under one roof – an elevated design-forward dispensary\, California-inspired destination restaurant\, Irie\, and al al-fresco cocktail lounge\, Hind. A hedonist paradise designed to please all five senses\, PleasureMed neighbors Pleasure Chest\, the iconic erotic boutique also owned by Brian Robinson\, which first opened its doors in New York in 1971.
URL:https://laguestlist.com/event/pleasuremed-grand-opening/
LOCATION:PleasureMed\, 7715\, Santa Monica Blvd\, Los Angeles\, CA\, United States
CATEGORIES:Grand Opening
ATTACH;FMTTYPE=image/jpeg:https://laguestlist.com/wp-content/uploads/2023/10/1-7.jpg
END:VEVENT
END:VCALENDAR