BEGIN:VCALENDAR
VERSION:2.0
PRODID:-//LA Guestlist - ECPv6.15.20//NONSGML v1.0//EN
CALSCALE:GREGORIAN
METHOD:PUBLISH
X-ORIGINAL-URL:https://laguestlist.com
X-WR-CALDESC:Events for LA Guestlist
REFRESH-INTERVAL;VALUE=DURATION:PT1H
X-Robots-Tag:noindex
X-PUBLISHED-TTL:PT1H
BEGIN:VTIMEZONE
TZID:America/Los_Angeles
BEGIN:DAYLIGHT
TZOFFSETFROM:-0800
TZOFFSETTO:-0700
TZNAME:PDT
DTSTART:20170312T100000
END:DAYLIGHT
BEGIN:STANDARD
TZOFFSETFROM:-0700
TZOFFSETTO:-0800
TZNAME:PST
DTSTART:20171105T090000
END:STANDARD
BEGIN:DAYLIGHT
TZOFFSETFROM:-0800
TZOFFSETTO:-0700
TZNAME:PDT
DTSTART:20180311T100000
END:DAYLIGHT
BEGIN:STANDARD
TZOFFSETFROM:-0700
TZOFFSETTO:-0800
TZNAME:PST
DTSTART:20181104T090000
END:STANDARD
BEGIN:DAYLIGHT
TZOFFSETFROM:-0800
TZOFFSETTO:-0700
TZNAME:PDT
DTSTART:20190310T100000
END:DAYLIGHT
BEGIN:STANDARD
TZOFFSETFROM:-0700
TZOFFSETTO:-0800
TZNAME:PST
DTSTART:20191103T090000
END:STANDARD
END:VTIMEZONE
BEGIN:VEVENT
DTSTART;TZID=America/Los_Angeles:20180726T190000
DTEND;TZID=America/Los_Angeles:20180726T210000
DTSTAMP:20260423T003742
CREATED:20180726T054733Z
LAST-MODIFIED:20180726T054733Z
UID:34870-1532631600-1532638800@laguestlist.com
SUMMARY:Seafolly Summer Pool Party
DESCRIPTION:Invite Only – Seafolly Summer Pool Party with food\, drinks and a special water performance by the Aqualillies.
URL:https://laguestlist.com/event/seafolly-summer-pool-party/
LOCATION:CA
CATEGORIES:Event
ATTACH;FMTTYPE=image/png:https://laguestlist.com/wp-content/uploads/2018/07/Screen-Shot-2018-07-25-at-10.45.57-PM.png
END:VEVENT
BEGIN:VEVENT
DTSTART;TZID=America/Los_Angeles:20180726T190000
DTEND;TZID=America/Los_Angeles:20180726T220000
DTSTAMP:20260423T003742
CREATED:20180712T174522Z
LAST-MODIFIED:20180712T174522Z
UID:34618-1532631600-1532642400@laguestlist.com
SUMMARY:Stella Artois The Art of the Chalice
DESCRIPTION:Invite Only – Stella Artois Presents The Art of the Chalice on Thursday\, July 26th from 7-10pm at Paramount Studios for an evening of art\, culture\, beer and bites inspired by the city of Los Angeles. At the event – part of Stella Artois’ nationwide “The Art of the Chalice” series – we’ll unveil the new original mural by psychedelic pop-artist Steven Harrington\, inspired by the unique culture of LA and the iconic Stella Artois Chalice. Local band Dallas & Doll will perform and our own beer expert and Master Cicerone Max Bakker (one of only 16 individuals worldwide to earn this prestigious title) will also be there to teach you how to pour the perfect Stella Artois!
URL:https://laguestlist.com/event/stella-artois-the-art-of-the-chalice/
LOCATION:Paramount Studios\, 5555 Melrose Ave.\, Los Angeles\, CA\, 90038\, United States
CATEGORIES:Event
ATTACH;FMTTYPE=image/png:https://laguestlist.com/wp-content/uploads/2018/07/Screen-Shot-2018-07-12-at-10.42.55-AM.png
END:VEVENT
BEGIN:VEVENT
DTSTART;TZID=America/Los_Angeles:20180726T190000
DTEND;TZID=America/Los_Angeles:20180726T220000
DTSTAMP:20260423T003742
CREATED:20180726T054545Z
LAST-MODIFIED:20180726T054545Z
UID:34867-1532631600-1532642400@laguestlist.com
SUMMARY:Scott Storch & Bhad Bhabie: The Golden Fly Experience
DESCRIPTION:Invite Only – Award Winning and Multi-Platinum Producer Scott Storch and Bhad Bhabie Unveil The Golden Fly Experience Hosted by Sincere Show.
URL:https://laguestlist.com/event/scott-storch-bhad-bhabie-the-golden-fly-experience/
LOCATION:CA
CATEGORIES:Event
ATTACH;FMTTYPE=image/png:https://laguestlist.com/wp-content/uploads/2018/07/Screen-Shot-2018-07-25-at-10.44.06-PM.png
END:VEVENT
BEGIN:VEVENT
DTSTART;TZID=America/Los_Angeles:20180726T190000
DTEND;TZID=America/Los_Angeles:20180726T230000
DTSTAMP:20260423T003742
CREATED:20180717T000621Z
LAST-MODIFIED:20180717T000621Z
UID:34690-1532631600-1532646000@laguestlist.com
SUMMARY:Launch of 100% Salty Swimwear
DESCRIPTION:Invite Only – Celebrate the Launch of 100% Salty Swimwear.
URL:https://laguestlist.com/event/launch-of-100-salty-swimwear/
LOCATION:CA
ATTACH;FMTTYPE=image/png:https://laguestlist.com/wp-content/uploads/2018/07/Screen-Shot-2018-07-16-at-5.04.26-PM.png
END:VEVENT
BEGIN:VEVENT
DTSTART;TZID=America/Los_Angeles:20180726T200000
DTEND;TZID=America/Los_Angeles:20180727T000000
DTSTAMP:20260423T003742
CREATED:20180717T215719Z
LAST-MODIFIED:20180717T223834Z
UID:34711-1532635200-1532649600@laguestlist.com
SUMMARY:REMIX Celebrity Trunk Show at Skybar
DESCRIPTION:RSVP – Relevant Relations and Skybar are producing a Celebrity Trunk Show at Skybar\,  REMIX with DJ Set by Vanderpump Rules Cast Member James Kennedy\, Musical performance by Maty Noyes. This month at REMIX will be hosting the brands: SIX:02\, The Giving Keys\, Pangea\, MOA BRAND\, Kendra Scott\, LOT XI\, and Open Eye Crystals. The evening is sponsored by L’Oreal: Matrix. RSVP at Trent@relevantrelations.com with LA Guestlist in Subject Line.
URL:https://laguestlist.com/event/remix-celebrity-trunk-show-at-skybar/
LOCATION:Skybar at Mondrian\, 8440 Sunset Boulevard\, West Hollywood\, CA\, 90069\, United States
CATEGORIES:Event
ATTACH;FMTTYPE=image/jpeg:https://laguestlist.com/wp-content/uploads/2018/07/unnamed-6.jpg
END:VEVENT
BEGIN:VEVENT
DTSTART;TZID=America/Los_Angeles:20180726T210000
DTEND;TZID=America/Los_Angeles:20180727T020000
DTSTAMP:20260423T003742
CREATED:20180724T050638Z
LAST-MODIFIED:20180724T050638Z
UID:34848-1532638800-1532656800@laguestlist.com
SUMMARY:Nightswim with Miami Horror
DESCRIPTION:RSVP – Nightswim returns to The Hollywood Roosevelt! LA’s biggest pool party is back. Nightswim will be taking place poolside at Tropicana Bar every Wednesday all summer long. This week\, we are very excited to bring special guest Joshua Moriarty from Miami Horror.
URL:https://laguestlist.com/event/nightswim-with-miami-horror/
LOCATION:Hollywood Roosevelt\, 7000 Hollywood Boulevard\, Los Angeles\, CA\, 90028\, United States
CATEGORIES:Things to do
ATTACH;FMTTYPE=image/jpeg:https://laguestlist.com/wp-content/uploads/2018/07/https_2F2Fcdn.evbuc_.com2Fimages2F475338632F7595096102F12Foriginal.jpg
END:VEVENT
BEGIN:VEVENT
DTSTART;TZID=America/Los_Angeles:20180727T160000
DTEND;TZID=America/Los_Angeles:20180727T180000
DTSTAMP:20260423T003742
CREATED:20180720T223904Z
LAST-MODIFIED:20180720T223904Z
UID:34811-1532707200-1532714400@laguestlist.com
SUMMARY:Summer Fridays at goop
DESCRIPTION:RSVP – In case you hadn’t noticed\, summer is ripe for the picking. To get into the spirit and to make the most of the weekends\, we’ll be shaking up Ketel One Botanical cocktails every Friday afternoon at Lab. Shop responsibly.
URL:https://laguestlist.com/event/summer-fridays-at-goop/
LOCATION:CA
CATEGORIES:Things to do
ATTACH;FMTTYPE=image/jpeg:https://laguestlist.com/wp-content/uploads/2018/07/37227011_2071080916235381_7088258461602938880_n.jpg
END:VEVENT
BEGIN:VEVENT
DTSTART;TZID=America/Los_Angeles:20180727T180000
DTEND;TZID=America/Los_Angeles:20180727T180000
DTSTAMP:20260423T003742
CREATED:20180714T012819Z
LAST-MODIFIED:20180714T012819Z
UID:34657-1532714400-1532714400@laguestlist.com
SUMMARY:Buweiser Live Presented by Folds of Honor
DESCRIPTION:RSVP – Join Budweiser’s first ever live 5v5 basketball tournament and dunk contest with top-tier talent from LA’s very own Venice Basketball League. Shaquille O’Neal will host the evening with surprise appearances from NBA legends\, world-famous dunkers\, and musical performances by Ty Dolla $ign and Big Boi.
URL:https://laguestlist.com/event/buweiser-live-presented-by-folds-of-honor/
LOCATION:CA
CATEGORIES:Event,Music,Sports
ATTACH;FMTTYPE=image/png:https://laguestlist.com/wp-content/uploads/2018/07/Screen-Shot-2018-07-13-at-6.25.11-PM.png
END:VEVENT
BEGIN:VEVENT
DTSTART;TZID=America/Los_Angeles:20180727T190000
DTEND;TZID=America/Los_Angeles:20180727T230000
DTSTAMP:20260423T003742
CREATED:20180725T043231Z
LAST-MODIFIED:20180725T043231Z
UID:34861-1532718000-1532732400@laguestlist.com
SUMMARY:Chinatown Market: the Smiley Basketball Exhibition
DESCRIPTION:Invite Only – Chinatown Market Presents the Smiley Basketball Exhibition\, a special collaboration with artist Solomon.
URL:https://laguestlist.com/event/chinatown-market-the-smiley-basketball-exhibition/
LOCATION:CA
ATTACH;FMTTYPE=image/png:https://laguestlist.com/wp-content/uploads/2018/07/Screen-Shot-2018-07-24-at-9.28.29-PM.png
END:VEVENT
BEGIN:VEVENT
DTSTART;TZID=America/Los_Angeles:20180727T193000
DTEND;TZID=America/Los_Angeles:20180727T210000
DTSTAMP:20260423T003742
CREATED:20180720T223408Z
LAST-MODIFIED:20180720T223408Z
UID:34808-1532719800-1532725200@laguestlist.com
SUMMARY:NYLON Playlisted featuring Kiana Ledé
DESCRIPTION:RSVP – Join Playlisted at the Grove\, a monthly concert series featuring NYLON’s favorite artists\, presented by Citi. On July 27\, the series continues with Kiana Ledé.
URL:https://laguestlist.com/event/nylon-playlisted-featuring-kiana-lede/
LOCATION:The Grove\, 189 The Grove Drive\, Los Angeles\, Los Angeles\, CA\, 90036\, United States
CATEGORIES:Concert
ATTACH;FMTTYPE=image/jpeg:https://laguestlist.com/wp-content/uploads/2018/07/unnamed-1-3.jpg
END:VEVENT
BEGIN:VEVENT
DTSTART;TZID=America/Los_Angeles:20180727T200000
DTEND;TZID=America/Los_Angeles:20180727T230000
DTSTAMP:20260423T003742
CREATED:20180718T210008Z
LAST-MODIFIED:20180718T210008Z
UID:34753-1532721600-1532732400@laguestlist.com
SUMMARY:Wu-tang Clan 25th Anniversary of 36 Chambers
DESCRIPTION:Ticketed – Twenty-five years ago\, the Wu-Tang Clan changed hip-hop music forever. Bursting onto the music scene with the release of Enter the Wu-Tang (36 Chambers)\, the group quickly became recognized for its innovative beats and clever lyrics\, as well as the diverse personalities and talents that make up its nine member hip-hop group. The Wu Tang Clan has released seven gold and platinum studio albums with worldwide sales of more than 40 million albums. With the release of their debut album in 1993 songs like “C.R.E.A.M and “Protect Ya Neck” introduced hip-hop pioneer\, The RZA\, as a groundbreaking hip hop craftsman.  With lyrics that combine the reality of 1990s New York and the world of martial arts\, the Wu-Tang Clan has created a unique mythology that captures the hearts of fans worldwide.
URL:https://laguestlist.com/event/wu-tang-clan-25th-anniversary-of-36-chambers/
LOCATION:Shrine Expo Hall\, 665 W Jefferson Blvd\, Los Angeles\, CA\, 90007\, United States
ATTACH;FMTTYPE=image/png:https://laguestlist.com/wp-content/uploads/2018/07/Screen-Shot-2018-07-18-at-1.56.59-PM.png
END:VEVENT
BEGIN:VEVENT
DTSTART;TZID=America/Los_Angeles:20180728T190000
DTEND;TZID=America/Los_Angeles:20180728T220000
DTSTAMP:20260423T003742
CREATED:20180727T033637Z
LAST-MODIFIED:20180727T033637Z
UID:34873-1532804400-1532815200@laguestlist.com
SUMMARY:PUMA Do You. Studio
DESCRIPTION:Invite Only – PUMA’s Do You. Studio this Saturday\, July 28th 7-10pm with a really fun party and we would love for you to have you there! The inimitable Justine Skye will be coming through for a live performance\, followed up with a DJ set by Violet Waters (aka Kari Faux). Come hungry\, thirsty\, and ready to dance!
URL:https://laguestlist.com/event/puma-do-you-studio/
LOCATION:CA
ATTACH;FMTTYPE=image/png:https://laguestlist.com/wp-content/uploads/2018/07/Screen-Shot-2018-07-26-at-8.34.17-PM.png
END:VEVENT
BEGIN:VEVENT
DTSTART;TZID=America/Los_Angeles:20180728T200000
DTEND;TZID=America/Los_Angeles:20180728T233000
DTSTAMP:20260423T003742
CREATED:20180727T034225Z
LAST-MODIFIED:20180727T034457Z
UID:34876-1532808000-1532820600@laguestlist.com
SUMMARY:Beatbox Deep Summer Party
DESCRIPTION:Invite Only – Get ready for a Summer Party you don’t want to miss! Keel Managment has teamed up with BeatBox Beverages to throw the party of Summer ’18.
URL:https://laguestlist.com/event/beatbox-deep-summer-party/
LOCATION:CA
CATEGORIES:Fun in the Sun
ATTACH;FMTTYPE=image/png:https://laguestlist.com/wp-content/uploads/2018/07/Screen-Shot-2018-07-26-at-8.39.53-PM.png
END:VEVENT
BEGIN:VEVENT
DTSTART;TZID=America/Los_Angeles:20180729T120000
DTEND;TZID=America/Los_Angeles:20180729T170000
DTSTAMP:20260423T003742
CREATED:20180620T000806Z
LAST-MODIFIED:20180710T160203Z
UID:34145-1532865600-1532883600@laguestlist.com
SUMMARY:The Dee Dee Jackson Foundation Celebrity Softball Game
DESCRIPTION:Ticketed – Join the Dee Dee Jackson Foundation team for a Celebrity Softball Game for a cause with special guests. Guests will enjoy a softball game with meet & greet\, meal ticket\, valet parking and photo opportunity with players for the first 25 VIP tickets. With special guests: the Jackson family\, Michael Irvin\, Matt Barnes\, Joey Lawrence\, Kevin Federline\, Amber Riley and Billy Brown.           \nThe Foundation offered support in 2018 for the ELL as it ties into the family heritage surrounding raising money for schools\, communities and Dee Dee’s encouragement of keeping kids busy and active with baseball.
URL:https://laguestlist.com/event/the-dee-dee-jackson-foundation-celebrity-softball-game/
LOCATION:Encino Little League/ Dee Dee Jackson Field\, 5120 Hayvenhurst Ave\, Encino\, CA\, 91436\, United States
CATEGORIES:Charity,Sports
ATTACH;FMTTYPE=image/png:https://laguestlist.com/wp-content/uploads/2018/06/Screen-Shot-2018-06-19-at-5.03.33-PM.png
END:VEVENT
BEGIN:VEVENT
DTSTART;TZID=America/Los_Angeles:20180729T130000
DTEND;TZID=America/Los_Angeles:20180729T180000
DTSTAMP:20260423T003742
CREATED:20180720T221912Z
LAST-MODIFIED:20180720T221912Z
UID:34805-1532869200-1532887200@laguestlist.com
SUMMARY:Gone Bazaar x Heather Nicole Advanced Skincare
DESCRIPTION:RSVP – Gone Bazaar x Heather Nicole Advanced Skincare is hosting a special shopping event with vintage and independent brands. Mingle with designers and artists\, while enjoying an open bar. \nAttend via RSVP only to: Haya@gonebazaar.com
URL:https://laguestlist.com/event/gone-bazaar-x-heather-nicole-advanced-skincare/
LOCATION:Beverly Hills
CATEGORIES:Fashion
ATTACH;FMTTYPE=image/png:https://laguestlist.com/wp-content/uploads/2018/07/unnamed-6.png
END:VEVENT
BEGIN:VEVENT
DTSTART;TZID=America/Los_Angeles:20180731T100000
DTEND;TZID=America/Los_Angeles:20180731T100000
DTSTAMP:20260423T003742
CREATED:20180731T055416Z
LAST-MODIFIED:20180731T055416Z
UID:34894-1533031200-1533031200@laguestlist.com
SUMMARY:Lil Uzi Vert Birthday at 1 OAK
DESCRIPTION:Table Reservations – Lil Uzi Vert Birthday Celebration at 1 OAK LA.
URL:https://laguestlist.com/event/lil-uzi-vert-birthday-at-1-oak/
LOCATION:1 OAK\, 9039 Sunset Boulevard\, West Hollywood\, CA\, United States
CATEGORIES:Event
ATTACH;FMTTYPE=image/png:https://laguestlist.com/wp-content/uploads/2018/07/Screen-Shot-2018-07-30-at-10.52.19-PM.png
END:VEVENT
BEGIN:VEVENT
DTSTART;TZID=America/Los_Angeles:20180731T200000
DTEND;TZID=America/Los_Angeles:20180731T230000
DTSTAMP:20260423T003742
CREATED:20180731T054849Z
LAST-MODIFIED:20180731T054849Z
UID:34891-1533067200-1533078000@laguestlist.com
SUMMARY:Animal Collective Performing 'Sung Tongs'
DESCRIPTION:Ticketed – Animal Collective performing ‘Sung Tongs’ with Lonnie Holley at the Theatre at Ace Hotel.
URL:https://laguestlist.com/event/animal-collective-performing-sung-tongs/
LOCATION:Ace Hotel\, 929 S Broadway\, Los Angeles \, CA\, 90015\, United States
ATTACH;FMTTYPE=image/jpeg:https://laguestlist.com/wp-content/uploads/2018/07/28828931_10156230928519334_516862102927210033_o.jpg
END:VEVENT
BEGIN:VEVENT
DTSTART;TZID=America/Los_Angeles:20180801T193000
DTEND;TZID=America/Los_Angeles:20180801T213000
DTSTAMP:20260423T003742
CREATED:20180710T163051Z
LAST-MODIFIED:20180710T163051Z
UID:34561-1533151800-1533159000@laguestlist.com
SUMMARY:Citi Summer Concert Series with X Ambassadors
DESCRIPTION:Open – Warm summer nights are here\, bringing with them the cool sounds of The Grove’s Summer Concert Series\, presented by Citi. Enjoy two of the industry’s hottest acts\, with X Ambassadors on August 1st.
URL:https://laguestlist.com/event/citi-summer-concert-series-with-x-ambassadors/
LOCATION:The Grove\, 189 The Grove Drive\, Los Angeles\, Los Angeles\, CA\, 90036\, United States
CATEGORIES:Concert
ATTACH;FMTTYPE=image/jpeg:https://laguestlist.com/wp-content/uploads/2018/07/19-og.jpg
END:VEVENT
BEGIN:VEVENT
DTSTART;TZID=America/Los_Angeles:20180801T210000
DTEND;TZID=America/Los_Angeles:20180801T210000
DTSTAMP:20260423T003742
CREATED:20180731T031637Z
LAST-MODIFIED:20180731T031637Z
UID:34885-1533157200-1533157200@laguestlist.com
SUMMARY:Nightswim at the Hollywood Roosevelt
DESCRIPTION:Ticketed – Nightswim returns to The Hollywood Roosevelt! LA’s biggest pool party is back. Nightswim will be taking place poolside at Tropicana Bar every Wednesday all summer long. This week\, we are very excited to bring special guests Pop Noir and Megatone with the 1212 Sessions crew!
URL:https://laguestlist.com/event/nightswim-at-the-hollywood-roosevelt-3/
LOCATION:Hollywood Roosevelt\, 7000 Hollywood Boulevard\, Los Angeles\, CA\, 90028\, United States
CATEGORIES:Pop-Up Shop
ATTACH;FMTTYPE=image/jpeg:https://laguestlist.com/wp-content/uploads/2018/07/unnamed-1-4.jpg
END:VEVENT
BEGIN:VEVENT
DTSTART;TZID=America/Los_Angeles:20180802T180000
DTEND;TZID=America/Los_Angeles:20180802T210000
DTSTAMP:20260423T003742
CREATED:20180724T051835Z
LAST-MODIFIED:20180725T041829Z
UID:34857-1533232800-1533243600@laguestlist.com
SUMMARY:B.O.L.D Summer Nights Kick Off
DESCRIPTION:Open – Rodeo Drive will kick off the second annual BOLD Summer campaign on August 2 from 6-9 p.m.! Experience live music\, fireworks\, delicious food trucks\, the exciting reveal of this summer’s social art installation and so much more. Step into a world where floral takeovers are on every corner\, monogramming booths leave you with a personalized take-home memory and live painting performances bring art to the forefront on the iconic street. These are just a few of the surprises Rodeo Drive has in store this summer. Stop by and experience everything that happens #OnlyOnRodeo and make sure to use #BOLDBH when sharing your Rodeo Drive encounters!
URL:https://laguestlist.com/event/b-o-l-d-summer-nights-kick-off/
LOCATION:Rodeo Drive
CATEGORIES:Things to do
ATTACH;FMTTYPE=image/png:https://laguestlist.com/wp-content/uploads/2018/07/Screen-Shot-2018-07-23-at-10.17.16-PM.png
END:VEVENT
BEGIN:VEVENT
DTSTART;TZID=America/Los_Angeles:20180802T190000
DTEND;TZID=America/Los_Angeles:20180802T210000
DTSTAMP:20260423T003742
CREATED:20180731T054359Z
LAST-MODIFIED:20180731T054359Z
UID:34888-1533236400-1533243600@laguestlist.com
SUMMARY:Space15twenty Presents Kali Uchis
DESCRIPTION:Purchase – Purchase a copy of ISOLATION Limited red LP at Space15twenty to gain access to an exclusive performance by @kaliuchis ✨ on 8/2 from 7-9p! While supplies last.
URL:https://laguestlist.com/event/space15twenty-presents-kali-uchis/
LOCATION:Urban Outtfitters\, 7650 Melrose Avenue\, Los Angeles\, CA\, 90046\, United States
CATEGORIES:Things to do
ATTACH;FMTTYPE=image/png:https://laguestlist.com/wp-content/uploads/2018/07/Screen-Shot-2018-07-30-at-10.41.57-PM.png
END:VEVENT
BEGIN:VEVENT
DTSTART;TZID=America/Los_Angeles:20180802T190000
DTEND;TZID=America/Los_Angeles:20180802T220000
DTSTAMP:20260423T003742
CREATED:20180801T051442Z
LAST-MODIFIED:20180801T051442Z
UID:34922-1533236400-1533247200@laguestlist.com
SUMMARY:Pabst Blue Ribbon Sound Society
DESCRIPTION:Invite Only – Pabst Blue Ribbon Sound Society Celebrates Fader Fort: Setting the Stage with live music by G Perico and DJ set by Douze.
URL:https://laguestlist.com/event/pabst-blue-ribbon-sound-society/
LOCATION:CA
CATEGORIES:Concert
ATTACH;FMTTYPE=image/jpeg:https://laguestlist.com/wp-content/uploads/2018/07/ceb.PBRxFaderFort_1080x1080_update-1-.jpg
END:VEVENT
BEGIN:VEVENT
DTSTART;TZID=America/Los_Angeles:20180802T200000
DTEND;TZID=America/Los_Angeles:20180802T220000
DTSTAMP:20260423T003742
CREATED:20180801T141002Z
LAST-MODIFIED:20180801T141002Z
UID:34928-1533240000-1533247200@laguestlist.com
SUMMARY:Peppermint Club Presents Alec Ferris
DESCRIPTION:Ticketed – Alec Ferris live at the Peppermint club with guest shah infinite.
URL:https://laguestlist.com/event/peppermint-club-presents-alec-ferris/
LOCATION:The Peppermint Club\, 8713 Beverly Blvd\, Los Angeles\, CA\, 90048\, United States
CATEGORIES:Music
ATTACH;FMTTYPE=image/png:https://laguestlist.com/wp-content/uploads/2018/08/Screen-Shot-2018-08-01-at-7.06.21-AM.png
END:VEVENT
BEGIN:VEVENT
DTSTART;TZID=America/Los_Angeles:20180804T140000
DTEND;TZID=America/Los_Angeles:20180804T180000
DTSTAMP:20260423T003742
CREATED:20180803T041532Z
LAST-MODIFIED:20180803T041532Z
UID:34934-1533391200-1533405600@laguestlist.com
SUMMARY:"JBL Xtreme Waterfight" Pool Party
DESCRIPTION:Invite Only – On Saturday\, August 4th\, premium audio brand JBL will host the JBL Xtreme Waterfight featuring the brand’s new Xtreme 2 portable speaker in Beverly Hills\, California. TheJBL Xtreme Waterfight will transform the backyard of a Beverly Hills mansion into a Nerf Super Soaker-filled battleground as four of the city’s most influential local retailers will battle for Los Angeles in an epic capture the flag-style water fight.  \nThe event will feature a variety of fun poolside activities\, elevated bites from Uncle Paulie’s\, and live sets by DJ Millie and Just Dimy. Guests will receive an exclusive look at the JBL Xtreme 2 as they interact with the splash-proof speakers throughout the experience and participate in a larger-than-life photo moment.
URL:https://laguestlist.com/event/jbl-xtreme-waterfight-pool-party/
LOCATION:CA
CATEGORIES:Event
ATTACH;FMTTYPE=image/png:https://laguestlist.com/wp-content/uploads/2018/08/Screen-Shot-2018-08-02-at-9.10.00-PM.png
END:VEVENT
BEGIN:VEVENT
DTSTART;TZID=America/Los_Angeles:20180804T140000
DTEND;TZID=America/Los_Angeles:20180804T230000
DTSTAMP:20260423T003742
CREATED:20180425T182326Z
LAST-MODIFIED:20180425T182326Z
UID:32798-1533391200-1533423600@laguestlist.com
SUMMARY:HARD Summer 2018
DESCRIPTION:Ticketed – HARD Summer music festival returns to the Speedway in Fontana! Join us for two days of stacked lineups\, including larger-than-life electronic & hip-hop acts\, as well as emerging talents wiith headliners Marshmello\, Travis Scott and Diplo.
URL:https://laguestlist.com/event/hard-summer-2018/
LOCATION:Auto Club Speedway\, 9300 Cherry Ave\, Fontana\, CA\, 92335\, United States
CATEGORIES:Concert
ATTACH;FMTTYPE=image/png:https://laguestlist.com/wp-content/uploads/2018/04/Screen-Shot-2018-04-25-at-11.20.31-AM.png
END:VEVENT
BEGIN:VEVENT
DTSTART;TZID=America/Los_Angeles:20180804T190000
DTEND;TZID=America/Los_Angeles:20180804T230000
DTSTAMP:20260423T003742
CREATED:20180731T063415Z
LAST-MODIFIED:20180731T063415Z
UID:34915-1533409200-1533423600@laguestlist.com
SUMMARY:KCRW Summer Nights: The Midnight Hour at our Backyard Party
DESCRIPTION:Open – Come visit our KCRWs backyard with 3 Summer Nights parties and we can’t wait to have you at the new KCRW HQ! Kicking it off\, Ali Shaheed Muhammad (of A Tribe Called Quest) and composer Adrian Younge’s latest project\, The Midnight Hour\, perform as an 18-piece band. When two of hip-hop’s most accomplished composers get together you know the results are going to be special. KCRW DJs Garth Trinidad and Travis Holcombe will bring the vibes.
URL:https://laguestlist.com/event/kcrw-summer-nights-the-midnight-hour-at-our-backyard-party/
LOCATION:KCRW HQ\, 1660 Stewart St\, Santa Monica\, CA\, 90404\, United States
CATEGORIES:Music
ATTACH;FMTTYPE=image/jpeg:https://laguestlist.com/wp-content/uploads/2018/07/37323268_10155825391767815_1802592302342864896_o.jpg
END:VEVENT
BEGIN:VEVENT
DTSTART;TZID=America/Los_Angeles:20180806T123000
DTEND;TZID=America/Los_Angeles:20180806T150000
DTSTAMP:20260423T003742
CREATED:20180730T031300Z
LAST-MODIFIED:20180730T031300Z
UID:34879-1533558600-1533567600@laguestlist.com
SUMMARY:Kiehl’s 9th Annual LifeRide for amfAR kickoff
DESCRIPTION:Open –  Kiehl’s Since 1851\, the internationally acclaimed purveyor of high-quality skin-care and hair-care products\, is gearing up for its 9th Annual LifeRide for amfAR\, a multi-city\, celebrity\, charitable motorcycle ride raises funds and awareness for amfAR\, The Foundation for AIDS Research. Over the course of each year’s LifeRide\, Kiehl’s riders take to the road to meet and educate the public\, and raise funds to support HIV/AIDS research. \nThis year’s celebrity-studded charity ride is championed by various actors and influential celebrities\, and will kick-off in Los Angeles on Monday\, August 6th at Kiehl’s at The Original Farmers Market. The riders will travel over 310 miles down the coastline of Southern California through Manhattan Beach\, Newport Beach\, Huntington\, and Laguna before making their last stops in San Diego at on Friday\, August 10th. \n Monday\, August 6th \n 12:30 p.m. – 1:30 p.m. (Kiehl’s at The Original Farmers Market) \n 2:00 p.m. – 3:00 p.m. (Kiehl’s at Nordstrom)
URL:https://laguestlist.com/event/kiehls-9th-annual-liferide-for-amfar-kickoff/
LOCATION:The Grove\, 189 The Grove Drive\, Los Angeles\, Los Angeles\, CA\, 90036\, United States
CATEGORIES:Event
ATTACH;FMTTYPE=image/png:https://laguestlist.com/wp-content/uploads/2018/07/Screen-Shot-2018-07-29-at-8.10.54-PM.png
END:VEVENT
BEGIN:VEVENT
DTSTART;TZID=America/Los_Angeles:20180807T180000
DTEND;TZID=America/Los_Angeles:20180807T200000
DTSTAMP:20260423T003742
CREATED:20180806T203215Z
LAST-MODIFIED:20180806T203215Z
UID:34949-1533664800-1533672000@laguestlist.com
SUMMARY:Herschel Supply's Pop-Up Shop
DESCRIPTION:Invite Only – Stop by for tasty bites\, yummy cocktails\, and customizable backpack embroidery to kick-off Herschel’s future-focused Fall 18 campaign\, LOOK FORWARD.
URL:https://laguestlist.com/event/herschel-supplys-pop-up-shop/
LOCATION:The Grove\, 189 The Grove Drive\, Los Angeles\, Los Angeles\, CA\, 90036\, United States
CATEGORIES:Event
ATTACH;FMTTYPE=image/png:https://laguestlist.com/wp-content/uploads/2018/08/Screen-Shot-2018-08-06-at-1.30.41-PM.png
END:VEVENT
BEGIN:VEVENT
DTSTART;TZID=America/Los_Angeles:20180807T183000
DTEND;TZID=America/Los_Angeles:20180807T203000
DTSTAMP:20260423T003742
CREATED:20180805T234128Z
LAST-MODIFIED:20180805T234128Z
UID:34938-1533666600-1533673800@laguestlist.com
SUMMARY:Akon's Akoin Launch
DESCRIPTION:Invite Only – Akon celebrates the pre-launch of his new cryptocurrency for young entrepreneurs\, AKoin.\nConfirmed celebrities include Akon\, Common\, Usher\, Will.I.Am in addition to CryptoCelebrities and Tech Icons such as Ryan Scott\, Tony DiMatteo\, David Washington\, Nathan Chandra and more.
URL:https://laguestlist.com/event/akons-akoin-launch/
LOCATION:CA
CATEGORIES:Event
ATTACH;FMTTYPE=image/png:https://laguestlist.com/wp-content/uploads/2018/08/Screen-Shot-2018-08-05-at-4.38.06-PM.png
END:VEVENT
BEGIN:VEVENT
DTSTART;TZID=America/Los_Angeles:20180807T190000
DTEND;TZID=America/Los_Angeles:20180807T220000
DTSTAMP:20260423T003742
CREATED:20180806T143916Z
LAST-MODIFIED:20180806T143916Z
UID:34945-1533668400-1533679200@laguestlist.com
SUMMARY:Wengie x Yoobie
DESCRIPTION:Invite Only – Wengie x Yoobie exclusive launch party to get geared up for back to school.
URL:https://laguestlist.com/event/wengie-x-yoobie/
LOCATION:CA
CATEGORIES:Event
ATTACH;FMTTYPE=image/png:https://laguestlist.com/wp-content/uploads/2018/08/Screen-Shot-2018-08-06-at-7.36.48-AM.png
END:VEVENT
END:VCALENDAR