BEGIN:VCALENDAR
VERSION:2.0
PRODID:-//LA Guestlist - ECPv6.15.20//NONSGML v1.0//EN
CALSCALE:GREGORIAN
METHOD:PUBLISH
X-ORIGINAL-URL:https://laguestlist.com
X-WR-CALDESC:Events for LA Guestlist
REFRESH-INTERVAL;VALUE=DURATION:PT1H
X-Robots-Tag:noindex
X-PUBLISHED-TTL:PT1H
BEGIN:VTIMEZONE
TZID:America/Los_Angeles
BEGIN:DAYLIGHT
TZOFFSETFROM:-0800
TZOFFSETTO:-0700
TZNAME:PDT
DTSTART:20170312T100000
END:DAYLIGHT
BEGIN:STANDARD
TZOFFSETFROM:-0700
TZOFFSETTO:-0800
TZNAME:PST
DTSTART:20171105T090000
END:STANDARD
BEGIN:DAYLIGHT
TZOFFSETFROM:-0800
TZOFFSETTO:-0700
TZNAME:PDT
DTSTART:20180311T100000
END:DAYLIGHT
BEGIN:STANDARD
TZOFFSETFROM:-0700
TZOFFSETTO:-0800
TZNAME:PST
DTSTART:20181104T090000
END:STANDARD
BEGIN:DAYLIGHT
TZOFFSETFROM:-0800
TZOFFSETTO:-0700
TZNAME:PDT
DTSTART:20190310T100000
END:DAYLIGHT
BEGIN:STANDARD
TZOFFSETFROM:-0700
TZOFFSETTO:-0800
TZNAME:PST
DTSTART:20191103T090000
END:STANDARD
END:VTIMEZONE
BEGIN:VEVENT
DTSTART;TZID=America/Los_Angeles:20181117T090000
DTEND;TZID=America/Los_Angeles:20181117T190000
DTSTAMP:20260422T235204
CREATED:20181112T012914Z
LAST-MODIFIED:20181112T012914Z
UID:36331-1542445200-1542481200@laguestlist.com
SUMMARY:Vulture Festival Los Angeles 2018
DESCRIPTION:Ticketed – Vulture announced additions to the lineup for its second annual Vulture Festival Los Angeles Presented by AT&T\, a weekend of high-profile events bringing the entertainment site to life\, and an expansion of the pop-culture extravaganza that has taken place in New York City for the last five years. Vulture Festival Los Angeles’s lineup includes actors in conversation\, exclusive screenings\, cast reunions\, live podcasts\, a comedy show\, table reads\, a private museum tour\, and more\, taking place November 17–18\, primarily at the iconic Hollywood Roosevelt in Los Angeles\, with select events at other venues.
URL:https://laguestlist.com/event/vulture-festival-los-angeles-2018/
LOCATION:Hollywood Roosevelt\, 7000 Hollywood Boulevard\, Los Angeles\, CA\, 90028\, United States
CATEGORIES:Entertainment,Event
ATTACH;FMTTYPE=image/png:https://laguestlist.com/wp-content/uploads/2018/11/Screen-Shot-2018-11-11-at-5.26.53-PM.png
END:VEVENT
BEGIN:VEVENT
DTSTART;TZID=America/Los_Angeles:20181117T190000
DTEND;TZID=America/Los_Angeles:20181117T220000
DTSTAMP:20260422T235204
CREATED:20181114T050617Z
LAST-MODIFIED:20181114T050617Z
UID:36394-1542481200-1542492000@laguestlist.com
SUMMARY:Grand Opening of Gearbox L.A.
DESCRIPTION:Invite Only –  LA’s newest exclusive venues: Gearbox LA Grand Opening hosted by Angus Mitchell (of the luxury hair care brand Paul Mitchell)\, guests will be treated to extraordinary culinary delicacies\, innovative mixology\, live entertainment\, strolling magic by illusionist Riccardo Berdini & beats by DJ Devin Lucien.
URL:https://laguestlist.com/event/grand-opening-of-gearbox-l-a/
CATEGORIES:Event
ATTACH;FMTTYPE=image/png:https://laguestlist.com/wp-content/uploads/2018/11/Screen-Shot-2018-11-13-at-9.04.05-PM.png
END:VEVENT
BEGIN:VEVENT
DTSTART;TZID=America/Los_Angeles:20181117T210000
DTEND;TZID=America/Los_Angeles:20181117T230000
DTSTAMP:20260422T235204
CREATED:20181114T150530Z
LAST-MODIFIED:20181114T150530Z
UID:36398-1542488400-1542495600@laguestlist.com
SUMMARY:HUF X Budweiser Launch Party
DESCRIPTION:Invite Only – HUF X Budweiser Launch Party Featuring the premiere of HUF 002 with Special Guest performances by Reese LaFlare and KEY!
URL:https://laguestlist.com/event/huf-x-budweiser-launch-party/
CATEGORIES:Event
ATTACH;FMTTYPE=image/png:https://laguestlist.com/wp-content/uploads/2018/11/Screen-Shot-2018-11-14-at-7.02.51-AM.png
END:VEVENT
BEGIN:VEVENT
DTSTART;TZID=America/Los_Angeles:20181118T090000
DTEND;TZID=America/Los_Angeles:20181118T190000
DTSTAMP:20260422T235204
CREATED:20181112T013036Z
LAST-MODIFIED:20181112T013036Z
UID:36334-1542531600-1542567600@laguestlist.com
SUMMARY:Vulture Festival Los Angeles 2018
DESCRIPTION:Ticketed – Vulture announced additions to the lineup for its second annual Vulture Festival Los Angeles Presented by AT&T\, a weekend of high-profile events bringing the entertainment site to life\, and an expansion of the pop-culture extravaganza that has taken place in New York City for the last five years. Vulture Festival Los Angeles’s lineup includes actors in conversation\, exclusive screenings\, cast reunions\, live podcasts\, a comedy show\, table reads\, a private museum tour\, and more\, taking place November 17–18\, primarily at the iconic Hollywood Roosevelt in Los Angeles\, with select events at other venues.
URL:https://laguestlist.com/event/vulture-festival-los-angeles-2018-2/
LOCATION:Hollywood Roosevelt\, 7000 Hollywood Boulevard\, Los Angeles\, CA\, 90028\, United States
CATEGORIES:Entertainment,Event
ATTACH;FMTTYPE=image/png:https://laguestlist.com/wp-content/uploads/2018/11/Screen-Shot-2018-11-11-at-5.26.53-PM.png
END:VEVENT
BEGIN:VEVENT
DTSTART;TZID=America/Los_Angeles:20181118T193000
DTEND;TZID=America/Los_Angeles:20181118T210000
DTSTAMP:20260422T235204
CREATED:20181115T144550Z
LAST-MODIFIED:20181115T144550Z
UID:36404-1542569400-1542574800@laguestlist.com
SUMMARY:The Grove Christmas Tree Lighting
DESCRIPTION:Open – The West Coast’s most anticipated holiday event will be held in Los Angeles on Sun.\, Nov. 18 as The Grove\, the award-winning retail\, dining and lifestyle destination\, hosts “THE GROVE CHRISTMAS TREE LIGHTING.” Presented by Citi\, the dynamic holiday showcase will feature star-studded entertainment for the whole family to enjoy\, with special guests singing some of the holiday’s most cherished songs. The event is co-sponsored by BMW. Caruso’s official rideshare partner is Uber and riders can expect a dedicated pickup and dropoff area at Circle Valet off The Grove Drive.
URL:https://laguestlist.com/event/the-grove-christmas-tree-lighting/
LOCATION:The Grove\, 189 The Grove Drive\, Los Angeles\, Los Angeles\, CA\, 90036\, United States
CATEGORIES:Holiday Party
ATTACH;FMTTYPE=image/png:https://laguestlist.com/wp-content/uploads/2018/11/GF18_treelighting_900x600_v1.png
END:VEVENT
BEGIN:VEVENT
DTSTART;TZID=America/Los_Angeles:20181119T200000
DTEND;TZID=America/Los_Angeles:20181120T000000
DTSTAMP:20260422T235204
CREATED:20181119T150810Z
LAST-MODIFIED:20181119T150810Z
UID:36412-1542657600-1542672000@laguestlist.com
SUMMARY:Snoop Dogg Hollywood Walk of Fame Celebration
DESCRIPTION:Invite Only – Join Snoop Dogg and Levi’s in celebrating Snoop Dogg’s star on the Hollywood Walk of Fame and the 25th Anniversary of Doggystyle.
URL:https://laguestlist.com/event/snoop-dogg-hollywood-walk-of-fame-celebration/
ATTACH;FMTTYPE=image/png:https://laguestlist.com/wp-content/uploads/2018/11/Screen-Shot-2018-11-19-at-7.05.28-AM.png
END:VEVENT
BEGIN:VEVENT
DTSTART;TZID=America/Los_Angeles:20181127T180000
DTEND;TZID=America/Los_Angeles:20181127T200000
DTSTAMP:20260422T235204
CREATED:20181125T203145Z
LAST-MODIFIED:20181125T203145Z
UID:36435-1543341600-1543348800@laguestlist.com
SUMMARY:Mary Poppins Returns x Trunk Club Collaboration
DESCRIPTION:Invite Only – In celebration of the new film\, Mary Poppins Returns – Trunk Club has teamed up with Academy Award-winning costume designer\, Sandy Powell to curate a series of modern-day looks inspired by the film. Expect cocktails and a live style presentation on Tuesday\, November 27th\, hosted by Trunk Club and Sandy Powell at Trunk Club’s Los Angeles Clubhouse. Guests will get the first look at these modern-day looks\, inspired by the film’s costumes that will be available at Trunk Club!
URL:https://laguestlist.com/event/mary-poppins-returns-x-trunk-club-collaboration/
CATEGORIES:Entertainment
ATTACH;FMTTYPE=image/png:https://laguestlist.com/wp-content/uploads/2018/11/Screen-Shot-2018-11-25-at-1.29.50-PM.png
END:VEVENT
BEGIN:VEVENT
DTSTART;TZID=America/Los_Angeles:20181127T190000
DTEND;TZID=America/Los_Angeles:20181127T220000
DTSTAMP:20260422T235204
CREATED:20181125T202252Z
LAST-MODIFIED:20181125T202252Z
UID:36429-1543345200-1543356000@laguestlist.com
SUMMARY:Hyundai Presents StyleNite hosted  by Ty Hunter
DESCRIPTION:Invite Only – Hyundai will be holding an event at Soho House West Hollywood the evening before they reveal their newest SUV\, The Palisade at The LA Motor Show. To celebrate\, Hyundai will unveil a brand-new lifestyle concept and fashion collaboration together with international top talent (names to be released in the coming days). To kick off its new lifestyle platform\,  the company created STYLE NITE\, a unique event hosted by renowned celebrity stylist Ty Hunter (Beyonce\, Kim Kardashian\, Serena Williams). Hunter worked with Korean star designer GREEDILOUS to create a fashion collection consisting of 20 looks\, each inspired by the new car and the Hyundai logo.
URL:https://laguestlist.com/event/hyundai-presents-stylenite-hosted-by-ty-hunter/
CATEGORIES:Automobile
ATTACH;FMTTYPE=image/png:https://laguestlist.com/wp-content/uploads/2018/11/Screen-Shot-2018-11-25-at-1.20.36-PM.png
END:VEVENT
BEGIN:VEVENT
DTSTART;TZID=America/Los_Angeles:20181127T190000
DTEND;TZID=America/Los_Angeles:20181127T230000
DTSTAMP:20260422T235204
CREATED:20181112T020849Z
LAST-MODIFIED:20181112T020849Z
UID:36357-1543345200-1543359600@laguestlist.com
SUMMARY:Chloé x MOCA
DESCRIPTION:Invite Only – Chloé is taking over Los Angeles by storm in association with MOCA.
URL:https://laguestlist.com/event/chloe-x-moca/
CATEGORIES:Fashion
ATTACH;FMTTYPE=image/png:https://laguestlist.com/wp-content/uploads/2018/11/Screen-Shot-2018-11-11-at-6.05.43-PM.png
END:VEVENT
BEGIN:VEVENT
DTSTART;TZID=America/Los_Angeles:20181128T180000
DTEND;TZID=America/Los_Angeles:20181128T210000
DTSTAMP:20260422T235204
CREATED:20181127T060347Z
LAST-MODIFIED:20181127T060347Z
UID:36457-1543428000-1543438800@laguestlist.com
SUMMARY:HOFA Gallery Grand Opening
DESCRIPTION:Invite Only – The House of Fine Art is celebrating the opening of the new HOFA Gallery\, Los Angeles. HOFA will be showcasing a portfolio of leading international artists\, curated around contemporary & luxury interiors.
URL:https://laguestlist.com/event/hofa-gallery-grand-opening/
CATEGORIES:Art
ATTACH;FMTTYPE=image/png:https://laguestlist.com/wp-content/uploads/2018/11/Screen-Shot-2018-11-26-at-10.00.13-PM.png
END:VEVENT
BEGIN:VEVENT
DTSTART;TZID=America/Los_Angeles:20181128T180000
DTEND;TZID=America/Los_Angeles:20181128T210000
DTSTAMP:20260422T235204
CREATED:20181127T061332Z
LAST-MODIFIED:20181127T061332Z
UID:36466-1543428000-1543438800@laguestlist.com
SUMMARY:Julien's Auctions: Hugh M. Hefner's Private Collection
DESCRIPTION:Invite Only – Julien’s Auctions Private Preview from Hugh M. Hefner’s Private Collection.
URL:https://laguestlist.com/event/juliens-auctions-hugh-m-hefners-private-collection/
CATEGORIES:Event
ATTACH;FMTTYPE=image/png:https://laguestlist.com/wp-content/uploads/2018/11/Screen-Shot-2018-11-26-at-10.11.07-PM.png
END:VEVENT
BEGIN:VEVENT
DTSTART;TZID=America/Los_Angeles:20181128T190000
DTEND;TZID=America/Los_Angeles:20181128T220000
DTSTAMP:20260422T235204
CREATED:20181119T151633Z
LAST-MODIFIED:20181119T151633Z
UID:36418-1543431600-1543442400@laguestlist.com
SUMMARY:Rachel Zoe Palisades Village Holiday Celebration
DESCRIPTION:Invite Only –  join Sara & Erin Foster\, Jennifer Meyer and Rick Caruso for a glamorous evening of cocktails\, dinner and a presentation of the Rachel Zoe Holiday Collection.
URL:https://laguestlist.com/event/rachel-zoe-palisades-village-holiday-celebration/
LOCATION:Palisades Village\, 15225 Palisades Village Lane\, Pacific Palisades\, CA\, United States
CATEGORIES:Event,Fashion
ATTACH;FMTTYPE=image/png:https://laguestlist.com/wp-content/uploads/2018/11/Screen-Shot-2018-11-19-at-7.14.31-AM.png
END:VEVENT
BEGIN:VEVENT
DTSTART;TZID=America/Los_Angeles:20181129T180000
DTEND;TZID=America/Los_Angeles:20181129T200000
DTSTAMP:20260422T235204
CREATED:20181125T201615Z
LAST-MODIFIED:20181125T201615Z
UID:36426-1543514400-1543521600@laguestlist.com
SUMMARY:Mickey Mouse's 90th Anniversary at Max Bone
DESCRIPTION:Invite Only – Come to celebrate Mickey Mouse’s 90th anniversary with the launch of a special collaboration collection of clothing & accessories for dogs at Max Bone’s Robertson store next Thursday\, November 29th! There will be lots of fun activities for you and your furry best friend to partake in including caricature drawings of you and your pet\, personalized custom dog tag creations and lots of fun photo ops!
URL:https://laguestlist.com/event/mickey-mouses-90th-anniversary-at-max-bone/
CATEGORIES:Event
ATTACH;FMTTYPE=image/png:https://laguestlist.com/wp-content/uploads/2018/11/Screen-Shot-2018-11-25-at-1.14.34-PM.png
END:VEVENT
BEGIN:VEVENT
DTSTART;TZID=America/Los_Angeles:20181129T180000
DTEND;TZID=America/Los_Angeles:20181129T200000
DTSTAMP:20260422T235204
CREATED:20181127T061051Z
LAST-MODIFIED:20181127T061051Z
UID:36463-1543514400-1543521600@laguestlist.com
SUMMARY:Ralph Lauren x Children Mending Hearts
DESCRIPTION:Invite Only – Ralph Lauren is teaming up with Children Mending Hearts for an evening to support a great cause.
URL:https://laguestlist.com/event/ralph-lauren-x-children-mending-hearts/
LOCATION:Rodeo Drive
CATEGORIES:Charity
ATTACH;FMTTYPE=image/png:https://laguestlist.com/wp-content/uploads/2018/11/Screen-Shot-2018-11-26-at-10.08.46-PM.png
END:VEVENT
BEGIN:VEVENT
DTSTART;TZID=America/Los_Angeles:20181129T200000
DTEND;TZID=America/Los_Angeles:20181129T230000
DTSTAMP:20260422T235204
CREATED:20181125T203640Z
LAST-MODIFIED:20181125T203640Z
UID:36438-1543521600-1543532400@laguestlist.com
SUMMARY:Wine App LA Launch Event
DESCRIPTION:Invite Only – On November 29\, 2018\, My Wine Society\, a community-centered wine app\, will be hosting their Los Angeles Launch Party at an off site downtown studio loft. The ingenious wine app is currently in their beta phase and recently launched in Napa\, California this past summer. Along with their Los Angeles Launch\, My Wine Society will also be launching in Temecula\, California and Valle De Guadalupe\, Mexico in late 2018.
URL:https://laguestlist.com/event/wine-app-la-launch-event/
CATEGORIES:Event
ATTACH;FMTTYPE=image/png:https://laguestlist.com/wp-content/uploads/2018/11/Screen-Shot-2018-11-25-at-1.32.36-PM.png
END:VEVENT
BEGIN:VEVENT
DTSTART;TZID=America/Los_Angeles:20181130T100000
DTEND;TZID=America/Los_Angeles:20181130T190000
DTSTAMP:20260422T235204
CREATED:20181112T014437Z
LAST-MODIFIED:20181112T014437Z
UID:36346-1543572000-1543604400@laguestlist.com
SUMMARY:Teen Vogue Summit 2018
DESCRIPTION:Ticketed – It’s baaaack—and ready to help you blaze your best path. The Teen Vogue Summit returns to LA with a power-packed lineup of change-makers from sports\, fashion\, music\, beauty\, technology\, film & television\, public service\, and more. Curated by Teen Vogue editors\, speakers will share their stories—and their journeys—and inspire us all to be trailblazers.
URL:https://laguestlist.com/event/teen-vogue-summit-2018/
LOCATION:72andSunny\, 12101 W. Bluff Creek Drv\, Playa Vista\, CA\, 90094\, United States
CATEGORIES:Magazine,Networking
ATTACH;FMTTYPE=image/png:https://laguestlist.com/wp-content/uploads/2018/11/Screen-Shot-2018-11-11-at-5.42.09-PM.png
END:VEVENT
BEGIN:VEVENT
DTSTART;TZID=America/Los_Angeles:20181130T180000
DTEND;TZID=America/Los_Angeles:20181130T220000
DTSTAMP:20260422T235204
CREATED:20181125T202621Z
LAST-MODIFIED:20181125T202621Z
UID:36432-1543600800-1543615200@laguestlist.com
SUMMARY:Volkswagen Drive-In
DESCRIPTION:Invite Only – When was the last time you went to the drive-in movie? Volkswagen would like to bring it back and invite you to their annual Drive-In. We will be screening Herbie Fully Loaded\, showcasing the final model of the beloved Beetle and will have surprise celebrity guests!
URL:https://laguestlist.com/event/volkswagen-drive-in/
CATEGORIES:Automobile
ATTACH;FMTTYPE=image/png:https://laguestlist.com/wp-content/uploads/2018/11/Screen-Shot-2018-11-25-at-1.24.53-PM.png
END:VEVENT
BEGIN:VEVENT
DTSTART;TZID=America/Los_Angeles:20181130T190000
DTEND;TZID=America/Los_Angeles:20181130T220000
DTSTAMP:20260422T235204
CREATED:20181129T151627Z
LAST-MODIFIED:20181129T151627Z
UID:36493-1543604400-1543615200@laguestlist.com
SUMMARY:Galore: GirlCult Private Dinner
DESCRIPTION:Invite Only – Galore GirlCult Private Dinner on Friday\, November 30th with Amber Rose\, Lauren Jaurenguri\, and a special performance.
URL:https://laguestlist.com/event/galore-girlcult-private-dinner/
CATEGORIES:Things to do
ATTACH;FMTTYPE=image/png:https://laguestlist.com/wp-content/uploads/2018/11/Screen-Shot-2018-11-29-at-7.13.46-AM.png
END:VEVENT
BEGIN:VEVENT
DTSTART;TZID=America/Los_Angeles:20181130T193000
DTEND;TZID=America/Los_Angeles:20181130T223000
DTSTAMP:20260422T235204
CREATED:20181112T023106Z
LAST-MODIFIED:20181112T023106Z
UID:36368-1543606200-1543617000@laguestlist.com
SUMMARY:2018 National iHeartRadio Jingle Ball Tour
DESCRIPTION:Ticketed – The 2018 iHeartRadio Jingle Ball Tour Presented by Capital One is back! This December\, the biggest stars will be making stops across the country to celebrate the holiday season with all of their fans. \nArtists including Cardi B\, Shawn Mendes\, Camila Cabello\, Calvin Harris\, The Chainsmokers\, G-Eazy\, Dua Lipa\, Khalid and many more will be performing at select Jingle Ball shows throughout major cities this holiday season. The 2018 iHeartRadio Jingle Ball Tour will stop in Dallas\, Los Angeles\, San Francisco\, Minneapolis\, Boston\, Philadelphia\, New York\, Washington\, D.C.\, Chicago\, Atlanta\, Tampa and Miami/Ft. Lauderdale.
URL:https://laguestlist.com/event/2018-national-iheartradio-jingle-ball-tour/
LOCATION:The Forum\, 3900 W Manchester Blvd\, Inglewood\, CA\, 90305\, United States
CATEGORIES:Concert
ATTACH;FMTTYPE=image/png:https://laguestlist.com/wp-content/uploads/2018/11/Screen-Shot-2018-11-11-at-6.27.15-PM.png
END:VEVENT
BEGIN:VEVENT
DTSTART;TZID=America/Los_Angeles:20181130T200000
DTEND;TZID=America/Los_Angeles:20181130T230000
DTSTAMP:20260422T235204
CREATED:20181112T014135Z
LAST-MODIFIED:20181112T014135Z
UID:36343-1543608000-1543618800@laguestlist.com
SUMMARY:EBONY Power 100 Gala
DESCRIPTION:Invite Only – Celebrating 2018 EBONY Power 100\, honoring community crusaders\, innovators\, disruptors\, business titans and MVPs making a difference in the Black community. The 2018 EBONY Power 100 host is international award-winning actor and comedian Chris Tucker.
URL:https://laguestlist.com/event/ebony-power-100-gala-2/
LOCATION:The Beverly Hilton\, 9876 Wilshire Boulevard\, Beverly Hills\, CA\, 90210\, United States
CATEGORIES:Gala
ATTACH;FMTTYPE=image/png:https://laguestlist.com/wp-content/uploads/2018/11/Screen-Shot-2018-11-11-at-5.38.19-PM.png
END:VEVENT
BEGIN:VEVENT
DTSTART;TZID=America/Los_Angeles:20181201T090000
DTEND;TZID=America/Los_Angeles:20181201T190000
DTSTAMP:20260422T235204
CREATED:20181112T014635Z
LAST-MODIFIED:20181112T014635Z
UID:36349-1543654800-1543690800@laguestlist.com
SUMMARY:Teen Vogue Summit 2018
DESCRIPTION:Ticketed – It’s baaaack—and ready to help you blaze your best path. The Teen Vogue Summit returns to LA with a power-packed lineup of change-makers from sports\, fashion\, music\, beauty\, technology\, film & television\, public service\, and more. Curated by Teen Vogue editors\, speakers will share their stories—and their journeys—and inspire us all to be trailblazers.
URL:https://laguestlist.com/event/teen-vogue-summit-2018-2/
LOCATION:72andSunny\, 12101 W. Bluff Creek Drv\, Playa Vista\, CA\, 90094\, United States
CATEGORIES:Event,Networking
ATTACH;FMTTYPE=image/png:https://laguestlist.com/wp-content/uploads/2018/11/Screen-Shot-2018-11-11-at-5.42.09-PM.png
END:VEVENT
BEGIN:VEVENT
DTSTART;TZID=America/Los_Angeles:20181201T153000
DTEND;TZID=America/Los_Angeles:20181201T233000
DTSTAMP:20260422T235204
CREATED:20181112T013333Z
LAST-MODIFIED:20181112T013333Z
UID:36336-1543678200-1543707000@laguestlist.com
SUMMARY:Galore Presents Girl Cult 2018
DESCRIPTION:Ticketed – Ever thought about attending a festival that includes music\, discussion\, dancing\, and girl power\, all revolving around boss babes? Well\, that’s exactly what Galore’s Girl Cult Festival is. The festival is officially returning to Los Angeles for its’ second year\, and we are so excited about what’s to come. The festival will feature keynote speaker and mogul\, Amber Rose. Attendees will enjoy a day of performances by Bella Thorne (who will also host a keynote – double whamey)\, Jhené Aiko\, Lauren Jauregui of Fifth Harmony\, Tommy Genesis\, and Dani Thorne. and more acts that will be announced as we near the festival!
URL:https://laguestlist.com/event/galore-presents-girl-cult-2018/
LOCATION:The Novo DTLA\, 800 W Olympic Blvd\, Ste A335\, Los Angeles\, CA\, 90015\, United States
CATEGORIES:Networking
ATTACH;FMTTYPE=image/png:https://laguestlist.com/wp-content/uploads/2018/11/Screen-Shot-2018-11-11-at-5.31.41-PM.png
END:VEVENT
BEGIN:VEVENT
DTSTART;TZID=America/Los_Angeles:20181201T190000
DTEND;TZID=America/Los_Angeles:20181202T010000
DTSTAMP:20260422T235204
CREATED:20181128T144608Z
LAST-MODIFIED:20181128T144608Z
UID:36485-1543690800-1543712400@laguestlist.com
SUMMARY:Rosemouth Records x KEB Management Group Holiday Party
DESCRIPTION:RSVP – LA indie label Rosemouth Records is partnering with KEB Management Group to throw a bombastic holiday party featuring selected songwriters showcasing their best songs with performances by some of LA’s top new music acts. Alternative indie pop band KINGDØMS headlines followed by DJs into the night.  If this is anything like Rosemouth’s last event\, this will be lit.  Spirits by Dulce Vida Tequila and spiked hot chocolate will add to the mix.
URL:https://laguestlist.com/event/rosemouth-records-x-keb-management-group-holiday-party/
CATEGORIES:Event,Music
ATTACH;FMTTYPE=image/jpeg:https://laguestlist.com/wp-content/uploads/2018/11/2-2-1.jpg
END:VEVENT
BEGIN:VEVENT
DTSTART;TZID=America/Los_Angeles:20181201T220000
DTEND;TZID=America/Los_Angeles:20181202T020000
DTSTAMP:20260422T235204
CREATED:20181112T013806Z
LAST-MODIFIED:20181112T013806Z
UID:36340-1543701600-1543716000@laguestlist.com
SUMMARY:AMFAMFAMF present Destructo & DJ Diesel (Shaquille O’Neal)
DESCRIPTION:Ticketed – Two Los Angeles legends are about to join forces for one big night of music. Music executive\, concert producer and DJ Gary Richards\, aka Destructo\, and four-time NBA championship winner and former Lakers center\, Shaquille O’Neal\, aka DJ Diesel\, are teaming up for Let’s Be Friends 2018 at the Avalon Hollywood in Los Angeles on Saturday\, Dec. 1.
URL:https://laguestlist.com/event/amfamfamf-present-destructo-dj-diesel-shaquille-oneal/
LOCATION:Avalon\, 1735 Vine St.\, Los Angeles\, CA\, 90028\, United States
CATEGORIES:Nightlife
ATTACH;FMTTYPE=image/jpeg:https://laguestlist.com/wp-content/uploads/2018/11/120118_avalon_lg.jpg
END:VEVENT
BEGIN:VEVENT
DTSTART;TZID=America/Los_Angeles:20181202T170000
DTEND;TZID=America/Los_Angeles:20181202T190000
DTSTAMP:20260422T235204
CREATED:20181201T205127Z
LAST-MODIFIED:20181201T205127Z
UID:36496-1543770000-1543777200@laguestlist.com
SUMMARY:Chromeo “Don’t Sleep” Video Premiere
DESCRIPTION:Invite Only –  Chromeo teamed up with School Night and NeueHouse to launch their new ASSEMBLY Series with an intimate event this Sunday\, December 2nd in LA. They’ll be premiering their brand new (crazy!) video for “Don’t Sleep”\, directed by the amazingly talented Allie Avital. Afterwards\, there’s going to be a Q&A with Allie and host Chris Douglas and a DJ set by Chromeo.
URL:https://laguestlist.com/event/chromeo-dont-sleep-video-premiere/
LOCATION:Neuehouse\,  6121 Sunset Blvd\, Los Angeles\, CA\, 90028\, United States
CATEGORIES:Music
ATTACH;FMTTYPE=image/png:https://laguestlist.com/wp-content/uploads/2018/12/Screen-Shot-2018-12-01-at-12.48.37-PM.png
END:VEVENT
BEGIN:VEVENT
DTSTART;TZID=America/Los_Angeles:20181202T190000
DTEND;TZID=America/Los_Angeles:20181202T230000
DTSTAMP:20260422T235204
CREATED:20181201T234611Z
LAST-MODIFIED:20181201T234611Z
UID:36501-1543777200-1543791600@laguestlist.com
SUMMARY:Patrick Starrr x MAC Holiday Party
DESCRIPTION:Invite Only – Get on board for the ultimate slay ride! Party with Patrick Starr as he unveils his final\, most festive MAC collab\, come decked out in total holiday glam\, prepped for a wild night and ready to slay.
URL:https://laguestlist.com/event/patrick-starrr-x-mac-holiday-party/
CATEGORIES:Holiday Party
ATTACH;FMTTYPE=image/png:https://laguestlist.com/wp-content/uploads/2018/12/Screen-Shot-2018-12-01-at-3.43.48-PM.png
END:VEVENT
BEGIN:VEVENT
DTSTART;TZID=America/Los_Angeles:20181203T210000
DTEND;TZID=America/Los_Angeles:20181204T000000
DTSTAMP:20260422T235204
CREATED:20181201T235054Z
LAST-MODIFIED:20181201T235054Z
UID:36505-1543870800-1543881600@laguestlist.com
SUMMARY:Skam Artist Annual Holiday Party
DESCRIPTION:Invite Only – The Skam Artist Annual Holiday Party is back in full force\, taking over Dave & Buster’s.
URL:https://laguestlist.com/event/skam-artist-annual-holiday-party/
CATEGORIES:Holiday Party
ATTACH;FMTTYPE=image/png:https://laguestlist.com/wp-content/uploads/2018/12/Screen-Shot-2018-12-01-at-3.48.21-PM.png
END:VEVENT
BEGIN:VEVENT
DTSTART;TZID=America/Los_Angeles:20181204T180000
DTEND;TZID=America/Los_Angeles:20181204T200000
DTSTAMP:20260422T235204
CREATED:20181201T235921Z
LAST-MODIFIED:20181201T235921Z
UID:36511-1543946400-1543953600@laguestlist.com
SUMMARY:Maybelline New 2019 Launches
DESCRIPTION:Invite Only – Join Maybelline New York’s new 2019 launches\, exclusively at the Alice + Olivia Flagship Store.
URL:https://laguestlist.com/event/maybelline-new-2019-launches/
CATEGORIES:Beauty,Event
ATTACH;FMTTYPE=image/png:https://laguestlist.com/wp-content/uploads/2018/12/Screen-Shot-2018-12-01-at-3.56.17-PM.png
END:VEVENT
BEGIN:VEVENT
DTSTART;TZID=America/Los_Angeles:20181204T180000
DTEND;TZID=America/Los_Angeles:20181204T210000
DTSTAMP:20260422T235204
CREATED:20181127T061837Z
LAST-MODIFIED:20181127T061837Z
UID:36469-1543946400-1543957200@laguestlist.com
SUMMARY:Valentino Cocktail Reception
DESCRIPTION:Invite Only – Valentino Cocktail Reception to kick off the launch of the men’s pre-spring 2019 collections.
URL:https://laguestlist.com/event/valentino-cocktail-reception/
CATEGORIES:Fashion
ATTACH;FMTTYPE=image/png:https://laguestlist.com/wp-content/uploads/2018/11/Screen-Shot-2018-11-26-at-10.18.05-PM.png
END:VEVENT
BEGIN:VEVENT
DTSTART;TZID=America/Los_Angeles:20181204T183000
DTEND;TZID=America/Los_Angeles:20181204T213000
DTSTAMP:20260422T235204
CREATED:20181201T235445Z
LAST-MODIFIED:20181201T235445Z
UID:36508-1543948200-1543959000@laguestlist.com
SUMMARY:Tacos Lobos Pop-Up Dinner
DESCRIPTION:Ticketed – The next DINNER WITH WOLVES will be on Tuesday\, December 4th. Featuring Lobos Margaritas from Gem & Bolt Mezcal\, this is a special pop-up dinner starting at 6:30PM to celebrate my new restaurant Tacos Lobos. \nLimited tickets available for $20 (includes tax & gratuity). Long communal tables will be setup to enjoy the meal together. We wanted to create a fun\, shared dining experience to showcase our Tacos Lobos menu.
URL:https://laguestlist.com/event/tacos-lobos-pop-up-dinner/
LOCATION:WOLF\, 7661 Melrose Ave\, Los Angeles\, CA\, 90046\, United States
CATEGORIES:Gastronomy
ATTACH;FMTTYPE=image/jpeg:https://laguestlist.com/wp-content/uploads/2018/12/2-8.jpg
END:VEVENT
END:VCALENDAR