BEGIN:VCALENDAR
VERSION:2.0
PRODID:-//LA Guestlist - ECPv6.15.20//NONSGML v1.0//EN
CALSCALE:GREGORIAN
METHOD:PUBLISH
X-WR-CALNAME:LA Guestlist
X-ORIGINAL-URL:https://laguestlist.com
X-WR-CALDESC:Events for LA Guestlist
REFRESH-INTERVAL;VALUE=DURATION:PT1H
X-Robots-Tag:noindex
X-PUBLISHED-TTL:PT1H
BEGIN:VTIMEZONE
TZID:America/Los_Angeles
BEGIN:DAYLIGHT
TZOFFSETFROM:-0800
TZOFFSETTO:-0700
TZNAME:PDT
DTSTART:20210314T100000
END:DAYLIGHT
BEGIN:STANDARD
TZOFFSETFROM:-0700
TZOFFSETTO:-0800
TZNAME:PST
DTSTART:20211107T090000
END:STANDARD
BEGIN:DAYLIGHT
TZOFFSETFROM:-0800
TZOFFSETTO:-0700
TZNAME:PDT
DTSTART:20220313T100000
END:DAYLIGHT
BEGIN:STANDARD
TZOFFSETFROM:-0700
TZOFFSETTO:-0800
TZNAME:PST
DTSTART:20221106T090000
END:STANDARD
BEGIN:DAYLIGHT
TZOFFSETFROM:-0800
TZOFFSETTO:-0700
TZNAME:PDT
DTSTART:20230312T100000
END:DAYLIGHT
BEGIN:STANDARD
TZOFFSETFROM:-0700
TZOFFSETTO:-0800
TZNAME:PST
DTSTART:20231105T090000
END:STANDARD
END:VTIMEZONE
BEGIN:VEVENT
DTSTART;TZID=America/Los_Angeles:20220811T190000
DTEND;TZID=America/Los_Angeles:20220812T230000
DTSTAMP:20260423T222702
CREATED:20220727T020629Z
LAST-MODIFIED:20220727T020629Z
UID:46232-1660244400-1660345200@laguestlist.com
SUMMARY:Odesza: The Last Goodbye Tour
DESCRIPTION:Ticketed – ODESZA will travel North America in 2022 on The Last Goodbye summer amphitheater tour\, the duo’s first in three years and will take over the Kia Forum in Los Angeles.
URL:https://laguestlist.com/event/odesza-the-last-goodbye-tour/
LOCATION:Kia Forum\, 3900 W Manchester Blvd\, Inglewood\, CA\, 90305\, United States
CATEGORIES:Concert
ATTACH;FMTTYPE=image/jpeg:https://laguestlist.com/wp-content/uploads/2022/07/GTC204575H_Odesza_WEB_New_size_only_1024x576_0.jpg
END:VEVENT
BEGIN:VEVENT
DTSTART;TZID=America/Los_Angeles:20220811T170000
DTEND;TZID=America/Los_Angeles:20220811T230000
DTSTAMP:20260423T222702
CREATED:20220810T002444Z
LAST-MODIFIED:20220810T002444Z
UID:46353-1660237200-1660258800@laguestlist.com
SUMMARY:The Bungalow's Night Market with Eva Longoria
DESCRIPTION:Open – This Thursday\, August 11\, actress Eva Longoria will be stopping by the Bungalow Santa Monica’s Night Market to shake things up with her luxury sipping tequila Casa Del Sol. In addition to Longoria’s guest bartending appearance\, Thursday’s food vendors include Tijuana-style tacos from Tacos 1986\, slices by Secret Vegan Pizza\, sandwiches and tenders from Chickies Hot Chicken\, plant-based burgers by Monty’s Good Burger\, and artisan sweets from Gooey Center and Cookies by Linda.
URL:https://laguestlist.com/event/the-bungalows-night-market-with-eva-longoria/
LOCATION:The Bungalow\, 101 Wilshire Blvd\, Santa Monica\, CA\, 90401\, United States
CATEGORIES:Nightlife
ATTACH;FMTTYPE=image/png:https://laguestlist.com/wp-content/uploads/2022/08/unnamed-3.png
END:VEVENT
BEGIN:VEVENT
DTSTART;TZID=America/Los_Angeles:20220806T200000
DTEND;TZID=America/Los_Angeles:20220806T233000
DTSTAMP:20260423T222702
CREATED:20220727T023027Z
LAST-MODIFIED:20220727T023027Z
UID:46239-1659816000-1659828600@laguestlist.com
SUMMARY:Shaq's Bass All Stars
DESCRIPTION:Ticketed – Catch Shaquille O’Neal aka Diesel with a stacked line up in LA at The Hollywood Palladium.
URL:https://laguestlist.com/event/shaqs-bass-all-stars/
LOCATION:The Palladium\, 6215 Sunset Boulevard\,  Los Angeles\, CA\, 90028\, United States
CATEGORIES:Concert
ATTACH;FMTTYPE=image/jpeg:https://laguestlist.com/wp-content/uploads/2022/07/283547973_10158150299562100_8840372655425525426_n.jpg
END:VEVENT
BEGIN:VEVENT
DTSTART;TZID=America/Los_Angeles:20220806T190000
DTEND;TZID=America/Los_Angeles:20220806T230000
DTSTAMP:20260423T222702
CREATED:20220804T231645Z
LAST-MODIFIED:20220804T231645Z
UID:46318-1659812400-1659826800@laguestlist.com
SUMMARY:Cinespia Presents A League of Their Own 30th Anniversary
DESCRIPTION:Ticketed – Cinespia presents the 30th Anniversary Screening with Geena Davis and the stars of the new Prime Video Series A League of Their Own in person.
URL:https://laguestlist.com/event/cinespia-presents-a-league-of-their-own-30th-anniversary/
LOCATION:Hollywood Forever Cemetery\, 6000 Santa Monica Blvd\, Los Angeles\, CA\, 90038\, United States
CATEGORIES:Entertainment
ATTACH;FMTTYPE=image/png:https://laguestlist.com/wp-content/uploads/2022/08/League-Poster.png
END:VEVENT
BEGIN:VEVENT
DTSTART;TZID=America/Los_Angeles:20220806T140000
DTEND;TZID=America/Los_Angeles:20220806T170000
DTSTAMP:20260423T222703
CREATED:20220804T230032Z
LAST-MODIFIED:20220804T230032Z
UID:46316-1659794400-1659805200@laguestlist.com
SUMMARY:Barnsdall Art Park Summer Garden Party
DESCRIPTION:Ticketed – Celebrate the restoration of Barnsdall Art Park’s historic Olive Grove at Barnsdall Art Park Foundation’s upcoming Summer Garden Party. Their recent planting of 40 new olive trees is the culmination of a multi-year effort to restore the grove\, and it’s time for a party.
URL:https://laguestlist.com/event/barnsdall-art-park-summer-garden-party/
LOCATION:Barnsdall Art Park\, 4800 Hollywood Blvd.\, Los Angeles\, CA\, 90027\, United States
CATEGORIES:Charity
ATTACH;FMTTYPE=image/jpeg:https://laguestlist.com/wp-content/uploads/2022/08/288631180_10159928520019190_6456700495254708973_n.jpg
END:VEVENT
BEGIN:VEVENT
DTSTART;TZID=America/Los_Angeles:20220806T120000
DTEND;TZID=America/Los_Angeles:20220806T170000
DTSTAMP:20260423T222703
CREATED:20220806T154603Z
LAST-MODIFIED:20220806T154603Z
UID:46338-1659787200-1659805200@laguestlist.com
SUMMARY:GUESS Originals Store Opening
DESCRIPTION:Open – GUESS Originals Store Opening with tunes by Cedxric & Tony Strk and beverages provided by Happy Hour Tequila Seltzer.
URL:https://laguestlist.com/event/guess-originals-store-opening/
LOCATION:Guess Originals\, 529 N. La Cienega\, West Hollywood\, CA\, 90048\, United States
CATEGORIES:Grand Opening
ATTACH;FMTTYPE=image/png:https://laguestlist.com/wp-content/uploads/2022/08/Screen-Shot-2022-08-06-at-8.43.01-AM.png
END:VEVENT
BEGIN:VEVENT
DTSTART;TZID=America/Los_Angeles:20220806T100000
DTEND;TZID=America/Los_Angeles:20220806T140000
DTSTAMP:20260423T222703
CREATED:20220803T171156Z
LAST-MODIFIED:20220803T171156Z
UID:46293-1659780000-1659794400@laguestlist.com
SUMMARY:LIVBY Creator Trading Post
DESCRIPTION:RSVP – LIVBY is hosting a pop up for guests to shop through their favorite influencers closets including @elisha__h. @reneeherbert_\, @morgancohen\, @angelmoret. @unclejessie and many more with a special in-person activation by Jumelle Swim. To download the app and get familiar with Livby livestreams\, just type www.livby.live on your phone to watch & shop now.
URL:https://laguestlist.com/event/livby-creator-trading-post/
LOCATION:CA
CATEGORIES:Fashion
ATTACH;FMTTYPE=image/jpeg:https://laguestlist.com/wp-content/uploads/2022/08/1.jpg
END:VEVENT
BEGIN:VEVENT
DTSTART;TZID=America/Los_Angeles:20220805T170000
DTEND;TZID=America/Los_Angeles:20220806T230000
DTSTAMP:20260423T222703
CREATED:20220727T022150Z
LAST-MODIFIED:20220727T022150Z
UID:46237-1659718800-1659826800@laguestlist.com
SUMMARY:Boiler Room LA
DESCRIPTION:Ticketed – Boiler Room LA is back for two nights at Catch One to showcase its many sounds\, scenes and saints across two nights.
URL:https://laguestlist.com/event/boiler-room-la/
LOCATION:Catch One\, 4067 W. Pico Blvd\, Los Angeles\, CA\, 90019\, United States
CATEGORIES:Concert
ATTACH;FMTTYPE=image/jpeg:https://laguestlist.com/wp-content/uploads/2022/07/284703002_5423598007685866_1674381092414397541_n.jpg
END:VEVENT
BEGIN:VEVENT
DTSTART;TZID=America/Los_Angeles:20220803T120000
DTEND;TZID=America/Los_Angeles:20220803T160000
DTSTAMP:20260423T222703
CREATED:20220802T010429Z
LAST-MODIFIED:20220802T010429Z
UID:46278-1659528000-1659542400@laguestlist.com
SUMMARY:Shiseido Blue x WSL Beach Clean Up
DESCRIPTION:Invite Only – Guests will join celebrity guests and environmental activists for a day of good while cleaning up the beaches of Huntington Beach as they celebrate Shiseido Blues continued efforts in promoting ocean and beach conservation.
URL:https://laguestlist.com/event/shiseido-blue-x-wsl-beach-clean-up/
LOCATION:Huntington Beach
CATEGORIES:Charity
ATTACH;FMTTYPE=image/png:https://laguestlist.com/wp-content/uploads/2022/08/Screen-Shot-2022-08-01-at-6.02.26-PM.png
END:VEVENT
BEGIN:VEVENT
DTSTART;TZID=America/Los_Angeles:20220802T180000
DTEND;TZID=America/Los_Angeles:20220802T210000
DTSTAMP:20260423T222703
CREATED:20220802T010140Z
LAST-MODIFIED:20220802T010140Z
UID:46276-1659463200-1659474000@laguestlist.com
SUMMARY:Shiseido Blue Project x WSL Dinner
DESCRIPTION:Invite Only – Shiseido Surf Week Presented by Shiseido Blue Project will host an intimate evening filled with dinner\, drinks\, and fun as they kick off a week of sustainable activities in partnership with WSL at the U.S Open of Surfing. Additionally\, guests will be learning about the brands current launches and efforts in the realm of ocean conservation and sustainability.
URL:https://laguestlist.com/event/shiseido-blue-project-x-wsl-dinner/
LOCATION:Huntington Beach
CATEGORIES:Charity
ATTACH;FMTTYPE=image/png:https://laguestlist.com/wp-content/uploads/2022/08/Screen-Shot-2022-08-01-at-5.59.50-PM.png
END:VEVENT
BEGIN:VEVENT
DTSTART;TZID=America/Los_Angeles:20220801T183000
DTEND;TZID=America/Los_Angeles:20220801T200000
DTSTAMP:20260423T222703
CREATED:20220725T235656Z
LAST-MODIFIED:20220725T235714Z
UID:46194-1659378600-1659384000@laguestlist.com
SUMMARY:APL x McLaren Hyspeed
DESCRIPTION:Invite Only – Adam and Ryan Goldston along with the McLaren Automotive team celebrate the unveiling of the HYSPEED™.
URL:https://laguestlist.com/event/apl-athletic-propulsion-labs-x-mclaren-hyspeed/
LOCATION:CA
CATEGORIES:Automobile,Sports
ATTACH;FMTTYPE=image/png:https://laguestlist.com/wp-content/uploads/2022/07/Screen-Shot-2022-07-25-at-4.53.49-PM.png
END:VEVENT
BEGIN:VEVENT
DTSTART;TZID=America/Los_Angeles:20220730T160000
DTEND;TZID=America/Los_Angeles:20220730T200000
DTSTAMP:20260423T222703
CREATED:20220718T224532Z
LAST-MODIFIED:20220719T181051Z
UID:46136-1659196800-1659211200@laguestlist.com
SUMMARY:adidas Skateboarding & FA Skate Jam
DESCRIPTION:Open – Fucking Awesome Hollywood Skate Jam Invitational\, hosted by adidas Skateboarding and Jason Dill’s Fucking Awesome (FA) on July 30. adidas global pro riders including Dennis Busenitz\, Silas Baxter-Neal\, Diego Najera\, Vitoria Mendonca\, Felipe Gustavo\, Sunny Suljic and will be battling for $15\,000 in cash prizes. Additionally\, adidas Skateboarding and Fucking Awesome are offering to bring a winner and their guest out to the event for free through the adidas CONFIRMED app giveaway. The winner will also earn a combined $1\,000 in adidas and FA store credit.
URL:https://laguestlist.com/event/adidas-skateboarding-fa-skate-jam/
LOCATION:CA
CATEGORIES:Sports
ATTACH;FMTTYPE=image/jpeg:https://laguestlist.com/wp-content/uploads/2022/07/adidas-Skateboarding-x-FA-Skate-Jam.jpg
END:VEVENT
BEGIN:VEVENT
DTSTART;TZID=America/Los_Angeles:20220730T110000
DTEND;TZID=America/Los_Angeles:20220730T130000
DTSTAMP:20260423T222703
CREATED:20220729T171155Z
LAST-MODIFIED:20220729T171155Z
UID:46265-1659178800-1659186000@laguestlist.com
SUMMARY:Oyster Restoration Hosted by Shiseido Blue Project
DESCRIPTION:Invite Only – Have you heard of the Olympia Oyster? It is one of the only native oyster species on the West Coast of the U.S & Canada whose population has seen a very significant decline and threat to their ecology. Shiseido Blue Project with Orange County Coastkeeper for the World Surf League is hosting an Oyster Restoration. The morning will be filled with volunteers helping create a new habitat for the Olympia Oyster and marine life by dropping hand-sewn bags made with coconut coir and Pacific Oyster shell onto the coast where the Olympia Oyster can settle and create a new home.
URL:https://laguestlist.com/event/oyster-restoration-hosted-by-shiseido-blue-project/
LOCATION:Huntington Beach
CATEGORIES:Charity
ATTACH;FMTTYPE=image/png:https://laguestlist.com/wp-content/uploads/2022/07/Screen-Shot-2022-07-29-at-10.09.20-AM.png
END:VEVENT
BEGIN:VEVENT
DTSTART;TZID=America/Los_Angeles:20220729T190000
DTEND;TZID=America/Los_Angeles:20220729T233000
DTSTAMP:20260423T222703
CREATED:20220727T002126Z
LAST-MODIFIED:20220727T002126Z
UID:46202-1659121200-1659137400@laguestlist.com
SUMMARY:Portrait of a Lady on Fire Screening
DESCRIPTION:Ticketed – Join WUTI for an evening in celebration of the enigmatic modern classic PORTRAIT OF A LADY ON FIRE (Céline Sciamma) whilst fighting for reproductive justice! 100% of the net proceeds from this screening will be donated to the National Network of Abortion Funds & Swing Left
URL:https://laguestlist.com/event/portrait-of-a-lady-on-fire-screening/
LOCATION:The West Hollywood EDITION\, 9040 Sunset Blvd\, West Hollywood\, CA\, 90069\, United States
CATEGORIES:Charity
ATTACH;FMTTYPE=image/jpeg:https://laguestlist.com/wp-content/uploads/2022/07/unnamed-2-1.jpg
END:VEVENT
BEGIN:VEVENT
DTSTART;TZID=America/Los_Angeles:20220729T140000
DTEND;TZID=America/Los_Angeles:20220731T230000
DTSTAMP:20260423T222703
CREATED:20220610T165804Z
LAST-MODIFIED:20220610T165804Z
UID:45996-1659103200-1659308400@laguestlist.com
SUMMARY:HARD Summer 2022
DESCRIPTION:Ticketed – HARD Summer will return again this year over the span of three days with performances by Porter Robinson\, Madeon\, Alison Wonderland\, Jai Wolf\, Megan Thee Stallion\, Three 6 Mafia\, Gunna and many more.
URL:https://laguestlist.com/event/hard-summer-2022/
LOCATION:NOS Events Center\, 689 S E St\, San Bernardino\, CA\, 92408\, United States
CATEGORIES:Concert
ATTACH;FMTTYPE=image/jpeg:https://laguestlist.com/wp-content/uploads/2022/06/2O7804dWwALm8gDLdXj05sQkVFrpcn4puwmFd9dt.jpg
END:VEVENT
BEGIN:VEVENT
DTSTART;TZID=America/Los_Angeles:20220728T183000
DTEND;TZID=America/Los_Angeles:20220728T210000
DTSTAMP:20260423T222703
CREATED:20220727T020014Z
LAST-MODIFIED:20220727T020014Z
UID:46230-1659033000-1659042000@laguestlist.com
SUMMARY:KCRW Summer Nights with Hana Vue
DESCRIPTION:RSVP – Summer concerts continue in the Hammer courtyard with L.A. bedroom-pop star Hana Vu. Come early and stay late for sets from KCRW DJs Dan Wilcox and Valida. Plus food trucks\, bars\, and extended gallery hours.
URL:https://laguestlist.com/event/kcrw-summer-nights-with-hana-vue/
LOCATION:Hammer Museum\, 10899 Wilshire Blvd\, Los Angeles\, CA\, 90024\, United States
CATEGORIES:Concert,Things to do
ATTACH;FMTTYPE=image/png:https://laguestlist.com/wp-content/uploads/2022/07/KCRW_1920X1080_HANA-VU_SummerNights.png
END:VEVENT
BEGIN:VEVENT
DTSTART;TZID=America/Los_Angeles:20220728T180000
DTEND;TZID=America/Los_Angeles:20220728T220000
DTSTAMP:20260423T222703
CREATED:20220727T003450Z
LAST-MODIFIED:20220727T003450Z
UID:46204-1659031200-1659045600@laguestlist.com
SUMMARY:'A Mile in These Shoes' (AMNTS) Launch Party
DESCRIPTION:Invite Only – AMNTS kick-off event will boast an exciting bevy of activations\, an art showcase\, merch\, speaking panel\, shoe cam (so wear your coolest kicks)\, and food trucks to support a 3-episode screening (10-15 mins each) introducing the new series. The launch party will conclude with a succinct fireside chat with AMNTS founder\, J. Mallory McCree\, Angela Lewis of FX Snowfall\, Nicco Annan of Starz hit show P-Valley\, and COMUNITYmade owners/TOMS co-founders\, Sean & Shannon Scott.
URL:https://laguestlist.com/event/a-mile-in-these-shoes-amnts-launch-party/
LOCATION:CA
CATEGORIES:Entertainment
ATTACH;FMTTYPE=image/png:https://laguestlist.com/wp-content/uploads/2022/07/Screen-Shot-2022-07-26-at-5.32.52-PM.png
END:VEVENT
BEGIN:VEVENT
DTSTART;TZID=America/Los_Angeles:20220728T180000
DTEND;TZID=America/Los_Angeles:20220728T210000
DTSTAMP:20260423T222703
CREATED:20220725T235248Z
LAST-MODIFIED:20220725T235248Z
UID:46192-1659031200-1659042000@laguestlist.com
SUMMARY:Louis Vuitton: 200 Trunks 200 Visionaries Exhibition
DESCRIPTION:Invite Only – Louis Vuitton Presents 200 Trunks 200 Visionaries Exhibition Opening Party at their Rodeo Drive Location.
URL:https://laguestlist.com/event/louis-vuitton-200-trunks-200-visionaries-exhibition/
LOCATION:CA
CATEGORIES:Fashion
ATTACH;FMTTYPE=image/png:https://laguestlist.com/wp-content/uploads/2022/07/Screen-Shot-2022-07-25-at-4.50.49-PM.png
END:VEVENT
BEGIN:VEVENT
DTSTART;TZID=America/Los_Angeles:20220727T203000
DTEND;TZID=America/Los_Angeles:20220728T010000
DTSTAMP:20260423T222703
CREATED:20220725T235019Z
LAST-MODIFIED:20220725T235019Z
UID:46190-1658953800-1658970000@laguestlist.com
SUMMARY:Versace Odissea Release
DESCRIPTION:Invite Only – Dazed Magazine celebrates thed release of the Versace Odissea Sneaker with special DJ Sets by Heron Preston\, Siobhan Bell\, and Bae Bae.
URL:https://laguestlist.com/event/versace-odissea-release/
LOCATION:CA
CATEGORIES:Event,Fashion,Magazine
ATTACH;FMTTYPE=image/png:https://laguestlist.com/wp-content/uploads/2022/07/Screen-Shot-2022-07-25-at-4.47.15-PM.png
END:VEVENT
BEGIN:VEVENT
DTSTART;TZID=America/Los_Angeles:20220727T180000
DTEND;TZID=America/Los_Angeles:20220727T220000
DTSTAMP:20260423T222703
CREATED:20220718T232703Z
LAST-MODIFIED:20220718T232703Z
UID:46149-1658944800-1658959200@laguestlist.com
SUMMARY:The James Beard Foundation’s Taste America
DESCRIPTION:Ticketed – Taste America\, presented by Capital One\, is a nationwide initiative to bring together chefs\, special guests\, and diners from across the country to celebrate the local independent restaurants at the heart of our communities. \nThe walk-around tasting at NeueHouse will be an exciting gathering of chefs from the Los Angeles culinary community and beyond. Food stations will be hosted by Chef Natalia Pereira of Woodspoon in Los Angeles\, Chef Shenarri Freeman of Cadence in New York City\, and many more. Each station’s offering will reflect the chef’s signature style and highlight the uniqueness of their restaurant and community. The tasting will also have beverage stations and other activations from our national and local sponsors.
URL:https://laguestlist.com/event/the-james-beard-foundations-taste-america/
LOCATION:Neuehouse\,  6121 Sunset Blvd\, Los Angeles\, CA\, 90028\, United States
CATEGORIES:Gastronomy
ATTACH;FMTTYPE=image/png:https://laguestlist.com/wp-content/uploads/2022/07/Screen-Shot-2022-07-18-at-4.24.34-PM.png
END:VEVENT
BEGIN:VEVENT
DTSTART;TZID=America/Los_Angeles:20220726T200000
DTEND;TZID=America/Los_Angeles:20220727T000000
DTSTAMP:20260423T222703
CREATED:20220727T001815Z
LAST-MODIFIED:20220727T001815Z
UID:46200-1658865600-1658880000@laguestlist.com
SUMMARY:PrettyLittleThing x Draya Launch
DESCRIPTION:Invite Only – PrettyLittleThing x Draya Launch Party with a Special Guest DJ.
URL:https://laguestlist.com/event/prettylittlething-x-draya-launch/
LOCATION:CA
ATTACH;FMTTYPE=image/png:https://laguestlist.com/wp-content/uploads/2022/07/Screen-Shot-2022-07-26-at-5.15.51-PM.png
END:VEVENT
BEGIN:VEVENT
DTSTART;TZID=America/Los_Angeles:20220723T220000
DTEND;TZID=America/Los_Angeles:20220724T020000
DTSTAMP:20260423T222703
CREATED:20220720T000157Z
LAST-MODIFIED:20220720T000157Z
UID:46162-1658613600-1658628000@laguestlist.com
SUMMARY:Bootsy Bellows 10 Year Anniversary w/ Lil Wayne
DESCRIPTION:Invite Only – This Friday & Saturday\, Bootsy Bellows is celebrating their 10 year anniversary with special performances by Rich The Kid and Lil Wayne.
URL:https://laguestlist.com/event/bootsy-bellows-10-year-anniversary-w-lil-wayne/
LOCATION:Bootsy Bellows\, 9229 Sunset Blvd\, West Hollywood\, CA\, 90069\, United States
CATEGORIES:Nightlife
ATTACH;FMTTYPE=image/png:https://laguestlist.com/wp-content/uploads/2022/07/Screen-Shot-2022-07-19-at-4.58.29-PM.png
END:VEVENT
BEGIN:VEVENT
DTSTART;TZID=America/Los_Angeles:20220723T210000
DTEND;TZID=America/Los_Angeles:20220724T010000
DTSTAMP:20260423T222703
CREATED:20220718T230439Z
LAST-MODIFIED:20220718T230439Z
UID:46142-1658610000-1658624400@laguestlist.com
SUMMARY:Entertainment Weekly Comic-Con Bash 2022
DESCRIPTION:Invite Only – Entertainment Weekly will host its annual Comic-Con bash at FLOAT at the Hard Rock Hotel in San Diego in celebration of Comic-Con 2022. The most anticipated party of Comic-Con\, Entertainment Weekly’s closing night bash returns this year with presenting sponsor Prime Video\, featuring THE LORD OF THE RINGS: THE RINGS OF POWER\, and tunes from DJ Michelle Pesce.
URL:https://laguestlist.com/event/entertainment-weekly-comic-con-bash-2022/
LOCATION:FLOAT at the Hard Rock Hotel\, 207 Fifth Avenue\, San Diego\, CA\, 92101
CATEGORIES:Entertainment
ATTACH;FMTTYPE=image/jpeg:https://laguestlist.com/wp-content/uploads/2022/07/entertainment-weekly.jpg
END:VEVENT
BEGIN:VEVENT
DTSTART;TZID=America/Los_Angeles:20220723T120000
DTEND;TZID=America/Los_Angeles:20220724T170000
DTSTAMP:20260423T222703
CREATED:20220718T231904Z
LAST-MODIFIED:20220718T231904Z
UID:46147-1658577600-1658682000@laguestlist.com
SUMMARY:Chamberlain Coffee x Swoon Pop-Up
DESCRIPTION:Ticketed – Attention Matcha\, lemonade\, and Emma Chamberlain lovers! On July 23rd and 24th\, Emma Chamberlain’s Gen Z coffee brand\, Chamberlain Coffee\, and beloved beverage brand Swoon will be joining forces to celebrate the launch of their recent collaboration\, Matcha Lemonade. This 2-day\, experiential event will take place at The Brig in Venice on both Saturday and Sunday from 12pm – 5pm ET. At the event\, guests will be able to enjoy a Matcha Lemonade bar\, photo moments\,  limited-edition Chamberlain Coffee x Swoon merch\, bracelet making\, mini manis\, games\, and much more. In order to attend\, guests must purchase their free tickets in advance\, which will be scanned upon entering the venue.
URL:https://laguestlist.com/event/chamberlain-coffee-x-swoon-pop-up/
LOCATION:The Brig\, 1515 Abbot Kinney Blvd\, Venice\, CA\, United States
ATTACH;FMTTYPE=image/jpeg:https://laguestlist.com/wp-content/uploads/2022/07/220208_Swoon_NewProducts-0428.jpg
END:VEVENT
BEGIN:VEVENT
DTSTART;TZID=America/Los_Angeles:20220722T130000
DTEND;TZID=America/Los_Angeles:20220723T190000
DTSTAMP:20260423T222703
CREATED:20220718T230812Z
LAST-MODIFIED:20220718T230812Z
UID:46144-1658494800-1658602800@laguestlist.com
SUMMARY:Magnum Ice Cream’s Indulgence Studio
DESCRIPTION:RSVP – Magnum ice cream\, the chocolatiers of ice cream\, collaborated with female-founded beauty brand\, Nails.INC to launch a new line of chocolate-scented nail polishes inspired by the new Magnum ice cream Duet Bars. Coming this July\, LA fans are invited to Magnum ice cream’s Indulgence Studio to create their own #MagnumMoments at Magnum ice cream pop-ups at the stylish\, award-winning Freehand Hotel in Los Angeles. Indulge with the Magnum ice cream edible spray paint bar\, champagne and ice cream sampling as well as enjoy free manicures with celebrity nail artist\, Mei Kawajiri-inspired designs & more!
URL:https://laguestlist.com/event/magnum-ice-creams-indulgence-studio/
LOCATION:Freehand Los Angeles\, 416 W 8th St.\, Los Angeles\, CA\, 90014\, United States
CATEGORIES:Beauty,Event
ATTACH;FMTTYPE=image/jpeg:https://laguestlist.com/wp-content/uploads/2022/07/unnamed-2.jpg
END:VEVENT
BEGIN:VEVENT
DTSTART;TZID=America/Los_Angeles:20220721T200000
DTEND;TZID=America/Los_Angeles:20220721T230000
DTSTAMP:20260423T222703
CREATED:20220718T225418Z
LAST-MODIFIED:20220718T225418Z
UID:46140-1658433600-1658444400@laguestlist.com
SUMMARY:Thundercat Performs at The Broad
DESCRIPTION:Ticketed – In celebration of Takashi Murakami: Stepping on the Tail of a Rainbow\, self-described Japanophile and two-time Grammy-winning musician Thundercat will play a live set exemplifying the unexpected and genre-defying nature he has become known for. Sharing the bill will be a performance by Ginger Root\, who combines influences of Japanese City Pop and the days of Stax and Philly Soul\, for a fresh take on the ever-evolving Bedroom Pop scene. The evening kicks off with Leimert Park DJ Linafornia\, who has been a mainstay of the local eclectic beat scene since 2016.
URL:https://laguestlist.com/event/thundercat-performs-at-the-broad/
LOCATION:Broad Museum\, 221 S. Grand Avenue\, Los Angeles\, CA\, 90012\, United States
CATEGORIES:Music
ATTACH;FMTTYPE=image/png:https://laguestlist.com/wp-content/uploads/2022/07/TBRO-0047_thundercat_ginger_event_page_hero_1500x1000_r1v1_ef.png
END:VEVENT
BEGIN:VEVENT
DTSTART;TZID=America/Los_Angeles:20220721T180000
DTEND;TZID=America/Los_Angeles:20220721T220000
DTSTAMP:20260423T222703
CREATED:20220720T182849Z
LAST-MODIFIED:20220720T182849Z
UID:46167-1658426400-1658440800@laguestlist.com
SUMMARY:Off The Menu Pop-Up Series: Avi Cue
DESCRIPTION:Ticketed – Pitmaster and chef Avi Yalin are back again with a one-night takeover at Sixty Beverly Hills. Known for his eclectic style of BBQ and his modern take on Middle Eastern cuisine\, Avi will be preparing his signature wagyu shawarma pitas. Available for dine-in at Sixty Beverly Hills Rooftop\, enjoy Avi’s cooking paired with a refreshing Knob Creek cocktail.
URL:https://laguestlist.com/event/off-the-menu-pop-up-series-avi-cue/
LOCATION:Sixty Beverly Hills\, 9360 Wilshire Blvd\, Beverly Hills\, CA\, 90212\, United States
CATEGORIES:Gastronomy
ATTACH;FMTTYPE=image/png:https://laguestlist.com/wp-content/uploads/2022/07/unnamed-1.png
END:VEVENT
BEGIN:VEVENT
DTSTART;TZID=America/Los_Angeles:20220721T110000
DTEND;TZID=America/Los_Angeles:20220724T210000
DTSTAMP:20260423T222703
CREATED:20220707T184235Z
LAST-MODIFIED:20220723T010546Z
UID:46105-1658401200-1658696400@laguestlist.com
SUMMARY:HermèsFit Los Angeles
DESCRIPTION:RSVP – Practice stretching with belts\, yoga with silk scarves\, and voguing with hats. HermèsFit arrives Hollywood Athletic Club.
URL:https://laguestlist.com/event/hermesfit-los-angeles/
LOCATION:Hollywood Athletic Club\, 6525 Sunset Blvd\, Los Angeles\, CA\, 90028\, United States
CATEGORIES:Fashion,Health
ATTACH;FMTTYPE=image/png:https://laguestlist.com/wp-content/uploads/2022/07/E1A75761-A620-4E81-9E16-CF4E4861B2D2.png
END:VEVENT
BEGIN:VEVENT
DTSTART;TZID=America/Los_Angeles:20220720T200000
DTEND;TZID=America/Los_Angeles:20220720T230000
DTSTAMP:20260423T222703
CREATED:20220718T225108Z
LAST-MODIFIED:20220718T225108Z
UID:46138-1658347200-1658358000@laguestlist.com
SUMMARY:2022 ESPYS Presented By Capital One
DESCRIPTION:Invite Only – 2022 ESPYS Presented By Capital One hosted by Stephen Curry with a performance from Country music star Mickey Guyton will be performing\, and backstage coverage from Travis Kelce providing backstage coverage.
URL:https://laguestlist.com/event/2022-espys-presented-by-capital-one/
LOCATION:Dolby Theatre\,  6801 Hollywood Blvd\, Hollywood\, CA\, 90028\, United States
CATEGORIES:Award Show,Sports
ATTACH;FMTTYPE=image/jpeg:https://laguestlist.com/wp-content/uploads/2022/07/Nu1X8sWJf0ihOjZ7.jpg
END:VEVENT
BEGIN:VEVENT
DTSTART;TZID=America/Los_Angeles:20220719T190000
DTEND;TZID=America/Los_Angeles:20220719T220000
DTSTAMP:20260423T222703
CREATED:20220714T210835Z
LAST-MODIFIED:20220714T210835Z
UID:46131-1658257200-1658268000@laguestlist.com
SUMMARY:Schwartz and Sandy's Grand Opening
DESCRIPTION:Invite Only – The Daily Mail will host the grand opening of Schwartz and Sandy’s with Tom Sandoval and Tom Schwartz.
URL:https://laguestlist.com/event/schwartz-and-sandys-grand-opening/
LOCATION:Schwartz and Sandy’s
CATEGORIES:Grand Opening
ATTACH;FMTTYPE=image/jpeg:https://laguestlist.com/wp-content/uploads/2022/07/43vxj69aa2c81.jpg
END:VEVENT
END:VCALENDAR