BEGIN:VCALENDAR
VERSION:2.0
PRODID:-//LA Guestlist - ECPv6.15.20//NONSGML v1.0//EN
CALSCALE:GREGORIAN
METHOD:PUBLISH
X-WR-CALNAME:LA Guestlist
X-ORIGINAL-URL:https://laguestlist.com
X-WR-CALDESC:Events for LA Guestlist
REFRESH-INTERVAL;VALUE=DURATION:PT1H
X-Robots-Tag:noindex
X-PUBLISHED-TTL:PT1H
BEGIN:VTIMEZONE
TZID:America/Los_Angeles
BEGIN:DAYLIGHT
TZOFFSETFROM:-0800
TZOFFSETTO:-0700
TZNAME:PDT
DTSTART:20140309T100000
END:DAYLIGHT
BEGIN:STANDARD
TZOFFSETFROM:-0700
TZOFFSETTO:-0800
TZNAME:PST
DTSTART:20141102T090000
END:STANDARD
BEGIN:DAYLIGHT
TZOFFSETFROM:-0800
TZOFFSETTO:-0700
TZNAME:PDT
DTSTART:20150308T100000
END:DAYLIGHT
BEGIN:STANDARD
TZOFFSETFROM:-0700
TZOFFSETTO:-0800
TZNAME:PST
DTSTART:20151101T090000
END:STANDARD
BEGIN:DAYLIGHT
TZOFFSETFROM:-0800
TZOFFSETTO:-0700
TZNAME:PDT
DTSTART:20160313T100000
END:DAYLIGHT
BEGIN:STANDARD
TZOFFSETFROM:-0700
TZOFFSETTO:-0800
TZNAME:PST
DTSTART:20161106T090000
END:STANDARD
END:VTIMEZONE
BEGIN:VEVENT
DTSTART;TZID=America/Los_Angeles:20150516T050000
DTEND;TZID=America/Los_Angeles:20150516T230000
DTSTAMP:20260419T070753
CREATED:20150430T231020Z
LAST-MODIFIED:20150430T231028Z
UID:3053-1431752400-1431817200@laguestlist.com
SUMMARY:The Humane Society of the United States 2015 Benefit Gala
DESCRIPTION:Ticketed – Be a force for change and join The Humane Society of the United States at the 2015 Los Angeles Benefit Gala on Saturday\, May 16\, in Beverly Hills\, California. The evening will benefit the lifesaving work of two key HSUS campaign priorities Companion Animals – Pets for Life and Farm Animal Protection. The HSUS’s Los Angeles Benefit Gala will celebrate some of our most impactful victories for animals.
URL:https://laguestlist.com/event/the-humane-society-of-the-united-states-2015-benefit-gala/
LOCATION:The Beverly Wilshire Hotel\, 9500 Wilshire Blvd.\, Beverly Hills\, CA\, 90212\, United States
CATEGORIES:Charity
ATTACH;FMTTYPE=image/jpeg:https://laguestlist.com/wp-content/uploads/2015/04/10363547_782095331846099_1895181478164601896_n.jpg
END:VEVENT
BEGIN:VEVENT
DTSTART;TZID=America/Los_Angeles:20150516T090000
DTEND;TZID=America/Los_Angeles:20150516T170000
DTSTAMP:20260419T070753
CREATED:20150512T180352Z
LAST-MODIFIED:20150512T180352Z
UID:3435-1431766800-1431795600@laguestlist.com
SUMMARY:Gilt City Warehouse Sale 2015
DESCRIPTION:Ticketed – Shop your favorite designers at up to 80 percent off retail\, sip cocktails and more during this legendary two-day shopping party held in partnership with Rett Syndrome Research Trust.
URL:https://laguestlist.com/event/gilt-city-warehouse-sale-2015/
LOCATION:Siren Studios\, 1050 N. Orange Drive\, Los Angeles\, CA\, 90038\, United States
CATEGORIES:Fashion
ATTACH;FMTTYPE=image/png:https://laguestlist.com/wp-content/uploads/2015/05/Screen-Shot-2015-05-12-at-10.57.59-AM.png
END:VEVENT
BEGIN:VEVENT
DTSTART;TZID=America/Los_Angeles:20150516T100000
DTEND;TZID=America/Los_Angeles:20150516T120000
DTSTAMP:20260419T070753
CREATED:20150512T191005Z
LAST-MODIFIED:20150512T191005Z
UID:3450-1431770400-1431777600@laguestlist.com
SUMMARY:Chalk it Up with LA Craft Collective
DESCRIPTION:Ticketed – Eventbrite LA and LA Craft Collective are teaming up for a day of fancy handwriting! You will create your own daily memo chalk board featuring a word for the year to keep your focus and drive. Erin Miller Williams will curate and teach an introduction to hand-lettering and typography!
URL:https://laguestlist.com/event/chalk-it-up-with-la-craft-collective/
LOCATION:Maker City LA\, 1933 S. Broadway\, 11th Floor \, Los Angeles\, CA\, 90007\, United States
CATEGORIES:Art
ATTACH;FMTTYPE=image/jpeg:https://laguestlist.com/wp-content/uploads/2015/05/mg0612.jpg
END:VEVENT
BEGIN:VEVENT
DTSTART;TZID=America/Los_Angeles:20150516T110000
DTEND;TZID=America/Los_Angeles:20150516T170000
DTSTAMP:20260419T070753
CREATED:20150516T181244Z
LAST-MODIFIED:20150516T204506Z
UID:3402-1431774000-1431795600@laguestlist.com
SUMMARY:Ovarian Cancer Research Fund’s Super Saturday LA hosted by Molly Sims & Rachel Zoe
DESCRIPTION:Ticketed – 	Rachel Zoe and Rodger Berman with Molly	Sims and Scott Stuber will return to host Ovarian Cancer Research Fund’s	2nd Annual Super Saturday LA. Super Saturday LA\, OCRF’s	fun-filled\, family-oriented fundraiser\, offers premier fashion	for women\, men	and kids plus beauty\, jewelry\, accessories and home items for up to half off the manufacturer’s suggested retail	price with net	proceeds supporting OCRF’s research grants. Dubbed “the	Rolls- Royce of garage sales\,” by the New York Times\, guests can shop luxury	brands	at deep	discounts for a	great cause. This year’s event will feature brands including Trina Turk\, Rachel Zoe\, DASH\, Alexis Bittar\, SoulCycle\, TOMS\, Kenneth	Cole\, and more.	Other products will include home goods\, men’s products\, children’s clothing and toys\, cutting-edge electronics and pet products.
URL:https://laguestlist.com/event/ovarian-cancer-research-funds-super-saturday-la-hosted-by-molly-sims-rachel-zoe/
LOCATION:The Barker Hangar\, 3021 Airport Ave\, Santa Monica\, CA\, 90405\, United States
CATEGORIES:Charity,Fashion
ATTACH;FMTTYPE=image/png:https://laguestlist.com/wp-content/uploads/2015/05/Screen-Shot-2015-05-11-at-11.41.59-AM.png
END:VEVENT
BEGIN:VEVENT
DTSTART;TZID=America/Los_Angeles:20150516T130000
DTEND;TZID=America/Los_Angeles:20150516T160000
DTSTAMP:20260419T070753
CREATED:20150512T205844Z
LAST-MODIFIED:20150512T205844Z
UID:3473-1431781200-1431792000@laguestlist.com
SUMMARY:Tour de Venice 2015
DESCRIPTION:Ticketed – Check out pop-ups from local boutiques\, artists\, entertainers and more from Abbot Kinney to Windward Ave. Beauty treatments from Harlot Salon\, food\, fun and more throughout Hotel Erwin from Venice Beach’s Finest!
URL:https://laguestlist.com/event/tour-de-venice-2015/
LOCATION:Hotel Erwin\, 1697 Pacific Ave\, Los Angeles\, CA\, 90291\, United States
CATEGORIES:Pop-Up Shop
ATTACH;FMTTYPE=image/jpeg:https://laguestlist.com/wp-content/uploads/2015/05/5x7venicecopy.jpg
END:VEVENT
BEGIN:VEVENT
DTSTART;TZID=America/Los_Angeles:20150516T130000
DTEND;TZID=America/Los_Angeles:20150516T200000
DTSTAMP:20260419T070753
CREATED:20150427T185108Z
LAST-MODIFIED:20150502T005104Z
UID:2885-1431781200-1431806400@laguestlist.com
SUMMARY:Wicked Paradise Day Party
DESCRIPTION:Ticketed – L’Affaire Musicale and Ouija Entertainment Present: Wicked Paradise Day Party with DJS: Durante\, Bolivard\, Funk LeBlanc\, Ghost Beach (DJ Set)\, THEM Jeans\, Ghosts of Venice\, Birdee\, Eli Glad.
URL:https://laguestlist.com/event/wicked-paradise-day-party/
LOCATION:The Standard\, Downtown LA\, 550 S. Flower St\, Los Angeles\, CA\, 90071\, United States
CATEGORIES:Fun in the Sun
ATTACH;FMTTYPE=image/jpeg:https://laguestlist.com/wp-content/uploads/2015/04/11138540_354555964734333_6071421219339595041_n.jpg
END:VEVENT
BEGIN:VEVENT
DTSTART;TZID=America/Los_Angeles:20150516T140000
DTEND;TZID=America/Los_Angeles:20150516T160000
DTSTAMP:20260419T070753
CREATED:20150512T192107Z
LAST-MODIFIED:20150512T192107Z
UID:3453-1431784800-1431792000@laguestlist.com
SUMMARY:Pickle Your Fancy with Chef Ernest Miller
DESCRIPTION:Ticketed – Of all the pickles\, the greatest is the traditionally fermented kosher dill. In this class you will learn not only how to make fermented kosher dill pickles (no vinegar)\, but its lore and uses as well. Participants will take home a quart jar of fermenting pickles.
URL:https://laguestlist.com/event/pickle-your-fancy-with-chef-ernest-miller/
LOCATION:Maker City LA\, 1933 S. Broadway\, 11th Floor \, Los Angeles\, CA\, 90007\, United States
CATEGORIES:Gastronomy
ATTACH;FMTTYPE=image/jpeg:https://laguestlist.com/wp-content/uploads/2015/05/images.jpg
END:VEVENT
BEGIN:VEVENT
DTSTART;TZID=America/Los_Angeles:20150516T160000
DTEND;TZID=America/Los_Angeles:20150516T190000
DTSTAMP:20260419T070753
CREATED:20150506T202932Z
LAST-MODIFIED:20150506T202932Z
UID:3251-1431792000-1431802800@laguestlist.com
SUMMARY:TRAVELER by TOMS Launch Party
DESCRIPTION:Ticketed – Celebrate the launch of TRAVELER by TOMS at their headquarters with tunes by Jason Bentley + tacos and beers.launch For tickets\, purchase a pair of TRAVELER by TOMS at American Rag Cie (Los Angeles) and receive two free launch party passes.
URL:https://laguestlist.com/event/traveler-by-toms-launch-party/
LOCATION:TOMS Headquarters\, 5404 Jandy Pl\, Los Angeles\, CA\, 90066\, United States
CATEGORIES:Fashion
ATTACH;FMTTYPE=image/jpeg:https://laguestlist.com/wp-content/uploads/2015/05/11154917_10152837035871762_5817751072356659487_o.jpg
END:VEVENT
BEGIN:VEVENT
DTSTART;TZID=America/Los_Angeles:20150516T183000
DTEND;TZID=America/Los_Angeles:20150516T220000
DTSTAMP:20260419T070753
CREATED:20150513T161233Z
LAST-MODIFIED:20150513T163034Z
UID:3528-1431801000-1431813600@laguestlist.com
SUMMARY:"Pitch Perfect" Outdoor Screening
DESCRIPTION:Ticketed – In honor of the release of Pitch Perfect 2\, Syd Kronenthal Park will hold a special screening of the movie with music and delicious food.
URL:https://laguestlist.com/event/pitch-perfect-outdoor-screening/
LOCATION:Syd Kronenthal Park\, 3459 McManus Ave\, Culver City\, CA\, 90232\, United States
CATEGORIES:Movies
ATTACH;FMTTYPE=image/png:https://laguestlist.com/wp-content/uploads/2015/05/SFC-cover-photo-pitch-perfect.png
END:VEVENT
BEGIN:VEVENT
DTSTART;TZID=America/Los_Angeles:20150516T190000
DTEND;TZID=America/Los_Angeles:20150516T190000
DTSTAMP:20260419T070753
CREATED:20150512T214716Z
LAST-MODIFIED:20150512T214739Z
UID:3493-1431802800-1431802800@laguestlist.com
SUMMARY:Powerhouse 2015 w/ Kanye West
DESCRIPTION:Ticketed – Powerhouse is returning to Honda Center on Saturday\, May 16 and is set to feature the Platinum superstars and acclaimed breaking talent that have made it summer’s can’t miss hip-hop show\, including performances by Kanye West\, Ludacris\, Kid Ink\, B.o.B\, Tech N9ne\, Ty Dolla $ign\, G-Eazy\, Tinashe\, Logic\, Nipsey Hussle and Casey Veggies. The Powerhouse festival area will also feature live performances from new\, emerging artists located in the venue parking lot. Plus\, fans will want to be on the lookout for surprise special guests and much more!
URL:https://laguestlist.com/event/powerhouse-2015-w-kanye-west/
LOCATION:Honda Center\, 2695 E. Katella\, Anaheim\, CA\, 92806\, United States
CATEGORIES:Concert
ATTACH;FMTTYPE=image/jpeg:https://laguestlist.com/wp-content/uploads/2015/05/powerhouse-2015-lineup.jpg
END:VEVENT
BEGIN:VEVENT
DTSTART;TZID=America/Los_Angeles:20150516T190000
DTEND;TZID=America/Los_Angeles:20150516T220000
DTSTAMP:20260419T070753
CREATED:20150430T012029Z
LAST-MODIFIED:20150430T012029Z
UID:3000-1431802800-1431813600@laguestlist.com
SUMMARY:Book Release of 'What Else Is in the Teaches of Peaches'
DESCRIPTION:Open – Join us for the World Premiere of ‘What Else Is in the Teaches of Peaches’\, an outrageous and provocative photograph book of cult music hero Peaches. This volume presents a mesmerizing collection of Holger Talinski’s evocative and sometimes erotic photos of transgressive musical icon Peaches\, on and off stage\, with accompanying text by Peaches\, Michael Stipe (R.E.M.)\, Yoko Ono\, and the actress Ellen Page\, best known for her lead role in the film Juno. Both Peaches and Holger Talinski will be present.
URL:https://laguestlist.com/event/book-release-of-what-else-is-in-the-teaches-of-peaches/
LOCATION:La Luz De Jesus Gallery\, 4633 Hollywood Blvd.\, Los Angeles\, CA\, 90027\, United States
CATEGORIES:Art,Entertainment
ATTACH;FMTTYPE=image/jpeg:https://laguestlist.com/wp-content/uploads/2015/04/unnamed21.jpg
END:VEVENT
BEGIN:VEVENT
DTSTART;TZID=America/Los_Angeles:20150516T190000
DTEND;TZID=America/Los_Angeles:20150516T220000
DTSTAMP:20260419T070753
CREATED:20150512T020314Z
LAST-MODIFIED:20150522T211738Z
UID:3421-1431802800-1431813600@laguestlist.com
SUMMARY:Emerging.Alchemy Opening Reception by Mikael B & Thomas Fryd
DESCRIPTION:Open – Join Project Gallery for the Opening Reception of Emerging.Alchemy by Mikael B & Thomas Fryd.
URL:https://laguestlist.com/event/emerging-alchemy-opening-reception-by-mikael-b-thomas-fryd/
LOCATION:Project Gallery\, 1625 17th St. Suite 2A\, Santa Monica\, CA\, 90404\, United States
CATEGORIES:Art
ATTACH;FMTTYPE=image/png:https://laguestlist.com/wp-content/uploads/2015/05/emerging-alchemy-ig-2.png
END:VEVENT
BEGIN:VEVENT
DTSTART;TZID=America/Los_Angeles:20150516T190000
DTEND;TZID=America/Los_Angeles:20150516T220000
DTSTAMP:20260419T070753
CREATED:20150515T233434Z
LAST-MODIFIED:20150515T233434Z
UID:3595-1431802800-1431813600@laguestlist.com
SUMMARY:Wild Style 2 Year Celebration
DESCRIPTION:RSVP – Wild Style is celebrating their two year anniversary with good tunes from acts such as Mike G from Odd Future and some hennessy.
URL:https://laguestlist.com/event/wild-style-2-year-celebration/
LOCATION:WildStyle Clothing Los Angeles\, 7703 Melrose Ave\, Los Angeles\, CA\, 90046\, United States
CATEGORIES:Fashion
ATTACH;FMTTYPE=image/png:https://laguestlist.com/wp-content/uploads/2015/05/Screen-Shot-2015-05-15-at-4.27.22-PM.png
END:VEVENT
BEGIN:VEVENT
DTSTART;TZID=America/Los_Angeles:20150516T200000
DTEND;TZID=America/Los_Angeles:20150516T200000
DTSTAMP:20260419T070753
CREATED:20150512T012900Z
LAST-MODIFIED:20150513T161910Z
UID:3415-1431806400-1431806400@laguestlist.com
SUMMARY:The Well Presents James Fauntleroy @ Hotel Figueroa
DESCRIPTION:RSVP – This Saturday\, The Well presents a night with James Fauntleroy and his band 1500 or Nothin’. This visual and auditory poolside experience will feature vocals by James\, along with very special guest performances.
URL:https://laguestlist.com/event/the-well-presents-james-fauntleroy-hotel-figueroa/
LOCATION:The Figueroa Hotel\, 939 South Figueroa Street #930\, Los Angeles\, CA\, 90015\, United States
CATEGORIES:Concert,Music
ATTACH;FMTTYPE=image/jpeg:https://laguestlist.com/wp-content/uploads/2015/05/unnamed-16.jpg
END:VEVENT
BEGIN:VEVENT
DTSTART;TZID=America/Los_Angeles:20150516T200000
DTEND;TZID=America/Los_Angeles:20150516T230000
DTSTAMP:20260419T070753
CREATED:20150513T162845Z
LAST-MODIFIED:20150513T162845Z
UID:3533-1431806400-1431817200@laguestlist.com
SUMMARY:LAOKI - Steve Aoki Free Show
DESCRIPTION:Sold Out – Steve Aoki and Mayor Eric Garcetti are hosting “LAoki\,” a free concert to be held in downtown L.A. on Saturday\, May 16 in honor of Steve Aoki’s “Neon Furture II”.   To attend the show\, concertgoers will be required to sign up for more information on The Mayor’s Volunteer Corps. The event will take place on Broadway between 4th and 6th Streets in an area that’s been greatly revitalized over the last decade.
URL:https://laguestlist.com/event/laoki-steve-aoki-free-show/
LOCATION:CA
CATEGORIES:Concert
ATTACH;FMTTYPE=image/png:https://laguestlist.com/wp-content/uploads/2015/05/Screen-Shot-2015-05-13-at-9.23.44-AM.png
END:VEVENT
BEGIN:VEVENT
DTSTART;TZID=America/Los_Angeles:20150516T203000
DTEND;TZID=America/Los_Angeles:20150516T220000
DTSTAMP:20260419T070753
CREATED:20150324T193938Z
LAST-MODIFIED:20150502T005234Z
UID:2007-1431808200-1431813600@laguestlist.com
SUMMARY:Cinespia Presents "Mulholland Drive" at Hollywood Forever
DESCRIPTION:Ticketed –  Cinespia is back at Hollywood Forever for its outdoor movie screening. This time\, they have picked old time classic Mulholland Drive.
URL:https://laguestlist.com/event/cinespia-presents-mulholland-drive-at-hollywood-forever/
LOCATION:Hollywood Forever Cemetery\, 6000 Santa Monica Blvd\, Los Angeles\, CA\, 90038\, United States
CATEGORIES:Movies
ATTACH;FMTTYPE=image/png:https://laguestlist.com/wp-content/uploads/2015/03/Screen-Shot-2015-03-24-at-12.36.03-PM.png
END:VEVENT
BEGIN:VEVENT
DTSTART;TZID=America/Los_Angeles:20150516T210000
DTEND;TZID=America/Los_Angeles:20150516T210000
DTSTAMP:20260419T070753
CREATED:20150409T020418Z
LAST-MODIFIED:20150430T004607Z
UID:2483-1431810000-1431810000@laguestlist.com
SUMMARY:Body High Presents: Begging Please Los Angeles Album Release Party
DESCRIPTION:RSVP – Samo Sound Boy Album release party with Jim-E Stack\, D33J\, and Karman will all be DJ for a night of fun with Body High.
URL:https://laguestlist.com/event/body-high-presents-begging-please-los-angeles-album-release-party/
LOCATION:N/A\, CA\, United States
CATEGORIES:Music,Nightlife
ATTACH;FMTTYPE=image/jpeg:https://laguestlist.com/wp-content/uploads/2015/04/unnamed-12.jpg
END:VEVENT
BEGIN:VEVENT
DTSTART;TZID=America/Los_Angeles:20150517T080000
DTEND;TZID=America/Los_Angeles:20150517T170000
DTSTAMP:20260419T070753
CREATED:20150511T171750Z
LAST-MODIFIED:20150511T171750Z
UID:3356-1431849600-1431882000@laguestlist.com
SUMMARY:Venice Family Art Walk & Auctions
DESCRIPTION:Open – Hosted at Google Los Angeles\, Venice Family Clinic’s Art Walk & Auctions is free and open to the public and showcases a gallery-quality contemporary silent art auction. Don’t miss the\naccompanying artist studio tours\, artisan shops\, family activities\, entertainment\, music\, food and more at the most anticipated art event of the year! List of Artists HERE\nSunday\, May 17\, 2015\n12 p.m.-4 p.m.: Artist Studio Tours / Exhibits\n12 p.m.-6 p.m.: Silent Art Auction / Community Celebration
URL:https://laguestlist.com/event/venice-family-art-walk-auctions/
LOCATION:Google Los Angeles\, 340 Main St\, Venice\, CA\, 90291\, United States
CATEGORIES:Charity
ATTACH;FMTTYPE=image/jpeg:https://laguestlist.com/wp-content/uploads/2015/05/unnamed-34.jpg
END:VEVENT
BEGIN:VEVENT
DTSTART;TZID=America/Los_Angeles:20150517T110000
DTEND;TZID=America/Los_Angeles:20150517T130000
DTSTAMP:20260419T070753
CREATED:20150512T200701Z
LAST-MODIFIED:20150512T200701Z
UID:3458-1431860400-1431867600@laguestlist.com
SUMMARY:Eventbrite LA X Bang Bang Brunch
DESCRIPTION:Ticketed – Bang Bang is a unique luxury pop-up restaurant concept. Created and organized by Chef Becky Reams. As a pop-up-restaurant\, it is never in the same place\, but instead is hosted in unique locations all over Los Angeles. One of the most dynamic and integral components of the process is working with creative businesses and discovering their unique spaces. Anywhere from a retail shop\, to a garden sanctuary\, to an artist studio or coffee shop. The hosting space is paramount to the Bang Bang experience\, and one of the most exciting aspects of the partnership.
URL:https://laguestlist.com/event/eventbrite-la-x-bang-bang-brunch/
LOCATION:Fundamental LA\, 1303 Westwood Blvd\, Los Angeles\, CA\, 90024\, United States
CATEGORIES:Gastronomy,Pop-Up Shop
ATTACH;FMTTYPE=image/jpeg:https://laguestlist.com/wp-content/uploads/2015/05/masterbangbanglogo-1.jpg
END:VEVENT
BEGIN:VEVENT
DTSTART;TZID=America/Los_Angeles:20150517T110000
DTEND;TZID=America/Los_Angeles:20150517T160000
DTSTAMP:20260419T070753
CREATED:20150513T163737Z
LAST-MODIFIED:20150513T163916Z
UID:3537-1431860400-1431878400@laguestlist.com
SUMMARY:Brunch @ Hyde on Sunset
DESCRIPTION:Reservations – Enjoy Sunday Brunch overlooking the Sunset Strip at Hyde Sunset Kitchen + Cocktails. Resident Chef Chris Crary has curated a seasonal southern California menu unlike any in LA.
URL:https://laguestlist.com/event/brunch-hyde-on-sunset/
LOCATION:Hyde\, 8117 Sunset Boulevard\, Los Angeles\, CA\, 90046\, United States
CATEGORIES:Gastronomy
ATTACH;FMTTYPE=image/jpeg:https://laguestlist.com/wp-content/uploads/2015/05/101B45EB-D1AF-A2D6-C4D777F4E91AFCBF.jpg
END:VEVENT
BEGIN:VEVENT
DTSTART;TZID=America/Los_Angeles:20150517T140000
DTEND;TZID=America/Los_Angeles:20150517T160000
DTSTAMP:20260419T070753
CREATED:20150515T211417Z
LAST-MODIFIED:20150515T211417Z
UID:3564-1431871200-1431878400@laguestlist.com
SUMMARY:Incubus Meet & Greet @ Samsung Studio LA
DESCRIPTION:Open – Incubus will be hosting an exclusive album singing for their latest release “Trust Fall” at the Samsung Studio LA this Sunday\, May 17th from 2-4pm. The band will also be doing a special meet and greet / photo opp with select fans in attendance. Come by to join the action.
URL:https://laguestlist.com/event/incubus-meet-greet-samsung-studio-la/
LOCATION:Samsung Studio LA\, 157 S Fairfax Ave\, Los Angeles\, CA\, 90036\, United States
CATEGORIES:Concert
ATTACH;FMTTYPE=image/png:https://laguestlist.com/wp-content/uploads/2015/05/unnamed3.png
END:VEVENT
BEGIN:VEVENT
DTSTART;TZID=America/Los_Angeles:20150517T140000
DTEND;TZID=America/Los_Angeles:20150517T220000
DTSTAMP:20260419T070753
CREATED:20150505T234604Z
LAST-MODIFIED:20150505T234604Z
UID:3229-1431871200-1431900000@laguestlist.com
SUMMARY:The Do-Over: Decade In The Making
DESCRIPTION:RSVP – The Do-Over\, adidas Originals and Serato are very excited to announce the kickoff of our tenth anniversary season. What started as an excuse for a backyard boogie\, bbq & booze affair in May 2005\, The Do-Over has made it an entire decade in our hometown of Los Angeles.
URL:https://laguestlist.com/event/the-do-over-decade-in-the-making/
LOCATION:Lure Nightclub\, 1439 Ivar Ave\, Los Angeles\, CA\, 90028\, United States
CATEGORIES:Music,Things to do
ATTACH;FMTTYPE=image/png:https://laguestlist.com/wp-content/uploads/2015/05/unnamed1.png
END:VEVENT
BEGIN:VEVENT
DTSTART;TZID=America/Los_Angeles:20150517T150000
DTEND;TZID=America/Los_Angeles:20150517T203000
DTSTAMP:20260419T070753
CREATED:20150513T010748Z
LAST-MODIFIED:20150513T010748Z
UID:3516-1431874800-1431894600@laguestlist.com
SUMMARY:Malibu Wines Landscape Photography Work + Special Drone Demo
DESCRIPTION:Ticketed – Spend an unforgettable afternoon in the beautiful hills of Malibu on Saddlerock Ranch\, a private vineyard estate where you will photograph large exotic animals\, gorgeous landscapes and ancient petroglyphs.\nDuring this course\, instructor will lead students through a safari style photo adventure with exotic animals where you can expect to see American buffalo\, Scottish Highlanders\, camels\, zebras\, llamas\, sheep and a giraffe. If you prefer landscapes\, the ranch and vineyard offers sweeping views of surrounding valleys\, 60\,000 grape vines and craggy hillsides.\nSony instructors will be in attendance for the entire workshop. All camera users are welcome and Sony is bringing along camera bodies and lenses for everyone to try out.\nAfter spending some time with the animals and shooting landscapes\, the group will enjoy a meal together out on the vineyard.\nThe class will come to a close with a wine tasting and sunset photoshoot at Chateau Le Dome. The Chateau is an octagonal stone house with amazing views of the valley and saddleback mountain for sunset landscape photo ops.
URL:https://laguestlist.com/event/malibu-wines-landscape-photography-work-special-drone-demo/
LOCATION:Malibu Family Wines\, 32111 Mulholland Hwy\, Malibu\, CA\, 90265\, United States
CATEGORIES:Photography
ATTACH;FMTTYPE=image/png:https://laguestlist.com/wp-content/uploads/2015/05/Screen-Shot-2015-05-12-at-5.57.23-PM.png
END:VEVENT
BEGIN:VEVENT
DTSTART;TZID=America/Los_Angeles:20150517T170000
DTEND;TZID=America/Los_Angeles:20150517T170000
DTSTAMP:20260419T070753
CREATED:20150513T164748Z
LAST-MODIFIED:20150513T165400Z
UID:3540-1431882000-1431882000@laguestlist.com
SUMMARY:XIV Sessions:  XIV Yacht Club Grand Opening
DESCRIPTION:Ticketed – If you want to dance your Sunday off in champagne showers\, XIV Sessions is the right place for you.
URL:https://laguestlist.com/event/xiv-sessions-xiv-yacht-club-grand-opening/
LOCATION:XIV at The Colony\, 1743 N Cahuenga Blvd\, Los Angeles\, CA\, 90028\, United States
CATEGORIES:Nightlife
ATTACH;FMTTYPE=image/jpeg:https://laguestlist.com/wp-content/uploads/2015/05/47B1D290-A6D5-43CD-0CB1A1C1A89DEC67.jpeg
END:VEVENT
BEGIN:VEVENT
DTSTART;TZID=America/Los_Angeles:20150517T180000
DTEND;TZID=America/Los_Angeles:20150517T220000
DTSTAMP:20260419T070753
CREATED:20150427T180118Z
LAST-MODIFIED:20150517T194131Z
UID:2878-1431885600-1431900000@laguestlist.com
SUMMARY:Mad Men Series Finale @ The Ace Hotel
DESCRIPTION:Ticketed – AMC and Film Independent are presenting a live read led by Jason Reitman of the first season’s final episode of Mad Men at The Theatre at Ace Hotel Downtown Los Angeles on May 17\, followed by a special screening of the show’s series finale. Director Matthew Weiner and cast members will be on hand for this very special send off\, too.
URL:https://laguestlist.com/event/mad-men-series-finale-the-ace-hotel/
LOCATION:Ace Hotel DTLA\, 921 S. Broadway\, Los Angeles\, CA\, 90015\, United States
CATEGORIES:Entertainment
ATTACH;FMTTYPE=image/jpeg:https://laguestlist.com/wp-content/uploads/2015/04/d0f3f4b06a7087554d7d5716659941e5.jpg
END:VEVENT
BEGIN:VEVENT
DTSTART;TZID=America/Los_Angeles:20150518T080000
DTEND;TZID=America/Los_Angeles:20150518T170000
DTSTAMP:20260419T070753
CREATED:20150430T014020Z
LAST-MODIFIED:20150430T014020Z
UID:3004-1431936000-1431968400@laguestlist.com
SUMMARY:Ninth Annual Jim Mora Celebrity Golf Classic
DESCRIPTION:Sold Out – The Ninth Annual Jim Mora Celebrity Golf Classic will hit the links Monday\, May 18th\, 2015 at the Riviera Country Club in Pacific Palisades for the third consecutive year.  The sold out tournament boasts local and national sponsors as well as a sports and entertainment studded list of celebrities.
URL:https://laguestlist.com/event/ninth-annual-jim-mora-celebrity-golf-classic/
LOCATION:The Riviera Country Club\, 1250 Capri Dr\, Pacific Palisades\, CA\, 90272\, United States
CATEGORIES:Charity,Sports
ATTACH;FMTTYPE=image/jpeg:https://laguestlist.com/wp-content/uploads/2015/04/SavetheDate_ShortSoldOut.jpg
END:VEVENT
BEGIN:VEVENT
DTSTART;TZID=America/Los_Angeles:20150518T180000
DTEND;TZID=America/Los_Angeles:20150518T220000
DTSTAMP:20260419T070753
CREATED:20150515T225536Z
LAST-MODIFIED:20150515T225557Z
UID:3587-1431972000-1431986400@laguestlist.com
SUMMARY:Speed Outdoor Screening @ The Alcove
DESCRIPTION:Open – Join the Alcove for their Dinner and a Movie this Monday with the Screening of Speed. They will be screening 5 selected films on the third Monday of the month\, starting in May and going through September. This is a ticket/reservation free event\, but it is first come/first sat (with your whole party) to see the films on our 17ft screen\, in our garden patio. There will be special dinner & cocktail lists for everyone attending\, and the show will commence at 8 p.m. (doors open at 6 p.m.)
URL:https://laguestlist.com/event/speed-outdoor-screening-the-alcove/
LOCATION:The Alcove\, 1929 Hillhurst Ave\, Los Angeles\, CA\, 90027\, United States
CATEGORIES:Movie
ATTACH;FMTTYPE=image/jpeg:https://laguestlist.com/wp-content/uploads/2015/05/unnamed12.jpg
END:VEVENT
BEGIN:VEVENT
DTSTART;TZID=America/Los_Angeles:20150518T183000
DTEND;TZID=America/Los_Angeles:20150518T203000
DTSTAMP:20260419T070753
CREATED:20150512T201014Z
LAST-MODIFIED:20150512T201014Z
UID:3461-1431973800-1431981000@laguestlist.com
SUMMARY:Community Yoga at Maker City LA with Namaste Chalet
DESCRIPTION:Donation – Take a load off and get down on your *mat to some groovy tunes and a body-lovin’ flow. All levels welcomed! We will begin with meditation\, and breath work\, followed by Vinyasa flow lead by Brooke Burgstahler from Namaste Chalet.
URL:https://laguestlist.com/event/community-yoga-at-maker-city-la-with-namaste-chalet/
LOCATION:Maker City LA\, 1933 S. Broadway\, 11th Floor \, Los Angeles\, CA\, 90007\, United States
CATEGORIES:Sports
ATTACH;FMTTYPE=image/jpeg:https://laguestlist.com/wp-content/uploads/2015/05/pilatesyogagirl243.jpg
END:VEVENT
BEGIN:VEVENT
DTSTART;TZID=America/Los_Angeles:20150518T193000
DTEND;TZID=America/Los_Angeles:20150518T230000
DTSTAMP:20260419T070753
CREATED:20150219T194631Z
LAST-MODIFIED:20150518T193209Z
UID:1086-1431977400-1431990000@laguestlist.com
SUMMARY:Lana Del Rey "Endless Summer Tour" at The Hollywood Bowl
DESCRIPTION:Ticketed – You can catch Lana Del Rey’s Endless Summer Tour at The Hollywood Bowl (photo via). The venue and the act are a match made in heaven.
URL:https://laguestlist.com/event/lana-del-rey-endless-summer-tour-hollywood-bowl/
LOCATION:The Hollywood Bowl\, 2301 Highland Ave \, Los Angeles\, CA\, 90068\, United States
CATEGORIES:Music
ATTACH;FMTTYPE=image/jpeg:https://laguestlist.com/wp-content/uploads/2015/02/url2.jpg
END:VEVENT
BEGIN:VEVENT
DTSTART;TZID=America/Los_Angeles:20150518T200000
DTEND;TZID=America/Los_Angeles:20150518T230000
DTSTAMP:20260419T070753
CREATED:20150402T012059Z
LAST-MODIFIED:20150402T012059Z
UID:2304-1431979200-1431990000@laguestlist.com
SUMMARY:Jessie J @ Club Nokia
DESCRIPTION:Ticketed – Jessie J will take the stage at Club Nokia.
URL:https://laguestlist.com/event/jessie-j-club-nokia/
LOCATION:Club Nokia\, 800 W Olympic Blvd\, Los Angeles\, CA\, 90015\, United States
CATEGORIES:Concert
ATTACH;FMTTYPE=image/jpeg:https://laguestlist.com/wp-content/uploads/2015/04/new-press-shot-may-2012.jpg
END:VEVENT
END:VCALENDAR