BEGIN:VCALENDAR
VERSION:2.0
PRODID:-//LA Guestlist - ECPv6.15.20//NONSGML v1.0//EN
CALSCALE:GREGORIAN
METHOD:PUBLISH
X-WR-CALNAME:LA Guestlist
X-ORIGINAL-URL:https://laguestlist.com
X-WR-CALDESC:Events for LA Guestlist
REFRESH-INTERVAL;VALUE=DURATION:PT1H
X-Robots-Tag:noindex
X-PUBLISHED-TTL:PT1H
BEGIN:VTIMEZONE
TZID:America/Los_Angeles
BEGIN:DAYLIGHT
TZOFFSETFROM:-0800
TZOFFSETTO:-0700
TZNAME:PDT
DTSTART:20210314T100000
END:DAYLIGHT
BEGIN:STANDARD
TZOFFSETFROM:-0700
TZOFFSETTO:-0800
TZNAME:PST
DTSTART:20211107T090000
END:STANDARD
BEGIN:DAYLIGHT
TZOFFSETFROM:-0800
TZOFFSETTO:-0700
TZNAME:PDT
DTSTART:20220313T100000
END:DAYLIGHT
BEGIN:STANDARD
TZOFFSETFROM:-0700
TZOFFSETTO:-0800
TZNAME:PST
DTSTART:20221106T090000
END:STANDARD
BEGIN:DAYLIGHT
TZOFFSETFROM:-0800
TZOFFSETTO:-0700
TZNAME:PDT
DTSTART:20230312T100000
END:DAYLIGHT
BEGIN:STANDARD
TZOFFSETFROM:-0700
TZOFFSETTO:-0800
TZNAME:PST
DTSTART:20231105T090000
END:STANDARD
END:VTIMEZONE
BEGIN:VEVENT
DTSTART;TZID=America/Los_Angeles:20220512T180000
DTEND;TZID=America/Los_Angeles:20220512T230000
DTSTAMP:20260422T233434
CREATED:20220506T164733Z
LAST-MODIFIED:20220506T164733Z
UID:45839-1652378400-1652396400@laguestlist.com
SUMMARY:Jeremy Fall's Probably Nothing Launch Party
DESCRIPTION:Invite Only – To celebrate the launch of Probably Nothing and the drop of its first NFT collection\, prolific entrepreneur and food icon\, Jeremy Fall\, will be taking over the legendary Canter’s Deli and Kibitz Room on Fairfax Avenue DJ’ed by Twin Shadow.
URL:https://laguestlist.com/event/jeremy-falls-probably-nothing-launch-party/
LOCATION:Canter’s Deli\, 419 North Fairfax Avenue\, Los Angeles\, 90036\, United States
CATEGORIES:Metaverse
ATTACH;FMTTYPE=image/png:https://laguestlist.com/wp-content/uploads/2022/05/Screen-Shot-2022-05-06-at-9.46.11-AM.png
END:VEVENT
BEGIN:VEVENT
DTSTART;TZID=America/Los_Angeles:20220512T190000
DTEND;TZID=America/Los_Angeles:20220512T220000
DTSTAMP:20260422T233434
CREATED:20220506T221930Z
LAST-MODIFIED:20220506T221930Z
UID:45842-1652382000-1652392800@laguestlist.com
SUMMARY:Flaunt & Onitsuka Tiger: Spring Fling
DESCRIPTION:Invite Only – Flaunt Magazine & Onitsuka Tiger Present Spring Fling Hosted by Nico Hiraga with DJ Sets by PLÄYGIRL\, Drew Byrd\, and special guests with cocktails and horse d’oeuvres.
URL:https://laguestlist.com/event/flaunt-onitsuka-tiger-spring-fling/
LOCATION:CA
CATEGORIES:Magazine
ATTACH;FMTTYPE=image/png:https://laguestlist.com/wp-content/uploads/2022/05/Screen-Shot-2022-05-06-at-3.16.49-PM.png
END:VEVENT
BEGIN:VEVENT
DTSTART;TZID=America/Los_Angeles:20220514T160000
DTEND;TZID=America/Los_Angeles:20220514T210000
DTSTAMP:20260422T233434
CREATED:20220512T161416Z
LAST-MODIFIED:20220512T161416Z
UID:45847-1652544000-1652562000@laguestlist.com
SUMMARY:JuneShine Diplo Flavor Permanent Vacation Launch Party
DESCRIPTION:RSVP – Official Launch Party of JuneShine newest flavor Diplo’s Permanent Vacation in Hermosa Beach.
URL:https://laguestlist.com/event/juneshine-diplo-flavor-permanent-vacation-launch-party/
LOCATION:Baja Sharkeez\, 52 Pier Avenue\, Hermosa Beach\, 90254\, United States
CATEGORIES:Launch Party
ATTACH;FMTTYPE=image/png:https://laguestlist.com/wp-content/uploads/2022/05/Screen-Shot-2022-05-12-at-9.06.25-AM.png
END:VEVENT
BEGIN:VEVENT
DTSTART;TZID=America/Los_Angeles:20220519T190000
DTEND;TZID=America/Los_Angeles:20220519T210000
DTSTAMP:20260422T233434
CREATED:20220519T012958Z
LAST-MODIFIED:20220519T012958Z
UID:45859-1652986800-1652994000@laguestlist.com
SUMMARY:Mattel x Fred Segal Launch
DESCRIPTION:Invite Only – Mattel Creations and Fred Segal invite you to celebrate the launch of their first shared retail experience with special guests: Aleali May\, Kristopher Kites\, and Blue The Great.
URL:https://laguestlist.com/event/mattel-x-fred-segal-launch/
LOCATION:CA
CATEGORIES:Fashion
ATTACH;FMTTYPE=image/png:https://laguestlist.com/wp-content/uploads/2022/05/Screen-Shot-2022-05-18-at-6.26.17-PM-1.png
END:VEVENT
BEGIN:VEVENT
DTSTART;TZID=America/Los_Angeles:20220519T190000
DTEND;TZID=America/Los_Angeles:20220519T220000
DTSTAMP:20260422T233434
CREATED:20220412T162045Z
LAST-MODIFIED:20220412T162045Z
UID:45695-1652986800-1652997600@laguestlist.com
SUMMARY:Kim Jones Presents Dior 2023 Men's Collection
DESCRIPTION:Invite Only – Kim Jones will present Dior 2023 Men’s Collection right here in Los Angeles.
URL:https://laguestlist.com/event/kim-jones-presents-dior-2023-mens-collection/
LOCATION:Los Angeles
CATEGORIES:Fashion
ATTACH;FMTTYPE=image/png:https://laguestlist.com/wp-content/uploads/2022/04/images.png
END:VEVENT
BEGIN:VEVENT
DTSTART;TZID=America/Los_Angeles:20220519T193000
DTEND;TZID=America/Los_Angeles:20220519T210000
DTSTAMP:20260422T233434
CREATED:20220519T013737Z
LAST-MODIFIED:20220519T013737Z
UID:45864-1652988600-1652994000@laguestlist.com
SUMMARY:Un-Private Collection Conversation with Takashi Murakami
DESCRIPTION:Ticketed – In advance of the opening of the special exhibition Takashi Murakami: Stepping on the Tail of a Rainbow\, The Broad presents an Un-Private Collection conversation between the iconic visual artist Takashi Murakami and the co-founder of RTFKT Studios Benoit Pagotto\, moderated by The Broad’s Curator and Publications Manager Ed Schad. \nMurakami’s paintings featured in the exhibition welcome Buddhist Arhats and Daoist Immortals to ward off and move through disaster. The artist has embarked on the same path in his exploration of the burgeoning metaverse through the creation of avatars that seek to heal and offer a path toward enlightenment. Murakami’s avatars\, arhats\, and Immortals\, all arrived in the artist’s work in times of trouble\, and all are intermediaries between worlds—in the arhats’ case\, one of spirit; in the avatars’ case\, one of digital existence.
URL:https://laguestlist.com/event/un-private-collection-conversation-with-takashi-murakami/
LOCATION:Broad Museum\, 221 S. Grand Avenue\, Los Angeles\, CA\, 90012\, United States
CATEGORIES:Art
ATTACH;FMTTYPE=image/png:https://laguestlist.com/wp-content/uploads/2022/05/Screen-Shot-2022-05-18-at-6.34.56-PM.png
END:VEVENT
BEGIN:VEVENT
DTSTART;TZID=America/Los_Angeles:20220519T210000
DTEND;TZID=America/Los_Angeles:20220520T000000
DTSTAMP:20260422T233434
CREATED:20220519T014010Z
LAST-MODIFIED:20220519T014010Z
UID:45866-1652994000-1653004800@laguestlist.com
SUMMARY:Levis Celebrate 501 Day
DESCRIPTION:Invite Only – Levis Celebrate 501 Day\, the number that changed it all\, with a special performance by Lil Dicky.
URL:https://laguestlist.com/event/levis-celebrate-501-day/
LOCATION:CA
CATEGORIES:Event,Fashion
ATTACH;FMTTYPE=image/png:https://laguestlist.com/wp-content/uploads/2022/05/Screen-Shot-2022-05-18-at-6.38.16-PM.png
END:VEVENT
BEGIN:VEVENT
DTSTART;TZID=America/Los_Angeles:20220521T130000
DTEND;TZID=America/Los_Angeles:20220522T200000
DTSTAMP:20260422T233434
CREATED:20220315T144938Z
LAST-MODIFIED:20220315T144938Z
UID:45391-1653138000-1653249600@laguestlist.com
SUMMARY:Infatuation Presents EEEEEATSCON 2022
DESCRIPTION:Ticketed – EEEEEATSCON brings together an all-star ensemble like no one else. You’ll find the best restaurants in LA\, exciting out-of-towners\, exclusive dishes and collabs\, celebrity panelists\, and performances–all in one airplane hangar for one weekend\, May 21st and 22nd. The Chase Sapphire pre-sale starts next week\, on March 21st.
URL:https://laguestlist.com/event/infatuation-presents-eeeeeatscon-2022/
LOCATION:The Barker Hangar\, 3021 Airport Ave\, Santa Monica\, CA\, 90405\, United States
CATEGORIES:Gastronomy
ATTACH;FMTTYPE=image/png:https://laguestlist.com/wp-content/uploads/2022/03/Screen-Shot-2022-03-15-at-7.46.04-AM.png
END:VEVENT
BEGIN:VEVENT
DTSTART;TZID=America/Los_Angeles:20220521T190000
DTEND;TZID=America/Los_Angeles:20220521T210000
DTSTAMP:20260422T233434
CREATED:20220519T015037Z
LAST-MODIFIED:20220519T140313Z
UID:45868-1653159600-1653166800@laguestlist.com
SUMMARY:David Black Presents Candy Mountain
DESCRIPTION:Open – David Black who has shot musical artists such as Daft Punk\, Kendrick Lamar\, Cat Power\, The Yeah Yeah Yeahs\, and many others. David recently released a photography book collection titled Candy Mountain which is part of a trilogy of books based around the brilliance and the grit of Los Angeles.
URL:https://laguestlist.com/event/david-black-presents-candy-mountain/
LOCATION:One Trick Pony Gallery\, 1051 Fairfax Ave\, Los Angeles\, Los Angeles\, 90019\, United States
CATEGORIES:Photography
ATTACH;FMTTYPE=image/jpeg:https://laguestlist.com/wp-content/uploads/2022/05/unnamed-1.jpg
END:VEVENT
BEGIN:VEVENT
DTSTART;TZID=America/Los_Angeles:20220526T220000
DTEND;TZID=America/Los_Angeles:20220527T020000
DTSTAMP:20260422T233434
CREATED:20220519T013432Z
LAST-MODIFIED:20220519T013432Z
UID:45862-1653602400-1653616800@laguestlist.com
SUMMARY:Winston House Presents Diplo's Permanent Vacation
DESCRIPTION:RSVP – JuneShine Thursday’s presents Diplo’s Permanent Vacation Launch Party
URL:https://laguestlist.com/event/winston-house-presents-diplos-permanent-vacation/
LOCATION:Winston House\, 23 Windward Ave\, Venice\, CA\, 90291\, United States
CATEGORIES:Launch Party
ATTACH;FMTTYPE=image/jpeg:https://laguestlist.com/wp-content/uploads/2022/05/https___cdn.evbuc_.com_images_285780269_483795155917_1_original.jpg
END:VEVENT
BEGIN:VEVENT
DTSTART;TZID=America/Los_Angeles:20220602T170000
DTEND;TZID=America/Los_Angeles:20220602T230000
DTSTAMP:20260422T233434
CREATED:20220602T000853Z
LAST-MODIFIED:20220602T000853Z
UID:45886-1654189200-1654210800@laguestlist.com
SUMMARY:The Bungalow Night Market w/ Mayer Hawthorne
DESCRIPTION:Open – The Bungalow Santa Monica’s Night Market presented by KCRW returns this summer to The Fairmont Miramar Hotel with an exciting new lineup of food vendors\, beverage\, and brand activations\, family-friendly activities\, live DJ performances\, and celebrity guest bartenders. Free and open to the public for guests (and pets) of all ages\, the Bungalow’s Night Market kicks off Thursday\, June 2\, and will run every Thursday from 5 pm to 11 pm through September 1. Night Market kicks off with an opening night DJ set by Grammy-nominated artist and multi-instrumentalist Mayer Hawthorne and brand activations from Kendall Jenner’s 818 Tequila\, complete with a cabana and games.
URL:https://laguestlist.com/event/the-bungalow-night-market-w-mayer-hawthorne/
LOCATION:The Bungalow\, 101 Wilshire Blvd\, Santa Monica\, CA\, 90401\, United States
CATEGORIES:Fun in the Sun
ATTACH;FMTTYPE=image/jpeg:https://laguestlist.com/wp-content/uploads/2022/06/NightMarket-MayerHawthorne-09.jpg
END:VEVENT
BEGIN:VEVENT
DTSTART;TZID=America/Los_Angeles:20220603T160000
DTEND;TZID=America/Los_Angeles:20220605T230000
DTSTAMP:20260422T233434
CREATED:20220401T041114Z
LAST-MODIFIED:20220401T041114Z
UID:45569-1654272000-1654470000@laguestlist.com
SUMMARY:Weho Pride: OUTLOUD Raising Voices' Music Festival
DESCRIPTION:Ticketed – OUTLOUD: Raising Voices returns to kick off the inaugural WEHO Pride celebration with an incredible three-day music festival with an all-star lineup featuring Marina\, Lil’ Kim\, Years & Years\, Jessie J and more. taking place Friday\, June 3 through Sunday\, June 5 in West Hollywood Park\, West Hollywood\, CA. Now in its third year\, the award-winning concert series\, produced by JJLA\, features LGBTQ+ music artists\, launching the 2022 Pride season.
URL:https://laguestlist.com/event/weho-pride-outloud-raising-voices-music-festival/
LOCATION:West Hollywood Park\, 647 N San Vicente Blvd\, West Hollywood\, CA\, 90069\, United States
CATEGORIES:Concert,Event
ATTACH;FMTTYPE=image/png:https://laguestlist.com/wp-content/uploads/2022/03/Screen-Shot-2022-03-31-at-9.05.08-PM.png
END:VEVENT
BEGIN:VEVENT
DTSTART;TZID=America/Los_Angeles:20220603T200000
DTEND;TZID=America/Los_Angeles:20220603T230000
DTSTAMP:20260422T233434
CREATED:20220522T233948Z
LAST-MODIFIED:20220522T233948Z
UID:45876-1654286400-1654297200@laguestlist.com
SUMMARY:Hollywood Bowl Opening Night with Gwen Stefani
DESCRIPTION:Ticketed – It’s a celebration of the Hollywood Bowl’s first 100 years\, featuring a sensational lineup of musicians paying tribute to LA’s summer home for music. Gustavo and the Los Angeles Philharmonic join up with the incomparable Gwen Stefani. Both as a solo artist and as frontwoman of No Doubt\, Stefani is a Southern California icon\, a three-time Grammy winner whose massive songs—including “Don’t Speak\,” “Hollaback Girl\,” “Used to Love You\,” and so many more—have made her beloved the world over.
URL:https://laguestlist.com/event/hollywood-bowl-opening-night-with-gwen-stefani/
LOCATION:The Hollywood Bowl\, 2301 Highland Ave \, Los Angeles\, CA\, 90068\, United States
CATEGORIES:Concert
ATTACH;FMTTYPE=image/jpeg:https://laguestlist.com/wp-content/uploads/2022/05/HB100-OpeningNightImage.jpg
END:VEVENT
BEGIN:VEVENT
DTSTART;TZID=America/Los_Angeles:20220607T180000
DTEND;TZID=America/Los_Angeles:20220607T200000
DTSTAMP:20260422T233434
CREATED:20220602T215057Z
LAST-MODIFIED:20220602T215057Z
UID:45896-1654624800-1654632000@laguestlist.com
SUMMARY:doors. Fourth Pop-up “Metaverse\, Schmetaverse”
DESCRIPTION:Invite Only –  doors.\, the innovative emerging fashion\, art\, and beauty online and experiential brick-and-mortar retail platform\, is bringing its New York based pop-up “Metaverse\, Schmetaverse” to Los Angeles\, CA from May 28th to June 26th. The brand new to LA pop-up shop will showcase over 50 independent fashion designers and cult niche brands from 20+ countries and 10 beauty brands selected by Beautyque NYC\, the doors. beauty partner and the first 3D multi-brand retail virtual storefront in the beauty industry. A highly curated selection of fashion collections includes Paris-based Y/ Project\, Seoul-established elevated street-wear brand Juun J\, New York Fashion Week favorites Private Policy and Ph5\, as well as LA-based fashion talents like Emily Westenberger and Maison Audmi.
URL:https://laguestlist.com/event/doors-fourth-pop-up-metaverse-schmetaverse/
LOCATION:CA
CATEGORIES:Metaverse
ATTACH;FMTTYPE=image/png:https://laguestlist.com/wp-content/uploads/2022/06/Screen-Shot-2022-06-02-at-2.47.19-PM.png
END:VEVENT
BEGIN:VEVENT
DTSTART;TZID=America/Los_Angeles:20220608T170000
DTEND;TZID=America/Los_Angeles:20220608T200000
DTSTAMP:20260422T233434
CREATED:20220602T001757Z
LAST-MODIFIED:20220602T001757Z
UID:45888-1654707600-1654718400@laguestlist.com
SUMMARY:The Virtue Project: How Celebrities Are Driving Impact Through Social Entrepreneurship
DESCRIPTION:RSVP – Focusing on how celebrities are driving impact through social entrepreneurship\, panelists lined up include actor Ashley Greene and her Hummingway cofounder Olivia Khoury and Lacy Lew Nguyen Wright\, executive director of Lena Waithe’s Hillman Grad Foundation. The group will be moderated by expert strategist Rodney Franks\, founder of rdf Consulting. Guests must RSVP at info@thevirtueproject.co to have their attendance confirmed\, subject to availability.
URL:https://laguestlist.com/event/the-virtue-project-how-celebrities-are-driving-impact-through-social-entrepreneurship/
LOCATION:The West Hollywood EDITION\, 9040 Sunset Blvd\, West Hollywood\, CA\, 90069\, United States
CATEGORIES:Networking
ATTACH;FMTTYPE=image/png:https://laguestlist.com/wp-content/uploads/2022/06/Screen-Shot-2022-06-01-at-5.12.15-PM.png
END:VEVENT
BEGIN:VEVENT
DTSTART;TZID=America/Los_Angeles:20220608T200000
DTEND;TZID=America/Los_Angeles:20220609T000000
DTSTAMP:20260422T233434
CREATED:20220606T203952Z
LAST-MODIFIED:20220606T203952Z
UID:45907-1654718400-1654732800@laguestlist.com
SUMMARY:The Pier House Grand Re-Opening Party
DESCRIPTION:Invite Only – The Pier House in Venice will re-open its doors with a special re-opening party at their revamped location with new menu items\, cocktails\, and elevated beachside ambiance.
URL:https://laguestlist.com/event/the-pier-house-grand-re-opening-party/
LOCATION:The Pier House\, 7 Washington Blvd\, Venice\, CA\, 90291\, United States
CATEGORIES:Grand Opening
ATTACH;FMTTYPE=image/png:https://laguestlist.com/wp-content/uploads/2022/06/Screen-Shot-2022-06-06-at-1.37.05-PM.png
END:VEVENT
BEGIN:VEVENT
DTSTART;TZID=America/Los_Angeles:20220609T183000
DTEND;TZID=America/Los_Angeles:20220609T213000
DTSTAMP:20260422T233434
CREATED:20220607T004339Z
LAST-MODIFIED:20220607T004339Z
UID:45920-1654799400-1654810200@laguestlist.com
SUMMARY:Natrol Launch of Sleep+ Capsules
DESCRIPTION:Invite Only – Natrol\, the leading manufacturer of vitamins\, minerals\, and supplements\, helping people reach their fullest potential of beauty\, sleep\, mood and brain health will celebrate the launch of their new Sleep+ Capsules with a dreamy night out in Venice\, CA.
URL:https://laguestlist.com/event/natrol-launch-of-sleep-capsules/
LOCATION:CA
CATEGORIES:Health
ATTACH;FMTTYPE=image/png:https://laguestlist.com/wp-content/uploads/2022/06/Screen-Shot-2022-06-06-at-5.41.46-PM.png
END:VEVENT
BEGIN:VEVENT
DTSTART;TZID=America/Los_Angeles:20220609T203000
DTEND;TZID=America/Los_Angeles:20220609T223000
DTSTAMP:20260422T233434
CREATED:20220608T164940Z
LAST-MODIFIED:20220608T164940Z
UID:45946-1654806600-1654813800@laguestlist.com
SUMMARY:ELLE Women In Music 2022
DESCRIPTION:Invite Only – ELLE Magazine partners with Dolce & Gabbana to host the annual event celebrating the special issue honoring Doja Cat.
URL:https://laguestlist.com/event/elle-women-in-music-2022/
LOCATION:CA
CATEGORIES:Magazine,Music
ATTACH;FMTTYPE=image/jpeg:https://laguestlist.com/wp-content/uploads/2022/06/Doja-Cat-ELLE-Magazine-June-July-2022-Women-in-Music-Issue-Tom-Lorenzo-Site-TLO-1.jpg
END:VEVENT
BEGIN:VEVENT
DTSTART;TZID=America/Los_Angeles:20220609T210000
DTEND;TZID=America/Los_Angeles:20220610T000000
DTSTAMP:20260422T233434
CREATED:20220610T011954Z
LAST-MODIFIED:20220610T011954Z
UID:45985-1654808400-1654819200@laguestlist.com
SUMMARY:Catch Steak LA Grand Opening
DESCRIPTION:Invite Only – Catch Steak LA Grand Opening with a very special surprise performance.
URL:https://laguestlist.com/event/catch-steak-la-grand-opening/
LOCATION:CA
ATTACH;FMTTYPE=image/jpeg:https://laguestlist.com/wp-content/uploads/2022/06/JobFairFlyerEnglish-md.jpg
END:VEVENT
BEGIN:VEVENT
DTSTART;TZID=America/Los_Angeles:20220610T180000
DTEND;TZID=America/Los_Angeles:20220610T210000
DTSTAMP:20260422T233434
CREATED:20220601T235628Z
LAST-MODIFIED:20220601T235628Z
UID:45884-1654884000-1654894800@laguestlist.com
SUMMARY:Staple Day Friends & Family Night
DESCRIPTION:Invite Only –  Guests will join the Staple Day Friends & Family Night for cocktails and food to celebrate quadruple threat Jeff Staple and the 25th anniversary of his pioneering streetwear brand Staple with NTWRK.
URL:https://laguestlist.com/event/staple-day-friends-family-night/
LOCATION:CA
CATEGORIES:Fashion
ATTACH;FMTTYPE=image/png:https://laguestlist.com/wp-content/uploads/2022/06/Screen-Shot-2022-06-01-at-4.53.22-PM.png
END:VEVENT
BEGIN:VEVENT
DTSTART;TZID=America/Los_Angeles:20220610T190000
DTEND;TZID=America/Los_Angeles:20220610T210000
DTSTAMP:20260422T233434
CREATED:20220609T203405Z
LAST-MODIFIED:20220609T203405Z
UID:45980-1654887600-1654894800@laguestlist.com
SUMMARY:Launch of adidas x Gucci
DESCRIPTION:Invite Only – The private celebration of the launch of adidas x Gucci with tunes by DJ Mazurabte.
URL:https://laguestlist.com/event/launch-of-adidas-x-gucci/
LOCATION:CA
CATEGORIES:Fashion
ATTACH;FMTTYPE=image/png:https://laguestlist.com/wp-content/uploads/2022/06/Screen-Shot-2022-06-09-at-1.31.40-PM.png
END:VEVENT
BEGIN:VEVENT
DTSTART;TZID=America/Los_Angeles:20220611T120000
DTEND;TZID=America/Los_Angeles:20220611T180000
DTSTAMP:20260422T233434
CREATED:20220607T164138Z
LAST-MODIFIED:20220607T164138Z
UID:45924-1654948800-1654970400@laguestlist.com
SUMMARY:Dermalogica and Sephora Exfoliation Event
DESCRIPTION:RSVP – Join Dermalogica at The Grove Statue Location or inside Sephora\, where they will be hosting an exclusive event to launch our latest innovation\, Daily Milkfoliant with a very special guest. She is an OG beauty YouTuber and professional make-up artist with over 3 million subscribers. Whether you are experienced or a first-time exfoliator\, our professional skin experts will be on hand to offer advice\, bust exfoliation myths and share pro tips on how to achieve beautiful\, glowing skin through daily exfoliation.
URL:https://laguestlist.com/event/dermalogica-and-sephora-exfoliation-event/
LOCATION:The Grove\, 189 The Grove Drive\, Los Angeles\, Los Angeles\, CA\, 90036\, United States
CATEGORIES:Beauty
ATTACH;FMTTYPE=image/png:https://laguestlist.com/wp-content/uploads/2022/06/Screen-Shot-2022-06-07-at-9.40.51-AM.png
END:VEVENT
BEGIN:VEVENT
DTSTART;TZID=America/Los_Angeles:20220611T130000
DTEND;TZID=America/Los_Angeles:20220611T230000
DTSTAMP:20260422T233434
CREATED:20220610T010922Z
LAST-MODIFIED:20220610T010922Z
UID:45982-1654952400-1654988400@laguestlist.com
SUMMARY:LA Pride In The Park
DESCRIPTION:Ticketed – LA Pride in the Park is LA Pride’s in-person\, festival-style event with a full afternoon and evening of activities\, music\, vendors and exhibitors booths with Christina Aguilera and Anitta as headliners.
URL:https://laguestlist.com/event/la-pride-in-the-park/
LOCATION:LA State Historic Park\, 1245 N Spring St\, Los Angeles\, CA\, 90012\, United States
CATEGORIES:Concert
ATTACH;FMTTYPE=image/png:https://laguestlist.com/wp-content/uploads/2022/06/Screen-Shot-2022-06-09-at-6.05.48-PM-1.png
END:VEVENT
BEGIN:VEVENT
DTSTART;TZID=America/Los_Angeles:20220611T180000
DTEND;TZID=America/Los_Angeles:20220611T210000
DTSTAMP:20260422T233434
CREATED:20220519T020928Z
LAST-MODIFIED:20220519T020928Z
UID:45870-1654970400-1654981200@laguestlist.com
SUMMARY:GO Campaign’s Vintage Hollywood with Joel McHale
DESCRIPTION:Ticketed – GO Campaign’s Vintage Hollywood benefit event on June 11\, hosted by Joel McHale. GO Campaign\, a nonprofit that raises awareness and funds to help vulnerable children around the world will receive 100% of the net proceeds from the event. \nThe event will showcase an exclusive group of wineries and feature food from some of the area’s top restaurants and will include a uniquely curated silent auction. Participating restaurants include JAR\, Ayara Thai Cuisine\, GoGo’s Tacos\, Seaside on the Pier\, Wabi on Rose\, Wood & Vine\, Sugar Palm Ocean Avenue at the Viceroy Hotel and The Beverly Hilton’s Executive Pastry Chef Thomas Henzi.
URL:https://laguestlist.com/event/go-campaigns-vintage-hollywood-with-joel-mchale/
LOCATION:The Park Santa Monica\, 500 Broadway\, Santa Monica\, 90401\, United States
CATEGORIES:Charity
ATTACH;FMTTYPE=image/png:https://laguestlist.com/wp-content/uploads/2022/05/Screen-Shot-2022-05-18-at-7.00.24-PM.png
END:VEVENT
BEGIN:VEVENT
DTSTART;TZID=America/Los_Angeles:20220611T200000
DTEND;TZID=America/Los_Angeles:20220611T230000
DTSTAMP:20260422T233434
CREATED:20220607T173211Z
LAST-MODIFIED:20220607T173211Z
UID:45932-1654977600-1654988400@laguestlist.com
SUMMARY:Yellowjackets Season 1 Emmy FYC Event
DESCRIPTION:RSVP Lottery – Showtime invites Television Academy Active members and a guest to the Yellowjackets Season 1 Emmy FYC Event with cast\, showrunners\, producers and crafts team at Hollywood Forever Cemetery.
URL:https://laguestlist.com/event/yellowjackets-season-1-emmy-fyc-event/
LOCATION:Hollywood Forever Cemetery\, 6000 Santa Monica Blvd\, Los Angeles\, CA\, 90038\, United States
CATEGORIES:Entertainment
ATTACH;FMTTYPE=image/png:https://laguestlist.com/wp-content/uploads/2022/06/yellowjackets400.png
END:VEVENT
BEGIN:VEVENT
DTSTART;TZID=America/Los_Angeles:20220611T210000
DTEND;TZID=America/Los_Angeles:20220612T010000
DTSTAMP:20260422T233434
CREATED:20220610T012544Z
LAST-MODIFIED:20220610T012544Z
UID:45987-1654981200-1654995600@laguestlist.com
SUMMARY:The Aster House Of Love Celebration
DESCRIPTION:Invite Only – The Aster House Of Love Celebration for Pride Weekend with Felix Da Housecat and friends.
URL:https://laguestlist.com/event/the-aster-house-of-love-celebration/
LOCATION:The Aster\, 1717 Vine Street\, Hollywood\, CA\, 90028\, United States
CATEGORIES:Pride
ATTACH;FMTTYPE=image/png:https://laguestlist.com/wp-content/uploads/2022/06/Screen-Shot-2022-06-09-at-6.24.58-PM.png
END:VEVENT
BEGIN:VEVENT
DTSTART;TZID=America/Los_Angeles:20220611T220000
DTEND;TZID=America/Los_Angeles:20220612T020000
DTSTAMP:20260422T233434
CREATED:20220610T040634Z
LAST-MODIFIED:20220610T040634Z
UID:45990-1654984800-1654999200@laguestlist.com
SUMMARY:Soho Warehouse: Christina Aguilera & Paris Hilton’s Pride Party
DESCRIPTION:Invite Only – Soho Warehouse will host the official LA Pride afterparty sponsored by Bacardí at Soho Warehouse.
URL:https://laguestlist.com/event/soho-warehouse-christina-aguilera-paris-hiltons-pride-party/
LOCATION:Soho Warehouse\, 1000 S Santa Fe Ave\, Los Angeles\, CA\, United States
CATEGORIES:Pride
ATTACH;FMTTYPE=image/png:https://laguestlist.com/wp-content/uploads/2022/06/ovgHpR3YOJ.png
END:VEVENT
BEGIN:VEVENT
DTSTART;TZID=America/Los_Angeles:20220612T100000
DTEND;TZID=America/Los_Angeles:20220612T160000
DTSTAMP:20260422T233434
CREATED:20220608T165436Z
LAST-MODIFIED:20220608T165436Z
UID:45948-1655028000-1655049600@laguestlist.com
SUMMARY:Real Food From The Ground Up Tour
DESCRIPTION:Open – Real Food From The Ground Up s taking it a step further by hosting an exclusive Snack Lovers Summer Series\, stopping at select cities along the way this summer\, with the first stop in Los Angeles. At the event\, attendees can connect with each other over their love for plants\, upping their snack game with plant-based snacks and refreshments\, snapping photos with scenic backdrops\, and experiencing their first-ever plant-based DJ set. Real Food From The Ground Up has asked DJ Shai to curate unique songs from nature using a breakthrough technology called PlantWave\, which connects electrodes to plant leaves and detects slight electrical variations and then translates them into music.
URL:https://laguestlist.com/event/real-food-from-the-ground-up-tour/
LOCATION:Dock Street\, 767 S. Alameda St.\, Los Angeles\, CA\, 90021\, United States
CATEGORIES:Fun in the Sun
ATTACH;FMTTYPE=image/png:https://laguestlist.com/wp-content/uploads/2022/06/Screen-Shot-2022-06-08-at-9.51.13-AM.png
END:VEVENT
BEGIN:VEVENT
DTSTART;TZID=America/Los_Angeles:20220615T193000
DTEND;TZID=America/Los_Angeles:20220615T220000
DTSTAMP:20260422T233434
CREATED:20220615T035159Z
LAST-MODIFIED:20220615T035159Z
UID:46045-1655321400-1655330400@laguestlist.com
SUMMARY:Food & Beverage Launch Issue
DESCRIPTION:Invite Only – Lance Bass celebrates his cover on the June 2022 issue of Food & Beverage Magazine with drinks\, food and immaculate vibes all night.
URL:https://laguestlist.com/event/food-beverage-launch-issue/
LOCATION:CA
CATEGORIES:Magazine
ATTACH;FMTTYPE=image/png:https://laguestlist.com/wp-content/uploads/2022/06/Screen-Shot-2022-06-14-at-8.49.50-PM.png
END:VEVENT
BEGIN:VEVENT
DTSTART;TZID=America/Los_Angeles:20220616T170000
DTEND;TZID=America/Los_Angeles:20220616T230000
DTSTAMP:20260422T233434
CREATED:20220607T171253Z
LAST-MODIFIED:20220607T171253Z
UID:45928-1655398800-1655420400@laguestlist.com
SUMMARY:The Bungalow Night Market with Dos Hombres Mezcal
DESCRIPTION:Open – Breaking Bad star Aaron Paul celebrity bartends and presents his award-winning Dos Hombres Mezcal\, co-founded with co-star Bryan Cranston at The Bungalow Santa Monica’s Night Market presented by KCRW.
URL:https://laguestlist.com/event/the-bungalow-night-market-with-dos-hombres-mezcal/
LOCATION:The Bungalow\, 101 Wilshire Blvd\, Santa Monica\, CA\, 90401\, United States
CATEGORIES:Things to do
ATTACH;FMTTYPE=image/jpeg:https://laguestlist.com/wp-content/uploads/2022/06/Night-Market-Generic-POST-1_png.jpg
END:VEVENT
END:VCALENDAR