BEGIN:VCALENDAR
VERSION:2.0
PRODID:-//LA Guestlist - ECPv6.15.20//NONSGML v1.0//EN
CALSCALE:GREGORIAN
METHOD:PUBLISH
X-ORIGINAL-URL:https://laguestlist.com
X-WR-CALDESC:Events for LA Guestlist
REFRESH-INTERVAL;VALUE=DURATION:PT1H
X-Robots-Tag:noindex
X-PUBLISHED-TTL:PT1H
BEGIN:VTIMEZONE
TZID:America/Los_Angeles
BEGIN:DAYLIGHT
TZOFFSETFROM:-0800
TZOFFSETTO:-0700
TZNAME:PDT
DTSTART:20230312T100000
END:DAYLIGHT
BEGIN:STANDARD
TZOFFSETFROM:-0700
TZOFFSETTO:-0800
TZNAME:PST
DTSTART:20231105T090000
END:STANDARD
BEGIN:DAYLIGHT
TZOFFSETFROM:-0800
TZOFFSETTO:-0700
TZNAME:PDT
DTSTART:20240310T100000
END:DAYLIGHT
BEGIN:STANDARD
TZOFFSETFROM:-0700
TZOFFSETTO:-0800
TZNAME:PST
DTSTART:20241103T090000
END:STANDARD
BEGIN:DAYLIGHT
TZOFFSETFROM:-0800
TZOFFSETTO:-0700
TZNAME:PDT
DTSTART:20250309T100000
END:DAYLIGHT
BEGIN:STANDARD
TZOFFSETFROM:-0700
TZOFFSETTO:-0800
TZNAME:PST
DTSTART:20251102T090000
END:STANDARD
END:VTIMEZONE
BEGIN:VEVENT
DTSTART;TZID=America/Los_Angeles:20240223T190000
DTEND;TZID=America/Los_Angeles:20240223T230000
DTSTAMP:20260421T200933
CREATED:20240220T032344Z
LAST-MODIFIED:20240220T032344Z
UID:50025-1708714800-1708729200@laguestlist.com
SUMMARY:JuneShine Desert Cooler Launch
DESCRIPTION:RSVP – Ride into the sunset with Desert Cooler\, the ridiculously delicious\, signature flavor by JuneShine ambassador and country music artist\, Mark Wystrach.
URL:https://laguestlist.com/event/juneshine-desert-cooler-launch/
LOCATION:Desert 5 Spot\, 6516 Selma Ave\, Los Angeles\, CA\, 900028\, United States
CATEGORIES:Things to do
ATTACH;FMTTYPE=image/png:https://laguestlist.com/wp-content/uploads/2024/02/desert.png
END:VEVENT
BEGIN:VEVENT
DTSTART;TZID=America/Los_Angeles:20240224T100000
DTEND;TZID=America/Los_Angeles:20240225T200000
DTSTAMP:20260421T200933
CREATED:20240216T233349Z
LAST-MODIFIED:20240216T233349Z
UID:50001-1708768800-1708891200@laguestlist.com
SUMMARY:BÉIS Wash
DESCRIPTION:Open – Join your favorite travel and lifestyle brand at the BÉIS Wash! Enjoy the childhood nostalgia of a drive-thru car wash for your bag and discover why BÉIS bags are designed to last through all of life’s adventures. Invite friends and family for a fun weekend activity\, while making memories and bags that last. Cleaning services by Scrub Daddy and Branch Basics will restore your bag’s original shine while you explore exclusive bundles and merch\, and exciting surprises\, plus a special sneak peek at new kids’ products launching soon.
URL:https://laguestlist.com/event/beis-wash/
LOCATION:BÉIS Wash\, 8620 Melrose Ave\, West Hollywood\, CA\, 90069\, United States
CATEGORIES:Things to do
ATTACH;FMTTYPE=image/jpeg:https://laguestlist.com/wp-content/uploads/2024/02/unnamed-1.jpg
END:VEVENT
BEGIN:VEVENT
DTSTART;TZID=America/Los_Angeles:20240228T180000
DTEND;TZID=America/Los_Angeles:20240303T170000
DTSTAMP:20260421T200933
CREATED:20240123T060745Z
LAST-MODIFIED:20240123T060745Z
UID:49886-1709143200-1709485200@laguestlist.com
SUMMARY:Felix Art Fair 2024
DESCRIPTION:Ticketed – Felix Art Fair  2024 edition returns to the iconic Hollywood Roosevelt Hotel February 28 to March 3 with its signature offerings and a special collaboration with Dover Street Market.
URL:https://laguestlist.com/event/felix-art-fair-2024/
LOCATION:Hollywood Roosevelt\, 7000 Hollywood Boulevard\, Los Angeles\, CA\, 90028\, United States
CATEGORIES:Art
ATTACH;FMTTYPE=image/png:https://laguestlist.com/wp-content/uploads/2024/01/felix-og-900x-q72.png
END:VEVENT
BEGIN:VEVENT
DTSTART;TZID=America/Los_Angeles:20240229T080000
DTEND;TZID=America/Los_Angeles:20240303T170000
DTSTAMP:20260421T200933
CREATED:20240123T061915Z
LAST-MODIFIED:20240123T061915Z
UID:49890-1709193600-1709485200@laguestlist.com
SUMMARY:Frieze Los Angeles Art Fair 2024
DESCRIPTION:Ticketed – Frieze Los Angeles returns February 29 – March 3\, 2024\, to Santa Monica Airport. Featuring over 95 of today’s most exciting galleries from around the world\, an expansive program of ambitious installations\, collaborations with nonprofit organizations\, and pop-ups from some of Los Angeles’ most beloved restaurants.
URL:https://laguestlist.com/event/frieze-los-angeles-art-fair-2024/
LOCATION:The Barker Hangar\, 3021 Airport Ave\, Santa Monica\, CA\, 90405\, United States
CATEGORIES:Art
ATTACH;FMTTYPE=image/png:https://laguestlist.com/wp-content/uploads/2024/01/frieze.png
END:VEVENT
BEGIN:VEVENT
DTSTART;TZID=America/Los_Angeles:20240229T180000
DTEND;TZID=America/Los_Angeles:20240229T220000
DTSTAMP:20260421T200933
CREATED:20240229T055314Z
LAST-MODIFIED:20240229T055314Z
UID:50042-1709229600-1709244000@laguestlist.com
SUMMARY:MCM x Yinka Ilori Launch Party
DESCRIPTION:Invite Only – CULTURED Magazine hosts a celebration in honor of artist and designer Yinka Ilori\, and his collaboration with MCM. Creative visionary Yinka Ilori takes a playful approach to design a new collection of chairs in partnership with MCM\, which will debut at MCM’s Rodeo Drive store.
URL:https://laguestlist.com/event/mcm-x-yinka-ilori-launch-party/
CATEGORIES:Art,Fashion
ATTACH;FMTTYPE=image/png:https://laguestlist.com/wp-content/uploads/2024/02/mcm.png
END:VEVENT
BEGIN:VEVENT
DTSTART;TZID=America/Los_Angeles:20240229T190000
DTEND;TZID=America/Los_Angeles:20240229T220000
DTSTAMP:20260421T200933
CREATED:20240229T060753Z
LAST-MODIFIED:20240229T060753Z
UID:50048-1709233200-1709244000@laguestlist.com
SUMMARY:Punk Me Tender x Oly.B Exhibit
DESCRIPTION:RSVP – The unique dual art exhibition featuring Oly.Bs art collection “Breaking Time” and Punk Me Tender “AI Me Tender” collection. Dive into a world where the past is reborn through the fusion of artificial intelligence\, real shattered glass\, and the essence of icons from the 60s to the 90s in “Breaking Time”.
URL:https://laguestlist.com/event/punk-me-tender-x-oly-b-exhibit/
CATEGORIES:Art
ATTACH;FMTTYPE=image/png:https://laguestlist.com/wp-content/uploads/2024/02/punk.png
END:VEVENT
BEGIN:VEVENT
DTSTART;TZID=America/Los_Angeles:20240301T193000
DTEND;TZID=America/Los_Angeles:20240303T170000
DTSTAMP:20260421T200933
CREATED:20240126T213026Z
LAST-MODIFIED:20240126T213026Z
UID:49904-1709321400-1709485200@laguestlist.com
SUMMARY:LA Wine & Food Festival 2024
DESCRIPTION:Ticketed – Experience the Los Angeles Wine & Food Festival in Santa Monica from March 1st-3rd\, 2024. Enjoy culinary mastery from 90 chefs\, including 16 headliners\, in an iconic Angeleno paradise where the Pacific breeze meets top-notch cuisine.
URL:https://laguestlist.com/event/la-wine-food-festival-2024/
LOCATION:Santa Monica Pier\, Santa Monica\, CA\, 90401\, United States
CATEGORIES:Gastronomy
ATTACH;FMTTYPE=image/png:https://laguestlist.com/wp-content/uploads/2024/01/LAWINE.png
END:VEVENT
BEGIN:VEVENT
DTSTART;TZID=America/Los_Angeles:20240305T180000
DTEND;TZID=America/Los_Angeles:20240305T220000
DTSTAMP:20260421T200933
CREATED:20240229T062011Z
LAST-MODIFIED:20240229T062011Z
UID:50052-1709661600-1709676000@laguestlist.com
SUMMARY:2024 TIME Women of the Year Gala
DESCRIPTION:Invite Only – TIME will host the third annual invite-only TIME Women of the Year Gala on Tuesday\, March 5\, in Los Angeles. The event will feature appearances and remarks from Women of the Year honorees\, the presentation of a TIME Earth Award\, as well as a special musical performance by Andra Day.
URL:https://laguestlist.com/event/2024-time-women-of-the-year-gala/
CATEGORIES:Magazine
ATTACH;FMTTYPE=image/png:https://laguestlist.com/wp-content/uploads/2024/02/time.png
END:VEVENT
BEGIN:VEVENT
DTSTART;TZID=America/Los_Angeles:20240305T203000
DTEND;TZID=America/Los_Angeles:20240305T220000
DTSTAMP:20260421T200933
CREATED:20240216T235751Z
LAST-MODIFIED:20240216T235751Z
UID:50013-1709670600-1709676000@laguestlist.com
SUMMARY:André 3000 New Blue Sun Tour
DESCRIPTION:Ticketed – André 3000 has announced a run of intimate live shows in support of his critically charged instrumental album\, New Blue Sun\, released in November on Epic Records. The tour will finish with a five night stint at The Masonic Lodge at Hollywood Forever in Los Angeles.
URL:https://laguestlist.com/event/andre-3000-new-blue-sun-tour/
LOCATION:Hollywood Forever Cemetery\, 6000 Santa Monica Blvd\, Los Angeles\, CA\, 90038\, United States
CATEGORIES:Concert
ATTACH;FMTTYPE=image/png:https://laguestlist.com/wp-content/uploads/2024/02/andre.png
END:VEVENT
BEGIN:VEVENT
DTSTART;TZID=America/Los_Angeles:20240306T180000
DTEND;TZID=America/Los_Angeles:20240306T210000
DTSTAMP:20260421T200933
CREATED:20240209T043140Z
LAST-MODIFIED:20240209T043140Z
UID:49972-1709748000-1709758800@laguestlist.com
SUMMARY:Billboard 2024 Women in Music Awards
DESCRIPTION:Ticketed – 2024 Grammy winner Karol G will be honored with the 2024 Woman of the Year Award at the Billboard Women in Music Awards presented by Marriott Bonvoy on Wednesday\, March 6 at the YouTube Theater at Hollywood Park in Los Angeles\, CA. Hosted by award-winning actor and producer Tracee Ellis Ross\, the annual event will recognize music’s rising stars and A-List artists\, creators and executives for their contributions to the industry and community.
URL:https://laguestlist.com/event/billboard-2024-women-in-music-awards/
LOCATION:Youtube Theatre\, 1011 Stadium Dr\, Inglewood\, CA\, 90305\, United States
CATEGORIES:Award Show,Music
ATTACH;FMTTYPE=image/png:https://laguestlist.com/wp-content/uploads/2024/02/billboard.png
END:VEVENT
BEGIN:VEVENT
DTSTART;TZID=America/Los_Angeles:20240306T180000
DTEND;TZID=America/Los_Angeles:20240306T220000
DTSTAMP:20260421T200933
CREATED:20240302T164919Z
LAST-MODIFIED:20240302T164919Z
UID:50062-1709748000-1709762400@laguestlist.com
SUMMARY:Saint Laurent 2024 Oscar Dinner
DESCRIPTION:Invite Only – Saint Laurent toasts to this years’ Oscars hosted by Creative Director Anthony Vacarello and A-List guests.
URL:https://laguestlist.com/event/saint-laurent-2024-oscar-dinner/
CATEGORIES:Award Show,Fashion
ATTACH;FMTTYPE=image/jpeg:https://laguestlist.com/wp-content/uploads/2024/03/2.-Logo163-2.jpg
END:VEVENT
BEGIN:VEVENT
DTSTART;TZID=America/Los_Angeles:20240306T200000
DTEND;TZID=America/Los_Angeles:20240306T230000
DTSTAMP:20260421T200933
CREATED:20240305T044816Z
LAST-MODIFIED:20240306T012945Z
UID:50068-1709755200-1709766000@laguestlist.com
SUMMARY:Vanities: A Night For Young Hollywood 2024
DESCRIPTION:Invite Only – On Wednesday\, March 6\, Vanity Fair and Instagram will host Vanities: A Night For Young Hollywood\, a star-studded bash at Bar Marmont in Hollywood\, spotlighting the new creative class. The red carpet event will be co-hosted by a committee of young stars who have been previously spotlighted in VF’s Vanities column\, including Barry Keoghan\, Charles Melton and Hunter Schafer.
URL:https://laguestlist.com/event/vanities-a-night-for-young-hollywood-2024/
LOCATION:Bar Marmont\, 8171 Sunset Blvd\, Los Angeles\, CA\, 90046\, United States
CATEGORIES:Magazine
ATTACH;FMTTYPE=image/png:https://laguestlist.com/wp-content/uploads/2024/03/young.png
END:VEVENT
BEGIN:VEVENT
DTSTART;TZID=America/Los_Angeles:20240307T170000
DTEND;TZID=America/Los_Angeles:20240308T220000
DTSTAMP:20260421T200933
CREATED:20240306T013551Z
LAST-MODIFIED:20240306T013551Z
UID:50090-1709830800-1709935200@laguestlist.com
SUMMARY:Prada The Double Club Los Angeles
DESCRIPTION:Invite Only – Prada Mode presents the third edition of The Double Club\, a project by Carsten Höller\, in collaboration with Luna Luna on March 7 and 8\, 2024\, at the Luna Luna Studio in Los Angeles\, California. The Double Club Los Angeles centers around a site-specific installation based on several signature tropes of Carsten Höller’s artistic practice — the principle of division and the machinery of fun within carnival aesthetics. (Open to the public: 9–10 March\, 2024)
URL:https://laguestlist.com/event/prada-the-double-club-los-angeles/
LOCATION:Ace Six\, 516 S. Mission Rd\, Los Angeles\, CA\, United States
CATEGORIES:Fashion
ATTACH;FMTTYPE=image/png:https://laguestlist.com/wp-content/uploads/2024/03/prada.png
END:VEVENT
BEGIN:VEVENT
DTSTART;TZID=America/Los_Angeles:20240307T180000
DTEND;TZID=America/Los_Angeles:20240307T200000
DTSTAMP:20260421T200933
CREATED:20240229T060300Z
LAST-MODIFIED:20240229T060300Z
UID:50046-1709834400-1709841600@laguestlist.com
SUMMARY:Gagosian Presents Jean-Michel Basquiat Works
DESCRIPTION:Open – Gagosian to Present the First Exhibition to Focus Exclusively on Jean-Michel Basquiat’s Time  in Los Angeles Reuniting Nearly Thirty Works Produced near Venice Beach between 1982 and 1984 Curated by Fred Hoffman with Larry Gagosian\, Made on Market Street Opens in Beverly Hills on March 7\, 2024.
URL:https://laguestlist.com/event/gagosian-presents-jean-michel-basquiat-works/
LOCATION:Gagosian Gallery\, 456 N Camden Dr\, Beverly Hills\, CA\, 90210\, United States
CATEGORIES:Art
ATTACH;FMTTYPE=image/png:https://laguestlist.com/wp-content/uploads/2024/02/gago.png
END:VEVENT
BEGIN:VEVENT
DTSTART;TZID=America/Los_Angeles:20240307T190000
DTEND;TZID=America/Los_Angeles:20240307T220000
DTSTAMP:20260421T200933
CREATED:20240307T030621Z
LAST-MODIFIED:20240307T030621Z
UID:50097-1709838000-1709848800@laguestlist.com
SUMMARY:What Goes Around Comes Around Iconic Thursday
DESCRIPTION:Invite Only – What Goes Around Comes Around  is celebrating Oscar week with Iconic Thursday hosted by Evan Ross.
URL:https://laguestlist.com/event/what-goes-around-comes-around-iconic-thursday/
CATEGORIES:Fashion
ATTACH;FMTTYPE=image/png:https://laguestlist.com/wp-content/uploads/2024/03/What-goes.png
END:VEVENT
BEGIN:VEVENT
DTSTART;TZID=America/Los_Angeles:20240309T100000
DTEND;TZID=America/Los_Angeles:20240310T160000
DTSTAMP:20260421T200933
CREATED:20240307T030029Z
LAST-MODIFIED:20240307T030029Z
UID:50095-1709978400-1710086400@laguestlist.com
SUMMARY:ILIA Shade Match Studio
DESCRIPTION:RSVP – Join ILIA to celebrate their new Skin Rewind Complexion Stick and the opening of the ILIA Shade Match Studio.
URL:https://laguestlist.com/event/ilia-shade-match-studio/
CATEGORIES:Beauty
ATTACH;FMTTYPE=image/png:https://laguestlist.com/wp-content/uploads/2024/03/Ilia.png
END:VEVENT
BEGIN:VEVENT
DTSTART;TZID=America/Los_Angeles:20240309T110000
DTEND;TZID=America/Los_Angeles:20240310T180000
DTSTAMP:20260421T200933
CREATED:20240302T155352Z
LAST-MODIFIED:20240302T155352Z
UID:50054-1709982000-1710093600@laguestlist.com
SUMMARY:Miss Dior Avenue Pop-Up 2024
DESCRIPTION:RSVP – Experience the feminine power of a young and audacious Miss Dior at the Miss Dior Avenue pop-up\, a celebration of the new Miss Dior Parfum – and a shining floral tribute to today’s generation of empowered women.
URL:https://laguestlist.com/event/miss-dior-avenue-pop-up-2024/
LOCATION:Miss Dior Avenue Pop-Up\, 8626 Melrose Ave\, Los Angeles\, CA\, 90069\, United States
CATEGORIES:Beauty
ATTACH;FMTTYPE=image/jpeg:https://laguestlist.com/wp-content/uploads/2024/03/unnamed-2.jpg
END:VEVENT
BEGIN:VEVENT
DTSTART;TZID=America/Los_Angeles:20240309T110000
DTEND;TZID=America/Los_Angeles:20240310T200000
DTSTAMP:20260421T200933
CREATED:20240302T161159Z
LAST-MODIFIED:20240302T161159Z
UID:50057-1709982000-1710100800@laguestlist.com
SUMMARY:Immersive McDonald’s Dining Experience: WcDonald’s
DESCRIPTION:RSVP – From March 9-10\, attendees will be transported into the WcDonald’s universe and immersed in an exciting fusion of entertainment and food. Free reservations went live on OpenTable earlier today and quickly sold out. For years\, anime lovers have seen McDonald’s-inspired “WcDonald’s” restaurants pop up across some of their favorite movies and shows. McDonald’s bringing fans’ creativity to life by unleashing the WcDonald’s universe in McDonald’s restaurants and beyond\, including:\n– A new Savory Chili WcDonald’s Sauce that pairs perfectly with an order of WcNuggets (aka our fan-favorite Chicken McNuggets).\n– Manga-Inspired Packaging featuring original art by renowned Japanese illustrator\, Acky Bright\, and a QR code that offers fans access to weekly digital manga drops.\n– The First-Ever WcDonald’s Anime Series made in partnership with the legendary animation house\, studio pierrot.
URL:https://laguestlist.com/event/immersive-mcdonalds-dining-experience-wcdonalds/
LOCATION:WcDonald’s\, 8505 Santa Monica Blvd.\, West Hollywood\, CA\, 90069\, United States
CATEGORIES:Things to do
ATTACH;FMTTYPE=image/jpeg:https://laguestlist.com/wp-content/uploads/2024/03/WcDonalds_Sign.jpg
END:VEVENT
BEGIN:VEVENT
DTSTART;TZID=America/Los_Angeles:20240310T130000
DTEND;TZID=America/Los_Angeles:20240310T220000
DTSTAMP:20260421T200933
CREATED:20240302T215502Z
LAST-MODIFIED:20240302T215502Z
UID:50066-1710075600-1710108000@laguestlist.com
SUMMARY:2024 Elton John Academy Awards Party
DESCRIPTION:Ticketed – Join Elton John for his highly anticipated Annual Academy Awards Viewing Party\, dedicated to supporting the Elton John AIDS Foundation and their essential efforts in reaching marginalized communities who are affected by HIV/AIDS. They are thrilled to be back in West Hollywood Park on Sunday\, March 10\, with our incredible hosts Elton John\, David Furnish\, Tiffany Haddish\, Neil Patrick Harris\, and David Burtka.
URL:https://laguestlist.com/event/2024-elton-john-academy-awards-party/
LOCATION:West Hollywood Park\, 647 N San Vicente Blvd\, West Hollywood\, CA\, 90069\, United States
CATEGORIES:Award Show
ATTACH;FMTTYPE=image/png:https://laguestlist.com/wp-content/uploads/2024/03/elton.png
END:VEVENT
BEGIN:VEVENT
DTSTART;TZID=America/Los_Angeles:20240310T150000
DTEND;TZID=America/Los_Angeles:20240310T210000
DTSTAMP:20260421T200933
CREATED:20240305T045348Z
LAST-MODIFIED:20240305T045348Z
UID:50070-1710082800-1710104400@laguestlist.com
SUMMARY:DirecTV Streaming with the Stars
DESCRIPTION:Invite Only – DirecTV will roll out the red carpet for their first awards viewing party on Hollywood’s Biggest Night hosted by Rob Lowe. Guests will enjoy the telecast from a gorgeous viewing lounge\, while enjoying Spago’s signature menu\, specialty cocktails and more.
URL:https://laguestlist.com/event/directv-streaming-with-the-stars/
LOCATION:Spago Beverly Hills\, 176 N Canon Dr\, Beverly Hills\, CA\, 90210\, United States
CATEGORIES:Award Show
ATTACH;FMTTYPE=image/png:https://laguestlist.com/wp-content/uploads/2024/03/directtv.png
END:VEVENT
BEGIN:VEVENT
DTSTART;TZID=America/Los_Angeles:20240310T220000
DTEND;TZID=America/Los_Angeles:20240311T010000
DTSTAMP:20260421T200933
CREATED:20240302T214815Z
LAST-MODIFIED:20240302T214815Z
UID:50064-1710108000-1710118800@laguestlist.com
SUMMARY:2024 Vanity Fair Oscar After Party
DESCRIPTION:Invite Only – One of the most sought after party with the biggest names in Hollywood is back following the 2024 Oscars at the Wallis Annenberg Center for the Performing Arts with Beverly Hills City Hall.
URL:https://laguestlist.com/event/2024-vanity-fair-oscar-after-party/
LOCATION:Wallis Annenberg Center for the Performing Arts\, 9390 N. Santa Monica Blvd.\, Beverly Hills\, CA\, 90210\, United States
CATEGORIES:Award Show,Magazine
ATTACH;FMTTYPE=image/png:https://laguestlist.com/wp-content/uploads/2024/03/vanity.png
END:VEVENT
BEGIN:VEVENT
DTSTART;TZID=America/Los_Angeles:20240313T190000
DTEND;TZID=America/Los_Angeles:20240313T220000
DTSTAMP:20260421T200933
CREATED:20240307T025700Z
LAST-MODIFIED:20240307T025700Z
UID:50093-1710356400-1710367200@laguestlist.com
SUMMARY:Justin Timberlake One Night in Los Angeles
DESCRIPTION:RSVP – Ahead of his sixth studio album\, “Everything I Thought It Was\,” that’s set to drop on March 15\, 2024\, Justin Timberlake will be performing a free\, one-night-only show in Los Angeles on March 13\, at The Wiltern.
URL:https://laguestlist.com/event/justin-timberlake-one-night-in-los-angeles/
LOCATION:The Wiltern\, 3790 Wilshire Blvd\, Los Angeles\, CA\, 90010\, United States
CATEGORIES:Concert
ATTACH;FMTTYPE=image/png:https://laguestlist.com/wp-content/uploads/2024/03/wiltern.png
END:VEVENT
BEGIN:VEVENT
DTSTART;TZID=America/Los_Angeles:20240315T140000
DTEND;TZID=America/Los_Angeles:20240317T230000
DTSTAMP:20260421T200933
CREATED:20240126T213721Z
LAST-MODIFIED:20240126T213721Z
UID:49906-1710511200-1710716400@laguestlist.com
SUMMARY:Rolling Loud California 2024
DESCRIPTION:Ticketed – Happening March 15th – 17th\, 2024 at Hollywood Park\, Rolling Loud California 2024 will feature headliners Nicki Minaj\, Post Malone and Metro Boomin & Future. For the first time\, the festival will incorporate regional Mexican artists Fuerza Regida\, Natanael Cano\, Junior H and Chino Pacas. Additionally\, the festival will feature A-listers like Don Toliver\, Chief Keef\, and Big Sean.
URL:https://laguestlist.com/event/rolling-loud-california-2024/
LOCATION:Hollywood Park Grounds\, 1011 Stadium Drive\, Inglewood\, CA\, 90305\, United States
CATEGORIES:Music
ATTACH;FMTTYPE=image/png:https://laguestlist.com/wp-content/uploads/2024/01/rolling.png
END:VEVENT
BEGIN:VEVENT
DTSTART;TZID=America/Los_Angeles:20240321T110000
DTEND;TZID=America/Los_Angeles:20240321T140000
DTSTAMP:20260421T200933
CREATED:20240229T055838Z
LAST-MODIFIED:20240229T055838Z
UID:50044-1711018800-1711029600@laguestlist.com
SUMMARY:Los Angeles Magazine’s The L.A. Woman
DESCRIPTION:Ticketed – Los Angeles magazine’s The L.A. Woman luncheon and panel event celebrates the game-changing women honored in the March L.A. Woman issue with Kris Jenner.
URL:https://laguestlist.com/event/los-angeles-magazines-the-l-a-woman/
LOCATION:Fairmont Miramar Hotel\, 101 Wilshire Blvd\, Santa Monica\, CA\, 90401\, United States
CATEGORIES:Networking
ATTACH;FMTTYPE=image/png:https://laguestlist.com/wp-content/uploads/2024/02/kris.png
END:VEVENT
BEGIN:VEVENT
DTSTART;TZID=America/Los_Angeles:20240327T083000
DTEND;TZID=America/Los_Angeles:20240328T183000
DTSTAMP:20260421T200933
CREATED:20240325T004110Z
LAST-MODIFIED:20240325T004110Z
UID:50146-1711528200-1711650600@laguestlist.com
SUMMARY:The Voices of Beauty Summit 2024
DESCRIPTION:Ticketed – Taking place March 27th and 28th in Downtown LA\, Voices of Beauty aims to bring together industry pioneers and accelerate growth so that our combined expertise and impact can contribute to a truly inclusive future for all with speakers John Legend and Ciara. The summit will explore the powerful synergy of brands\, retailers\, and experts\, addressing the urgent need for more inclusivity across workplace culture\, product development\, and marketing strategies.
URL:https://laguestlist.com/event/the-voices-of-beauty-summit-2024/
LOCATION:California Market Center\, 110 East 9th Street\, Los Angeles\, CA\, 90079\, United States
CATEGORIES:Networking
ATTACH;FMTTYPE=image/png:https://laguestlist.com/wp-content/uploads/2024/03/voice-1.png
END:VEVENT
BEGIN:VEVENT
DTSTART;TZID=America/Los_Angeles:20240328T180000
DTEND;TZID=America/Los_Angeles:20240328T210000
DTSTAMP:20260421T200933
CREATED:20240325T001931Z
LAST-MODIFIED:20240325T001931Z
UID:50139-1711648800-1711659600@laguestlist.com
SUMMARY:Trudon Debuts Versailles Collection
DESCRIPTION:Invite Only – Trudon celebrates the quintessential fragrance representing France in spring: floral\, aromatic and refreshing; an olfactory and chromatic link between the Versailles palace and its fabulous gardens hosted by Creative Director\, Julien Pruvost.
URL:https://laguestlist.com/event/trudon-debuts-versailles-collection/
CATEGORIES:Launch Party
ATTACH;FMTTYPE=image/png:https://laguestlist.com/wp-content/uploads/2024/03/trudon.png
END:VEVENT
BEGIN:VEVENT
DTSTART;TZID=America/Los_Angeles:20240330T180000
DTEND;TZID=America/Los_Angeles:20240330T210000
DTSTAMP:20260421T200933
CREATED:20240325T013600Z
LAST-MODIFIED:20240325T013600Z
UID:50152-1711821600-1711832400@laguestlist.com
SUMMARY:Gregory Siff "To Understand Time" Opening
DESCRIPTION:Invite Only – To Understand Time is Gregory Siff debut at the gallery and opens at the Los Angeles location on March 30 and will run through May 2\, 2024. Gregory Siff’s emotive artistry is fueled by his desire to connect with people.
URL:https://laguestlist.com/event/gregory-siff-to-understand-time-opening/
LOCATION:Praz-Delavallade\, 6150 Wilshire Blvd\, Los Angeles\, CA\, 90048\, United States
CATEGORIES:Art
ATTACH;FMTTYPE=image/jpeg:https://laguestlist.com/wp-content/uploads/2024/03/Screensho-2-copy-2.jpg
END:VEVENT
BEGIN:VEVENT
DTSTART;TZID=America/Los_Angeles:20240403T200000
DTEND;TZID=America/Los_Angeles:20240404T000000
DTSTAMP:20260421T200933
CREATED:20240325T002806Z
LAST-MODIFIED:20240325T002806Z
UID:50141-1712174400-1712188800@laguestlist.com
SUMMARY:The Coco Club Grand Opening
DESCRIPTION:Invite Only – With breathtaking oceanic views spanning from Venice Beach to the Malibu Coastline\, The Coco Club pays homage to the iconic Los Angeles destinations of the 1900s – Cocoanut Grove and The Coconut Club. Savor unique and delicious cocktails crafted by famed bartender Dushan Zaric and indulge in Chef Chris Sayegh’s delightful light bites starting from 8pm\, accompanied by vibrant house music all night long.
URL:https://laguestlist.com/event/the-coco-club-grand-opening/
LOCATION:The Coco Club\, 1301 Ocean Ave.\, Santa Monica\, CA\, 90401\, United States
CATEGORIES:Grand Opening
ATTACH;FMTTYPE=image/png:https://laguestlist.com/wp-content/uploads/2024/03/coco.png
END:VEVENT
BEGIN:VEVENT
DTSTART;TZID=America/Los_Angeles:20240405T090000
DTEND;TZID=America/Los_Angeles:20240406T180000
DTSTAMP:20260421T200933
CREATED:20240403T044314Z
LAST-MODIFIED:20240403T044314Z
UID:50244-1712307600-1712426400@laguestlist.com
SUMMARY:Rhude Bowl Flea Market 2024
DESCRIPTION:Open – Join Rhudefor an exclusive RHUDE BOWL event this Friday and Saturday\, April 5th – 6th\, in Los Angeles. Discover unique 1 of 1 items\, limited edition pieces\, and more.
URL:https://laguestlist.com/event/rhude-bowl-flea-market-2024/
LOCATION:Cooper Design Space\, 846 S. Los Angeles Street\, Los Angeles\, CA\, 90014\, United States
CATEGORIES:Fashion
ATTACH;FMTTYPE=image/png:https://laguestlist.com/wp-content/uploads/2024/04/rhude.png
END:VEVENT
BEGIN:VEVENT
DTSTART;TZID=America/Los_Angeles:20240405T170000
DTEND;TZID=America/Los_Angeles:20240407T180000
DTSTAMP:20260421T200933
CREATED:20240325T012515Z
LAST-MODIFIED:20240325T012515Z
UID:50150-1712336400-1712512800@laguestlist.com
SUMMARY:The Other Art Fair 2024
DESCRIPTION:Ticketed – The Spring edition of The Other Art Fair\, presented by Saatchi will be back in Los Anegels. ArtThink unforgettable experiences\, think game changing artists\, think art reframed. Over a hundred independent artists\, thousands of artworks\, eclectic and interactive experiences—and cocktails. We’re an art fair like no other.
URL:https://laguestlist.com/event/the-other-art-fair-2024/
LOCATION:The Barker Hangar\, 3021 Airport Ave\, Santa Monica\, CA\, 90405\, United States
CATEGORIES:Art
ATTACH;FMTTYPE=image/jpeg:https://laguestlist.com/wp-content/uploads/2024/03/unnamed-1.jpg
END:VEVENT
END:VCALENDAR