BEGIN:VCALENDAR
VERSION:2.0
PRODID:-//LA Guestlist - ECPv6.15.20//NONSGML v1.0//EN
CALSCALE:GREGORIAN
METHOD:PUBLISH
X-ORIGINAL-URL:https://laguestlist.com
X-WR-CALDESC:Events for LA Guestlist
REFRESH-INTERVAL;VALUE=DURATION:PT1H
X-Robots-Tag:noindex
X-PUBLISHED-TTL:PT1H
BEGIN:VTIMEZONE
TZID:America/Los_Angeles
BEGIN:DAYLIGHT
TZOFFSETFROM:-0800
TZOFFSETTO:-0700
TZNAME:PDT
DTSTART:20150308T100000
END:DAYLIGHT
BEGIN:STANDARD
TZOFFSETFROM:-0700
TZOFFSETTO:-0800
TZNAME:PST
DTSTART:20151101T090000
END:STANDARD
BEGIN:DAYLIGHT
TZOFFSETFROM:-0800
TZOFFSETTO:-0700
TZNAME:PDT
DTSTART:20160313T100000
END:DAYLIGHT
BEGIN:STANDARD
TZOFFSETFROM:-0700
TZOFFSETTO:-0800
TZNAME:PST
DTSTART:20161106T090000
END:STANDARD
BEGIN:DAYLIGHT
TZOFFSETFROM:-0800
TZOFFSETTO:-0700
TZNAME:PDT
DTSTART:20170312T100000
END:DAYLIGHT
BEGIN:STANDARD
TZOFFSETFROM:-0700
TZOFFSETTO:-0800
TZNAME:PST
DTSTART:20171105T090000
END:STANDARD
END:VTIMEZONE
BEGIN:VEVENT
DTSTART;TZID=America/Los_Angeles:20160112T220000
DTEND;TZID=America/Los_Angeles:20160112T220000
DTSTAMP:20260420T051146
CREATED:20160112T190821Z
LAST-MODIFIED:20160112T190821Z
UID:12256-1452636000-1452636000@laguestlist.com
SUMMARY:Yo Gotti at 1 OAK
DESCRIPTION:Table Reservations – Yo Gotti is taking over 1 OAK for one night only.
URL:https://laguestlist.com/event/yo-gotti-at-1-oak/
LOCATION:1 OAK\, 9039 Sunset Boulevard\, West Hollywood\, CA\, United States
CATEGORIES:Nightlife
ATTACH;FMTTYPE=image/png:https://laguestlist.com/wp-content/uploads/2016/01/Screen-Shot-2016-01-12-at-11.03.31-AM.png
END:VEVENT
BEGIN:VEVENT
DTSTART;TZID=America/Los_Angeles:20160113T190000
DTEND;TZID=America/Los_Angeles:20160113T220000
DTSTAMP:20260420T051146
CREATED:20160114T003633Z
LAST-MODIFIED:20160114T003633Z
UID:12298-1452711600-1452722400@laguestlist.com
SUMMARY:Ivory On Sunset Preview
DESCRIPTION:Invite Only – Ivory On Sunset\, the new restaurant inside of the Mondrian Hotel\, invites guests to get a sneak preview with hosted drinks and a legendary view of Los Angeles.
URL:https://laguestlist.com/event/ivory-on-sunset-preview/
LOCATION:Mondrian Hotel\, 8440 Sunset Blvd\, West Hollywood\, CA\, 90069\, United States
CATEGORIES:Gastronomy
ATTACH;FMTTYPE=image/png:https://laguestlist.com/wp-content/uploads/2016/01/Screen-Shot-2016-01-13-at-4.30.20-PM.png
END:VEVENT
BEGIN:VEVENT
DTSTART;TZID=America/Los_Angeles:20160113T200000
DTEND;TZID=America/Los_Angeles:20160113T220000
DTSTAMP:20260420T051146
CREATED:20160105T163533Z
LAST-MODIFIED:20160105T163533Z
UID:12056-1452715200-1452722400@laguestlist.com
SUMMARY:Judd Apatow & Friends
DESCRIPTION:Ticketed – Benefit for the Littlest Tumor Foundation\nJudd Apatow & Friends including Zach Galifianakis\, and Regina Spektor.
URL:https://laguestlist.com/event/judd-apatow-friends/
LOCATION:Largo at the Coronet\, 366 N La Cienega Blvd\, Los Angeles\, CA\, 90048\, United States
CATEGORIES:Comedy
ATTACH;FMTTYPE=image/jpeg:https://laguestlist.com/wp-content/uploads/2016/01/95-atlg.jpg
END:VEVENT
BEGIN:VEVENT
DTSTART;TZID=America/Los_Angeles:20160113T200000
DTEND;TZID=America/Los_Angeles:20160113T230000
DTSTAMP:20260420T051146
CREATED:20160113T223702Z
LAST-MODIFIED:20160113T223702Z
UID:12296-1452715200-1452726000@laguestlist.com
SUMMARY:Elton John at The Wiltern
DESCRIPTION:Ticketed – On January 13\, 2016 at 8 pm\, Elton will take the stage at the Wiltern in Los Angeles\, CA for “Island Life Presents – One Wonderful Crazy Night”. Elton and his band will be premiering selected tracks from his upcoming album\, “Wonderful Crazy Night”\, (before its release on February 5) as well as some classic favorites in a 90-minute concert.
URL:https://laguestlist.com/event/elton-at-the-wiltern/
LOCATION:The Wiltern\, 3790 Wilshire Blvd\, Los Angeles\, CA\, 90010\, United States
CATEGORIES:Concert
ATTACH;FMTTYPE=image/jpeg:https://laguestlist.com/wp-content/uploads/2016/01/wilternAd350w.jpg
END:VEVENT
BEGIN:VEVENT
DTSTART;TZID=America/Los_Angeles:20160114T170000
DTEND;TZID=America/Los_Angeles:20160114T200000
DTSTAMP:20260420T051146
CREATED:20160114T202359Z
LAST-MODIFIED:20160114T202359Z
UID:12322-1452790800-1452801600@laguestlist.com
SUMMARY:Courtney by Nasty Gal Love-In Launch Event
DESCRIPTION:Open – Join Sophia Amoruso & Courtney Love at Nasty Gal Melrose for the launch of their exclusive upcoming collab: Love\, Courtney by Nasty Gal. \nGet there early: the first 100 people get tiaras! We’ll also have tons of bubbles\, you’ll get to shop the collection\, and DJ Allie Teilz will be spinning all night long. Oh\, it gets even better: you’ll be able to meet Sophia & Courtney Love IRL!
URL:https://laguestlist.com/event/courtney-by-nasty-gal-love-in-launch-event/
LOCATION:Nasty Gal Melrose\, 8115 Melrose Ave\, Los Angeles\, CA\, 90046\, United States
CATEGORIES:Fashion
ATTACH;FMTTYPE=image/jpeg:https://laguestlist.com/wp-content/uploads/2016/01/CL_8.jpg
END:VEVENT
BEGIN:VEVENT
DTSTART;TZID=America/Los_Angeles:20160114T180000
DTEND;TZID=America/Los_Angeles:20160114T200000
DTSTAMP:20260420T051146
CREATED:20160112T191103Z
LAST-MODIFIED:20160112T191103Z
UID:12258-1452794400-1452801600@laguestlist.com
SUMMARY:Tequila Tasting at Petty Cash Arts District
DESCRIPTION:Ticketed – Head over to Petty Cash Taqueria for some good ol’ tequila tasting from Gran Cosecha Tequila\, expect full flights and small bites.
URL:https://laguestlist.com/event/tequila-tasting-at-petty-cash-arts-district/
LOCATION:Petty Cash Taqueria Arts District\, 712 S. Santa Fe Ave\, Los Angeles\, CA\, 90021\, United States
CATEGORIES:Gastronomy
ATTACH;FMTTYPE=image/jpeg:https://laguestlist.com/wp-content/uploads/2016/01/6ec21414-c459-4184-a528-18a4089907d3.jpg
END:VEVENT
BEGIN:VEVENT
DTSTART;TZID=America/Los_Angeles:20160114T180000
DTEND;TZID=America/Los_Angeles:20160114T200000
DTSTAMP:20260420T051146
CREATED:20160114T201453Z
LAST-MODIFIED:20160120T192419Z
UID:12320-1452794400-1452801600@laguestlist.com
SUMMARY:Edmund de Waal "The Ten Thousand Things" Opening
DESCRIPTION:Open – Gagosian Beverly Hills is pleased to present new works by Edmund de Waal for his first solo exhibition in Los Angeles. \nDe Waal’s art and literature speak to his enduring fascination with the nature of objects\, and the narratives of their collection and display. A potter since childhood and an acclaimed writer\, his obsession with porcelain or “white gold” has led to encounters with many people and places that help deepen his understanding of the nature of the material. His latest book\, The White Road: Journey into an Obsession (2015)\, traces the historical evolution of porcelain from its origin in Jingdezhen\, China\, through developments in Venice\, Versailles\, Dresden\, Cornwall\, and the Cherokee Country of South Carolina. \nPhoto: Edmund de Waal\, the ten thousand things\, for John Cage\, XX\, 2015\, 3 porcelain vessels and Cor-Ten steel block in aluminum box\, 17 11/16 × 17 11/16 × 7 1/2 inches (45 × 45 × 19 cm)\n​© Edmund de Waal. Courtesy of the artist and Gagosian Gallery. Photography by Mike Bruce.
URL:https://laguestlist.com/event/edmund-de-waal-the-ten-thousand-things-opening/
LOCATION:Gagosian Gallery\, 456 N Camden Dr\, Beverly Hills\, CA\, 90210\, United States
CATEGORIES:Art
ATTACH;FMTTYPE=image/jpeg:https://laguestlist.com/wp-content/uploads/2016/01/53cfbb97b61a508e2378b01fd29f98e2.jpg
END:VEVENT
BEGIN:VEVENT
DTSTART;TZID=America/Los_Angeles:20160114T180000
DTEND;TZID=America/Los_Angeles:20160114T210000
DTSTAMP:20260420T051146
CREATED:20160114T200553Z
LAST-MODIFIED:20160114T200553Z
UID:12318-1452794400-1452805200@laguestlist.com
SUMMARY:Bryan Fox's "We. Alone. Part 2"
DESCRIPTION:Invite Only – This Thursday\, photographer Bryan Fox’s will showcase “We. Alone. Part 2” at Eric Buterbaugh’s Boutique.
URL:https://laguestlist.com/event/bryan-foxs-collection-we-alone-part-2/
LOCATION:Eric Buterbaugh’s Boutique\, 8271 Beverly Blvd\, Los Angeles\, CA\, 90048\, United States
CATEGORIES:Photography
ATTACH;FMTTYPE=image/jpeg:https://laguestlist.com/wp-content/uploads/2016/01/bryan-fox.0.0.jpg
END:VEVENT
BEGIN:VEVENT
DTSTART;TZID=America/Los_Angeles:20160114T190000
DTEND;TZID=America/Los_Angeles:20160114T210000
DTSTAMP:20260420T051146
CREATED:20160114T194557Z
LAST-MODIFIED:20160114T194557Z
UID:12313-1452798000-1452805200@laguestlist.com
SUMMARY:Architects of Change: Maria Shriver and Kris Jenner
DESCRIPTION:Ticketed – Architects of Change: The Conversation Series is a live gathering that ignites hearts and minds. It invites Architects of Change to share what they have learned about our common ground\, our common experience\, and our pursuit of the common good. The monthly series features the most sought after visionaries of our time in intimate conversation with award winning journalist Maria Shriver. The series brings to life the preeminent community of Architects of Change who gather daily at Mariashriver.com. The live conversations inform\, inspire and form a community united in intention\, passion and purpose. Attendees commit to principles and leave as participants in creating the world they want to see. Speakers leave us with concrete insight into how they are creating a more caring\, conscious and compassionate society. Architects of Change: The Conversation Series was conceived and created in California.  It is a product of Shriver Media. A portion of the proceeds support A Woman’s Nation\, a non-profit organization working on the frontlines of humanity.
URL:https://laguestlist.com/event/architects-of-change-maria-shriver-and-kris-jenner/
LOCATION:Skirball Cultural Center\, 2701 N. Sepulveda Blvd.\, Los Angeles\, CA\, 90049\, United States
CATEGORIES:Networking,Things to do
ATTACH;FMTTYPE=image/jpeg:https://laguestlist.com/wp-content/uploads/2016/01/url-4.jpg
END:VEVENT
BEGIN:VEVENT
DTSTART;TZID=America/Los_Angeles:20160114T190000
DTEND;TZID=America/Los_Angeles:20160114T220000
DTSTAMP:20260420T051146
CREATED:20160108T192938Z
LAST-MODIFIED:20160108T192938Z
UID:12181-1452798000-1452808800@laguestlist.com
SUMMARY:Tania Dibbs' 'We Were Here' Opening Reception
DESCRIPTION:Invite Only – The Opening of ‘We Were Here’ by Tania Dibbs\non Thursday\, January 14 at De Re Gallery. Tania explores the beauty of nature\, disrupted by the ambition and footprint of man\, in her first solo show in Los Angeles.
URL:https://laguestlist.com/event/tania-dibbs-opening-reception/
LOCATION:De Re Gallery\, 8920 Melrose Ave\, Los Angeles\, CA\, 90069\, United States
CATEGORIES:Art
ATTACH;FMTTYPE=image/png:https://laguestlist.com/wp-content/uploads/2016/01/Screen-Shot-2016-01-07-at-3.33.40-PM.png
END:VEVENT
BEGIN:VEVENT
DTSTART;TZID=America/Los_Angeles:20160114T193000
DTEND;TZID=America/Los_Angeles:20160114T223000
DTSTAMP:20260420T051146
CREATED:20160105T205518Z
LAST-MODIFIED:20160105T205518Z
UID:12099-1452799800-1452810600@laguestlist.com
SUMMARY:'The Martian' Screening
DESCRIPTION:Ticketed – In space\, no one can hear you vlog. The great Ridley Scott (Alien) has his lead character alone in space again\, and this time it’s Matt Damon as an American astronaut who has been accidently left behind on Mars after a mission disaster. Witty and well researched—the script is based on the popular 2011 novel by Andy Weir—the film plays like a survivalist Western conceived of by the smartest kids in science class. The cast is filled out by a dream-team of “thinking-persons’” movie stars (Chiwetel Ejiofor\, Kristen Wiig\, Michael Peña\, Kate Mara\, and Jeff Daniels) and was shot on one of the largest sets ever built. This is a film to make you root for the hero and believe in human progress and ingenuity; one could say it’s the most “uplifting” film of the year.
URL:https://laguestlist.com/event/the-martian-screening/
LOCATION:Hammer Museum\, 10899 Wilshire Blvd\, Los Angeles\, CA\, 90024\, United States
CATEGORIES:Movies
ATTACH;FMTTYPE=image/png:https://laguestlist.com/wp-content/uploads/2016/01/Screen-Shot-2016-01-05-at-1.52.18-PM.png
END:VEVENT
BEGIN:VEVENT
DTSTART;TZID=America/Los_Angeles:20160114T210000
DTEND;TZID=America/Los_Angeles:20160114T210000
DTSTAMP:20260420T051146
CREATED:20160112T190224Z
LAST-MODIFIED:20160112T190224Z
UID:12254-1452805200-1452805200@laguestlist.com
SUMMARY:Post Malone at OHM Nightclub
DESCRIPTION:Ticketed – (18+) Post Malone has skyrocketed on top of the charts with his hit songs “White Iverson”\, “Too Young”\, “On God” and more. Check him out at OHM Nightclub this Thursday\, Limited Tickets on sale!
URL:https://laguestlist.com/event/post-malone-at-ohm-nightclub/
LOCATION:OHM\, 6801 Hollywood Blvd.\, Hollywood\, CA\, 90028\, United States
CATEGORIES:Nightlife
ATTACH;FMTTYPE=image/jpeg:https://laguestlist.com/wp-content/uploads/2016/01/unnamed-1-3.jpg
END:VEVENT
BEGIN:VEVENT
DTSTART;TZID=America/Los_Angeles:20160115T180000
DTEND;TZID=America/Los_Angeles:20160115T210000
DTSTAMP:20260420T051146
CREATED:20160114T195555Z
LAST-MODIFIED:20160114T195555Z
UID:12316-1452880800-1452891600@laguestlist.com
SUMMARY:Jenni Kayne + Martha Stewart 25th Anniversary Issue Event
DESCRIPTION:Invite Only – Jenni Kayne and Martha Stewart are pairing up to host a cocktail event in celebration of Martha Stewart Living’s 25th anniversary issue. Hors d’oeuvres and cocktails will be provided by go-to caterer Annie Campbell.
URL:https://laguestlist.com/event/jenni-kayne-martha-stewart-25th-anniversary-issue-event/
LOCATION:Jenni Kayne\, 614 N Almont Dr\, West Hollywood\, CA\, 90069\, United States
CATEGORIES:Magazine
END:VEVENT
BEGIN:VEVENT
DTSTART;TZID=America/Los_Angeles:20160115T190000
DTEND;TZID=America/Los_Angeles:20160115T213000
DTSTAMP:20260420T051146
CREATED:20160105T223705Z
LAST-MODIFIED:20160105T223705Z
UID:12134-1452884400-1452893400@laguestlist.com
SUMMARY:Make Up For Ever IMATS Reception
DESCRIPTION:Invite Only – Join Founder of Make Up For Ever Dany Sanz after the IMATS for some cocktails\, hors d’oeuvres\, and to experience their latest products.
URL:https://laguestlist.com/event/make-up-for-ever-imats-reception/
LOCATION:Pop Champagne & Dessert Bar\, 33 East Union Street\, Pasadena\, CA\, 91103\, United States
CATEGORIES:Beauty
ATTACH;FMTTYPE=image/png:https://laguestlist.com/wp-content/uploads/2016/01/Screen-Shot-2016-01-05-at-3.29.10-PM.png
END:VEVENT
BEGIN:VEVENT
DTSTART;TZID=America/Los_Angeles:20160115T190000
DTEND;TZID=America/Los_Angeles:20160115T220000
DTSTAMP:20260420T051146
CREATED:20160108T194028Z
LAST-MODIFIED:20160108T194028Z
UID:12183-1452884400-1452895200@laguestlist.com
SUMMARY:WAVES Opening Reception by Maxwell McMaster
DESCRIPTION:RSVP – On Friday\, January 15th\, The Standard\, Hollywood will host an opening reception to celebrate Maxwell McMaster’s installation with The Box series\, Waves\, that will feature new paintings in his ongoing series. Waves will be on display through January 26th. RSVP: HollywoodRSVP@StandardHotels.com
URL:https://laguestlist.com/event/waves-opening-reception-by-maxwell-mcmaster/
LOCATION:The Standard Hollywood\, 8300 Sunset Blvd\, Los Angeles\, CA\, 90069\, United States
CATEGORIES:Art
ATTACH;FMTTYPE=image/png:https://laguestlist.com/wp-content/uploads/2016/01/unnamed.png
END:VEVENT
BEGIN:VEVENT
DTSTART;TZID=America/Los_Angeles:20160115T190000
DTEND;TZID=America/Los_Angeles:20160115T220000
DTSTAMP:20260420T051146
CREATED:20160115T220544Z
LAST-MODIFIED:20160115T220544Z
UID:12395-1452884400-1452895200@laguestlist.com
SUMMARY:Slow Culture & Sunday Present: WHAT A TIME TO BE ALIVE
DESCRIPTION:Open – This collaborative show between Sunday and Slow Culture is meant to instigate honest and open conversation between artists and the community on social issues and current events. With the recent\, ever increasing development and reach of social media\, fame and awareness are more accessible. Sensations are born on the internet; some become pop stars\, some just moments\, and others may create movements.  \nThe ability to access more information has made a strong impact on the collective practice in the art scene. It is important for individuals\, artists\, organizations and brands to come together and use whatever established platforms we can access to comment on society and what we can do as a community to comprehensively seek and incite change.  \nWhat A Time To Be Alive is a critique and celebration of the modern world; solidarity and political platforms through social media\, the emergence and importance of contemporary pop culture\, the distrust of institutions\, and the instigation of meaningful conversation between all people.
URL:https://laguestlist.com/event/slow-culture-sunday-present-what-a-time-to-be-alive/
LOCATION:Slow Culture\, 5906 N. Figueroa St.\, Los Angeles\, CA\, 90042\, United States
CATEGORIES:Art
ATTACH;FMTTYPE=image/jpeg:https://laguestlist.com/wp-content/uploads/2016/01/flagflyer.jpg
END:VEVENT
BEGIN:VEVENT
DTSTART;TZID=America/Los_Angeles:20160115T203000
DTEND;TZID=America/Los_Angeles:20160115T203000
DTSTAMP:20260420T051146
CREATED:20160108T192002Z
LAST-MODIFIED:20160108T192002Z
UID:12179-1452889800-1452889800@laguestlist.com
SUMMARY:Flood Magazine Presents Current
DESCRIPTION:RSVP – On Friday\, January 15\, pick up copies of FLOOD 1 and 2 while you listen to an exclusive live performance by synth-drenched duo Dream Machines and a DJ set by KYWO. Entry is first come\, first served\, and strictly 21+.
URL:https://laguestlist.com/event/flood-magazine-presents-current-2/
LOCATION:Ace Hotel DTLA\, 921 S. Broadway\, Los Angeles\, CA\, 90015\, United States
CATEGORIES:Nightlife
ATTACH;FMTTYPE=image/jpeg:https://laguestlist.com/wp-content/uploads/2016/01/unnamed-2-1.jpg
END:VEVENT
BEGIN:VEVENT
DTSTART;TZID=America/Los_Angeles:20160115T220000
DTEND;TZID=America/Los_Angeles:20160115T220000
DTSTAMP:20260420T051146
CREATED:20160116T022825Z
LAST-MODIFIED:20160116T022825Z
UID:12408-1452895200-1452895200@laguestlist.com
SUMMARY:Tinashe at Bootsy Bellows
DESCRIPTION:Table Reservations – Tinashe is taking over Bootsy Bellows tonight.
URL:https://laguestlist.com/event/tinashe-at-bootsy-bellows/
LOCATION:Bootsy Bellows\, 9229 Sunset Blvd\, West Hollywood\, CA\, 90069\, United States
CATEGORIES:Nightlife
ATTACH;FMTTYPE=image/png:https://laguestlist.com/wp-content/uploads/2016/01/Screen-Shot-2016-01-15-at-6.22.57-PM.png
END:VEVENT
BEGIN:VEVENT
DTSTART;TZID=America/Los_Angeles:20160116T090000
DTEND;TZID=America/Los_Angeles:20160116T170000
DTSTAMP:20260420T051146
CREATED:20160107T185359Z
LAST-MODIFIED:20160107T185359Z
UID:12148-1452934800-1452963600@laguestlist.com
SUMMARY:IMATS 2016 Los Angeles
DESCRIPTION:Ticketed – The International Make-Up Artist Trade Show-Los Angeles is America’s most high profile show exhibiting products like make up kits\, eye makeup products\, hair care kit\, pedicure and manicure products\, gloss and shine kits and such other makeup and make over products. Makeup artists working in films and some of the most popular television shows of the country also congregate at this event to network with professionals from the trade and stock up on their year’s quota of the best and most exclusive products.
URL:https://laguestlist.com/event/imats-2016-los-angeles/
LOCATION:Pasadena Convention Center\, 300 E Green St\, Pasadena\, CA\, 91101\, United States
CATEGORIES:Beauty
ATTACH;FMTTYPE=image/jpeg:https://laguestlist.com/wp-content/uploads/2016/01/header_image-1.jpg
END:VEVENT
BEGIN:VEVENT
DTSTART;TZID=America/Los_Angeles:20160116T190000
DTEND;TZID=America/Los_Angeles:20160116T210000
DTSTAMP:20260420T051146
CREATED:20160112T231537Z
LAST-MODIFIED:20160112T231537Z
UID:12263-1452970800-1452978000@laguestlist.com
SUMMARY:101/EXHIBIT Opens with Preview of Ian Ingram's Latest Work - "Ash and Oil"
DESCRIPTION:Invite Only – 101/EXHIBIT celebrates the inaugural opening of its new exhibition space with a VIP preview of Ian Ingram’s latest work\, “Ash and Oil”. Sponsors for this opening include Gran Cosecha Tequila and Barton G. (The opening is invite only between 6PM-7PM)
URL:https://laguestlist.com/event/101exhibit-opens-with-preview-of-ian-ingrams-latest-work-ash-and-oil/
LOCATION:101/EXHIBIT\, 668 N La Peer Drive\, West Hollywood\, CA\, 90069\, United States
CATEGORIES:Art
ATTACH;FMTTYPE=image/jpeg:https://laguestlist.com/wp-content/uploads/2016/01/63af69e9-ea26-4849-a7ee-de8ae0f86f9e.jpg
END:VEVENT
BEGIN:VEVENT
DTSTART;TZID=America/Los_Angeles:20160116T193000
DTEND;TZID=America/Los_Angeles:20160116T210000
DTSTAMP:20260420T051146
CREATED:20160115T200854Z
LAST-MODIFIED:20160115T200854Z
UID:12371-1452972600-1452978000@laguestlist.com
SUMMARY:Rotary World Peace Conference 2016
DESCRIPTION:Ticketed – The 2016 Rotary World Peace Conference will be an incredible opportunity to exchange ideas and solutions with leaders and experts in conflict prevention and resolution.
URL:https://laguestlist.com/event/rotary-world-peace-conference-2016/
LOCATION:Ontario\, California
CATEGORIES:Networking
ATTACH;FMTTYPE=image/jpeg:https://laguestlist.com/wp-content/uploads/2016/01/10616443_1534422246790889_9172150649878379006_n.jpg
END:VEVENT
BEGIN:VEVENT
DTSTART;TZID=America/Los_Angeles:20160116T200000
DTEND;TZID=America/Los_Angeles:20160116T200000
DTSTAMP:20260420T051146
CREATED:20151217T025626Z
LAST-MODIFIED:20151217T025626Z
UID:11666-1452974400-1452974400@laguestlist.com
SUMMARY:Hippie Sabotage at The Roxy
DESCRIPTION:Ticketed – Buy tickets for an upcoming Hippie Sabotage concert at the Roxy Theatre.
URL:https://laguestlist.com/event/hippie-sabotage-at-the-roxy/
LOCATION:The Roxy\, 9009 West Sunset Blvd. \, West Hollywood\, CA\, 90069\, United States
CATEGORIES:Concert
ATTACH;FMTTYPE=image/jpeg:https://laguestlist.com/wp-content/uploads/2015/12/12311141_938516966184160_2381895690355425646_n.jpg
END:VEVENT
BEGIN:VEVENT
DTSTART;TZID=America/Los_Angeles:20160116T220000
DTEND;TZID=America/Los_Angeles:20160116T220000
DTSTAMP:20260420T051146
CREATED:20160111T194603Z
LAST-MODIFIED:20160111T194603Z
UID:12232-1452981600-1452981600@laguestlist.com
SUMMARY:TY$ at Bootsy Bellows
DESCRIPTION:Table Reservations – TY$ Special Performance at Bootsy Bellows.
URL:https://laguestlist.com/event/ty-at-bootsy-bellows/
LOCATION:Bootsy Bellows\, 9229 Sunset Blvd\, West Hollywood\, CA\, 90069\, United States
CATEGORIES:Nightlife
ATTACH;FMTTYPE=image/png:https://laguestlist.com/wp-content/uploads/2016/01/unnamed-2.png
END:VEVENT
BEGIN:VEVENT
DTSTART;TZID=America/Los_Angeles:20160117T190000
DTEND;TZID=America/Los_Angeles:20160117T220000
DTSTAMP:20260420T051146
CREATED:20151216T014225Z
LAST-MODIFIED:20151216T014225Z
UID:11618-1453057200-1453068000@laguestlist.com
SUMMARY:21st Annual Critics’ Choice Awards
DESCRIPTION:Invite Only – The Broadcast Film Critics Association and Broadcast Television Journalists Association have announced the nominees for The 21st Annual Critics’ Choice Awards. The winners will be revealed live at the star-studded Critics’ Choice Awards gala\, which will be broadcast from the Barker Hangar in Santa Monica on A&E\, Lifetime and LMN on Sunday\, January 17 immediately following “Critics’ Choice Red Carpet Live” on A&E at 7PM ET/4PM PT. As previously announced\, actor and comedian T.J. Miller will serve as the show’s host.
URL:https://laguestlist.com/event/21st-annual-critics-choice-awards/
LOCATION:The Barker Hangar\, 3021 Airport Ave\, Santa Monica\, CA\, 90405\, United States
CATEGORIES:Award Show
ATTACH;FMTTYPE=image/jpeg:https://laguestlist.com/wp-content/uploads/2015/12/criticschoiceheader.jpg
END:VEVENT
BEGIN:VEVENT
DTSTART;TZID=America/Los_Angeles:20160117T210000
DTEND;TZID=America/Los_Angeles:20160117T210000
DTSTAMP:20260420T051146
CREATED:20160112T191600Z
LAST-MODIFIED:20160112T191600Z
UID:12260-1453064400-1453064400@laguestlist.com
SUMMARY:David Bowie Night with Guest DJ Andy Rourke from The Smiths
DESCRIPTION:Ticketed – (18+) Andy Rourke from The Smiths returns to The Echoplex to DJ Part Time Punks’ annual tribute to David Bowie and also to celebrate Andy’s birthday. So come pay homage to one of the greatest David Bowie\, RIP\, in inimitable style at PTP as we devote an entire evening to the 40+ years of David Bowie’s brilliant back catalogue.
URL:https://laguestlist.com/event/david-bowie-nite-wguest-djs-andy-rourke-from-the-smiths/
LOCATION:Echoplex\, 1822 Sunset Blvd\, Los Angeles\, CA\, 90026\, United States
CATEGORIES:Music
ATTACH;FMTTYPE=image/jpeg:https://laguestlist.com/wp-content/uploads/2016/01/51-elg.jpg
END:VEVENT
BEGIN:VEVENT
DTSTART;TZID=America/Los_Angeles:20160117T210000
DTEND;TZID=America/Los_Angeles:20160117T210000
DTSTAMP:20260420T051146
CREATED:20160116T001646Z
LAST-MODIFIED:20160116T001646Z
UID:12398-1453064400-1453064400@laguestlist.com
SUMMARY:Travis $cott at OHM
DESCRIPTION:Ticketed -(21+) Travis Scott is ready to have the club on Fire with his signature energy and style! Party with La Flame and experience the Rodeo on this 3 day Holiday weekend.
URL:https://laguestlist.com/event/travis-cott-at-ohm/
LOCATION:OHM\, 6801 Hollywood Blvd.\, Hollywood\, CA\, 90028\, United States
CATEGORIES:Nightlife
ATTACH;FMTTYPE=image/jpeg:https://laguestlist.com/wp-content/uploads/2016/01/https-img.evbuc_.com-http3A2F2Fcdn.evbuc_.com2Fimages2F178501452F13180723702F12Foriginal.jpg
END:VEVENT
BEGIN:VEVENT
DTSTART;TZID=America/Los_Angeles:20160117T220000
DTEND;TZID=America/Los_Angeles:20160117T220000
DTSTAMP:20260420T051146
CREATED:20160117T224037Z
LAST-MODIFIED:20160117T224037Z
UID:12426-1453068000-1453068000@laguestlist.com
SUMMARY:Booty Belows MLK Weekend
DESCRIPTION:Table Reservations – If you ain’t got to go to work tomorrow\, head over to Bootsy Bellows tonight.
URL:https://laguestlist.com/event/booty-belows-mlk-weekend/
LOCATION:Bootsy Bellows\, 9229 Sunset Blvd\, West Hollywood\, CA\, 90069\, United States
CATEGORIES:Nightlife
ATTACH;FMTTYPE=image/jpeg:https://laguestlist.com/wp-content/uploads/2016/01/b9b9b374-66e4-43be-8167-ee1b7ecf005d.jpg
END:VEVENT
BEGIN:VEVENT
DTSTART;TZID=America/Los_Angeles:20160118T153000
DTEND;TZID=America/Los_Angeles:20160118T173000
DTSTAMP:20260420T051146
CREATED:20160117T215734Z
LAST-MODIFIED:20160117T215734Z
UID:12413-1453131000-1453138200@laguestlist.com
SUMMARY:Deadpool's Fan Appreciation Vsauce Event - LA
DESCRIPTION:RSVP –  Here is a special Deadpool Fan Appreciation Vsauce Event in Los Angeles on Monday\, January 18th\, where we’ll get a sneak peek at exclusive\, never-before-seen first-look footage from the new movie Deadpool\, plus special guests + more!\nLine in front of the theater begins at 1:30 p.m. PT.\nSpace is limited. You must register to be able to attend\, so RSVP now! Admission is not guaranteed\, seating is on a first-come\, first-served basis.
URL:https://laguestlist.com/event/deadpools-fan-appreciation-vsauce-event-la/
LOCATION:AMC Century City 15\, 10250 Santa Monica Boulevard\, Los Angeles\, CA\, 90067\, United States
CATEGORIES:Movies
ATTACH;FMTTYPE=image/jpeg:https://laguestlist.com/wp-content/uploads/2016/01/dpvsaucetwitter.jpg
END:VEVENT
BEGIN:VEVENT
DTSTART;TZID=America/Los_Angeles:20160118T200000
DTEND;TZID=America/Los_Angeles:20160118T220000
DTSTAMP:20260420T051146
CREATED:20160105T163930Z
LAST-MODIFIED:20160105T163930Z
UID:12058-1453147200-1453154400@laguestlist.com
SUMMARY:Nick Swardson and Friends
DESCRIPTION:Ticketed – Nick Swardson and Friends at the Largo\, stop by for a good laugh.
URL:https://laguestlist.com/event/nick-swardson-and-friends/
LOCATION:Largo at the Coronet\, 366 N La Cienega Blvd\, Los Angeles\, CA\, 90048\, United States
CATEGORIES:Comedy
ATTACH;FMTTYPE=image/jpeg:https://laguestlist.com/wp-content/uploads/2016/01/71-atlg.jpg
END:VEVENT
BEGIN:VEVENT
DTSTART;TZID=America/Los_Angeles:20160118T220000
DTEND;TZID=America/Los_Angeles:20160118T220000
DTSTAMP:20260420T051146
CREATED:20160118T223247Z
LAST-MODIFIED:20160118T223247Z
UID:12457-1453154400-1453154400@laguestlist.com
SUMMARY:Fat Joe at Henry's
DESCRIPTION:Table Reservations – Fat Joe at Henry’s.
URL:https://laguestlist.com/event/fat-joe-at-henrys/
LOCATION:Henry’s\, 8713 Beverly Blvd\, West Hollywood\, CA\, 90048\, United States
CATEGORIES:Nightlife
ATTACH;FMTTYPE=image/png:https://laguestlist.com/wp-content/uploads/2016/01/Screen-Shot-2016-01-18-at-2.25.07-PM.png
END:VEVENT
END:VCALENDAR