BEGIN:VCALENDAR
VERSION:2.0
PRODID:-//LA Guestlist - ECPv6.15.20//NONSGML v1.0//EN
CALSCALE:GREGORIAN
METHOD:PUBLISH
X-WR-CALNAME:LA Guestlist
X-ORIGINAL-URL:https://laguestlist.com
X-WR-CALDESC:Events for LA Guestlist
REFRESH-INTERVAL;VALUE=DURATION:PT1H
X-Robots-Tag:noindex
X-PUBLISHED-TTL:PT1H
BEGIN:VTIMEZONE
TZID:America/Los_Angeles
BEGIN:DAYLIGHT
TZOFFSETFROM:-0800
TZOFFSETTO:-0700
TZNAME:PDT
DTSTART:20220313T100000
END:DAYLIGHT
BEGIN:STANDARD
TZOFFSETFROM:-0700
TZOFFSETTO:-0800
TZNAME:PST
DTSTART:20221106T090000
END:STANDARD
BEGIN:DAYLIGHT
TZOFFSETFROM:-0800
TZOFFSETTO:-0700
TZNAME:PDT
DTSTART:20230312T100000
END:DAYLIGHT
BEGIN:STANDARD
TZOFFSETFROM:-0700
TZOFFSETTO:-0800
TZNAME:PST
DTSTART:20231105T090000
END:STANDARD
BEGIN:DAYLIGHT
TZOFFSETFROM:-0800
TZOFFSETTO:-0700
TZNAME:PDT
DTSTART:20240310T100000
END:DAYLIGHT
BEGIN:STANDARD
TZOFFSETFROM:-0700
TZOFFSETTO:-0800
TZNAME:PST
DTSTART:20241103T090000
END:STANDARD
END:VTIMEZONE
BEGIN:VEVENT
DTSTART;TZID=America/Los_Angeles:20231230T160000
DTEND;TZID=America/Los_Angeles:20231231T230000
DTSTAMP:20260420T123108
CREATED:20231208T213915Z
LAST-MODIFIED:20231208T213915Z
UID:49749-1703952000-1704063600@laguestlist.com
SUMMARY:Insomniac Presents: Forever Midnight
DESCRIPTION:Ticketed – Insomniac is celebrating New Year’s Eve with two epic parties in Los Angeles and Las Vegas\, marking the first time in Insomniac’s 30-year history that the company has hosted two holiday festivals simultaneously in separate cities. Taking place December 30 + 31\, 2023\, Forever Midnight’s Los Angeles edition will see major performances from EDM heavyweights such as Kaskade\, Fisher\, Kaytranada\, Eli Brown\, Eric Prydz\, Sofi Tukker\, Jamie XX\, and many more.
URL:https://laguestlist.com/event/insomniac-presents-forever-midnight/
LOCATION:Los Angeles Convention Center\, 1201 S Figueroa St\, Los Angeles\, CA\, 90015\, United States
CATEGORIES:Concert
ATTACH;FMTTYPE=image/jpeg:https://laguestlist.com/wp-content/uploads/2023/12/Forever-Midnight-LA-lineup-1.jpeg
END:VEVENT
BEGIN:VEVENT
DTSTART;TZID=America/Los_Angeles:20231215T220000
DTEND;TZID=America/Los_Angeles:20231216T020000
DTSTAMP:20260420T123108
CREATED:20231212T042814Z
LAST-MODIFIED:20231212T042814Z
UID:49763-1702677600-1702692000@laguestlist.com
SUMMARY:James Kennedy at Exchange LA
DESCRIPTION:Ticketed – James Kennedy will take over Exchange LA following the upcoming season release of Vanderpump Rules.
URL:https://laguestlist.com/event/james-kennedy-at-exchange-la/
LOCATION:Exchange LA\, 618 S Spring St\, Los Angeles\, CA\, 90014\, United States
CATEGORIES:Nightlife
ATTACH;FMTTYPE=image/png:https://laguestlist.com/wp-content/uploads/2023/12/james.png
END:VEVENT
BEGIN:VEVENT
DTSTART;TZID=America/Los_Angeles:20231215T170000
DTEND;TZID=America/Los_Angeles:20231215T230000
DTSTAMP:20260420T123108
CREATED:20231208T213502Z
LAST-MODIFIED:20231208T213502Z
UID:49746-1702659600-1702681200@laguestlist.com
SUMMARY:Insomniac and Emo Nite Present: ‘Grave at The Torch’
DESCRIPTION:Ticketed – This special\, one-night affair is the first official concert event of Insomniac and Emo Nite’s recently announced creative partnership and will fuse the sounds of electronic music with the melodies of the emo\, pop-punk\, and rock genres. Acclaimed bands We The Kings and State Champs will bring their signature punk-rock sounds\, encompassing their most recognizable songs from the 2000s to today’s current hits\, and will be joined by Emo Nite and electronic dance music producers Said The Sky and Nurko.
URL:https://laguestlist.com/event/insomniac-and-emo-nite-present-grave-at-the-torch/
LOCATION:LA Coliseum\, 3911 S Figueroa St\, Los Angeles\, CA\, 90037\, United States
CATEGORIES:Concert
ATTACH;FMTTYPE=image/jpeg:https://laguestlist.com/wp-content/uploads/2023/12/GRAVE-at-The-Torch-lineup.jpg
END:VEVENT
BEGIN:VEVENT
DTSTART;TZID=America/Los_Angeles:20231215T110000
DTEND;TZID=America/Los_Angeles:20231215T190000
DTSTAMP:20260420T123108
CREATED:20231212T043201Z
LAST-MODIFIED:20231212T043201Z
UID:49765-1702638000-1702666800@laguestlist.com
SUMMARY:Target Wonderland: Bullseye’s Top Toy Adventure
DESCRIPTION:Open – Open to the public and free to attend\, guests will experience a fun\, interactive pop-up featuring Target’s 2023 Bullseye’s Top Toys and guest-favorite brands like Mattel\, LEGO and Nintendo\, and will be able to build and check items off their holiday wish list by scanning QR codes at the event.
URL:https://laguestlist.com/event/target-wonderland-bullseyes-top-toy-adventure/
LOCATION:LA Live\, 777 Chick Hearn Court\, Los Angeles\, CA\, 90015\, United States
CATEGORIES:Things to do
ATTACH;FMTTYPE=image/png:https://laguestlist.com/wp-content/uploads/2023/12/Target.png
END:VEVENT
BEGIN:VEVENT
DTSTART;TZID=America/Los_Angeles:20231213T200000
DTEND;TZID=America/Los_Angeles:20231213T220000
DTSTAMP:20260420T123108
CREATED:20231113T030937Z
LAST-MODIFIED:20231113T030937Z
UID:49611-1702497600-1702504800@laguestlist.com
SUMMARY:Single AF: An Evening for Bad Bitches with Ariana Madix
DESCRIPTION:Ticketed – Join star of Vanderpump Rules\, Mirror Ball hopeful\, and Cocktail aficionado\, Ariana Madix\, in an unforgettable evening of conversation\, games\, and split tea! Joined by some special surprise guests\, you never know what could happen during this unforgettable evening.
URL:https://laguestlist.com/event/single-af-an-evening-for-bad-bitches-with-ariana-madix/
LOCATION:The Wiltern\, 3790 Wilshire Blvd\, Los Angeles\, CA\, 90010\, United States
CATEGORIES:Things to do
ATTACH;FMTTYPE=image/jpeg:https://laguestlist.com/wp-content/uploads/2023/11/Screensho.jpg
END:VEVENT
BEGIN:VEVENT
DTSTART;TZID=America/Los_Angeles:20231207T100000
DTEND;TZID=America/Los_Angeles:20231207T130000
DTSTAMP:20260420T123108
CREATED:20231113T023247Z
LAST-MODIFIED:20231113T023247Z
UID:49607-1701943200-1701954000@laguestlist.com
SUMMARY:THR’s Women in Entertainment Breakfast Gala
DESCRIPTION:Invite Only – The Hollywood Reporter announced today that Adele will receive this year’s prestigious Sherry Lansing Leadership Award during THR’s annual Women in Entertainment breakfast gala on December 7 in Los Angeles. Attended by more than 750 industry leaders and VIPs\, the invite-only gala coincides with the release of The Hollywood Reporter’s highly anticipated Women in Entertainment issue (on newsstands Dec. 7)\, which highlights the Power 100\, a list of the most powerful female executives and talent in entertainment.
URL:https://laguestlist.com/event/thrs-women-in-entertainment-breakfast-gala/
CATEGORIES:Charity,Magazine
ATTACH;FMTTYPE=image/png:https://laguestlist.com/wp-content/uploads/2023/11/holly.png
END:VEVENT
BEGIN:VEVENT
DTSTART;TZID=America/Los_Angeles:20231203T180000
DTEND;TZID=America/Los_Angeles:20231203T230000
DTSTAMP:20260420T123108
CREATED:20231113T012619Z
LAST-MODIFIED:20231113T012619Z
UID:49605-1701626400-1701644400@laguestlist.com
SUMMARY:The 2023 Academy Museum Gala
DESCRIPTION:Invite Only – The Los Angeles museum will celebrate Meryl Streep\, Oprah\, Michael B. Jordan and Sofia Coppola at its annual fundraising gala.
URL:https://laguestlist.com/event/the-2023-academy-museum-gala/
LOCATION:Academy Museum of Motion Pictures\, 6067 Wilshire Blvd\, Los Angeles\, CA\, 90036\, United States
CATEGORIES:Charity,Entertainment
ATTACH;FMTTYPE=image/jpeg:https://laguestlist.com/wp-content/uploads/2023/11/Nasseri-Academy-Gala-104.jpg
END:VEVENT
BEGIN:VEVENT
DTSTART;TZID=America/Los_Angeles:20231202T180000
DTEND;TZID=America/Los_Angeles:20231202T220000
DTSTAMP:20260420T123108
CREATED:20231001T025015Z
LAST-MODIFIED:20231001T025015Z
UID:49401-1701540000-1701554400@laguestlist.com
SUMMARY:Balenciaga Los Angeles Fashion Show
DESCRIPTION:Invite Only – Balenciaga\, the Paris-based fashion house\, plans to unveil its fall 2024 men’s and women’s collection with a fashion show in Los Angeles on December 2nd.
URL:https://laguestlist.com/event/balenciaga-los-angeles-fashion-show/
CATEGORIES:Fashion
ATTACH;FMTTYPE=image/jpeg:https://laguestlist.com/wp-content/uploads/2023/09/Balenciaga-logo.jpg
END:VEVENT
BEGIN:VEVENT
DTSTART;TZID=America/Los_Angeles:20231202T170000
DTEND;TZID=America/Los_Angeles:20231202T230000
DTSTAMP:20260420T123108
CREATED:20231009T003127Z
LAST-MODIFIED:20231009T003127Z
UID:49437-1701536400-1701558000@laguestlist.com
SUMMARY:Higher Ground Los Angeles ft. Diplo
DESCRIPTION:Ticketed – Framework presents Higher Ground Los Angeles featuring Diplo and much more.
URL:https://laguestlist.com/event/higher-ground-los-angeles-ft-diplo/
LOCATION:La Plaza De Cultura Y Artes\, 501 N Main St\, Los Angeles\, CA\, 0012\,\, United States
CATEGORIES:Concert
ATTACH;FMTTYPE=image/png:https://laguestlist.com/wp-content/uploads/2023/10/Diplo.png
END:VEVENT
BEGIN:VEVENT
DTSTART;TZID=America/Los_Angeles:20231202T140000
DTEND;TZID=America/Los_Angeles:20231202T190000
DTSTAMP:20260420T123108
CREATED:20231129T033000Z
LAST-MODIFIED:20231129T033000Z
UID:49675-1701525600-1701543600@laguestlist.com
SUMMARY:Uncle Paulie's x Carhartt
DESCRIPTION:Invite Only – Uncle Paulie’s x Carhartt Launch party with special musical guests: The Alchemist\, A-trak\, Budgie\, and Roofeeo.
URL:https://laguestlist.com/event/uncle-paulies-x-carhartt/
CATEGORIES:Fashion,Launch Party
ATTACH;FMTTYPE=image/png:https://laguestlist.com/wp-content/uploads/2023/11/uncle.png
END:VEVENT
BEGIN:VEVENT
DTSTART;TZID=America/Los_Angeles:20231202T120000
DTEND;TZID=America/Los_Angeles:20231202T160000
DTSTAMP:20260420T123108
CREATED:20231107T032453Z
LAST-MODIFIED:20231107T032453Z
UID:49519-1701518400-1701532800@laguestlist.com
SUMMARY:Variety Hitmakers Brunch 2023
DESCRIPTION:Invite Only – Variety is pleased to announce the first group of honorees for its seventh annual Hitmakers celebration. The November 29 issue and accompanying event look back at the year in music and recognize the writers\, producers\, publishers\, managers and executives who helped make — and break — the 25 most-consumed songs of the year\, as measured by Billboard and Luminate Charts.
URL:https://laguestlist.com/event/variety-hitmakers-brunch-2023/
CATEGORIES:Magazine,Music
ATTACH;FMTTYPE=image/png:https://laguestlist.com/wp-content/uploads/2023/11/variety.png
END:VEVENT
BEGIN:VEVENT
DTSTART;TZID=America/Los_Angeles:20231202T110000
DTEND;TZID=America/Los_Angeles:20231202T160000
DTSTAMP:20260420T123108
CREATED:20231113T010759Z
LAST-MODIFIED:20231113T010759Z
UID:49601-1701514800-1701532800@laguestlist.com
SUMMARY:Vanderpump Dog Foundation World Dog Day
DESCRIPTION:Open – World Dog Day is a day that focuses on the celebration of dogs!  The day aims to draw attention to the amazing\, empathetic creatures that dogs are\, all while raising awareness about global dog abuse hosted by Lisa Vanderpump with vendors\, food trucks\, puppy adoptions\, contests and performers.
URL:https://laguestlist.com/event/vanderpump-dog-foundation-world-dog-day/
LOCATION:West Hollywood Park\, 647 N San Vicente Blvd\, West Hollywood\, CA\, 90069\, United States
CATEGORIES:Charity,Event
ATTACH;FMTTYPE=image/png:https://laguestlist.com/wp-content/uploads/2023/11/dog.png
END:VEVENT
BEGIN:VEVENT
DTSTART;TZID=America/Los_Angeles:20231201T190000
DTEND;TZID=America/Los_Angeles:20231202T013000
DTSTAMP:20260420T123108
CREATED:20231001T025750Z
LAST-MODIFIED:20231001T025750Z
UID:49403-1701457200-1701480600@laguestlist.com
SUMMARY:Fool's Gold 15 Year Anniversary Party
DESCRIPTION:Ticketed – Fool’s Gold 15 Year Anniversary Party⁣ at The Bellwether hosted by The Cobrasnake + IHEARTCOMIX with music from Hudson Mohawke\, A-Trak\, Baauer and many more special guests.
URL:https://laguestlist.com/event/fools-gold-15-year-anniversary-party/
LOCATION:The Bellwether\, 333 S. Boylston St.\, Los Angeles\, Los Angeles\, 90017\, United States
CATEGORIES:Comedy
ATTACH;FMTTYPE=image/jpeg:https://laguestlist.com/wp-content/uploads/2023/09/1-7-2.jpg
END:VEVENT
BEGIN:VEVENT
DTSTART;TZID=America/Los_Angeles:20231201T160000
DTEND;TZID=America/Los_Angeles:20231202T190000
DTSTAMP:20260420T123108
CREATED:20231101T111525Z
LAST-MODIFIED:20231101T111525Z
UID:49504-1701446400-1701543600@laguestlist.com
SUMMARY:Chain Fest 2023
DESCRIPTION:Ticketed – New\, limited menu items from the most beloved chain restaurants – all in collaboration with Chain’s Michelin-starred chef — are coming to Hollywood for one weekend only. Part food festival\, part fan convention\, this is the ultimate outing with over 20\,000 square feet of games\, activities\, and some very fun surprises. \nFeaturing exclusive dishes and cocktails from Chili’s™\, Dunkin’™\, Jack in the Box™\, Panda Express™\, Pizza Hut™\, Red Robin™\, and SONIC® Drive-In with beverages by Pepsi™ and Don Julio™\, Johnnie Walker™\, Smirnoff™ and Captain Morgan™
URL:https://laguestlist.com/event/chain-fest-2023/
LOCATION:NYA Studios\, 1541 N Cahuenga Blvd\,\, Los Angeles\, CA\, 90028\, United States
CATEGORIES:Gastronomy
ATTACH;FMTTYPE=image/jpeg:https://laguestlist.com/wp-content/uploads/2023/11/1-2.jpg
END:VEVENT
BEGIN:VEVENT
DTSTART;TZID=America/Los_Angeles:20231130T190000
DTEND;TZID=America/Los_Angeles:20231202T020000
DTSTAMP:20260420T123108
CREATED:20231129T035141Z
LAST-MODIFIED:20231129T035141Z
UID:49682-1701370800-1701482400@laguestlist.com
SUMMARY:Dillon Francis L.A. Takeover
DESCRIPTION:Ticketed – On Thursday\, November 30\, Dillon Francis will appear as his alter ego DJ Hanzel at The Roxy\, followed by a rare Moombahton set at The Mayan on Friday\, December 1 and a marquee Dillon Francis and Friends show at The Shrine on Saturday\, December 2 with NITTI\, Joey Valence & Brae\, BYNX and more.
URL:https://laguestlist.com/event/dillon-francis-l-a-takeover/
CATEGORIES:Concert
ATTACH;FMTTYPE=image/jpeg:https://laguestlist.com/wp-content/uploads/2023/11/unnamed.jpg
END:VEVENT
BEGIN:VEVENT
DTSTART;TZID=America/Los_Angeles:20231130T180000
DTEND;TZID=America/Los_Angeles:20231130T220000
DTSTAMP:20260420T123108
CREATED:20231113T011417Z
LAST-MODIFIED:20231113T011417Z
UID:49603-1701367200-1701381600@laguestlist.com
SUMMARY:WIF: Women in Film 2023
DESCRIPTION:Invite Only –  WIF will honor Eva Longoria\, America Ferrera\, Yara Shahidi with many others at the 2023 WIF Honors that will be held on Thursday\, November 30 in Los Angeles.
URL:https://laguestlist.com/event/wif-women-in-film-2023/
CATEGORIES:Charity
ATTACH;FMTTYPE=image/png:https://laguestlist.com/wp-content/uploads/2023/11/wif.png
END:VEVENT
BEGIN:VEVENT
DTSTART;TZID=America/Los_Angeles:20231130T130000
DTEND;TZID=America/Los_Angeles:20231201T200000
DTSTAMP:20260420T123108
CREATED:20231129T032026Z
LAST-MODIFIED:20231130T040700Z
UID:49671-1701349200-1701460800@laguestlist.com
SUMMARY:Teremana Mana Holiday House
DESCRIPTION:RSVP – Join the Teremana Mana Holiday House experience to partake in sharing the Mana of the holiday season. At this in-person experience\, guests will be able to enjoy delicious Teremana Tequila cocktails and bites\, partake in tequila education and cocktail making sessions\, as well as enjoy giveaways and additional surprises.
URL:https://laguestlist.com/event/teremana-mana-holiday-house/
LOCATION:Beverly Hills
CATEGORIES:Gastronomy
ATTACH;FMTTYPE=image/jpeg:https://laguestlist.com/wp-content/uploads/2023/11/Mana-Holiday-House_Hero.jpg
END:VEVENT
BEGIN:VEVENT
DTSTART;TZID=America/Los_Angeles:20231130T110000
DTEND;TZID=America/Los_Angeles:20231203T180000
DTSTAMP:20260420T123108
CREATED:20231129T032438Z
LAST-MODIFIED:20231129T032438Z
UID:49673-1701342000-1701626400@laguestlist.com
SUMMARY:Fear of God: The Athletic Atmosphere
DESCRIPTION:Open – Ahead of the release\, however\, Fear of God will hold an event called “The Athletics Atmosphere” in Los Angeles on November 30 to December 3 from 11am to 6pm PT.
URL:https://laguestlist.com/event/fear-of-god-the-athletic-atmosphere/
CATEGORIES:Event,Fashion
ATTACH;FMTTYPE=image/png:https://laguestlist.com/wp-content/uploads/2023/11/athletic.png
END:VEVENT
BEGIN:VEVENT
DTSTART;TZID=America/Los_Angeles:20231121T220000
DTEND;TZID=America/Los_Angeles:20231122T020000
DTSTAMP:20260420T123108
CREATED:20231116T021313Z
LAST-MODIFIED:20231116T021313Z
UID:49638-1700604000-1700618400@laguestlist.com
SUMMARY:Born x Raised's Sadie Hawkins Winter Formal 2023
DESCRIPTION:Invite Only – Born x Raised’s Sadie Hawkins Winter Formal 2022 presented by Dr. Martens.
URL:https://laguestlist.com/event/born-x-raiseds-sadie-hawkins-winter-formal-2023/
CATEGORIES:Fashion
ATTACH;FMTTYPE=image/jpeg:https://laguestlist.com/wp-content/uploads/2023/11/Screensho-1.jpg
END:VEVENT
BEGIN:VEVENT
DTSTART;TZID=America/Los_Angeles:20231118T190000
DTEND;TZID=America/Los_Angeles:20231118T220000
DTSTAMP:20260420T123108
CREATED:20231107T035556Z
LAST-MODIFIED:20231107T035556Z
UID:49526-1700334000-1700344800@laguestlist.com
SUMMARY:Shepard Fairey: ICONS
DESCRIPTION:RSVP – Subliminal Projects is pleased to present ICONS\, an exhibition by gallery founder Shepard Fairey. The exhibition will debut a new series and method of hand-embellished “mono-engravings\,” as well as screen prints on wood and metal\, hand-painted multiples (HPMs)\, and modular works focused around Fairey’s career-long investigation into iconography and phenomenology.⁠\n⁠
URL:https://laguestlist.com/event/shepard-fairey-icons/
LOCATION:Subliminal Projects\, 1331 Sunset Blvd\, Los Angeles\, CA\, 90026\, United States
CATEGORIES:Art
ATTACH;FMTTYPE=image/jpeg:https://laguestlist.com/wp-content/uploads/2023/11/Screensho-copy-2.jpg
END:VEVENT
BEGIN:VEVENT
DTSTART;TZID=America/Los_Angeles:20231118T110000
DTEND;TZID=America/Los_Angeles:20231118T180000
DTSTAMP:20260420T123108
CREATED:20231101T105656Z
LAST-MODIFIED:20231101T105656Z
UID:49492-1700305200-1700330400@laguestlist.com
SUMMARY:Teen Vogue Summit 2023
DESCRIPTION:Ticketed – This year’s summit will bring together the biggest and brightest culture-creators and change-makers for Teen Vogue’s 20th birthday. Celebrate with Teen Vogue editors on Saturday\, Nov. 18th at NYA Studios in Los Angeles with a jam-packed day of inspiring conversations and keynotes\, live music from your favorite artists\, career guidance and networking moments\, and much more.
URL:https://laguestlist.com/event/teen-vogue-summit-2023/
LOCATION:NYA Studios\, 1541 N Cahuenga Blvd\,\, Los Angeles\, CA\, 90028\, United States
CATEGORIES:Magazine,Networking
ATTACH;FMTTYPE=image/png:https://laguestlist.com/wp-content/uploads/2023/11/Teen.png
END:VEVENT
BEGIN:VEVENT
DTSTART;TZID=America/Los_Angeles:20231118T080000
DTEND;TZID=America/Los_Angeles:20231119T170000
DTSTAMP:20260420T123108
CREATED:20230910T032411Z
LAST-MODIFIED:20230910T032411Z
UID:49204-1700294400-1700413200@laguestlist.com
SUMMARY:ComplexCon 2023
DESCRIPTION:Ticketed – Complex announced that the culture-defining ComplexCon festival will return to Long Beach in 2023 for two back-to-back days on Saturday\, November 18 and Sunday\, November 19. ComplexCon is an expertly-curated festival of the future\, bringing together the world’s most influential brands and artists for an immersive and unforgettable two days of style\, sneakers\, art\, food\, music\, inspiration\, and more. As part of the epic experience\, the First We Feast Lagoon will also return\, bringing attendees the most delicious\, “can’t get them anywhere else” fan-favorite First We Feast and Hot Ones dishes\, hosts\, and events.
URL:https://laguestlist.com/event/complexcon-2023/
LOCATION:Long Beach Convention Center\, 300 E Ocean Blvd\, Long Beach\, CA\, 90802\, United States
CATEGORIES:Event
ATTACH;FMTTYPE=image/png:https://laguestlist.com/wp-content/uploads/2023/09/complexcon.png
END:VEVENT
BEGIN:VEVENT
DTSTART;TZID=America/Los_Angeles:20231117T193000
DTEND;TZID=America/Los_Angeles:20231117T223000
DTSTAMP:20260420T123108
CREATED:20231101T111137Z
LAST-MODIFIED:20231101T111137Z
UID:49502-1700249400-1700260200@laguestlist.com
SUMMARY:Mariah Carey: Merry Christmas One and All
DESCRIPTION:Ticketed – After announcing the initial run of dates for the Merry Christmas One and All holiday tour earlier this month\, R&B and pop diva Mariah Carey is extending her Christmas stay at the Hollywood Bowl in Los Angeles for a second evening on Nov. 19.
URL:https://laguestlist.com/event/mariah-carey-merry-christmas-one-and-all/
LOCATION:The Hollywood Bowl\, 2301 Highland Ave \, Los Angeles\, CA\, 90068\, United States
CATEGORIES:Holiday Party
ATTACH;FMTTYPE=image/png:https://laguestlist.com/wp-content/uploads/2023/11/Mariah.png
END:VEVENT
BEGIN:VEVENT
DTSTART;TZID=America/Los_Angeles:20231116T210000
DTEND;TZID=America/Los_Angeles:20231117T230000
DTSTAMP:20260420T123108
CREATED:20231116T015724Z
LAST-MODIFIED:20231116T015724Z
UID:49633-1700168400-1700262000@laguestlist.com
SUMMARY:FUTUREFLIGHT Launch Event
DESCRIPTION:Invite Only – TERMINAL™ and DITA Eyewear are proud to unveil their exclusive luxury eyewear collaboration “FUTUREFLIGHT” – an avant-garde reinvention of the iconic SUPERFLIGHT silhouette\, now adorned with a custom soft yellow lens tint. To celebrate the collaboration\, TERMINAL™ will be hosting a private launch party at their Los Angeles flagship store on Thursday\, November 16\, 2023 featuring drinks sponsored by Rosaluna Mezcal along with DJ sets by Darcy Haylor\, Noah Dillon\, and Sextile.
URL:https://laguestlist.com/event/futureflight-launch-event/
CATEGORIES:Fashion
ATTACH;FMTTYPE=image/jpeg:https://laguestlist.com/wp-content/uploads/2023/11/unnamed-2.jpg
END:VEVENT
BEGIN:VEVENT
DTSTART;TZID=America/Los_Angeles:20231116T200000
DTEND;TZID=America/Los_Angeles:20231116T230000
DTSTAMP:20260420T123108
CREATED:20231112T161147Z
LAST-MODIFIED:20231116T220939Z
UID:49556-1700164800-1700175600@laguestlist.com
SUMMARY:GQ Men Of The Year 2023
DESCRIPTION:Invite Only –  On November 16\, GQ’s annual Men of the Year Party will be back in Los Angeles with GQ’s global editorial director Will Welch and co-hosts: Jacob Elordi\, Kim Kardashian\, Travis Scott\, and Tom Ford.
URL:https://laguestlist.com/event/gq-men-of-the-year-2023/
CATEGORIES:Magazine
ATTACH;FMTTYPE=image/png:https://laguestlist.com/wp-content/uploads/2023/11/gq-1.png
END:VEVENT
BEGIN:VEVENT
DTSTART;TZID=America/Los_Angeles:20231116T190000
DTEND;TZID=America/Los_Angeles:20231116T230000
DTSTAMP:20260420T123108
CREATED:20231116T014215Z
LAST-MODIFIED:20231116T014215Z
UID:49630-1700161200-1700175600@laguestlist.com
SUMMARY:30 Years of ECKO UNTLD
DESCRIPTION:Invite Only – Join Mark Ecko to celebrate 30 years of ECKO UNTLD with a special VIp event for the launch of Dear1993.art with music\, art\, and an open bar.
URL:https://laguestlist.com/event/30-years-of-ecko-untld/
CATEGORIES:Fashion
ATTACH;FMTTYPE=image/jpeg:https://laguestlist.com/wp-content/uploads/2023/11/269316LOGO.jpg
END:VEVENT
BEGIN:VEVENT
DTSTART;TZID=America/Los_Angeles:20231115T190000
DTEND;TZID=America/Los_Angeles:20231115T220000
DTSTAMP:20260420T123108
CREATED:20231107T031744Z
LAST-MODIFIED:20231107T031744Z
UID:49517-1700074800-1700085600@laguestlist.com
SUMMARY:‘Love Island Games’ Watch Party
DESCRIPTION:RSVP – Peacock will host an exclusive live watch party for new series LOVE ISLAND GAMES on Wednesday\, November 15 from 7 – 10 PM at The Den on Sunset\, with games\, refreshments and a sneak peek screening hosted by fan favorite Islanders.
URL:https://laguestlist.com/event/love-island-games-watch-party/
LOCATION:The Den\, 8226 Sunset Blvd\, West Hollywood\, CA\, 90046\, United States
CATEGORIES:Entertainment,Things to do
ATTACH;FMTTYPE=image/png:https://laguestlist.com/wp-content/uploads/2023/11/pasted-image-0.png
END:VEVENT
BEGIN:VEVENT
DTSTART;TZID=America/Los_Angeles:20231114T180000
DTEND;TZID=America/Los_Angeles:20231114T200000
DTSTAMP:20260420T123108
CREATED:20231112T152304Z
LAST-MODIFIED:20231112T152304Z
UID:49546-1699984800-1699992000@laguestlist.com
SUMMARY:Dua Lipa Fan Listening Event
DESCRIPTION:Invite Only – n celebration of “Houdini\,” Dua Lipa will host a fan event in Los Angeles on Novemebr 14th.
URL:https://laguestlist.com/event/dua-lipa-fan-listening-event/
CATEGORIES:Music
ATTACH;FMTTYPE=image/jpeg:https://laguestlist.com/wp-content/uploads/2023/11/Screensho-copy.jpg
END:VEVENT
BEGIN:VEVENT
DTSTART;TZID=America/Los_Angeles:20231114T160000
DTEND;TZID=America/Los_Angeles:20231114T170000
DTSTAMP:20260420T123108
CREATED:20231112T151910Z
LAST-MODIFIED:20231112T151910Z
UID:49544-1699977600-1699981200@laguestlist.com
SUMMARY:Cult Gaia Resort '24 Runway Show
DESCRIPTION:Invite Only – Cult Gaia will present their exciting Under The Sun Resort 2024 Runway Show in Los Angeles on November 14th.
URL:https://laguestlist.com/event/cult-gaia-resort-24-runway-show/
LOCATION:Academy Museum of Motion Pictures\, 6067 Wilshire Blvd\, Los Angeles\, CA\, 90036\, United States
CATEGORIES:Fashion
ATTACH;FMTTYPE=image/png:https://laguestlist.com/wp-content/uploads/2023/11/cult.png
END:VEVENT
BEGIN:VEVENT
DTSTART;TZID=America/Los_Angeles:20231113T190000
DTEND;TZID=America/Los_Angeles:20231113T200000
DTSTAMP:20260420T123108
CREATED:20231113T023925Z
LAST-MODIFIED:20231113T023925Z
UID:49609-1699902000-1699905600@laguestlist.com
SUMMARY:Tree Lighting at The Grove
DESCRIPTION:Open – Join The Grove for their 22nd Annual Tree Lighting Celebration as we officially kick off the holiday season! The magical evening will feature special performances by David Foster\, Katharine McPhee\, and other special guests. Delight in the lighting of the Christmas tree\, the season’s first snowfall\, a fireworks spectacular\, Santa’s grand arrival and more.
URL:https://laguestlist.com/event/tree-lighting-at-the-grove-2/
LOCATION:The Grove\, 189 The Grove Drive\, Los Angeles\, Los Angeles\, CA\, 90036\, United States
CATEGORIES:Holiday Party
ATTACH;FMTTYPE=image/jpeg:https://laguestlist.com/wp-content/uploads/2023/11/The-Grove-Tree-Lighting-1920x1200_11zon-1024x640-1.jpg
END:VEVENT
END:VCALENDAR