BEGIN:VCALENDAR
VERSION:2.0
PRODID:-//LA Guestlist - ECPv6.15.20//NONSGML v1.0//EN
CALSCALE:GREGORIAN
METHOD:PUBLISH
X-WR-CALNAME:LA Guestlist
X-ORIGINAL-URL:https://laguestlist.com
X-WR-CALDESC:Events for LA Guestlist
REFRESH-INTERVAL;VALUE=DURATION:PT1H
X-Robots-Tag:noindex
X-PUBLISHED-TTL:PT1H
BEGIN:VTIMEZONE
TZID:America/Los_Angeles
BEGIN:DAYLIGHT
TZOFFSETFROM:-0800
TZOFFSETTO:-0700
TZNAME:PDT
DTSTART:20220313T100000
END:DAYLIGHT
BEGIN:STANDARD
TZOFFSETFROM:-0700
TZOFFSETTO:-0800
TZNAME:PST
DTSTART:20221106T090000
END:STANDARD
BEGIN:DAYLIGHT
TZOFFSETFROM:-0800
TZOFFSETTO:-0700
TZNAME:PDT
DTSTART:20230312T100000
END:DAYLIGHT
BEGIN:STANDARD
TZOFFSETFROM:-0700
TZOFFSETTO:-0800
TZNAME:PST
DTSTART:20231105T090000
END:STANDARD
BEGIN:DAYLIGHT
TZOFFSETFROM:-0800
TZOFFSETTO:-0700
TZNAME:PDT
DTSTART:20240310T100000
END:DAYLIGHT
BEGIN:STANDARD
TZOFFSETFROM:-0700
TZOFFSETTO:-0800
TZNAME:PST
DTSTART:20241103T090000
END:STANDARD
END:VTIMEZONE
BEGIN:VEVENT
DTSTART;TZID=America/Los_Angeles:20230331T190000
DTEND;TZID=America/Los_Angeles:20230331T210000
DTSTAMP:20260422T232101
CREATED:20230326T194407Z
LAST-MODIFIED:20230328T040613Z
UID:48317-1680289200-1680296400@laguestlist.com
SUMMARY:PRIEST Opening Reception
DESCRIPTION:Open – Beyond the Streets and CONTROL Gallery will celebrate the opening of two new shows: When the Sun Goes Down by Irish street artist cand PRESS START by renowned graffiti artist PRIEST.
URL:https://laguestlist.com/event/priest-opening-reception/
LOCATION:Beyond The Streets Los Angeles\, 434 N. La Brea Ave\, Los Angeles\, CA\, 90036\, United States
CATEGORIES:Art
ATTACH;FMTTYPE=image/png:https://laguestlist.com/wp-content/uploads/2023/03/priest.png
END:VEVENT
BEGIN:VEVENT
DTSTART;TZID=America/Los_Angeles:20230331T160000
DTEND;TZID=America/Los_Angeles:20230331T180000
DTSTAMP:20260422T232101
CREATED:20230330T042534Z
LAST-MODIFIED:20230330T043249Z
UID:48369-1680278400-1680285600@laguestlist.com
SUMMARY:Mark Wahlberg x Roadside Taco
DESCRIPTION:Invite Only –  Guests are welcome to join Roadside Taco Studio City on Friday\, March 31st\, for a guest bartending session by Mark Wahlberg with Aron Marquez\, celebrating their Flecha Azul Tequila\, with $1 Tacos from 4-6pm special for the occasion along with $7 Flecha Azul margaritas.
URL:https://laguestlist.com/event/mark-wahlberg-x-roadside-taco/
LOCATION:Roadside Taco\, 10628 Ventura Blvd\, Studio City\, CA\, 91604\, United States
CATEGORIES:Things to do
ATTACH;FMTTYPE=image/png:https://laguestlist.com/wp-content/uploads/2023/03/Roadside-Taco-Flyer-1.png
END:VEVENT
BEGIN:VEVENT
DTSTART;TZID=America/Los_Angeles:20230331T140000
DTEND;TZID=America/Los_Angeles:20230331T180000
DTSTAMP:20260422T232101
CREATED:20230326T195519Z
LAST-MODIFIED:20230326T195519Z
UID:48321-1680271200-1680285600@laguestlist.com
SUMMARY:Don Julia Rosado Take PTO Event
DESCRIPTION:Invite Only – Don Julia Rosado Take PTO (Party Time Off) Event with music by Politik and a surprise performance.
URL:https://laguestlist.com/event/don-julia-rosado-take-pto-event/
CATEGORIES:Event,Fun in the Sun
ATTACH;FMTTYPE=image/png:https://laguestlist.com/wp-content/uploads/2023/03/PTO.png
END:VEVENT
BEGIN:VEVENT
DTSTART;TZID=America/Los_Angeles:20230330T193000
DTEND;TZID=America/Los_Angeles:20230330T223000
DTSTAMP:20260422T232101
CREATED:20230329T030717Z
LAST-MODIFIED:20230329T030717Z
UID:48356-1680204600-1680215400@laguestlist.com
SUMMARY:Diesel SS23 Runway Launch
DESCRIPTION:Invite Only  – Diesel SS23 Runway Launch Party with sounds by Brian Vidal and XOCHIC.
URL:https://laguestlist.com/event/diesel-ss23-runway-launch/
CATEGORIES:Fashion
ATTACH;FMTTYPE=image/png:https://laguestlist.com/wp-content/uploads/2023/03/Diesel.png
END:VEVENT
BEGIN:VEVENT
DTSTART;TZID=America/Los_Angeles:20230330T180000
DTEND;TZID=America/Los_Angeles:20230330T220000
DTSTAMP:20260422T232101
CREATED:20230318T184441Z
LAST-MODIFIED:20230318T184441Z
UID:48255-1680199200-1680213600@laguestlist.com
SUMMARY:Los Angeles Dodger's Season Opener Watch Party
DESCRIPTION:Open – free public watch party and fan fest for the home team’s season opener. Fans can watch the game live on a large LED screen surrounded by family-friendly activities like face painting and a personal baseball card photo station. Enjoy music\, prizes\, and giveaways with iconic baseball-themed snacks and swag. \nGuests can also hop on the Dodger Stadium Express to make their way to the game or sit back and enjoy the game with burgers\, brats\, and beer at Union Station’s Homebound Brew Haus.
URL:https://laguestlist.com/event/los-angeles-dodgers-season-opener-watch-party/
LOCATION:Union Station\,  800 N Alameda St\, Los Angeles\, CA\, 90012\, United States
CATEGORIES:Sports
ATTACH;FMTTYPE=image/jpeg:https://laguestlist.com/wp-content/uploads/2023/03/unnamed.jpg
END:VEVENT
BEGIN:VEVENT
DTSTART;TZID=America/Los_Angeles:20230327T170000
DTEND;TZID=America/Los_Angeles:20230327T220000
DTSTAMP:20260422T232101
CREATED:20230319T221328Z
LAST-MODIFIED:20230319T221328Z
UID:48269-1679936400-1679954400@laguestlist.com
SUMMARY:2023 iHeartRadio Music Awards
DESCRIPTION:Invite Only – Multi-award winning artist Lenny Kravitz will host and perform at the 2023 iHeartRadio Music Awards. Additionally\, LL COOL J will make a special appearance and Grammy-nominated rapper Latto will join the previously announced performance lineup\, which includes the 2023 Icon Award Recipient P!NK\, Kelly Clarkson\, Keith Urban\, Pat Benatar & Neil Giraldo\, Muni Long\, Cody Johnson\, Coldplay (with a special live performance from Brazil) and more.
URL:https://laguestlist.com/event/2023-iheartradio-music-awards/
LOCATION:Dolby Theatre\,  6801 Hollywood Blvd\, Hollywood\, CA\, 90028\, United States
CATEGORIES:Award Show
ATTACH;FMTTYPE=image/png:https://laguestlist.com/wp-content/uploads/2023/03/1200x628-5.png
END:VEVENT
BEGIN:VEVENT
DTSTART;TZID=America/Los_Angeles:20230326T090000
DTEND;TZID=America/Los_Angeles:20230326T130000
DTSTAMP:20260422T232101
CREATED:20230322T034915Z
LAST-MODIFIED:20230322T043228Z
UID:48289-1679821200-1679835600@laguestlist.com
SUMMARY:Alfred Coffee 10 Year Anniversary
DESCRIPTION:Open – Alfred will host its Anniversary Event at the original Melrose Place location featuring a prize wheel setup on the cafe patio\, anniversary merch available for purchase\, brand ambassadors handing out 50% drink cards to try the Signature Menu\, and more.
URL:https://laguestlist.com/event/alfred-coffee-10-year-anniversary/
LOCATION:Alfred Coffee Melrose Place\, 8428 Melrose Pl\, Los Angeles\, CA\, 90069\, United States
CATEGORIES:Gastronomy,Things to do
ATTACH;FMTTYPE=image/jpeg:https://laguestlist.com/wp-content/uploads/2023/03/336572416_507365051612898_7914837953882473887_n.jpg
END:VEVENT
BEGIN:VEVENT
DTSTART;TZID=America/Los_Angeles:20230324T220000
DTEND;TZID=America/Los_Angeles:20230325T020000
DTSTAMP:20260422T232101
CREATED:20230322T034137Z
LAST-MODIFIED:20230322T034137Z
UID:48287-1679695200-1679709600@laguestlist.com
SUMMARY:6LACK Album Release Party
DESCRIPTION:Invite Only – Love Renaissance and Interscope Records Prsent 6LACK Album Release Party for “Since I Have A Lover.”
URL:https://laguestlist.com/event/6lack-album-release-party-2/
CATEGORIES:Music
ATTACH;FMTTYPE=image/jpeg:https://laguestlist.com/wp-content/uploads/2023/03/unnamed-1.jpg
END:VEVENT
BEGIN:VEVENT
DTSTART;TZID=America/Los_Angeles:20230324T150000
DTEND;TZID=America/Los_Angeles:20230324T190000
DTSTAMP:20260422T232101
CREATED:20230317T035710Z
LAST-MODIFIED:20230317T035710Z
UID:48251-1679670000-1679684400@laguestlist.com
SUMMARY:NYX Spring Break Makeup Games
DESCRIPTION:Invite Only – NYX is throwing a Spring Break Rooftop Pool Party with makeup games all around.
URL:https://laguestlist.com/event/nyx-spring-break-makeup-games/
CATEGORIES:Beauty
ATTACH;FMTTYPE=image/png:https://laguestlist.com/wp-content/uploads/2023/03/Nyx.png
END:VEVENT
BEGIN:VEVENT
DTSTART;TZID=America/Los_Angeles:20230323T210000
DTEND;TZID=America/Los_Angeles:20230324T230000
DTSTAMP:20260422T232101
CREATED:20230322T161241Z
LAST-MODIFIED:20230322T161241Z
UID:48305-1679605200-1679698800@laguestlist.com
SUMMARY:Ellen Von Unwerth Bombshell Opening
DESCRIPTION:Invite Only – Ellen Von Unswerth Bombshell Opening Reception Private Party for Fahey/Klein Gallery with a special performance by Sam Quealy.
URL:https://laguestlist.com/event/ellen-von-unwerth-bombshell-opening/
CATEGORIES:Photography
ATTACH;FMTTYPE=image/png:https://laguestlist.com/wp-content/uploads/2023/03/ellen.png
END:VEVENT
BEGIN:VEVENT
DTSTART;TZID=America/Los_Angeles:20230323T190000
DTEND;TZID=America/Los_Angeles:20230323T220000
DTSTAMP:20260422T232101
CREATED:20230322T173534Z
LAST-MODIFIED:20230322T173534Z
UID:48307-1679598000-1679608800@laguestlist.com
SUMMARY:Visual Experience Of Tiësto’s Drive
DESCRIPTION:Invite Only – Tiësto\, Atlantic Records\, & Meta are hosting an exclusive pre-release listening & visual experience Of Tiësto’s Forthcoming Album: Drive. This immersive\, multi-sensory\, journey will be a first of its kind experience.
URL:https://laguestlist.com/event/visual-experience-of-tiestos-drive/
LOCATION:DTLA
CATEGORIES:Music
ATTACH;FMTTYPE=image/png:https://laguestlist.com/wp-content/uploads/2023/03/tiesto.png
END:VEVENT
BEGIN:VEVENT
DTSTART;TZID=America/Los_Angeles:20230323T180000
DTEND;TZID=America/Los_Angeles:20230323T210000
DTSTAMP:20260422T232101
CREATED:20230309T013540Z
LAST-MODIFIED:20230309T013540Z
UID:48148-1679594400-1679605200@laguestlist.com
SUMMARY:INDOCHINO Spring 2023 Launch
DESCRIPTION:Invite Only – INDOCHINO will celebrate their upcoming Spring Season with Celebrity Stylist Host\, Ashley North. Throughout the evening\, invited guests will explore INDOCHINO’s latest Spring Collection\, while enjoying canapés\, cocktails\, live monogramming\, and music.
URL:https://laguestlist.com/event/indochino-spring-2023-launch/
CATEGORIES:Fashion
ATTACH;FMTTYPE=image/png:https://laguestlist.com/wp-content/uploads/2023/03/indo.png
END:VEVENT
BEGIN:VEVENT
DTSTART;TZID=America/Los_Angeles:20230323T120000
DTEND;TZID=America/Los_Angeles:20230323T160000
DTSTAMP:20260422T232101
CREATED:20230322T160529Z
LAST-MODIFIED:20230322T160529Z
UID:48301-1679572800-1679587200@laguestlist.com
SUMMARY:Guess Denim
DESCRIPTION:Invite Only – Guess Denim is hosting a pre-festival season kick-off event where guests can pick out an outfit while enjoying drinks\, music\, denim customization\, goodies\, and more.
URL:https://laguestlist.com/event/guess-denim/
CATEGORIES:Event,Fashion
ATTACH;FMTTYPE=image/png:https://laguestlist.com/wp-content/uploads/2023/03/Guess.png
END:VEVENT
BEGIN:VEVENT
DTSTART;TZID=America/Los_Angeles:20230322T190000
DTEND;TZID=America/Los_Angeles:20230322T220000
DTSTAMP:20260422T232101
CREATED:20230322T173809Z
LAST-MODIFIED:20230322T173809Z
UID:48309-1679511600-1679522400@laguestlist.com
SUMMARY:FILA Celebrates 50 Year in Tennis
DESCRIPTION:Invite Only – FILA Celebrates 50 Years in Tennis\, with drinks\, lite bites\, and good vibes courtesy of A$AP Lou. Experience a visual history of the evolution of FILA style in tennis.
URL:https://laguestlist.com/event/fila-celebrates-50-year-in-tennis/
CATEGORIES:Sports
ATTACH;FMTTYPE=image/png:https://laguestlist.com/wp-content/uploads/2023/03/Fila.png
END:VEVENT
BEGIN:VEVENT
DTSTART;TZID=America/Los_Angeles:20230322T180000
DTEND;TZID=America/Los_Angeles:20230322T210000
DTSTAMP:20260422T232101
CREATED:20230319T220302Z
LAST-MODIFIED:20230319T220302Z
UID:48265-1679508000-1679518800@laguestlist.com
SUMMARY:PARIS: The Memoir Event at Barnes & Noble
DESCRIPTION:Open – Discover PARIS: The Memoir during an exciting launch event at Barnes & Noble! The publication of this deeply personal and surprisingly profound memoir coincides with the non-profit initiative “I Am” to promote social good\, female empowerment and encourage everyone to be themselves.
URL:https://laguestlist.com/event/paris-the-memoir-event-at-barnes-noble/
LOCATION:The Grove\, 189 The Grove Drive\, Los Angeles\, Los Angeles\, CA\, 90036\, United States
CATEGORIES:Event
ATTACH;FMTTYPE=image/jpeg:https://laguestlist.com/wp-content/uploads/2023/03/335075387_887905412474247_7321570054855045611_n.jpg
END:VEVENT
BEGIN:VEVENT
DTSTART;TZID=America/Los_Angeles:20230318T180000
DTEND;TZID=America/Los_Angeles:20230318T220000
DTSTAMP:20260422T232101
CREATED:20230317T040043Z
LAST-MODIFIED:20230317T040043Z
UID:48253-1679162400-1679176800@laguestlist.com
SUMMARY:JLO x REVOLVE
DESCRIPTION:Invite Only – REVOLVE is throwing a party to celebrate the launch of their exclusive shoe collection by Jennifer Lopez in Beverly Hills.
URL:https://laguestlist.com/event/jlo-x-revolve/
LOCATION:Beverly Hills
CATEGORIES:Fashion
ATTACH;FMTTYPE=image/png:https://laguestlist.com/wp-content/uploads/2023/03/jay.png
END:VEVENT
BEGIN:VEVENT
DTSTART;TZID=America/Los_Angeles:20230317T100000
DTEND;TZID=America/Los_Angeles:20230318T010000
DTSTAMP:20260422T232101
CREATED:20230317T035353Z
LAST-MODIFIED:20230317T035353Z
UID:48249-1679047200-1679101200@laguestlist.com
SUMMARY:Galore x Delilah Belle
DESCRIPTION:Invite Only – Galore Magazine Celebrates Delilah Belle’s New Single Drop and Music Video Release on the Sunset Strip.
URL:https://laguestlist.com/event/galore-x-delilah-belle/
CATEGORIES:Magazine
ATTACH;FMTTYPE=image/png:https://laguestlist.com/wp-content/uploads/2023/03/Belle.png
END:VEVENT
BEGIN:VEVENT
DTSTART;TZID=America/Los_Angeles:20230316T190000
DTEND;TZID=America/Los_Angeles:20230316T220000
DTSTAMP:20260422T232101
CREATED:20230316T011825Z
LAST-MODIFIED:20230316T011957Z
UID:48245-1678993200-1679004000@laguestlist.com
SUMMARY:Aldo Spring 2023
DESCRIPTION:Invite Only – Aldo will celebrate the launch of their Spring 2023 Campaign in LA with tastemakers: Tinx\, Scott Pippen Jr.\, Noor Stars\, Rishab Sharma\, and Irene Kim at a private location in the hills.
URL:https://laguestlist.com/event/aldo-spring-2023/
CATEGORIES:Fashion
ATTACH;FMTTYPE=image/png:https://laguestlist.com/wp-content/uploads/2023/03/Aldo.png
END:VEVENT
BEGIN:VEVENT
DTSTART;TZID=America/Los_Angeles:20230316T190000
DTEND;TZID=America/Los_Angeles:20230316T210000
DTSTAMP:20260422T232101
CREATED:20230316T012248Z
LAST-MODIFIED:20230316T012248Z
UID:48247-1678993200-1679000400@laguestlist.com
SUMMARY:Love Me Tender Opening by PunkMeTender
DESCRIPTION:Invite Only – Love Me Tender Opening by PunkMeTender kick-off cocktails and sounds by MAAD.
URL:https://laguestlist.com/event/love-me-tender-opening-by-punkmetender/
CATEGORIES:Art
ATTACH;FMTTYPE=image/png:https://laguestlist.com/wp-content/uploads/2023/03/Punkmetender.png
END:VEVENT
BEGIN:VEVENT
DTSTART;TZID=America/Los_Angeles:20230316T183000
DTEND;TZID=America/Los_Angeles:20230316T203000
DTSTAMP:20260422T232101
CREATED:20230316T010645Z
LAST-MODIFIED:20230316T010645Z
UID:48243-1678991400-1678998600@laguestlist.com
SUMMARY:The Webster x Ferragamo SS23 Launch
DESCRIPTION:Invite Only – The Webster and Ferragamo will preview an exclusive apertivo to celebrate the Spring/Summer 2023 Collection By Maximilian Davis with Music by Kitty Ca$h.
URL:https://laguestlist.com/event/the-webster-x-ferragamo-ss23-launch/
CATEGORIES:Fashion
ATTACH;FMTTYPE=image/png:https://laguestlist.com/wp-content/uploads/2023/03/Webster-1.png
END:VEVENT
BEGIN:VEVENT
DTSTART;TZID=America/Los_Angeles:20230316T180000
DTEND;TZID=America/Los_Angeles:20230316T220000
DTSTAMP:20260422T232101
CREATED:20230311T011223Z
LAST-MODIFIED:20230311T011223Z
UID:48205-1678989600-1679004000@laguestlist.com
SUMMARY:“An Unforgettable Evening" Women’s Cancer Research Fund Gala
DESCRIPTION:Invite Only – This year’s gala will honor actress Sharon Stone with the Courage Award for her support of breast cancer research and dedication to raising awareness for the cause. Special performance from Grammy Award-winning\, pop rock band Maroon 5.
URL:https://laguestlist.com/event/an-unforgettable-evening-womens-cancer-research-fund-gala/
LOCATION:The Beverly Wilshire Hotel\, 9500 Wilshire Blvd.\, Beverly Hills\, CA\, 90212\, United States
CATEGORIES:Charity,Gala
ATTACH;FMTTYPE=image/png:https://laguestlist.com/wp-content/uploads/2023/03/bcrf-logo-fb.745325a.png
END:VEVENT
BEGIN:VEVENT
DTSTART;TZID=America/Los_Angeles:20230315T180000
DTEND;TZID=America/Los_Angeles:20230315T210000
DTSTAMP:20260422T232101
CREATED:20230309T015229Z
LAST-MODIFIED:20230309T015229Z
UID:48155-1678903200-1678914000@laguestlist.com
SUMMARY:Jah Mama x Joe & The Juice Launch
DESCRIPTION:Invite Only – Jah Mama x Joe & The Juice Exclusive Launch Party with tunes by Zack Bia.
URL:https://laguestlist.com/event/jah-mama-x-joe-the-juice-launch/
CATEGORIES:Gastronomy
ATTACH;FMTTYPE=image/png:https://laguestlist.com/wp-content/uploads/2023/03/Jah.png
END:VEVENT
BEGIN:VEVENT
DTSTART;TZID=America/Los_Angeles:20230315T090000
DTEND;TZID=America/Los_Angeles:20230316T170000
DTSTAMP:20260422T232101
CREATED:20230210T000651Z
LAST-MODIFIED:20230210T000651Z
UID:47851-1678870800-1678986000@laguestlist.com
SUMMARY:Environmental Media Association (EMA) IMPACT Summit
DESCRIPTION:Ticketed – MA IMPACT is a two-day sustainable green business summit featuring panel and one-on-one discussions\, keynote speeches and networking activities. Speakers and attendees will include leaders and changemakers from the business\, environment\, education\, and entertainment industries. In addition to the summit\, there will be a welcome reception\, networking mixer with cocktails and small bites as well as breakfast and lunch served both days.
URL:https://laguestlist.com/event/environmental-media-association-ema-impact-summit/
LOCATION:Pendry West Hollywood\, 8430 Sunset Blvd\, West Hollywood\, CA\, 90069\, United States
CATEGORIES:Networking
ATTACH;FMTTYPE=image/png:https://laguestlist.com/wp-content/uploads/2023/02/unnamed.png
END:VEVENT
BEGIN:VEVENT
DTSTART;TZID=America/Los_Angeles:20230312T220000
DTEND;TZID=America/Los_Angeles:20230313T020000
DTSTAMP:20260422T232101
CREATED:20230303T020235Z
LAST-MODIFIED:20230303T020235Z
UID:48095-1678658400-1678672800@laguestlist.com
SUMMARY:Vanity Fair 2023 Oscar After Party
DESCRIPTION:Invite Only – The most coveted party of the year hosted by Vanity Fair following the Oscars with some of your favorite A-listers celebrating their big win of the night.
URL:https://laguestlist.com/event/vanity-fair-2023-oscar-after-party/
CATEGORIES:Award Show,Magazine
ATTACH;FMTTYPE=image/png:https://laguestlist.com/wp-content/uploads/2023/03/vanioty-fair.png
END:VEVENT
BEGIN:VEVENT
DTSTART;TZID=America/Los_Angeles:20230312T190000
DTEND;TZID=America/Los_Angeles:20230312T220000
DTSTAMP:20260422T232101
CREATED:20230109T195630Z
LAST-MODIFIED:20230109T195630Z
UID:47544-1678647600-1678658400@laguestlist.com
SUMMARY:Oscars 2023
DESCRIPTION:Invite Only – The 95th Academy Awards ceremony\, presented by the Academy of Motion Picture Arts and Sciences\, will honor films released in 2022\, and is scheduled to take place at the Dolby Theatre in Los Angeles\, California on March 12\, 2023\, with host Jimmy Kimmel.
URL:https://laguestlist.com/event/oscars-2023/
LOCATION:Dolby Theatre\,  6801 Hollywood Blvd\, Hollywood\, CA\, 90028\, United States
CATEGORIES:Award Show
ATTACH;FMTTYPE=image/jpeg:https://laguestlist.com/wp-content/uploads/2023/01/Oscars2023-Jimmy-Kimmel.jpg
END:VEVENT
BEGIN:VEVENT
DTSTART;TZID=America/Los_Angeles:20230312T150000
DTEND;TZID=America/Los_Angeles:20230312T210000
DTSTAMP:20260422T232101
CREATED:20230303T022500Z
LAST-MODIFIED:20230303T022500Z
UID:48101-1678633200-1678654800@laguestlist.com
SUMMARY:31st Annual Elton John AIDS Foundation Oscar Viewing Party
DESCRIPTION:Invite Only –  Emmy Award-winning actor Eric McCormack and Golden Globe Award-winning actress Michaela Jaé Rodriguez will be joining Elton John and David Furnish on stage at our Academy Awards® Viewing Party on Sunday\, March 12 at West Hollywood Park for an evening like no other – a party with a purpose.
URL:https://laguestlist.com/event/31st-annual-elton-john-aids-foundation-oscar-viewing-party/
LOCATION:West Hollywood Park\, 647 N San Vicente Blvd\, West Hollywood\, CA\, 90069\, United States
CATEGORIES:Award Show
ATTACH;FMTTYPE=image/png:https://laguestlist.com/wp-content/uploads/2023/03/elton.png
END:VEVENT
BEGIN:VEVENT
DTSTART;TZID=America/Los_Angeles:20230311T200000
DTEND;TZID=America/Los_Angeles:20230311T230000
DTSTAMP:20260422T232101
CREATED:20230303T021759Z
LAST-MODIFIED:20230303T021800Z
UID:48099-1678564800-1678575600@laguestlist.com
SUMMARY:MPTF's 21st Annual Night Before
DESCRIPTION:Invite Only – A star-studded host committee\, Co-Chairs\, Academy Awards® nominees and presenters\, along with some of the most powerful industry influencers will come together on March 11\, 2023\, for the 21st annual ‘Night Before’ party to benefit MPTF (Motion Picture & Television Fund). Co-Chaired by Angela Bassett\, Cate Blanchett\, George Clooney\, and Emma Thomas & Christopher Nolan\, the event raises funds to support industry members who benefit from MPTF’s charitable programs and services such as financial assistance\, crisis counseling\, caregiving support and of course the legendary retirement facility in Woodland Hills that is “home” to television and film veterans alike.
URL:https://laguestlist.com/event/mptfs-21st-annual-night-before/
CATEGORIES:Award Show
ATTACH;FMTTYPE=image/jpeg:https://laguestlist.com/wp-content/uploads/2023/03/MPTF.jpg
END:VEVENT
BEGIN:VEVENT
DTSTART;TZID=America/Los_Angeles:20230311T130000
DTEND;TZID=America/Los_Angeles:20230311T230000
DTSTAMP:20260422T232101
CREATED:20230309T014045Z
LAST-MODIFIED:20230309T014045Z
UID:48150-1678539600-1678575600@laguestlist.com
SUMMARY:Artha Holi Fest 2023
DESCRIPTION:Ticketed – Join the Artha family as they celebrate the arrival of spring\, the end of winter\, and the blossoming of love. In the true spirit of Holi\, Artha invites you to join us for an all-day celebration of music\, dancing\, and the throwing of colors.   \nYour ticket includes colored powders\, an open bar featuring El Cristiano tequila\, delicious food all day\, a sunset sound bath\, surprise performances\, and a DJ lineup to take you well into the night. Come early for lunch\, mingle\, and relax in the sun before the sound bath\, tea ceremony\, and the throwing of color as you transition into a night of soulful deep beats.
URL:https://laguestlist.com/event/artha-holi-fest-2023/
LOCATION:The Castaway Restaurant & Banquet Center\, 1250 E Harvard Rd\, Burbank\, CA\, 91501\, United States
CATEGORIES:Things to do
ATTACH;FMTTYPE=image/png:https://laguestlist.com/wp-content/uploads/2023/03/Artha.png
END:VEVENT
BEGIN:VEVENT
DTSTART;TZID=America/Los_Angeles:20230311T100000
DTEND;TZID=America/Los_Angeles:20230312T220000
DTSTAMP:20260422T232101
CREATED:20230309T021521Z
LAST-MODIFIED:20230309T021521Z
UID:48157-1678528800-1678658400@laguestlist.com
SUMMARY:The Model Experience LAFW
DESCRIPTION:Ticketed – Attend LA’s premiere Fashion Week Festival at The Barker Hangar in Santa Monica. Enjoy a full day of back-to-back Fashion Shows\, Red Carpet Appearances\, Brand Activations\, Performances\, Vendors\, and more. The festival kicks off on Saturday with a DJ set from Shaun Ross\, panel discussions on the side stages\, and musical performances from Def Jam artists and headliner Saucy Santana inside the massive Barker Hangar in Santa Monica.
URL:https://laguestlist.com/event/the-model-experience-lafw/
LOCATION:The Barker Hangar\, 3021 Airport Ave\, Santa Monica\, CA\, 90405\, United States
CATEGORIES:Fashion
ATTACH;FMTTYPE=image/png:https://laguestlist.com/wp-content/uploads/2023/03/FWF.png
END:VEVENT
BEGIN:VEVENT
DTSTART;TZID=America/Los_Angeles:20230310T200000
DTEND;TZID=America/Los_Angeles:20230310T230000
DTSTAMP:20260422T232101
CREATED:20230303T015044Z
LAST-MODIFIED:20230303T015044Z
UID:48093-1678478400-1678489200@laguestlist.com
SUMMARY:Vanity Fair Celebrates “Everything Everywhere All at Once”
DESCRIPTION:Invite Only – Vanity Fair and Richard Mille host an exclusive cocktail party honoring A24’s “Everything Everywhere All at Once\,” at the Mandarin Oriental Residences\, Beverly Hills. Co-hosted by VF editor in chief Radhika Jones and Richard Mille’s brand and partnerships director Amanda Mille\, the intimate soirée invites the cast\, filmmakers\, and industry friends together to celebrate the film’s success.
URL:https://laguestlist.com/event/vanity-fair-celebrates-everything-everywhere-all-at-once/
CATEGORIES:Award Show,Magazine
ATTACH;FMTTYPE=image/png:https://laguestlist.com/wp-content/uploads/2023/03/VF.png
END:VEVENT
END:VCALENDAR