BEGIN:VCALENDAR
VERSION:2.0
PRODID:-//LA Guestlist - ECPv6.15.20//NONSGML v1.0//EN
CALSCALE:GREGORIAN
METHOD:PUBLISH
X-WR-CALNAME:LA Guestlist
X-ORIGINAL-URL:https://laguestlist.com
X-WR-CALDESC:Events for LA Guestlist
REFRESH-INTERVAL;VALUE=DURATION:PT1H
X-Robots-Tag:noindex
X-PUBLISHED-TTL:PT1H
BEGIN:VTIMEZONE
TZID:America/Los_Angeles
BEGIN:DAYLIGHT
TZOFFSETFROM:-0800
TZOFFSETTO:-0700
TZNAME:PDT
DTSTART:20230312T100000
END:DAYLIGHT
BEGIN:STANDARD
TZOFFSETFROM:-0700
TZOFFSETTO:-0800
TZNAME:PST
DTSTART:20231105T090000
END:STANDARD
BEGIN:DAYLIGHT
TZOFFSETFROM:-0800
TZOFFSETTO:-0700
TZNAME:PDT
DTSTART:20240310T100000
END:DAYLIGHT
BEGIN:STANDARD
TZOFFSETFROM:-0700
TZOFFSETTO:-0800
TZNAME:PST
DTSTART:20241103T090000
END:STANDARD
BEGIN:DAYLIGHT
TZOFFSETFROM:-0800
TZOFFSETTO:-0700
TZNAME:PDT
DTSTART:20250309T100000
END:DAYLIGHT
BEGIN:STANDARD
TZOFFSETFROM:-0700
TZOFFSETTO:-0800
TZNAME:PST
DTSTART:20251102T090000
END:STANDARD
BEGIN:DAYLIGHT
TZOFFSETFROM:-0800
TZOFFSETTO:-0700
TZNAME:PDT
DTSTART:20260308T100000
END:DAYLIGHT
BEGIN:STANDARD
TZOFFSETFROM:-0700
TZOFFSETTO:-0800
TZNAME:PST
DTSTART:20261101T090000
END:STANDARD
END:VTIMEZONE
BEGIN:VEVENT
DTSTART;TZID=America/Los_Angeles:20240222T160000
DTEND;TZID=America/Los_Angeles:20240222T210000
DTSTAMP:20260419T164835
CREATED:20240216T232935Z
LAST-MODIFIED:20240216T232935Z
UID:49999-1708617600-1708635600@laguestlist.com
SUMMARY:House of Campari
DESCRIPTION:RSVP – Step into a world of Campari as we celebrate our partnership with the esteemed SAG Awards. Experience an evening that transcends the ordinary\, blending cinematic magic with the unique Italian flair and flavor of Campari.
URL:https://laguestlist.com/event/house-of-campari/
LOCATION:The House on Sunset\, 9169 Sunset Blvd\, Los Angeles\, CA\, 90069\, United States
CATEGORIES:Things to do
ATTACH;FMTTYPE=image/png:https://laguestlist.com/wp-content/uploads/2024/02/house.png
END:VEVENT
BEGIN:VEVENT
DTSTART;TZID=America/Los_Angeles:20240223T190000
DTEND;TZID=America/Los_Angeles:20240223T230000
DTSTAMP:20260419T164835
CREATED:20240220T032344Z
LAST-MODIFIED:20240220T032344Z
UID:50025-1708714800-1708729200@laguestlist.com
SUMMARY:JuneShine Desert Cooler Launch
DESCRIPTION:RSVP – Ride into the sunset with Desert Cooler\, the ridiculously delicious\, signature flavor by JuneShine ambassador and country music artist\, Mark Wystrach.
URL:https://laguestlist.com/event/juneshine-desert-cooler-launch/
LOCATION:Desert 5 Spot\, 6516 Selma Ave\, Los Angeles\, CA\, 900028\, United States
CATEGORIES:Things to do
ATTACH;FMTTYPE=image/png:https://laguestlist.com/wp-content/uploads/2024/02/desert.png
END:VEVENT
BEGIN:VEVENT
DTSTART;TZID=America/Los_Angeles:20240224T100000
DTEND;TZID=America/Los_Angeles:20240225T200000
DTSTAMP:20260419T164835
CREATED:20240216T233349Z
LAST-MODIFIED:20240216T233349Z
UID:50001-1708768800-1708891200@laguestlist.com
SUMMARY:BÉIS Wash
DESCRIPTION:Open – Join your favorite travel and lifestyle brand at the BÉIS Wash! Enjoy the childhood nostalgia of a drive-thru car wash for your bag and discover why BÉIS bags are designed to last through all of life’s adventures. Invite friends and family for a fun weekend activity\, while making memories and bags that last. Cleaning services by Scrub Daddy and Branch Basics will restore your bag’s original shine while you explore exclusive bundles and merch\, and exciting surprises\, plus a special sneak peek at new kids’ products launching soon.
URL:https://laguestlist.com/event/beis-wash/
LOCATION:BÉIS Wash\, 8620 Melrose Ave\, West Hollywood\, CA\, 90069\, United States
CATEGORIES:Things to do
ATTACH;FMTTYPE=image/jpeg:https://laguestlist.com/wp-content/uploads/2024/02/unnamed-1.jpg
END:VEVENT
BEGIN:VEVENT
DTSTART;TZID=America/Los_Angeles:20240309T110000
DTEND;TZID=America/Los_Angeles:20240310T200000
DTSTAMP:20260419T164835
CREATED:20240302T161159Z
LAST-MODIFIED:20240302T161159Z
UID:50057-1709982000-1710100800@laguestlist.com
SUMMARY:Immersive McDonald’s Dining Experience: WcDonald’s
DESCRIPTION:RSVP – From March 9-10\, attendees will be transported into the WcDonald’s universe and immersed in an exciting fusion of entertainment and food. Free reservations went live on OpenTable earlier today and quickly sold out. For years\, anime lovers have seen McDonald’s-inspired “WcDonald’s” restaurants pop up across some of their favorite movies and shows. McDonald’s bringing fans’ creativity to life by unleashing the WcDonald’s universe in McDonald’s restaurants and beyond\, including:\n– A new Savory Chili WcDonald’s Sauce that pairs perfectly with an order of WcNuggets (aka our fan-favorite Chicken McNuggets).\n– Manga-Inspired Packaging featuring original art by renowned Japanese illustrator\, Acky Bright\, and a QR code that offers fans access to weekly digital manga drops.\n– The First-Ever WcDonald’s Anime Series made in partnership with the legendary animation house\, studio pierrot.
URL:https://laguestlist.com/event/immersive-mcdonalds-dining-experience-wcdonalds/
LOCATION:WcDonald’s\, 8505 Santa Monica Blvd.\, West Hollywood\, CA\, 90069\, United States
CATEGORIES:Things to do
ATTACH;FMTTYPE=image/jpeg:https://laguestlist.com/wp-content/uploads/2024/03/WcDonalds_Sign.jpg
END:VEVENT
BEGIN:VEVENT
DTSTART;TZID=America/Los_Angeles:20240420T100000
DTEND;TZID=America/Los_Angeles:20240421T170000
DTSTAMP:20260419T164835
CREATED:20240419T155254Z
LAST-MODIFIED:20240419T155254Z
UID:50314-1713607200-1713718800@laguestlist.com
SUMMARY:LA Times Festival of Books 2024
DESCRIPTION:Ticketed – The Los Angeles Times Festival of Books is a free\, public festival celebrating the written word. It is the largest book festival in the United States\, drawing approximately 150\,000 attendees annually. Explore this year’s indoor and outdoor events including over 200 conversations and performances\, book signings\, cooking demos\, poetry readings\, bilingual programming and more.
URL:https://laguestlist.com/event/la-times-festival-of-books-2024/
LOCATION:USC
CATEGORIES:Things to do
ATTACH;FMTTYPE=image/png:https://laguestlist.com/wp-content/uploads/2024/04/latimes.png
END:VEVENT
BEGIN:VEVENT
DTSTART;TZID=America/Los_Angeles:20240422T170000
DTEND;TZID=America/Los_Angeles:20240422T200000
DTSTAMP:20260419T164835
CREATED:20240419T153919Z
LAST-MODIFIED:20240419T153919Z
UID:50309-1713805200-1713816000@laguestlist.com
SUMMARY:Dim Mak's Earth Day Park Clean Up
DESCRIPTION:RSVP – In honor of Earth Day and our ongoing efforts to better the world\, Dim Mak is teaming up with We Explore Earth for a group hike and park clean up with staff\, artists\, fans\, and special guests. Attendees will come together for a light hike around the park and end with a surprise DJ set on a helipad overlooking the city. Food\, drinks\, and clean up gear will be provided\, RSVP for full event details.
URL:https://laguestlist.com/event/dim-maks-earth-day-park-clean-up/
LOCATION:Elysian Park\,  825 Academy Road\, Los Angeles\, CA\, 90012\, United States
CATEGORIES:Things to do
ATTACH;FMTTYPE=image/jpeg:https://laguestlist.com/wp-content/uploads/2024/04/unnamed-2.jpg
END:VEVENT
BEGIN:VEVENT
DTSTART;TZID=America/Los_Angeles:20240427T120000
DTEND;TZID=America/Los_Angeles:20240427T180000
DTSTAMP:20260419T164835
CREATED:20240419T165624Z
LAST-MODIFIED:20240419T165624Z
UID:50328-1714219200-1714240800@laguestlist.com
SUMMARY:Chubbies First Annual Splashdown
DESCRIPTION:Open – The weekend of the year has arrived! Chubbies is taking over the Santa Monica Pier to bring you their very first annual Chubbies Splashdown. Join us over the weekend as we’re setting up a giant inflatable water slide right on the pier\, and those brave enough to slide down will receive a free pair of Chubbies swim trunks (while supplies last). In addition\, the event will also include live music\, free food and beverages\, carnival games\, swag giveaways\, a 360 photo booth\, a custom tote bag section\, and so much more.
URL:https://laguestlist.com/event/chubbies-first-annual-splashdown/
LOCATION:Santa Monica Pier\, Santa Monica\, CA\, 90401\, United States
CATEGORIES:Things to do
ATTACH;FMTTYPE=image/png:https://laguestlist.com/wp-content/uploads/2024/04/chubs.png
END:VEVENT
BEGIN:VEVENT
DTSTART;TZID=America/Los_Angeles:20240515T193000
DTEND;TZID=America/Los_Angeles:20240515T213000
DTSTAMP:20260419T164835
CREATED:20240419T161346Z
LAST-MODIFIED:20240419T161346Z
UID:50316-1715801400-1715808600@laguestlist.com
SUMMARY:Grammy Museum: Dillon Francis and Diplo In Conversation
DESCRIPTION:Ticketed – The GRAMMY Museum is thrilled to welcome Dillon Francis to the Museum’s intimate 200-seat Clive Davis Theater for an evening including a conversation moderated by Diplo celebrating the 10-year anniversary of Dillon’s hit track “Get Low\,” his creative process\, and more.
URL:https://laguestlist.com/event/grammy-museum-dillon-francis-and-diplo-in-conversation/
LOCATION:The Grammy Museum\, 800 West Olympic Boulevard\, Los Angeles\, CA\, 90015\, United States
CATEGORIES:Things to do
ATTACH;FMTTYPE=image/jpeg:https://laguestlist.com/wp-content/uploads/2024/04/GK5th1_WQAAgcII.jpg
END:VEVENT
BEGIN:VEVENT
DTSTART;TZID=America/Los_Angeles:20240517T180000
DTEND;TZID=America/Los_Angeles:20240517T190000
DTSTAMP:20260419T164835
CREATED:20240514T161448Z
LAST-MODIFIED:20240514T161448Z
UID:50448-1715968800-1715972400@laguestlist.com
SUMMARY:Benny Blanco Book Signing
DESCRIPTION:RSVP – Join benny blanco at Nordstrom The Grove to celebrate the launch of his new book ‘OPEN WIDE – A Cookbook for Friends’. The debut cookbook from music producer and artist\, benny blanco\, will teach you everything you need to know about cooking\, enjoying life\, throwing the greatest dinner party and creating memories centered around food. Purchase benny’s book at Nordstrom The Grove and have the opportunity to meet benny and co-author Jess Damuck and have the book signed by them.
URL:https://laguestlist.com/event/benny-blanco-book-signing/
LOCATION:The Grove\, 189 The Grove Drive\, Los Angeles\, Los Angeles\, CA\, 90036\, United States
CATEGORIES:Things to do
ATTACH;FMTTYPE=image/jpeg:https://laguestlist.com/wp-content/uploads/2024/05/1-Benny-Blanco-Main.jpg
END:VEVENT
BEGIN:VEVENT
DTSTART;TZID=America/Los_Angeles:20240707T100000
DTEND;TZID=America/Los_Angeles:20240707T160000
DTSTAMP:20260419T164835
CREATED:20240612T041553Z
LAST-MODIFIED:20240612T041553Z
UID:50538-1720346400-1720368000@laguestlist.com
SUMMARY:LAist: Tournament of Cheeseburgers
DESCRIPTION:Open – LAist\, the award-winning local news and multiplatform information resource for Angelenos\, announced today the kick-off of the Tournament of Cheeseburgers (TOC)\, a new online tournament that will culminate in a live event to take place this summer in celebration of the 100th anniversary of the crowd-pleasing sandwich which has widely been attributed to a roadside stand in Pasadena.
URL:https://laguestlist.com/event/laist-tournament-of-cheeseburgers/
LOCATION:Row DTLA\, 777 S. Alameda Street\, Los Angeles\, CA\, 90021\, United States
CATEGORIES:Things to do
ATTACH;FMTTYPE=image/png:https://laguestlist.com/wp-content/uploads/2024/06/cheese.png
END:VEVENT
BEGIN:VEVENT
DTSTART;TZID=America/Los_Angeles:20240713T080000
DTEND;TZID=America/Los_Angeles:20240713T220000
DTSTAMP:20260419T164835
CREATED:20240711T175145Z
LAST-MODIFIED:20240711T175145Z
UID:50589-1720857600-1720908000@laguestlist.com
SUMMARY:GRLSWIRL's 3rd Annual SWIRL FEST
DESCRIPTION:Ticketed – GRLSWIRL proudly presents the 3rd Annual SWIRL FEST\, a celebration of surfskate culture in the birthplace of it all\, Venice Beach. This all-day event promises live music\, skating\, surfing\, and massive prizes including an e-bike and a 4-day stay at Puro Surf Hotel in El Salvador. Attendee can enjoy tasty food and cold drinks from inside the event from local food trucks and beverage companies. Sun Sip by Health Aide will be giving out Sun Sip x Swirl Floats for the first 300 guests made with their Root Beer prebiotic soda and Creamy Boys ice Cream.
URL:https://laguestlist.com/event/grlswirls-3rd-annual-swirl-fest/
LOCATION:Venice Beach
CATEGORIES:Things to do
ATTACH;FMTTYPE=image/png:https://laguestlist.com/wp-content/uploads/2024/07/girl.png
END:VEVENT
BEGIN:VEVENT
DTSTART;TZID=America/Los_Angeles:20240720T110000
DTEND;TZID=America/Los_Angeles:20240720T130000
DTSTAMP:20260419T164835
CREATED:20240719T233554Z
LAST-MODIFIED:20240719T233554Z
UID:50643-1721473200-1721480400@laguestlist.com
SUMMARY:Nigel Sylvester x Undefeated Launch
DESCRIPTION:Open – the launch moment of professional BMX athlete\, creative\, entrepreneur\, filmmaker\, and philanthropist\, Nigel Sylvester’s Air Jordan 4RM Grandmas Driveway Fence Green Sneaker at Undefeated this Saturday\, 7.20 (112 S La Brea) from 11-1 PM.
URL:https://laguestlist.com/event/nigel-sylvester-x-undefeated-launch/
LOCATION:Undefeated\, 112.5 South La Brea Ave\, Los Angeles\, CA\, 90036\, United States
CATEGORIES:Things to do
ATTACH;FMTTYPE=image/png:https://laguestlist.com/wp-content/uploads/2024/07/nigel-1.png
END:VEVENT
BEGIN:VEVENT
DTSTART;TZID=America/Los_Angeles:20240928T103000
DTEND;TZID=America/Los_Angeles:20240928T180000
DTSTAMP:20260419T164835
CREATED:20240908T004105Z
LAST-MODIFIED:20240908T004105Z
UID:50737-1727519400-1727546400@laguestlist.com
SUMMARY:The Inaugural California Crown
DESCRIPTION:Ticketed – 1/ST joins forces with Los Angeles-based hospitality and lifestyle marketing company The h.wood Group\, known globally for its portfolio of luxury venues and work as one of the most reputable event producers in the world\, to return Santa Anita Park to the era of old Hollywood glamor with luxury hospitality experiences curated by Delilah\, Funke by Chef Evan Funke and Wally’s. California’s richest day of racing to feature VIP area trackside performances by Gryffin\, Lil Yachty\, Shaboozey\, Frank Walker\, and more.
URL:https://laguestlist.com/event/the-inaugural-california-crown/
LOCATION:Santa Anita Park\, 285 West Huntington Drive\, Arcadia\, CA\, 91007\, United States
CATEGORIES:Things to do
ATTACH;FMTTYPE=image/jpeg:https://laguestlist.com/wp-content/uploads/2024/09/Screensho-2.jpg
END:VEVENT
BEGIN:VEVENT
DTSTART;TZID=America/Los_Angeles:20241005T120000
DTEND;TZID=America/Los_Angeles:20241005T160000
DTSTAMP:20260419T164835
CREATED:20240908T002117Z
LAST-MODIFIED:20240908T002117Z
UID:50729-1728129600-1728144000@laguestlist.com
SUMMARY:ChainFEST LA 2024
DESCRIPTION:Ticketed – Following a sold out debut with 5\,000 fans last year\, ChainFEST – the world’s first and largest gourmet chain food festival – is returning to Los Angeles on October 5th\, 2024 with an all-star lineup featuring gourmet collabs from America’s favorite chains.  Under the culinary direction of Michelin-starred chef Tim Hollingsworth\, each chain will showcase a one-of-a-kind pop up restaurant.
URL:https://laguestlist.com/event/chainfest-la-2024/
LOCATION:Skylight Row DTLA\, 777 S. Alameda St.\, Los Angeles\, CA\, 90021\, United States
CATEGORIES:Gastronomy,Things to do
ATTACH;FMTTYPE=image/png:https://laguestlist.com/wp-content/uploads/2024/09/unnamed-1.png
END:VEVENT
BEGIN:VEVENT
DTSTART;TZID=America/Los_Angeles:20241023T200000
DTEND;TZID=America/Los_Angeles:20241023T230000
DTSTAMP:20260419T164835
CREATED:20241022T024222Z
LAST-MODIFIED:20241022T024222Z
UID:50786-1729713600-1729724400@laguestlist.com
SUMMARY:W Hollywood Presents Emmit Fenn
DESCRIPTION:RSVP – W Hollywood will be hosting W Presents\, a live music series event featuring Emmit Fenn at The Loft\, on Wednesday\, October 23rd. W Presentsis a global live music series curated by W Hotels\, spotlighting a diverse array of emerging and established artists who offer an eclectic mix of sounds.
URL:https://laguestlist.com/event/w-hollywood-presents-emmit-fenn/
LOCATION:W Hollywood\, 6250 Hollywood Blvd\, Los Angeles\, CA\, 90028\, United States
CATEGORIES:Music,Things to do
ATTACH;FMTTYPE=image/png:https://laguestlist.com/wp-content/uploads/2024/10/unnamed-1.png
END:VEVENT
BEGIN:VEVENT
DTSTART;TZID=America/Los_Angeles:20241114T180000
DTEND;TZID=America/Los_Angeles:20241114T210000
DTSTAMP:20260419T164835
CREATED:20241112T021111Z
LAST-MODIFIED:20241112T021111Z
UID:50861-1731607200-1731618000@laguestlist.com
SUMMARY:Emma Chamberlain x Warby Parker
DESCRIPTION:Invite Only – Emma Chamberlain x Warby Parker are hosting a preview collection party designed By Emma with complimentary drinks and music by Harmony Trividad.
URL:https://laguestlist.com/event/emma-chamberlain-x-warby-parker/
LOCATION:CA
CATEGORIES:Event,Things to do
ATTACH;FMTTYPE=image/png:https://laguestlist.com/wp-content/uploads/2024/11/emm.png
END:VEVENT
BEGIN:VEVENT
DTSTART;TZID=America/Los_Angeles:20241115T100000
DTEND;TZID=America/Los_Angeles:20241118T180000
DTSTAMP:20260419T164835
CREATED:20241112T022557Z
LAST-MODIFIED:20241112T022557Z
UID:50867-1731664800-1731952800@laguestlist.com
SUMMARY:UGG Feel House
DESCRIPTION:Open – UGG  presents the Feel House Pop Up\, a multi-sensory community space that exists to make self-expression comfortable for all.
URL:https://laguestlist.com/event/ugg-feel-house/
LOCATION:Melrose Ave
CATEGORIES:Things to do
ATTACH;FMTTYPE=image/png:https://laguestlist.com/wp-content/uploads/2024/11/Ugg.png
END:VEVENT
BEGIN:VEVENT
DTSTART;TZID=America/Los_Angeles:20241118T200000
DTEND;TZID=America/Los_Angeles:20241118T230000
DTSTAMP:20260419T164835
CREATED:20241112T015933Z
LAST-MODIFIED:20241112T015933Z
UID:50857-1731960000-1731970800@laguestlist.com
SUMMARY:White Claw Session Presents Ferg
DESCRIPTION:RSVP – White Claw Session Powered by illboard with a special performance by Ferg.
URL:https://laguestlist.com/event/white-claw-session-presents-ferg/
LOCATION:CA
CATEGORIES:Concert,Things to do
ATTACH;FMTTYPE=image/jpeg:https://laguestlist.com/wp-content/uploads/2024/11/Screensho-2.jpg
END:VEVENT
BEGIN:VEVENT
DTSTART;TZID=America/Los_Angeles:20250213T190000
DTEND;TZID=America/Los_Angeles:20250213T230000
DTSTAMP:20260419T164835
CREATED:20250213T023624Z
LAST-MODIFIED:20250213T023624Z
UID:50937-1739473200-1739487600@laguestlist.com
SUMMARY:Dim Mak Galentine's Day
DESCRIPTION:Invite Only – Dim Mak and CAKE reunite for another special Galentine’s Day pop in downtown Los Angeles. Guest will celebrate Kyzo on Flash Tattoos\, Morgan on Tooth Gems and Nina on Glam\, alongside an open bar\, DJ Sets\, and giveaways!
URL:https://laguestlist.com/event/dim-mak-galentines-day/
LOCATION:CA
CATEGORIES:Things to do
ATTACH;FMTTYPE=image/png:https://laguestlist.com/wp-content/uploads/2025/02/dim.png
END:VEVENT
BEGIN:VEVENT
DTSTART;TZID=America/Los_Angeles:20250320T180000
DTEND;TZID=America/Los_Angeles:20250320T210000
DTSTAMP:20260419T164835
CREATED:20250319T100747Z
LAST-MODIFIED:20250319T100747Z
UID:51014-1742493600-1742504400@laguestlist.com
SUMMARY:Studio Eleven43 Launch Party
DESCRIPTION:Invite Only – Get ready to experience Studio Eleven43\, Hollywood’s new fully-integrated virtual production facility\, at our epic launch party!
URL:https://laguestlist.com/event/studio-eleven43-launch-party/
LOCATION:Hollywood
CATEGORIES:Things to do
ATTACH;FMTTYPE=image/png:https://laguestlist.com/wp-content/uploads/2025/03/studio43.png
END:VEVENT
BEGIN:VEVENT
DTSTART;TZID=America/Los_Angeles:20250409T183000
DTEND;TZID=America/Los_Angeles:20250410T013000
DTSTAMP:20260419T164835
CREATED:20250331T011057Z
LAST-MODIFIED:20250331T012343Z
UID:51035-1744223400-1744248600@laguestlist.com
SUMMARY:H&M&LA Festival
DESCRIPTION:Invite Only – Doechii\, Robyn and Jamie xx will all perform at the inaugural H&M&LA Festival\, taking place at a private location in downtown Los Angeles on April 9.
URL:https://laguestlist.com/event/hmla-festival/
LOCATION:DTLA
CATEGORIES:Things to do
ATTACH;FMTTYPE=image/jpeg:https://laguestlist.com/wp-content/uploads/2025/03/Screensho-2.jpg
END:VEVENT
BEGIN:VEVENT
DTSTART;TZID=America/Los_Angeles:20250605T110000
DTEND;TZID=America/Los_Angeles:20250607T190000
DTSTAMP:20260419T164835
CREATED:20250531T011307Z
LAST-MODIFIED:20250531T011307Z
UID:51264-1749121200-1749322800@laguestlist.com
SUMMARY:Le Petit Court by Max
DESCRIPTION:RSVP – To mark the debut of Roland-Garros on Max for the first time in the U.S.\, Max is bringing the tournament to life in Venice Beach\, Los Angeles with “Le Petit Court\,” a pickleball experience featuring the iconic clay court and signature umpire tower. The court will be available for the public free of charge to reserve for open play or to take lessons with professional pickle ballers in partnership with Pickle Pop and offer a dedicated lounge to stream the tournament on Max\, photo moments throughout\, and more. Space is limited.
URL:https://laguestlist.com/event/le-petit-court-by-max/
LOCATION:Venice Beach
CATEGORIES:Fitness,Fun in the Sun,Things to do
ATTACH;FMTTYPE=image/png:https://laguestlist.com/wp-content/uploads/2025/05/Max.png
END:VEVENT
BEGIN:VEVENT
DTSTART;TZID=America/Los_Angeles:20250612T170000
DTEND;TZID=America/Los_Angeles:20250612T230000
DTSTAMP:20260419T164835
CREATED:20250610T165630Z
LAST-MODIFIED:20250610T165630Z
UID:51290-1749747600-1749769200@laguestlist.com
SUMMARY:Night Market at The Bungalow
DESCRIPTION:Open – Night Market is back at The Bungalow Santa Monica. Enjoy food vendors\, drinks\, live music\, family fun\, and celebrity guests. Free\, all-ages\, pet-friendly\, and a special performance by Jason Momoa and his band Oof Tatata.
URL:https://laguestlist.com/event/night-market-at-the-bungalow/
LOCATION:The Bungalow\, 101 Wilshire Blvd\, Santa Monica\, CA\, 90401\, United States
CATEGORIES:Things to do
ATTACH;FMTTYPE=image/jpeg:https://laguestlist.com/wp-content/uploads/2025/06/1-1.jpg
END:VEVENT
BEGIN:VEVENT
DTSTART;TZID=America/Los_Angeles:20250808T160000
DTEND;TZID=America/Los_Angeles:20250808T230000
DTSTAMP:20260419T164835
CREATED:20250807T012938Z
LAST-MODIFIED:20250807T012938Z
UID:51361-1754668800-1754694000@laguestlist.com
SUMMARY:Dreamland Malibu Presents Diplo
DESCRIPTION:Ticketed – Join Aviator Nation Dreamland in Malibu with special guests August 8th for LED\, Diplo\, Loods\, Zen Freeman and more.
URL:https://laguestlist.com/event/dreamland-malibu-presents-diplo/
LOCATION:Aviator Nation Dreamland\, 22969 PCH\, Malibu\, CA\, 90265\, United States
CATEGORIES:Things to do
ATTACH;FMTTYPE=image/png:https://laguestlist.com/wp-content/uploads/2025/08/dreamland.png
END:VEVENT
BEGIN:VEVENT
DTSTART;TZID=America/Los_Angeles:20250816T180000
DTEND;TZID=America/Los_Angeles:20250816T203000
DTSTAMP:20260419T164835
CREATED:20250814T223712Z
LAST-MODIFIED:20250814T223712Z
UID:51400-1755367200-1755376200@laguestlist.com
SUMMARY:Proper Presents: St. Lucia (DJ Set)
DESCRIPTION:RSVP – Gold Sky Productions\, Condesa Gin\, POM Wonderful and Louviere Beauty have partnered with the Santa Monica Proper Hotel to bring you an unforgettable sunset DJ set with St. Lucia\, ft. complimentary POM Spritz cocktails\, POM and Louviere Beauty activations and more.
URL:https://laguestlist.com/event/proper-presents-st-lucia-dj-set/
LOCATION:Santa Monica Proper Hotel\, 700 Wilshire Blvd\, Santa Monica\, CA\, 90401\, United States
CATEGORIES:Things to do
ATTACH;FMTTYPE=image/png:https://laguestlist.com/wp-content/uploads/2025/08/unnamed.png
END:VEVENT
BEGIN:VEVENT
DTSTART;TZID=America/Los_Angeles:20250817T120000
DTEND;TZID=America/Los_Angeles:20250817T140000
DTSTAMP:20260419T164835
CREATED:20250808T225601Z
LAST-MODIFIED:20250808T225601Z
UID:51375-1755432000-1755439200@laguestlist.com
SUMMARY:Barefoot Dreams: A Taste of Malibu
DESCRIPTION:Open – Everyone’s favorite cozy brand\, Barefoot Dreams\, is hosting A Taste of Malibu. Guests can enjoy: book signing + treats from The Way We Eat author Aubree Holmes\, complimentary matcha from Sunnyday\, music\, and exclusive gift with purchase.
URL:https://laguestlist.com/event/barefoot-dreams-a-taste-of-malibu/
LOCATION:Malibu Country Mart\, 3828 Cross Creek Road \, Malibu\, CA\, 90265\, United States
CATEGORIES:Things to do
ATTACH;FMTTYPE=image/jpeg:https://laguestlist.com/wp-content/uploads/2025/08/unnamed-1.jpg
END:VEVENT
BEGIN:VEVENT
DTSTART;TZID=America/Los_Angeles:20250830T120000
DTEND;TZID=America/Los_Angeles:20250830T180000
DTSTAMP:20260419T164835
CREATED:20250826T182853Z
LAST-MODIFIED:20250826T182853Z
UID:51424-1756555200-1756576800@laguestlist.com
SUMMARY:Weedmaps Kickback LA
DESCRIPTION:Invite Only – Weedmaps is teaming up with legendary creative collective\, The Seventh Letter\, to bring you an unforgettable event where cannabis culture meets street art\, music\, and community. See this collaboration come to life and pull up to the Weedmaps Kickback with top brands\, influential voices\, and the local community for a celebration like no other.
URL:https://laguestlist.com/event/weedmaps-kickback-la/
LOCATION:Los Angeles
CATEGORIES:Things to do
ATTACH;FMTTYPE=image/jpeg:https://laguestlist.com/wp-content/uploads/2025/08/0-1.jpg
END:VEVENT
BEGIN:VEVENT
DTSTART;TZID=America/Los_Angeles:20250905T170000
DTEND;TZID=America/Los_Angeles:20250907T170000
DTSTAMP:20260419T164835
CREATED:20250905T212344Z
LAST-MODIFIED:20250905T212344Z
UID:51437-1757091600-1757264400@laguestlist.com
SUMMARY:Malibu Food & Wine 2025
DESCRIPTION:Ticketed – The festival features a curated lineup of our favorite local restaurants—personally selected by founders Chef Marcel Vigneron and Lauren Rae Levy. After hardships following the Woolsey\, Franklin\, and Palisades Fires\, Malibu’s restaurant community deserves a moment in the spotlight. A Taste of Malibu is that moment: a chance for these beloved businesses to reconnect with the community\, gain new visibility\, and be celebrated for the ﬂavors that help deﬁne Malibu.
URL:https://laguestlist.com/event/malibu-food-wine-2025/
LOCATION:Saddlerock Ranch\, 32111 Mulholland Hwy\, Malibu\, CA\, 90265\, United States
CATEGORIES:Things to do
ATTACH;FMTTYPE=image/png:https://laguestlist.com/wp-content/uploads/2025/09/Malibu.png
END:VEVENT
BEGIN:VEVENT
DTSTART;TZID=America/Los_Angeles:20250920T190000
DTEND;TZID=America/Los_Angeles:20250920T210000
DTSTAMP:20260419T164835
CREATED:20250807T015118Z
LAST-MODIFIED:20250807T015118Z
UID:51369-1758394800-1758402000@laguestlist.com
SUMMARY:Book Soup: Matthew McConaughey
DESCRIPTION:Ticketed – The Poems & Prayers Revival Tour will blend heartfelt dialogue\, spoken word performances\, music\, and unexpected moments of connection. McConaughey will be joined by a special guest for intimate\, spontaneous and honest conversation designed to “put a mirror to our souls to see if we recognize each other again.”
URL:https://laguestlist.com/event/book-soup-matthew-mcconaughey/
LOCATION:Saban Theatre\,  8440 Wilshire Blvd\, Beverly Hills\, CA\, 90211\, United States
CATEGORIES:Things to do
ATTACH;FMTTYPE=image/png:https://laguestlist.com/wp-content/uploads/2025/08/unnamed-1-1.png
END:VEVENT
BEGIN:VEVENT
DTSTART;TZID=America/Los_Angeles:20251106T180000
DTEND;TZID=America/Los_Angeles:20251106T210000
DTSTAMP:20260419T164835
CREATED:20251104T234651Z
LAST-MODIFIED:20251104T234651Z
UID:51577-1762452000-1762462800@laguestlist.com
SUMMARY:Playboy & Are We On Air?
DESCRIPTION:Open – Join Playboy & Are We On Air? this Thursday\, Nov. 6 on Sunset Blvd to shop the Winter 2025-26 issue\, meet the 2025 Playmates\, enjoy bites from La Burg and experience Arman Naféei spinning archival Playboy Mansion jazz records.
URL:https://laguestlist.com/event/playboy-are-we-on-air/
LOCATION:CA
CATEGORIES:Pop-Up Shop,Things to do
ATTACH;FMTTYPE=image/png:https://laguestlist.com/wp-content/uploads/2025/11/Are-We-On-Air-Playboy.png
END:VEVENT
END:VCALENDAR