BEGIN:VCALENDAR
VERSION:2.0
PRODID:-//LA Guestlist - ECPv6.15.20//NONSGML v1.0//EN
CALSCALE:GREGORIAN
METHOD:PUBLISH
X-WR-CALNAME:LA Guestlist
X-ORIGINAL-URL:https://laguestlist.com
X-WR-CALDESC:Events for LA Guestlist
REFRESH-INTERVAL;VALUE=DURATION:PT1H
X-Robots-Tag:noindex
X-PUBLISHED-TTL:PT1H
BEGIN:VTIMEZONE
TZID:America/Los_Angeles
BEGIN:DAYLIGHT
TZOFFSETFROM:-0800
TZOFFSETTO:-0700
TZNAME:PDT
DTSTART:20160313T100000
END:DAYLIGHT
BEGIN:STANDARD
TZOFFSETFROM:-0700
TZOFFSETTO:-0800
TZNAME:PST
DTSTART:20161106T090000
END:STANDARD
BEGIN:DAYLIGHT
TZOFFSETFROM:-0800
TZOFFSETTO:-0700
TZNAME:PDT
DTSTART:20170312T100000
END:DAYLIGHT
BEGIN:STANDARD
TZOFFSETFROM:-0700
TZOFFSETTO:-0800
TZNAME:PST
DTSTART:20171105T090000
END:STANDARD
BEGIN:DAYLIGHT
TZOFFSETFROM:-0800
TZOFFSETTO:-0700
TZNAME:PDT
DTSTART:20180311T100000
END:DAYLIGHT
BEGIN:STANDARD
TZOFFSETFROM:-0700
TZOFFSETTO:-0800
TZNAME:PST
DTSTART:20181104T090000
END:STANDARD
BEGIN:DAYLIGHT
TZOFFSETFROM:-0800
TZOFFSETTO:-0700
TZNAME:PDT
DTSTART:20190310T100000
END:DAYLIGHT
BEGIN:STANDARD
TZOFFSETFROM:-0700
TZOFFSETTO:-0800
TZNAME:PST
DTSTART:20191103T090000
END:STANDARD
END:VTIMEZONE
BEGIN:VEVENT
DTSTART;TZID=America/Los_Angeles:20171213T180000
DTEND;TZID=America/Los_Angeles:20171213T210000
DTSTAMP:20260423T211531
CREATED:20171211T210853Z
LAST-MODIFIED:20171211T210853Z
UID:29577-1513188000-1513198800@laguestlist.com
SUMMARY:After Hours with Roy Choi at GOAT
DESCRIPTION:RSVP –  Sneakers book authors Howie Kahn and Alex French sit down with chef and entrepreneur Roy Choi (Kogi\, LocoL\, Commissary\, POT) to discuss Choi’s pioneering work in the food world and how Los Angeles street culture has impacted his journey along the way.
URL:https://laguestlist.com/event/hours-roy-choi-goat/
LOCATION:Platform\, 8820 Washington Blvd Suite 101\, Culver City\, CA\, United States
CATEGORIES:Fashion,Things to do
ATTACH;FMTTYPE=image/jpeg:https://laguestlist.com/wp-content/uploads/2017/12/24852401_870923096414600_2795630584999615660_n.jpg
END:VEVENT
BEGIN:VEVENT
DTSTART;TZID=America/Los_Angeles:20171215T110000
DTEND;TZID=America/Los_Angeles:20171215T210000
DTSTAMP:20260423T211531
CREATED:20171204T233234Z
LAST-MODIFIED:20171204T233234Z
UID:29446-1513335600-1513371600@laguestlist.com
SUMMARY:Candytopia Los Angeles
DESCRIPTION:Ticketed – Welcome to Candytopia\, where colossal candyfloss constructions meld with a tantalizing taffy twistedness! \nExplore our sprawling sanctuary of confectionary bliss\, tastefully curated by Hollywood Candy Queen Jackie Sorkin and realized by master fabricator Zac Hartog. This three-month event celebrates the vibrant colors and flavors of our favorite sugary delights through a series of interactive art installations in over a dozen environments\, from flying unicorn pigs to a marshmallow tsunami. Bring your family\, your friends\, and your sweet tooth for an experience like none other!
URL:https://laguestlist.com/event/candytopia-los-angeles/
LOCATION:LA Hangar Studios\, 2627 Medford St\, Los Angeles\, CA\, 90034\, United States
CATEGORIES:Things to do
ATTACH;FMTTYPE=image/jpeg:https://laguestlist.com/wp-content/uploads/2017/12/Showclix_500.jpg
END:VEVENT
BEGIN:VEVENT
DTSTART;TZID=America/Los_Angeles:20171216T130000
DTEND;TZID=America/Los_Angeles:20171216T160000
DTSTAMP:20260423T211531
CREATED:20171114T234804Z
LAST-MODIFIED:20171114T234804Z
UID:29080-1513429200-1513440000@laguestlist.com
SUMMARY:The Lady Gang - Girl Talk\, Sparkling Wine\, and a LIVE taping
DESCRIPTION:Ticketed – Join us for the first ever LadyHang at Wanderlust in Hollywood! Mingle with other LadyGangers and be a part of the LIVE taping with special guests Erin Foster\, Sara Foster\, and Spencer Pratt. Be prepared for us to ask about YOUR good week / bad week\, as well as YOUR Ish moments and dating stories. Every ticket comes with a glass of Sparkling Wine thanks to Conundrum But don’t stop there\, Jac wouldn’t right?… a cash bar will be open throughout the event.
URL:https://laguestlist.com/event/lady-gang-girl-talk-sparkling-wine-live-taping/
LOCATION:Wanderlust Hollywood\, 1357 N. Highland Ave\, Los Angeles\, CA\, 90028\, United States
CATEGORIES:Things to do
ATTACH;FMTTYPE=image/jpeg:https://laguestlist.com/wp-content/uploads/2017/11/https-2F2Fcdn.evbuc_.com2Fimages2F375645242F2069788545182F12Foriginal.jpg
END:VEVENT
BEGIN:VEVENT
DTSTART;TZID=America/Los_Angeles:20171230T150000
DTEND;TZID=America/Los_Angeles:20171230T230000
DTSTAMP:20260423T211531
CREATED:20171228T195132Z
LAST-MODIFIED:20171228T195132Z
UID:29777-1514646000-1514674800@laguestlist.com
SUMMARY:Interested All Day I Dream It's Almost 2018
DESCRIPTION:Ticketed – All Day I Dream It’s Almost 2018 at Gin Ling Way\, Los Angeles with an amazing lineup including Lee Burridge\, YokoO and Hoj.
URL:https://laguestlist.com/event/interested-day-dream-almost-2018/
LOCATION:Gin Ling Way\, 451 Gin Ling Way\, Los Angeles\, CA\, 90012\, United States
CATEGORIES:Things to do
ATTACH;FMTTYPE=image/jpeg:https://laguestlist.com/wp-content/uploads/2017/12/unnamed-2-1.jpg
END:VEVENT
BEGIN:VEVENT
DTSTART;TZID=America/Los_Angeles:20180101T080000
DTEND;TZID=America/Los_Angeles:20180101T170000
DTSTAMP:20260423T211531
CREATED:20171218T232011Z
LAST-MODIFIED:20171218T232011Z
UID:29732-1514793600-1514826000@laguestlist.com
SUMMARY:The 2018 Rose Parade
DESCRIPTION:Open – The Rose Parade will start at 8:00am PST. On January 1\, 2018\, the world focuses its attention on Pasadena\, California\, USA\, home of the Rose Parade and Rose Bowl Game. It’s a celebration more than a century old – a festival of flowers\, music and sports unequaled anywhere else in the world. It’s America’s New Year Celebration\, a greeting to the world on the first day of the year\, and a salute to the community spirit and love of pageantry that have thrived in Pasadena for more than 100 years.
URL:https://laguestlist.com/event/2018-rose-parade/
LOCATION:The Rose Bowl\, 1001 Rose Bowl Drive\, Pasadena\, CA\, 91103\, United States
CATEGORIES:Things to do
ATTACH;FMTTYPE=image/jpeg:https://laguestlist.com/wp-content/uploads/2017/12/TOR_RP-2016-THEME-FYA_color_white.jpg
END:VEVENT
BEGIN:VEVENT
DTSTART;TZID=America/Los_Angeles:20180105T170000
DTEND;TZID=America/Los_Angeles:20180105T190000
DTSTAMP:20260423T211531
CREATED:20171229T172155Z
LAST-MODIFIED:20171229T172155Z
UID:29802-1515171600-1515178800@laguestlist.com
SUMMARY:VFILES and Mountain Dew Present: Pass The Aux
DESCRIPTION:Invite Only – VFILES and Mountain Dew® are releasing a CAMOOUT capsule collection exclusively available at PacSun. To celebrate the launch\, VFILES will be hosting Pass the Aux.
URL:https://laguestlist.com/event/vfiles-mountain-dew-present-pass-aux/
LOCATION:CA
CATEGORIES:Things to do
ATTACH;FMTTYPE=image/jpeg:https://laguestlist.com/wp-content/uploads/2017/12/unnamed-2-2.jpg
END:VEVENT
BEGIN:VEVENT
DTSTART;TZID=America/Los_Angeles:20180109T190000
DTEND;TZID=America/Los_Angeles:20180109T220000
DTSTAMP:20260423T211531
CREATED:20180106T000335Z
LAST-MODIFIED:20180106T000335Z
UID:29891-1515524400-1515535200@laguestlist.com
SUMMARY:Museum of Illusions x Average Socialite Party
DESCRIPTION:Invite Only – The opening party of Museum of Illusions in Hollywood. Average Socialite is proud to be a partner of this new museum opening in Los Angeles. Expect cocktails\, small bites\, a step-and-repeat\, and a photobooth at the party!
URL:https://laguestlist.com/event/museum-illusions-x-average-socialite-party/
LOCATION:CA
CATEGORIES:Things to do
ATTACH;FMTTYPE=image/jpeg:https://laguestlist.com/wp-content/uploads/2018/01/unnamed-1-1.jpg
END:VEVENT
BEGIN:VEVENT
DTSTART;TZID=America/Los_Angeles:20180109T200000
DTEND;TZID=America/Los_Angeles:20180109T200000
DTSTAMP:20260423T211531
CREATED:20180108T202502Z
LAST-MODIFIED:20180108T202502Z
UID:29910-1515528000-1515528000@laguestlist.com
SUMMARY:Emissary: Women in Art
DESCRIPTION:Ticketed – Cocktail hour\, panel discussion with innovative and controversial women in art. Saint Sinner performs LIVE. Sounds by DJ SheRock. -Special guests include: Illma Gore\, The Kaplan Twins\, Niqko\, Meg Zany\, Alexandra Velasco and Cooper T. Moll
URL:https://laguestlist.com/event/emissary-women-art/
LOCATION:Blind Dragon\, 9201 Sunset Blvd\, Los Angeles\, CA\, 90069\, United States
CATEGORIES:Things to do
ATTACH;FMTTYPE=image/jpeg:https://laguestlist.com/wp-content/uploads/2018/01/unnamed-4-1.jpg
END:VEVENT
BEGIN:VEVENT
DTSTART;TZID=America/Los_Angeles:20180111T180000
DTEND;TZID=America/Los_Angeles:20180111T220000
DTSTAMP:20260423T211531
CREATED:20171229T172415Z
LAST-MODIFIED:20171229T172415Z
UID:29805-1515693600-1515708000@laguestlist.com
SUMMARY:Ulloo 42 Launch Event
DESCRIPTION:Invite Only – Come spend an evening enjoying entirely unique\, one-of-a-kind furniture pieces designed by Ulloo 42’s very own Suzanne Currie\, accompanied by cocktails and canapés.
URL:https://laguestlist.com/event/ulloo-42-launch-event/
LOCATION:CA
CATEGORIES:Things to do
ATTACH;FMTTYPE=image/png:https://laguestlist.com/wp-content/uploads/2017/12/Screen-Shot-2017-12-29-at-10.22.48-AM.png
END:VEVENT
BEGIN:VEVENT
DTSTART;TZID=America/Los_Angeles:20180116T110000
DTEND;TZID=America/Los_Angeles:20180116T190000
DTSTAMP:20260423T211531
CREATED:20180112T193317Z
LAST-MODIFIED:20180112T193317Z
UID:29986-1516100400-1516129200@laguestlist.com
SUMMARY:Ben & Jerry’s Pint Slice Pop Up Carnival
DESCRIPTION:Open – Ben & Jerry’s is in Los Angeles and is gearing up to kick-off a euphoric flavor announcement! On January 16th\, we invite you to join us for the unveiling of new flavors of our beloved Pint Slices. From 11AM-7PM on the corner of Hollywood and Vine\, head to the pop-up carnival where we’ll announce our newest flavors. That’s right…we’re bringing MASSIVE pint slice swings\, carnival games and of course samples of our newest Pint Slice flavors for everyone to enjoy.
URL:https://laguestlist.com/event/ben-jerrys-pint-slice-pop-carnival/
LOCATION:CA
CATEGORIES:Things to do
ATTACH;FMTTYPE=image/png:https://laguestlist.com/wp-content/uploads/2018/01/Screen-Shot-2018-01-12-at-11.31.24-AM.png
END:VEVENT
BEGIN:VEVENT
DTSTART;TZID=America/Los_Angeles:20180128T120000
DTEND;TZID=America/Los_Angeles:20180128T200000
DTSTAMP:20260423T211531
CREATED:20180127T231939Z
LAST-MODIFIED:20180127T231939Z
UID:30219-1517140800-1517169600@laguestlist.com
SUMMARY:E.P. & L.P. Presents Australia Day Party
DESCRIPTION:Invite Only – E.P. & L.P. Presents Bondi Beach Club Australia Day Party with NXP\, Jeep and Quay Australia.
URL:https://laguestlist.com/event/e-p-l-p-presents-australia-day-party/
LOCATION:E.P. & L.P.\,  603 N. La Cienega Blvd \, Los Angeles\, CA\, 90069 \, United States
CATEGORIES:Things to do
ATTACH;FMTTYPE=image/png:https://laguestlist.com/wp-content/uploads/2018/01/Screen-Shot-2018-01-27-at-3.17.25-PM.png
END:VEVENT
BEGIN:VEVENT
DTSTART;TZID=America/Los_Angeles:20180128T190000
DTEND;TZID=America/Los_Angeles:20180128T190000
DTSTAMP:20260423T211531
CREATED:20180127T231636Z
LAST-MODIFIED:20180127T231636Z
UID:30216-1517166000-1517166000@laguestlist.com
SUMMARY:Mayer Hawthorne at the Roadhouse
DESCRIPTION:Ticketed – Twin Peaks presents Mayer Hawthorne at the Roadhouse (Performance + Live DJ Set) for their Official Closing Party.
URL:https://laguestlist.com/event/mayer-hawthorne-roadhouse/
LOCATION:CA
CATEGORIES:Things to do
ATTACH;FMTTYPE=image/jpeg:https://laguestlist.com/wp-content/uploads/2018/01/unnamed-3-1.jpg
END:VEVENT
BEGIN:VEVENT
DTSTART;TZID=America/Los_Angeles:20180131T180000
DTEND;TZID=America/Los_Angeles:20180131T210000
DTSTAMP:20260423T211531
CREATED:20180126T213756Z
LAST-MODIFIED:20180126T213756Z
UID:30204-1517421600-1517432400@laguestlist.com
SUMMARY:Ciroc Studios hosted by DJ Khaled
DESCRIPTION:Invite Only – The Unveiling of Ciroc Studios hosted by DJ Khaled powered by VH1s’ Save the Music.
URL:https://laguestlist.com/event/ciroc-studios-hosted-dj-khaled/
LOCATION:CA
CATEGORIES:Things to do
ATTACH;FMTTYPE=image/png:https://laguestlist.com/wp-content/uploads/2018/01/Screen-Shot-2018-01-26-at-1.34.59-PM.png
END:VEVENT
BEGIN:VEVENT
DTSTART;TZID=America/Los_Angeles:20180131T183000
DTEND;TZID=America/Los_Angeles:20180131T213000
DTSTAMP:20260423T211531
CREATED:20180126T214722Z
LAST-MODIFIED:20180126T214722Z
UID:30210-1517423400-1517434200@laguestlist.com
SUMMARY:Infatuation x Diet Coke
DESCRIPTION:Invite Only –  Diet Coke is throwing a party with Infatuation to celebrate the launch of their new look and new flavors. EEEEEATS\, drinks\, and plenty of opportunities to sample the goods will be available
URL:https://laguestlist.com/event/infatuation-x-diet-coke/
LOCATION:CA
CATEGORIES:Things to do
ATTACH;FMTTYPE=image/png:https://laguestlist.com/wp-content/uploads/2018/01/Screen-Shot-2018-01-26-at-1.45.21-PM.png
END:VEVENT
BEGIN:VEVENT
DTSTART;TZID=America/Los_Angeles:20180202T160000
DTEND;TZID=America/Los_Angeles:20180202T200000
DTSTAMP:20260423T211531
CREATED:20180131T204922Z
LAST-MODIFIED:20180131T204922Z
UID:30283-1517587200-1517601600@laguestlist.com
SUMMARY:Puma x Hello Kitty
DESCRIPTION:Invite Only – Puma is teaming up with Hello Kitty for a fun afternoon filled with nail art\, tattoos and an appearance by Hello Kitty herself.
URL:https://laguestlist.com/event/puma-x-hello-kitty/
LOCATION:CA
CATEGORIES:Things to do
ATTACH;FMTTYPE=image/png:https://laguestlist.com/wp-content/uploads/2018/01/Screen-Shot-2018-01-31-at-12.47.10-PM.png
END:VEVENT
BEGIN:VEVENT
DTSTART;TZID=America/Los_Angeles:20180208T190000
DTEND;TZID=America/Los_Angeles:20180208T230000
DTSTAMP:20260423T211531
CREATED:20180204T180657Z
LAST-MODIFIED:20180204T180657Z
UID:30361-1518116400-1518130800@laguestlist.com
SUMMARY:Skybar Night Market
DESCRIPTION:Open – Shop unique finds from up-and-coming brands on February 8th at the Skybar Night Market in collaboration with BYOU. \nFor table reservations email skybarla@sbe.com
URL:https://laguestlist.com/event/skybar-night-market-3/
LOCATION:Skybar at Mondrian\, 8440 Sunset Boulevard\, West Hollywood\, CA\, 90069\, United States
CATEGORIES:Things to do
ATTACH;FMTTYPE=image/png:https://laguestlist.com/wp-content/uploads/2018/02/Screen-Shot-2018-02-04-at-10.04.55-AM.png
END:VEVENT
BEGIN:VEVENT
DTSTART;TZID=America/Los_Angeles:20180210T110000
DTEND;TZID=America/Los_Angeles:20180210T160000
DTSTAMP:20260423T211531
CREATED:20180205T172654Z
LAST-MODIFIED:20180205T172654Z
UID:30392-1518260400-1518278400@laguestlist.com
SUMMARY:The Rock and Roll Flea Market
DESCRIPTION:Open – The first Sunday of every month The Regent and Beat Swap Meet bring you the Rock And Roll Flea Market with 50 vinyl\, vintage\, and handmade vendors\, 2 full bars\, Brunch menu\, All day DJ’s and Boozy brunch bingo for concert tickets in the Lovesong at 1pm.
URL:https://laguestlist.com/event/rock-roll-flea-market/
LOCATION:The Regent\, 448 S. Main St.\, Los Angeles\, CA\, 90013\, United States
CATEGORIES:Things to do
ATTACH;FMTTYPE=image/jpeg:https://laguestlist.com/wp-content/uploads/2018/02/26815168_1569012566539461_3364434633659064614_n.jpg
END:VEVENT
BEGIN:VEVENT
DTSTART;TZID=America/Los_Angeles:20180217T183000
DTEND;TZID=America/Los_Angeles:20180217T210000
DTSTAMP:20260423T211531
CREATED:20180204T180254Z
LAST-MODIFIED:20180204T180254Z
UID:30358-1518892200-1518901200@laguestlist.com
SUMMARY:Get Paid To Be Yourself: A Live Conversation with Lena Waithe
DESCRIPTION:RSVP – A live conversation series for the new creative class empowering creators to design the careers they want. A Live Conversation with Lena Waithe. Lena Waithe is an actress\, producer\, and screenwriter\, best known for her role as Denise on Master of None. Waithe made history at the 2017 Emmys when she won an award for Outstanding Writing for a Comedy Series on Master of None. Lena is the creative force behind the Showtime series\, The Chi.
URL:https://laguestlist.com/event/get-paid-live-conversation-lena-waithe/
LOCATION:CTRL Collective\, 12575 Beatrice Street\, Playa Vista\, CA\, 90066\, United States
CATEGORIES:Things to do
ATTACH;FMTTYPE=image/jpeg:https://laguestlist.com/wp-content/uploads/2018/02/unnamed-10.jpg
END:VEVENT
BEGIN:VEVENT
DTSTART;TZID=America/Los_Angeles:20180217T203000
DTEND;TZID=America/Los_Angeles:20180217T203000
DTSTAMP:20260423T211531
CREATED:20180207T224716Z
LAST-MODIFIED:20180207T224716Z
UID:30500-1518899400-1518899400@laguestlist.com
SUMMARY:Maison Kitsuné x NBA
DESCRIPTION:RSVP – To celebrate the launch of the Maison Kitsuné collaboration with the NBA\, they are travelling to 8 cities in North America with a special #KitsunexNBA Tour Offering a unique experience aligning fashion\, music and sports\, each date will tip-off with an in-store cocktail party hosted by a selected retailer\, followed by a Kitsuné Club Night.
URL:https://laguestlist.com/event/maison-kitsune-x-nba/
LOCATION:Ace Hotel DTLA\, 921 S. Broadway\, Los Angeles\, CA\, 90015\, United States
CATEGORIES:Things to do
ATTACH;FMTTYPE=image/png:https://laguestlist.com/wp-content/uploads/2018/02/Screen-Shot-2018-02-07-at-2.41.12-PM.png
END:VEVENT
BEGIN:VEVENT
DTSTART;TZID=America/Los_Angeles:20180222T183000
DTEND;TZID=America/Los_Angeles:20180222T213000
DTSTAMP:20260423T211531
CREATED:20180221T200145Z
LAST-MODIFIED:20180221T200145Z
UID:30800-1519324200-1519335000@laguestlist.com
SUMMARY:Issey Miyake Fragrance Launch
DESCRIPTION:Invite Only – Issey Miyake Parfums newest fragrance launch for Men and Women
URL:https://laguestlist.com/event/issey-miyake-fragrance-launch/
LOCATION:CA
CATEGORIES:Things to do
ATTACH;FMTTYPE=image/jpeg:https://laguestlist.com/wp-content/uploads/2018/02/issey-miyake-facebook-f5576181de16f26168b595d131f7266a.jpg
END:VEVENT
BEGIN:VEVENT
DTSTART;TZID=America/Los_Angeles:20180226T200000
DTEND;TZID=America/Los_Angeles:20180226T230000
DTSTAMP:20260423T211531
CREATED:20180220T020123Z
LAST-MODIFIED:20180220T020123Z
UID:30746-1519675200-1519686000@laguestlist.com
SUMMARY:Letters Live with Jake Gyllenhaal\, Catherine Keener\, Mark Hamill\, Anjelica Huston and More
DESCRIPTION:Ticketed – Letters Live\, The acclaimed UK Show\, is making its US Premiere with a fundraiser for 826LA and Women for Women International.
URL:https://laguestlist.com/event/letters-live-jake-gyllenhaal-catherine-keener-mark-hamill-anjelica-huston/
LOCATION:Ace Hotel DTLA\, 921 S. Broadway\, Los Angeles\, CA\, 90015\, United States
CATEGORIES:Things to do
ATTACH;FMTTYPE=image/jpeg:https://laguestlist.com/wp-content/uploads/2018/02/Letters-Live-Ace-Hotel-e1518897787207.jpg
END:VEVENT
BEGIN:VEVENT
DTSTART;TZID=America/Los_Angeles:20180301T110000
DTEND;TZID=America/Los_Angeles:20180301T213000
DTSTAMP:20260423T211531
CREATED:20180213T223219Z
LAST-MODIFIED:20180213T223219Z
UID:30651-1519902000-1519939800@laguestlist.com
SUMMARY:Planned Parenthood LA's Annual Food Fare
DESCRIPTION:Ticketed – From its prestigious beginnings as a cooking demonstration with Julia Child in 1979\, Food Fare has become one of the most recognized culinary fundraisers in Los Angeles. Food Fare features well over 150 of LA’s best restaurants\, caterers\, wineries\, breweries\, libation purveyors and retail merchants. Food Fare also includes a Wine Silent Auction\, a Raffle for Choice\, a Dream Experiences Auction and a VIP reception for sponsors. Proceeds from Food Fare benefit Planned Parenthood Los Angeles (PPLA) and in 2017\, Food Fare raised over $1.2 million in support of PPLA.
URL:https://laguestlist.com/event/planned-parenthood-las-annual-food-fare/
LOCATION:The Barker Hangar\, 3021 Airport Ave\, Santa Monica\, CA\, 90405\, United States
CATEGORIES:Event,Things to do
ATTACH;FMTTYPE=image/png:https://laguestlist.com/wp-content/uploads/2018/02/Screen-Shot-2018-02-13-at-2.30.12-PM.png
END:VEVENT
BEGIN:VEVENT
DTSTART;TZID=America/Los_Angeles:20180301T200000
DTEND;TZID=America/Los_Angeles:20180301T230000
DTSTAMP:20260423T211531
CREATED:20180220T212435Z
LAST-MODIFIED:20180220T212435Z
UID:30749-1519934400-1519945200@laguestlist.com
SUMMARY:Lyrics to Life Presented by Genius
DESCRIPTION:Invite Only –  Lyrics to Life presented by Genius\, with an open bar by New Amsterdam Vodka. Lyrics to Life is a Los Angeles-based pop-up art exhibition inspired by song lyrics. In partnership with Dropbox\, Genius is collaborating with visual artists to transform iconic lyrics into physical art that music fans can see\, touch\, and experience.
URL:https://laguestlist.com/event/lyrics-life-presented-genius/
LOCATION:CA
CATEGORIES:Things to do
ATTACH;FMTTYPE=image/gif:https://laguestlist.com/wp-content/uploads/2018/02/unnamed.gif
END:VEVENT
BEGIN:VEVENT
DTSTART;TZID=America/Los_Angeles:20180310T110000
DTEND;TZID=America/Los_Angeles:20180310T170000
DTSTAMP:20260423T211531
CREATED:20180307T014501Z
LAST-MODIFIED:20180307T014501Z
UID:31172-1520679600-1520701200@laguestlist.com
SUMMARY:Smorgasburg Saturday Popup on the Pier
DESCRIPTION:Open – Smorgasburg is headed back to the westside! On Saturday\, March 10th\, Smorgasburg LA is\, popping up for one day only at the historic Santa Monica Pier for it’s 2nd Annual Popup on the Pier event!  \nWestside fans will get the chance to taste the best of Smorgasburg LA on their own turf as Smorgasburg brings over 70 vendors to the Pier including local favorites from Sundays in DTLA\, like goa-taco\, Amazebowls\, Shrimp Daddy\, Lobsterdamus\, Big Mozz and more. Plus\, special popup vendors\, unique shopping\, and more. Smorgasburg’s Popup on the Pier will be the perfect way to spend the day\, so prepare your beach bags\, grab that sunscreen and bring your friends for some fun in the sun with the best food LA has to offer.
URL:https://laguestlist.com/event/smorgasburg-saturday-popup-on-the-pier/
LOCATION:Santa Monica Pier\, Santa Monica\, CA\, 90401\, United States
CATEGORIES:Things to do
ATTACH;FMTTYPE=image/png:https://laguestlist.com/wp-content/uploads/2018/03/Screen-Shot-2018-03-06-at-5.43.21-PM.png
END:VEVENT
BEGIN:VEVENT
DTSTART;TZID=America/Los_Angeles:20180317T140000
DTEND;TZID=America/Los_Angeles:20180317T160000
DTSTAMP:20260423T211531
CREATED:20180310T212024Z
LAST-MODIFIED:20180310T212024Z
UID:31301-1521295200-1521302400@laguestlist.com
SUMMARY:Nicky Hilton x Tolani
DESCRIPTION:Invite Only – Come meet Nicky Hilton and shop her new ‘Mommy and Me’ Capsule Collection with Tolani!
URL:https://laguestlist.com/event/nicky-hilton-x-tolani/
LOCATION:kitross\, 115 S. RobertsonBlvd\, Los Angeles\, CA\, 90048\, United States
CATEGORIES:Things to do
ATTACH;FMTTYPE=image/png:https://laguestlist.com/wp-content/uploads/2018/03/Screen-Shot-2018-03-10-at-1.18.22-PM.png
END:VEVENT
BEGIN:VEVENT
DTSTART;TZID=America/Los_Angeles:20180320T190000
DTEND;TZID=America/Los_Angeles:20180320T220000
DTSTAMP:20260423T211531
CREATED:20180320T194619Z
LAST-MODIFIED:20180320T194619Z
UID:31517-1521572400-1521583200@laguestlist.com
SUMMARY:PopSugar x JCPenney
DESCRIPTION:Invite Only – Check out JCPenney’s Spring trends with Paola Alberdi of Blank Itinerary at an immersive fashion event featuring glam services\, Spring shopping\, light bites and seasonal sips served poolside.
URL:https://laguestlist.com/event/popsugar-x-jcpenney/
LOCATION:CA
CATEGORIES:Event,Things to do
ATTACH;FMTTYPE=image/png:https://laguestlist.com/wp-content/uploads/2018/03/Screen-Shot-2018-03-20-at-12.39.25-PM.png
END:VEVENT
BEGIN:VEVENT
DTSTART;TZID=America/Los_Angeles:20180322T193000
DTEND;TZID=America/Los_Angeles:20180322T210000
DTSTAMP:20260423T211531
CREATED:20180319T191346Z
LAST-MODIFIED:20180319T191346Z
UID:31501-1521747000-1521752400@laguestlist.com
SUMMARY:NYLON x The Grove Music Series with Chase Cohl
DESCRIPTION:Ticketed – NYLON x The Grove present PLAYLISTED\, a new monthly music series featuring NYLON’s favorite artists. Next Up: Chase Cohl! Chase Cohl’s raw storytelling makes her relatable and timeless\, and she handles emotional narratives with delicate acoustic charm and rock ‘n’ roll energy.
URL:https://laguestlist.com/event/nylon-x-the-grove-music-series-with-chase-cohl/
LOCATION:The Grove\, 189 The Grove Drive\, Los Angeles\, Los Angeles\, CA\, 90036\, United States
CATEGORIES:Concert,Things to do
ATTACH;FMTTYPE=image/png:https://laguestlist.com/wp-content/uploads/2018/03/https_2F2Fcdn.evbuc_.com2Fimages2F422949502F967837397412F12Foriginal.png
END:VEVENT
BEGIN:VEVENT
DTSTART;TZID=America/Los_Angeles:20180323T173000
DTEND;TZID=America/Los_Angeles:20180323T193000
DTSTAMP:20260423T211531
CREATED:20180316T171634Z
LAST-MODIFIED:20180316T171634Z
UID:31491-1521826200-1521833400@laguestlist.com
SUMMARY:Forever 21: Meet & Greet with Megan Fox
DESCRIPTION:Open – Forever 21 is launching an exciting new collection; Frederick’s of Hollywood\, in partnership with Megan Fox! The actress\, model\, and mother has taken on a new role with Frederick’s of Hollywood as brand ambassador and creative partner. Forever 21 celebrating the launch with an exclusive meet and greet event with Megan Fox on Friday\, March 23rd at Forever 21\, Americana at Brand!
URL:https://laguestlist.com/event/forever-21-meet-greet-with-megan-fox/
LOCATION:The Americana at Brand\, 112 Caruso Ave\, Glendale\, CA\, 91210\, United States
CATEGORIES:Things to do
ATTACH;FMTTYPE=image/jpeg:https://laguestlist.com/wp-content/uploads/2018/03/28699131_10155945925869550_8886176408877200106_o.jpg
END:VEVENT
BEGIN:VEVENT
DTSTART;TZID=America/Los_Angeles:20180324T140000
DTEND;TZID=America/Los_Angeles:20180324T180000
DTSTAMP:20260423T211531
CREATED:20180321T163518Z
LAST-MODIFIED:20180321T163518Z
UID:31552-1521900000-1521914400@laguestlist.com
SUMMARY:Schutz Shopping Event
DESCRIPTION:Open – Join Schutz to shop their new Spring Collection with Sydney Sadick at Nordstrom at the Grove. Guests will get the chance to personalize their personalize their exclusive Schutz bag with customization by @PhoebePaints.
URL:https://laguestlist.com/event/schutz-shopping-event/
LOCATION:CA
CATEGORIES:Event,Things to do
ATTACH;FMTTYPE=image/jpeg:https://laguestlist.com/wp-content/uploads/2018/03/unnamed-5.jpg
END:VEVENT
BEGIN:VEVENT
DTSTART;TZID=America/Los_Angeles:20180325T100000
DTEND;TZID=America/Los_Angeles:20180325T180000
DTSTAMP:20260423T211531
CREATED:20180315T171501Z
LAST-MODIFIED:20180315T171501Z
UID:31459-1521972000-1522000800@laguestlist.com
SUMMARY:Target x Hunter Family Festival
DESCRIPTION:RSVP – To celebrate their upcoming collaboration with Hunter Boots\, Target made a surprise announcement of a music festival scheduled for Sunday\, March 25 at the Rose Bowl\, featuring pop stars Charli XCX\, Charlie Puth\, OneRepublic\, Troye Sivan\, and DJ Questlove.
URL:https://laguestlist.com/event/target-x-hunter-family-festival/
LOCATION:Rose Bowl\, 1001 Rose Bowl Dr \, Pasadena\, CA\, 91103\, United States
CATEGORIES:Concert,Things to do
ATTACH;FMTTYPE=image/jpeg:https://laguestlist.com/wp-content/uploads/2018/03/poster.ff67a4ac.jpg
END:VEVENT
END:VCALENDAR