BEGIN:VCALENDAR
VERSION:2.0
PRODID:-//LA Guestlist - ECPv6.15.20//NONSGML v1.0//EN
CALSCALE:GREGORIAN
METHOD:PUBLISH
X-WR-CALNAME:LA Guestlist
X-ORIGINAL-URL:https://laguestlist.com
X-WR-CALDESC:Events for LA Guestlist
REFRESH-INTERVAL;VALUE=DURATION:PT1H
X-Robots-Tag:noindex
X-PUBLISHED-TTL:PT1H
BEGIN:VTIMEZONE
TZID:America/Los_Angeles
BEGIN:DAYLIGHT
TZOFFSETFROM:-0800
TZOFFSETTO:-0700
TZNAME:PDT
DTSTART:20160313T100000
END:DAYLIGHT
BEGIN:STANDARD
TZOFFSETFROM:-0700
TZOFFSETTO:-0800
TZNAME:PST
DTSTART:20161106T090000
END:STANDARD
BEGIN:DAYLIGHT
TZOFFSETFROM:-0800
TZOFFSETTO:-0700
TZNAME:PDT
DTSTART:20170312T100000
END:DAYLIGHT
BEGIN:STANDARD
TZOFFSETFROM:-0700
TZOFFSETTO:-0800
TZNAME:PST
DTSTART:20171105T090000
END:STANDARD
BEGIN:DAYLIGHT
TZOFFSETFROM:-0800
TZOFFSETTO:-0700
TZNAME:PDT
DTSTART:20180311T100000
END:DAYLIGHT
BEGIN:STANDARD
TZOFFSETFROM:-0700
TZOFFSETTO:-0800
TZNAME:PST
DTSTART:20181104T090000
END:STANDARD
BEGIN:DAYLIGHT
TZOFFSETFROM:-0800
TZOFFSETTO:-0700
TZNAME:PDT
DTSTART:20190310T100000
END:DAYLIGHT
BEGIN:STANDARD
TZOFFSETFROM:-0700
TZOFFSETTO:-0800
TZNAME:PST
DTSTART:20191103T090000
END:STANDARD
END:VTIMEZONE
BEGIN:VEVENT
DTSTART;TZID=America/Los_Angeles:20170823T190000
DTEND;TZID=America/Los_Angeles:20170823T220000
DTSTAMP:20260422T123105
CREATED:20170818T232303Z
LAST-MODIFIED:20170818T232320Z
UID:26542-1503514800-1503525600@laguestlist.com
SUMMARY:T-Mobile VIP Promenade Party
DESCRIPTION:Invite Only – Celebrate an endless summer at our Locals Only VIP Party! T-Mobile + Spin PR Promenade Night with Bites from Del Frisco’s Grille & Lago/Caffe Bella & Tasti D-Lite\, Drinks from Dulce Vida Tequila & Hansen’s\, Virtual Reality Station\, Exclusive Offers and Giveaways\, Music\, Games & More. Join us to explore the new T-mobile and celebrate our impactful neighbor Surfrider Foundation helping to project our oceans and beaches.
URL:https://laguestlist.com/event/t-mobile-vip-promenade-party/
CATEGORIES:Technology
ATTACH;FMTTYPE=image/png:https://laguestlist.com/wp-content/uploads/2017/08/Screen-Shot-2017-08-18-at-4.18.37-PM.png
END:VEVENT
BEGIN:VEVENT
DTSTART;TZID=America/Los_Angeles:20170825T200000
DTEND;TZID=America/Los_Angeles:20170825T233000
DTSTAMP:20260422T123105
CREATED:20170818T231645Z
LAST-MODIFIED:20170818T231645Z
UID:26539-1503691200-1503703800@laguestlist.com
SUMMARY:XBOX & DJ Khaled
DESCRIPTION:Invite Only – XBOX & DJ Khaled celebrate summer’s hottest Music Award Nominees.
URL:https://laguestlist.com/event/xbox-dj-khaled/
CATEGORIES:Technology
ATTACH;FMTTYPE=image/jpeg:https://laguestlist.com/wp-content/uploads/2017/08/3P9eo0Ze_400x400.jpg
END:VEVENT
BEGIN:VEVENT
DTSTART;TZID=America/Los_Angeles:20170907T080000
DTEND;TZID=America/Los_Angeles:20170907T180000
DTSTAMP:20260422T123105
CREATED:20170905T180740Z
LAST-MODIFIED:20170905T180740Z
UID:26989-1504771200-1504807200@laguestlist.com
SUMMARY:Variety's Entertainment & Technology Summit
DESCRIPTION:Ticketed – The Variety Entertainment & Technology Summit LA will explore how film\, TV\, gaming\, music and digital media is being transformed by new technologies. We will examine the latest strategies to engage today’s diverse audiences split across multiplying media platforms and entertainment content options. Network with elite speakers identifying opportunities in interactive and virtual reality storytelling\, digital marketing/advertising\, new programming business models\, and more.
URL:https://laguestlist.com/event/varietys-entertainment-technology-summit/
LOCATION:Four Seasons Hotel\, 9500 Wilshire Blvd.\, Beverly Hills\, CA\, 90212\, United States
CATEGORIES:Technology
ATTACH;FMTTYPE=image/png:https://laguestlist.com/wp-content/uploads/2017/09/Screen-Shot-2017-09-05-at-10.56.19-AM.png
END:VEVENT
BEGIN:VEVENT
DTSTART;TZID=America/Los_Angeles:20170925T193000
DTEND;TZID=America/Los_Angeles:20170925T223000
DTSTAMP:20260422T123105
CREATED:20170922T195804Z
LAST-MODIFIED:20170922T195804Z
UID:27478-1506367800-1506378600@laguestlist.com
SUMMARY:The 3rd Dimension of Shopping
DESCRIPTION:Invite Only – Join us after the Shop.Org welcome reception to celebrate the launch of Kenshoo E-Commerce with Amazon. Enjoy multiple carving stations and an open bar on the rooftop of the famous Standard Hotel\, Downtown LA\, before a short presentation to introduce you to Kenshoo’s new E-Commerce channel – the 3rd dimension of shopping alongside Search and Social advertising.
URL:https://laguestlist.com/event/3rd-dimension-shopping/
LOCATION:The Standard\, Downtown LA\, 550 S. Flower St\, Los Angeles\, CA\, 90071\, United States
CATEGORIES:Technology
ATTACH;FMTTYPE=image/png:https://laguestlist.com/wp-content/uploads/2017/09/Screen-Shot-2017-09-22-at-12.51.23-PM.png
END:VEVENT
BEGIN:VEVENT
DTSTART;TZID=America/Los_Angeles:20171017T190000
DTEND;TZID=America/Los_Angeles:20171017T190000
DTSTAMP:20260422T123105
CREATED:20171014T232940Z
LAST-MODIFIED:20171014T232940Z
UID:28084-1508266800-1508266800@laguestlist.com
SUMMARY:Made by Google
DESCRIPTION:Invite Only – The special opening night event for Made by Google in Los Angeles with lots of surprises. This year Google will open two pop-ups through the holidays — one in New York and another in Los Angeles — where people can come in to see and experience the new Made by Google line of products.
URL:https://laguestlist.com/event/made-by-google/
CATEGORIES:Pop-Up Shop,Technology
ATTACH;FMTTYPE=image/png:https://laguestlist.com/wp-content/uploads/2017/10/Screen-Shot-2017-10-14-at-4.28.48-PM.png
END:VEVENT
BEGIN:VEVENT
DTSTART;TZID=America/Los_Angeles:20171109T190000
DTEND;TZID=America/Los_Angeles:20171109T220000
DTSTAMP:20260422T123105
CREATED:20171106T215832Z
LAST-MODIFIED:20171106T215832Z
UID:28810-1510254000-1510264800@laguestlist.com
SUMMARY:Words with Friends 2 Launch Party
DESCRIPTION:Invite Only – celebrate the launch of Words with Friends 2 Launch Party hosted by Hilary and Haylie Duff.
URL:https://laguestlist.com/event/words-friends-2-launch-party/
CATEGORIES:Technology
ATTACH;FMTTYPE=image/png:https://laguestlist.com/wp-content/uploads/2017/11/Screen-Shot-2017-11-06-at-1.56.27-PM.png
END:VEVENT
BEGIN:VEVENT
DTSTART;TZID=America/Los_Angeles:20171114T190000
DTEND;TZID=America/Los_Angeles:20171114T220000
DTSTAMP:20260422T123105
CREATED:20171107T010149Z
LAST-MODIFIED:20171107T010149Z
UID:28867-1510686000-1510696800@laguestlist.com
SUMMARY:Flirtar Launch Party
DESCRIPTION:Invite Only – Flirtar\, known as the “Pokémon Go” for dating by using state-of-the-art technology and smart algorithms to locate a match for you. The app will pin point nearby matches\, while determining compatibility using a simple point of your mobile device by facial recognition. The app also goes a step further and triangulates exciting venues for the two of you to hang out. In other words\, Flirtar offers the algorithmic possibility to discover love at first sight! This app has a very different way connecting individuals compared to any of the other dating apps out there.
URL:https://laguestlist.com/event/flirtar-launch-party/
CATEGORIES:Technology
ATTACH;FMTTYPE=image/png:https://laguestlist.com/wp-content/uploads/2017/11/Screen-Shot-2017-11-06-at-4.53.39-PM.png
END:VEVENT
BEGIN:VEVENT
DTSTART;TZID=America/Los_Angeles:20171115T200000
DTEND;TZID=America/Los_Angeles:20171115T220000
DTSTAMP:20260422T123105
CREATED:20171115T185452Z
LAST-MODIFIED:20171115T185452Z
UID:29092-1510776000-1510783200@laguestlist.com
SUMMARY:Girlgaze Zine x Google Pixel 2
DESCRIPTION:Invite Only – Google Pixel 2 is celebrating how the Girls see the World. Join Google to celebrate the first ever Girlgaze zine created in partnership with Google Pixel 2 and the Girlgaze Live Case for Pizel Collection.
URL:https://laguestlist.com/event/girlgaze-zine-x-google-pixel-2/
CATEGORIES:Technology
ATTACH;FMTTYPE=image/png:https://laguestlist.com/wp-content/uploads/2017/11/Screen-Shot-2017-11-15-at-10.50.10-AM.png
END:VEVENT
BEGIN:VEVENT
DTSTART;TZID=America/Los_Angeles:20171116T190000
DTEND;TZID=America/Los_Angeles:20171116T220000
DTSTAMP:20260422T123105
CREATED:20171113T212244Z
LAST-MODIFIED:20171113T212244Z
UID:28986-1510858800-1510869600@laguestlist.com
SUMMARY:Ultimate Soundscapes by Sarah Bahbah + Pizzaslime
DESCRIPTION:Invite Only – Ultimate Ears is all about big\, bold\, 360° sound in totally waterproof\, sleek portable speakers. The latest additions to the family are BLAST and MEGABLAST with Amazon Alexa. You can now control your music with the power of your voice. This Thursday\, November 16th from 7-10PM\, guests are invited to check out these new Bluetooth and Wi-Fi speakers\, through Ultimate Soundscapes curated by Sarah Bahbah and Pizzaslime.
URL:https://laguestlist.com/event/ultimate-soundscapes-sarah-bahbah-pizzaslime/
CATEGORIES:Event,Technology
ATTACH;FMTTYPE=image/png:https://laguestlist.com/wp-content/uploads/2017/11/Screen-Shot-2017-11-13-at-1.20.07-PM.png
END:VEVENT
BEGIN:VEVENT
DTSTART;TZID=America/Los_Angeles:20180119T190000
DTEND;TZID=America/Los_Angeles:20180119T220000
DTSTAMP:20260422T123105
CREATED:20180101T231143Z
LAST-MODIFIED:20180101T231143Z
UID:29819-1516388400-1516399200@laguestlist.com
SUMMARY:Sony Kicks Off 'Lost In Music' Ft. Khalid
DESCRIPTION:Invite Only – An exclusive\, epic\, and immersive event to kick off Sony’s second annual Lost in Music campaign this coming January 19th. The second installation will once again captivate audiences\, enabling them to rethink reality as they immerse themselves in music through experiences created through the freshest Sony music technology. Featuring performances by the hottest live acts\, the evening will be headlined by 19-year-old GRAMMY-nominated pop prodigy\, Khalid.
URL:https://laguestlist.com/event/sony-kicks-off-lost-music-ft-khalid/
CATEGORIES:Concert,Technology
ATTACH;FMTTYPE=image/png:https://laguestlist.com/wp-content/uploads/2018/01/Screen-Shot-2018-01-01-at-4.09.27-PM.png
END:VEVENT
BEGIN:VEVENT
DTSTART;TZID=America/Los_Angeles:20180202T190000
DTEND;TZID=America/Los_Angeles:20180202T220000
DTSTAMP:20260422T123105
CREATED:20180127T232308Z
LAST-MODIFIED:20180127T232308Z
UID:30222-1517598000-1517608800@laguestlist.com
SUMMARY:The Glam App Presents Reloaded
DESCRIPTION:Invite Only – The Glam App Presents Reloaded in celebration of the Glam App’s makeover hosted by Joey Maalouf and Katrina Barton and sounds by DJ Derek Monteiro.
URL:https://laguestlist.com/event/glam-app-presents-reloaded/
CATEGORIES:Beauty,Technology
ATTACH;FMTTYPE=image/png:https://laguestlist.com/wp-content/uploads/2018/01/Screen-Shot-2018-01-27-at-3.20.17-PM.png
END:VEVENT
BEGIN:VEVENT
DTSTART;TZID=America/Los_Angeles:20180405T190000
DTEND;TZID=America/Los_Angeles:20180405T220000
DTSTAMP:20260422T123105
CREATED:20180402T235222Z
LAST-MODIFIED:20180402T235222Z
UID:31959-1522954800-1522965600@laguestlist.com
SUMMARY:John Legend x Google Pixel 2
DESCRIPTION:Invite Only – John Legend with exclusively debut his new single “A Good Night\,” where guests will get to see the video premiere\, captured entirely on Google Pixel 2.
URL:https://laguestlist.com/event/john-legend-x-google-pixel-2/
CATEGORIES:Music,Technology
ATTACH;FMTTYPE=image/jpeg:https://laguestlist.com/wp-content/uploads/2018/04/c3dd4d86801b4ceca8dac7405306d58d.jpg
END:VEVENT
BEGIN:VEVENT
DTSTART;TZID=America/Los_Angeles:20180413T130000
DTEND;TZID=America/Los_Angeles:20180413T163000
DTSTAMP:20260422T123105
CREATED:20180329T163422Z
LAST-MODIFIED:20180329T163422Z
UID:31889-1523624400-1523637000@laguestlist.com
SUMMARY:Holonis House Coachella
DESCRIPTION:Invite Only – Holonis is a social commerce platform designed to enable people to Be Found online and build a business\, Celebrate during Coachella Weekend 1 at a gated Bermuda Dunes Estate.
URL:https://laguestlist.com/event/holonis-house-coachella/
LOCATION:Bermuda Dunes
CATEGORIES:Coachella,Technology
ATTACH;FMTTYPE=image/png:https://laguestlist.com/wp-content/uploads/2018/03/Screen-Shot-2018-03-29-at-9.25.40-AM.png
END:VEVENT
BEGIN:VEVENT
DTSTART;TZID=America/Los_Angeles:20180524T220000
DTEND;TZID=America/Los_Angeles:20180524T220000
DTSTAMP:20260422T123105
CREATED:20180515T233605Z
LAST-MODIFIED:20180515T233605Z
UID:33234-1527199200-1527199200@laguestlist.com
SUMMARY:VIGO: Impossible Things with Chantel Jeffries
DESCRIPTION:Invite Only – Impossible Things – a party by creators\, for creators. Kick off Memorial Day Weekend on Thursday\, May 24 for an exclusive event in celebration of the launch of Vigo Video with special appearance and DJ set by Chantel Jeffries. Lose yourselves in a whimsical and far away land and get inspired to share in a whole new way. After all – if it doesn’t get posted\, did it really happen?
URL:https://laguestlist.com/event/vigo-impossible-things/
CATEGORIES:Technology
ATTACH;FMTTYPE=image/png:https://laguestlist.com/wp-content/uploads/2018/05/Screen-Shot-2018-05-15-at-4.33.59-PM.png
END:VEVENT
BEGIN:VEVENT
DTSTART;TZID=America/Los_Angeles:20180607T190000
DTEND;TZID=America/Los_Angeles:20180607T190000
DTSTAMP:20260422T123105
CREATED:20180526T022615Z
LAST-MODIFIED:20180526T022615Z
UID:33544-1528398000-1528398000@laguestlist.com
SUMMARY:Getaround LA Launch Party
DESCRIPTION:Invite Only – Getaround lets you instantly rent and drive great cars shared by people in your city. Car owners rent out their cars to earn money\, and those who live car-free can rent by the hour\, or day. Celebrate the Los Angeles launch with delicious tacos by My Taco Man\, Specialty cocktails by WLDE and beer from Fort Point Beer Co.\, and music by DJ Penny.
URL:https://laguestlist.com/event/getaround-la-launch-party/
CATEGORIES:Technology
ATTACH;FMTTYPE=image/png:https://laguestlist.com/wp-content/uploads/2018/05/Screen-Shot-2018-05-25-at-7.22.52-PM.png
END:VEVENT
BEGIN:VEVENT
DTSTART;TZID=America/Los_Angeles:20180609T110000
DTEND;TZID=America/Los_Angeles:20180609T180000
DTSTAMP:20260422T123105
CREATED:20180606T212019Z
LAST-MODIFIED:20180606T212019Z
UID:33843-1528542000-1528567200@laguestlist.com
SUMMARY:EA Play Hollywood
DESCRIPTION:Register – EA Play Hollywood with Big gameplay reveals\, surprise announcements\, and more!
URL:https://laguestlist.com/event/ea-play-hollywood/
LOCATION:The Palladium\, 6215 Sunset Boulevard\,  Los Angeles\, CA\, 90028\, United States
CATEGORIES:Technology
ATTACH;FMTTYPE=image/jpeg:https://laguestlist.com/wp-content/uploads/2018/06/unnamed-1.jpg
END:VEVENT
BEGIN:VEVENT
DTSTART;TZID=America/Los_Angeles:20180611T200000
DTEND;TZID=America/Los_Angeles:20180611T200000
DTSTAMP:20260422T123105
CREATED:20180604T224630Z
LAST-MODIFIED:20180604T224630Z
UID:33705-1528747200-1528747200@laguestlist.com
SUMMARY:Faceit x Monstercat E3 Party with Nervo
DESCRIPTION:Invite Only – Faceit x Monstercat AFK E3 Pre-Party with music by Nervo.
URL:https://laguestlist.com/event/faceit-x-monstercat-e3-party-with-nervo/
CATEGORIES:Event,Technology
ATTACH;FMTTYPE=image/png:https://laguestlist.com/wp-content/uploads/2018/06/Screen-Shot-2018-06-04-at-3.43.21-PM.png
END:VEVENT
BEGIN:VEVENT
DTSTART;TZID=America/Los_Angeles:20180612T090000
DTEND;TZID=America/Los_Angeles:20180612T170000
DTSTAMP:20260422T123105
CREATED:20180531T174528Z
LAST-MODIFIED:20180531T174528Z
UID:33644-1528794000-1528822800@laguestlist.com
SUMMARY:Social Media Week LA
DESCRIPTION:Ticketed – in its 9th year\, Social Media Week Los Angeles (#SMWLA) brings together professionals with a curiosity and passion for new ideas\, innovations and emerging trends in social media. \nThis year the theme is Closer and will explore the intensifying conflict between individualism and community and will tackle three big sub-themes including The YouUniverse\, The Social Divide and AI vs Humanity.
URL:https://laguestlist.com/event/social-media-week-la/
LOCATION:Broad Stage\, 1310 11th St.\, Santa Monica\, CA\, 90401\, United States
CATEGORIES:Technology
ATTACH;FMTTYPE=image/jpeg:https://laguestlist.com/wp-content/uploads/2018/05/losangeles21.jpg
END:VEVENT
BEGIN:VEVENT
DTSTART;TZID=America/Los_Angeles:20180612T110000
DTEND;TZID=America/Los_Angeles:20180612T190000
DTSTAMP:20260422T123105
CREATED:20180606T211433Z
LAST-MODIFIED:20180606T211433Z
UID:33840-1528801200-1528830000@laguestlist.com
SUMMARY:E3 Expo 2018
DESCRIPTION:Ticketed – 68\,000+ attendees. 2000+ products on display. For three exciting days\, leading-edge companies\, groundbreaking new technologies and never-before-seen products will all be under one roof.
URL:https://laguestlist.com/event/e3-expo-2018/
LOCATION:LA Convention Center\, 1201 S Figueroa St\, Los Angeles\, CA\, 90015\, United States
CATEGORIES:Technology
ATTACH;FMTTYPE=image/jpeg:https://laguestlist.com/wp-content/uploads/2018/06/e3-1113951.jpg
END:VEVENT
BEGIN:VEVENT
DTSTART;TZID=America/Los_Angeles:20180612T200000
DTEND;TZID=America/Los_Angeles:20180612T230000
DTSTAMP:20260422T123105
CREATED:20180606T002855Z
LAST-MODIFIED:20180606T002855Z
UID:33800-1528833600-1528844400@laguestlist.com
SUMMARY:Strauss Zelnick E3 Kickoff Party
DESCRIPTION:Invite Only – Strauss Zelnick always knows how to kick off E3 weekend in style with his annual party\, this year with DJ sets by DJ Dahi\, Kilo Kish\, Kindness and Natasha Diggs.
URL:https://laguestlist.com/event/strauss-zelnick-e3-kickoff-party/
CATEGORIES:Event,Technology
ATTACH;FMTTYPE=image/png:https://laguestlist.com/wp-content/uploads/2018/06/Screen-Shot-2018-06-05-at-5.25.20-PM.png
END:VEVENT
BEGIN:VEVENT
DTSTART;TZID=America/Los_Angeles:20180614T193000
DTEND;TZID=America/Los_Angeles:20180614T233000
DTSTAMP:20260422T123105
CREATED:20180609T152409Z
LAST-MODIFIED:20180609T152409Z
UID:33888-1529004600-1529019000@laguestlist.com
SUMMARY:Subnation Live E3 After Party with Deadmau5
DESCRIPTION:Invite Only – The all-new Volkswagen Jetta presents SUBNATION LIVE\, the official afterparty of E3 with a special performance by Deadmau5.
URL:https://laguestlist.com/event/subnation-live-e3-after-party-with-deadmau5/
LOCATION:The Novo DTLA\, 800 W Olympic Blvd\, Ste A335\, Los Angeles\, CA\, 90015\, United States
CATEGORIES:Event,Technology
ATTACH;FMTTYPE=image/jpeg:https://laguestlist.com/wp-content/uploads/2018/06/https_2F2Fcdn.evbuc_.com2Fimages2F458135822F2595011287362F12Foriginal.jpg
END:VEVENT
BEGIN:VEVENT
DTSTART;TZID=America/Los_Angeles:20180616T190000
DTEND;TZID=America/Los_Angeles:20180616T190000
DTSTAMP:20260422T123105
CREATED:20180613T175537Z
LAST-MODIFIED:20180613T175537Z
UID:34027-1529175600-1529175600@laguestlist.com
SUMMARY:Treehouse + PAVEMINT
DESCRIPTION:RSVP – PAVEMINT is joining Treehouse LA\, an awesome company that creates pop-up events every month all over the city! Happening this Saturday\, June 16th\, at Pavemint’s headquarters in Hollywood\, the Treehouse x Pavemint event will feature fine art from over fifteen local artists\, as well as rooftop music performances!
URL:https://laguestlist.com/event/treehouse-pavemint/
CATEGORIES:Technology,Things to do
ATTACH;FMTTYPE=image/jpeg:https://laguestlist.com/wp-content/uploads/2018/06/unnamed-6-3.jpg
END:VEVENT
BEGIN:VEVENT
DTSTART;TZID=America/Los_Angeles:20180620T080000
DTEND;TZID=America/Los_Angeles:20180620T170000
DTSTAMP:20260422T123105
CREATED:20180531T174238Z
LAST-MODIFIED:20180531T174238Z
UID:33640-1529481600-1529514000@laguestlist.com
SUMMARY:9th Annual Vidcon
DESCRIPTION:Ticketed – VidCon is an event and experience for those who work in online video and those who love it. Made for both the creators and viewers of the online video industry\, VidCon 2018 will again be a celebration of everything that makes this medium awesome\, bringing together a global community that believes online video is the most important cultural force since the motion picture. \nVidCon was started in 2010 by the Vlogbrothers\, John and Hank Green\, as a place where people who had only ever met on the internet could connect in real life. Since then\, the VidCon event in the United States has expanded to over 30\,000 people and in 2018 will continue to grow into the new wing of the Anaheim Convention Center\, the event’s home for the past several years.
URL:https://laguestlist.com/event/9th-annual-vidcon/
LOCATION:The Anaheim Convention Center\, 800 W Katella Ave\, Anaheim\, CA\, 92802\, United States
CATEGORIES:Technology
ATTACH;FMTTYPE=image/jpeg:https://laguestlist.com/wp-content/uploads/2018/05/Social_Image_Thumb.jpg
END:VEVENT
BEGIN:VEVENT
DTSTART;TZID=America/Los_Angeles:20180626T113000
DTEND;TZID=America/Los_Angeles:20180626T180000
DTSTAMP:20260422T123105
CREATED:20180618T200643Z
LAST-MODIFIED:20180618T200643Z
UID:34077-1530012600-1530036000@laguestlist.com
SUMMARY:Google Cloud LA Data Region Celebration
DESCRIPTION:Invite Only – Google Cloud invites you to our exclusive Media & Entertainment Summit where you will have a chance to hear from industry peers and Google experts on how Cloud is powering intelligent and secure content workflows.  \nYou are also invited to celebrate the opening of our Los Angeles cloud region later that afternoon. Los Angeles is our 5th region in the United States\, and will provide a closer gateway to Google Cloud’s well provisioned\, secure\, private global network. For Media and Entertainment companies looking to render world class content or access the latest machine learning technology\, the world’s largest fiber network just got a little closer
URL:https://laguestlist.com/event/google-cloud-la-data-region-celebration/
CATEGORIES:Technology
ATTACH;FMTTYPE=image/png:https://laguestlist.com/wp-content/uploads/2018/06/Screen-Shot-2018-06-18-at-1.06.05-PM.png
END:VEVENT
BEGIN:VEVENT
DTSTART;TZID=America/Los_Angeles:20180626T180000
DTEND;TZID=America/Los_Angeles:20180626T210000
DTSTAMP:20260422T123105
CREATED:20180625T185947Z
LAST-MODIFIED:20180625T185947Z
UID:34243-1530036000-1530046800@laguestlist.com
SUMMARY:Google Presents Summer Cocktails
DESCRIPTION:Invite Only – Google Presents Summer Cocktails with Marcela Valladolid to explore the latest Google Home.
URL:https://laguestlist.com/event/google-presents-summer-cocktails/
CATEGORIES:Technology
ATTACH;FMTTYPE=image/png:https://laguestlist.com/wp-content/uploads/2018/06/Screen-Shot-2018-06-25-at-11.57.33-AM.png
END:VEVENT
BEGIN:VEVENT
DTSTART;TZID=America/Los_Angeles:20180906T080000
DTEND;TZID=America/Los_Angeles:20180906T180000
DTSTAMP:20260422T123105
CREATED:20180903T211349Z
LAST-MODIFIED:20180903T211349Z
UID:35281-1536220800-1536256800@laguestlist.com
SUMMARY:Variety’s Entertainment & Technology Summit
DESCRIPTION:Ticketed – Join Variety’s Entertainment & Technology Summit as we explore targeted audience engagement\, breakthrough content\, live OTT and more
URL:https://laguestlist.com/event/varietys-entertainment-technology-summit-2/
LOCATION:Four Seasons Hotel\, 9500 Wilshire Blvd.\, Beverly Hills\, CA\, 90212\, United States
CATEGORIES:Networking,Technology
ATTACH;FMTTYPE=image/png:https://laguestlist.com/wp-content/uploads/2018/09/Screen-Shot-2018-09-03-at-2.09.50-PM.png
END:VEVENT
BEGIN:VEVENT
DTSTART;TZID=America/Los_Angeles:20181109T090000
DTEND;TZID=America/Los_Angeles:20181109T170000
DTSTAMP:20260422T123105
CREATED:20181109T182548Z
LAST-MODIFIED:20181109T182548Z
UID:36290-1541754000-1541782800@laguestlist.com
SUMMARY:Google Pixel 3 - Sights of Sound - Los Angeles
DESCRIPTION:Open – Google Pixel 3 presents Sights of Sound Powered by YouTube Music. \nCome visit the touring pop-up\, where you and your friends can explore four different rooms\, each inspired by a musician. The rooms can be unlocked using Pixel 3 and the spaces are perfect for putting Pixel 3’s brilliant camera features into action.  \nThe immersive rooms feature:\n-Ella Mai’s Inner Reflections\n-Future’s Trap Mansion\n-J Balvin’s Reggaeton World\n-Marshmello’s Happier Place
URL:https://laguestlist.com/event/google-pixel-3-sights-of-sound-los-angeles/
LOCATION:Google Pixel 3 – Sights of Sound\, 6831 Hawthorn Ave\, Los Angeles\, CA\, 90028\, United States
CATEGORIES:Technology
ATTACH;FMTTYPE=image/jpeg:https://laguestlist.com/wp-content/uploads/2018/11/44735378_1145619222283438_2336530984335310848_o.jpg
END:VEVENT
BEGIN:VEVENT
DTSTART;TZID=America/Los_Angeles:20181110T090000
DTEND;TZID=America/Los_Angeles:20181110T210000
DTSTAMP:20260422T123105
CREATED:20181109T183226Z
LAST-MODIFIED:20181109T183832Z
UID:36294-1541840400-1541883600@laguestlist.com
SUMMARY:Google Pixel 3 - Sights of Sound - Los Angeles
DESCRIPTION:Open – Google Pixel 3 presents Sights of Sound Powered by YouTube Music. \nCome visit the touring pop-up\, where you and your friends can explore four different rooms\, each inspired by a musician. The rooms can be unlocked using Pixel 3 and the spaces are perfect for putting Pixel 3’s brilliant camera features into action.  \nThe immersive rooms feature:\n-Ella Mai’s Inner Reflections\n-Future’s Trap Mansion\n-J Balvin’s Reggaeton World\n-Marshmello’s Happier Place
URL:https://laguestlist.com/event/google-pixel-3-sights-of-sound-los-angeles-2/
LOCATION:Google Pixel 3 – Sights of Sound\, 6831 Hawthorn Ave\, Los Angeles\, CA\, 90028\, United States
CATEGORIES:Technology
ATTACH;FMTTYPE=image/jpeg:https://laguestlist.com/wp-content/uploads/2018/11/44735378_1145619222283438_2336530984335310848_o.jpg
END:VEVENT
BEGIN:VEVENT
DTSTART;TZID=America/Los_Angeles:20181111T090000
DTEND;TZID=America/Los_Angeles:20181111T210000
DTSTAMP:20260422T123105
CREATED:20181109T184015Z
LAST-MODIFIED:20181109T184015Z
UID:36296-1541926800-1541970000@laguestlist.com
SUMMARY:Google Pixel 3 - Sights of Sound - Los Angeles
DESCRIPTION:Open – Google Pixel 3 presents Sights of Sound Powered by YouTube Music. \nCome visit the touring pop-up\, where you and your friends can explore four different rooms\, each inspired by a musician. The rooms can be unlocked using Pixel 3 and the spaces are perfect for putting Pixel 3’s brilliant camera features into action.  \nThe immersive rooms feature:\n-Ella Mai’s Inner Reflections\n-Future’s Trap Mansion\n-J Balvin’s Reggaeton World\n-Marshmello’s Happier Place
URL:https://laguestlist.com/event/google-pixel-3-sights-of-sound-los-angeles-3/
LOCATION:Google Pixel 3 – Sights of Sound\, 6831 Hawthorn Ave\, Los Angeles\, CA\, 90028\, United States
CATEGORIES:Technology
ATTACH;FMTTYPE=image/jpeg:https://laguestlist.com/wp-content/uploads/2018/11/44735378_1145619222283438_2336530984335310848_o.jpg
END:VEVENT
BEGIN:VEVENT
DTSTART;TZID=America/Los_Angeles:20181206T173000
DTEND;TZID=America/Los_Angeles:20181206T203000
DTSTAMP:20260422T123105
CREATED:20181202T001746Z
LAST-MODIFIED:20181202T001746Z
UID:36526-1544117400-1544128200@laguestlist.com
SUMMARY:The Game Awards 2018
DESCRIPTION:Ticketed – It’s official: The Game Awards\, a global celebration of the video game industry\, will air live from Microsoft Theater in Los Angeles on Thursday\, December 6. \nProduced by Geoff Keighley\, The Game Awards will once again celebrate the best games and esports of 2018\, in addition to world premiering the most anticipated games of the future.
URL:https://laguestlist.com/event/the-game-awards-2018/
LOCATION:Microsoft Theatre\, 777 Chick Hearn Court\, Los Angeles\, CA\, 90015\, United States
CATEGORIES:Technology
ATTACH;FMTTYPE=image/png:https://laguestlist.com/wp-content/uploads/2018/12/Screen-Shot-2018-12-01-at-4.13.34-PM.png
END:VEVENT
END:VCALENDAR