BEGIN:VCALENDAR
VERSION:2.0
PRODID:-//LA Guestlist - ECPv6.15.20//NONSGML v1.0//EN
CALSCALE:GREGORIAN
METHOD:PUBLISH
X-ORIGINAL-URL:https://laguestlist.com
X-WR-CALDESC:Events for LA Guestlist
REFRESH-INTERVAL;VALUE=DURATION:PT1H
X-Robots-Tag:noindex
X-PUBLISHED-TTL:PT1H
BEGIN:VTIMEZONE
TZID:America/Los_Angeles
BEGIN:DAYLIGHT
TZOFFSETFROM:-0800
TZOFFSETTO:-0700
TZNAME:PDT
DTSTART:20180311T100000
END:DAYLIGHT
BEGIN:STANDARD
TZOFFSETFROM:-0700
TZOFFSETTO:-0800
TZNAME:PST
DTSTART:20181104T090000
END:STANDARD
BEGIN:DAYLIGHT
TZOFFSETFROM:-0800
TZOFFSETTO:-0700
TZNAME:PDT
DTSTART:20190310T100000
END:DAYLIGHT
BEGIN:STANDARD
TZOFFSETFROM:-0700
TZOFFSETTO:-0800
TZNAME:PST
DTSTART:20191103T090000
END:STANDARD
BEGIN:DAYLIGHT
TZOFFSETFROM:-0800
TZOFFSETTO:-0700
TZNAME:PDT
DTSTART:20200308T100000
END:DAYLIGHT
BEGIN:STANDARD
TZOFFSETFROM:-0700
TZOFFSETTO:-0800
TZNAME:PST
DTSTART:20201101T090000
END:STANDARD
END:VTIMEZONE
BEGIN:VEVENT
DTSTART;TZID=America/Los_Angeles:20190804T110000
DTEND;TZID=America/Los_Angeles:20190804T170000
DTSTAMP:20260423T182655
CREATED:20190717T141755Z
LAST-MODIFIED:20190717T141755Z
UID:38304-1564916400-1564938000@laguestlist.com
SUMMARY:The 8th Annual SHOREbar Charity Volleyball Tournament Presented by Casamigos
DESCRIPTION:Ticketed – The 8th Annual SHOREbar Charity Volleyball Tournament Presented by Casamigos. Drink specials\, Event shirts\, Giveaways\, and Prizes for the winners of each division!
URL:https://laguestlist.com/event/the-8th-annual-shorebar-charity-volleyball-tournament-presented-by-casamigos/
LOCATION:Shorebar\, 112 W Channel Rd\, Santa Monica\, CA\, 90402\, United States
CATEGORIES:Charity,Sports
ATTACH;FMTTYPE=image/jpeg:https://laguestlist.com/wp-content/uploads/2019/07/unnamed-2-1.jpg
END:VEVENT
BEGIN:VEVENT
DTSTART;TZID=America/Los_Angeles:20190818T090000
DTEND;TZID=America/Los_Angeles:20190818T170000
DTSTAMP:20260423T182655
CREATED:20190817T195018Z
LAST-MODIFIED:20190817T195018Z
UID:38545-1566118800-1566147600@laguestlist.com
SUMMARY:adidas Streetball Challenge
DESCRIPTION:Register – The adidas Streetball Challenge will now travel to Los Angeles. The tournament will open up to the community with a kick-off qualifier game on August 18th at Pan Pacific Park. The top eight teams from this category will move on to the official competition taking place on August 24th. Public teams are able to register via EventBrite – team space is limited.
URL:https://laguestlist.com/event/adidas-streetball-challenge/
LOCATION:Pan Pacific Park\, 7600 Beverly Blvd\, Los Angeles\, CA\, 90036\, United States
CATEGORIES:Sports
ATTACH;FMTTYPE=image/png:https://laguestlist.com/wp-content/uploads/2019/08/unnamed-1.png
END:VEVENT
END:VCALENDAR