BEGIN:VCALENDAR
VERSION:2.0
PRODID:-//LA Guestlist - ECPv6.15.20//NONSGML v1.0//EN
CALSCALE:GREGORIAN
METHOD:PUBLISH
X-ORIGINAL-URL:https://laguestlist.com
X-WR-CALDESC:Events for LA Guestlist
REFRESH-INTERVAL;VALUE=DURATION:PT1H
X-Robots-Tag:noindex
X-PUBLISHED-TTL:PT1H
BEGIN:VTIMEZONE
TZID:America/Los_Angeles
BEGIN:DAYLIGHT
TZOFFSETFROM:-0800
TZOFFSETTO:-0700
TZNAME:PDT
DTSTART:20160313T100000
END:DAYLIGHT
BEGIN:STANDARD
TZOFFSETFROM:-0700
TZOFFSETTO:-0800
TZNAME:PST
DTSTART:20161106T090000
END:STANDARD
BEGIN:DAYLIGHT
TZOFFSETFROM:-0800
TZOFFSETTO:-0700
TZNAME:PDT
DTSTART:20170312T100000
END:DAYLIGHT
BEGIN:STANDARD
TZOFFSETFROM:-0700
TZOFFSETTO:-0800
TZNAME:PST
DTSTART:20171105T090000
END:STANDARD
BEGIN:DAYLIGHT
TZOFFSETFROM:-0800
TZOFFSETTO:-0700
TZNAME:PDT
DTSTART:20180311T100000
END:DAYLIGHT
BEGIN:STANDARD
TZOFFSETFROM:-0700
TZOFFSETTO:-0800
TZNAME:PST
DTSTART:20181104T090000
END:STANDARD
END:VTIMEZONE
BEGIN:VEVENT
DTSTART;TZID=America/Los_Angeles:20170707T200000
DTEND;TZID=America/Los_Angeles:20170707T200000
DTSTAMP:20260422T001145
CREATED:20170707T052801Z
LAST-MODIFIED:20170707T052801Z
UID:25381-1499457600-1499457600@laguestlist.com
SUMMARY:RIPNDIP VIP Party
DESCRIPTION:Invite Only – RIPNDIP VIP Party to celebrate the Opening of their Pop Up on Fairfax.
URL:https://laguestlist.com/event/ripndip-vip-party/
LOCATION:RIPNDIP Pop Up
CATEGORIES:Pop-Up Shop
ATTACH;FMTTYPE=image/png:https://laguestlist.com/wp-content/uploads/2017/07/Screen-Shot-2017-07-06-at-10.23.58-PM.png
END:VEVENT
BEGIN:VEVENT
DTSTART;TZID=America/Los_Angeles:20170712T190000
DTEND;TZID=America/Los_Angeles:20170712T220000
DTSTAMP:20260422T001145
CREATED:20170707T194713Z
LAST-MODIFIED:20170710T223119Z
UID:25391-1499886000-1499896800@laguestlist.com
SUMMARY:Maxfield x Enfants Riches Déprimés
DESCRIPTION:Invite Only – Maxfield is opening a special pop up in honor of Enfants Riches Déprimés featuring a very limited collection of pieces from previous collections and exclusives.
URL:https://laguestlist.com/event/maxfield-x-enfants-riches-deprimes/
LOCATION:MaxField
CATEGORIES:Pop-Up Shop
ATTACH;FMTTYPE=image/jpeg:https://laguestlist.com/wp-content/uploads/2017/07/imageenfants-riches-deprimesweb-tt-width-604-height-403-crop-0-bgcolor-000000-lazyload-0.jpg
END:VEVENT
END:VCALENDAR