BEGIN:VCALENDAR
VERSION:2.0
PRODID:-//LA Guestlist - ECPv6.15.20//NONSGML v1.0//EN
CALSCALE:GREGORIAN
METHOD:PUBLISH
X-WR-CALNAME:LA Guestlist
X-ORIGINAL-URL:https://laguestlist.com
X-WR-CALDESC:Events for LA Guestlist
REFRESH-INTERVAL;VALUE=DURATION:PT1H
X-Robots-Tag:noindex
X-PUBLISHED-TTL:PT1H
BEGIN:VTIMEZONE
TZID:America/Los_Angeles
BEGIN:DAYLIGHT
TZOFFSETFROM:-0800
TZOFFSETTO:-0700
TZNAME:PDT
DTSTART:20230312T100000
END:DAYLIGHT
BEGIN:STANDARD
TZOFFSETFROM:-0700
TZOFFSETTO:-0800
TZNAME:PST
DTSTART:20231105T090000
END:STANDARD
BEGIN:DAYLIGHT
TZOFFSETFROM:-0800
TZOFFSETTO:-0700
TZNAME:PDT
DTSTART:20240310T100000
END:DAYLIGHT
BEGIN:STANDARD
TZOFFSETFROM:-0700
TZOFFSETTO:-0800
TZNAME:PST
DTSTART:20241103T090000
END:STANDARD
BEGIN:DAYLIGHT
TZOFFSETFROM:-0800
TZOFFSETTO:-0700
TZNAME:PDT
DTSTART:20250309T100000
END:DAYLIGHT
BEGIN:STANDARD
TZOFFSETFROM:-0700
TZOFFSETTO:-0800
TZNAME:PST
DTSTART:20251102T090000
END:STANDARD
BEGIN:DAYLIGHT
TZOFFSETFROM:-0800
TZOFFSETTO:-0700
TZNAME:PDT
DTSTART:20260308T100000
END:DAYLIGHT
BEGIN:STANDARD
TZOFFSETFROM:-0700
TZOFFSETTO:-0800
TZNAME:PST
DTSTART:20261101T090000
END:STANDARD
BEGIN:DAYLIGHT
TZOFFSETFROM:-0800
TZOFFSETTO:-0700
TZNAME:PDT
DTSTART:20270314T100000
END:DAYLIGHT
BEGIN:STANDARD
TZOFFSETFROM:-0700
TZOFFSETTO:-0800
TZNAME:PST
DTSTART:20271107T090000
END:STANDARD
END:VTIMEZONE
BEGIN:VEVENT
DTSTART;TZID=America/Los_Angeles:20241121T190000
DTEND;TZID=America/Los_Angeles:20241121T220000
DTSTAMP:20260423T022810
CREATED:20241120T055353Z
LAST-MODIFIED:20241120T055353Z
UID:50890-1732215600-1732226400@laguestlist.com
SUMMARY:300 Years of Remy Martin
DESCRIPTION:Invite Only – For 300 years\, the House of Rémy Martin has been crafting exceptional cognacs\, passing on its legacy from Cellar Master to Cellar Master. Join Remy Martin for a night of specialty cocktails\, gastronomical pairings\, and a special musical performance in tribute to the tricentenary.
URL:https://laguestlist.com/event/300-years-of-remy-martin/
LOCATION:CA
CATEGORIES:Nightlife
ATTACH;FMTTYPE=image/png:https://laguestlist.com/wp-content/uploads/2024/11/99.png
END:VEVENT
BEGIN:VEVENT
DTSTART;TZID=America/Los_Angeles:20250314T110000
DTEND;TZID=America/Los_Angeles:20250315T020000
DTSTAMP:20260423T022810
CREATED:20250311T040149Z
LAST-MODIFIED:20250311T040149Z
UID:50968-1741950000-1742004000@laguestlist.com
SUMMARY:Zouk Los Angeles Grand Opening
DESCRIPTION:Invite Only – Zouk Los Angeles Grand Opening in Los Angeles at the former Nightingale Plaze with DJ Politik taking over on Friday night and Metro Boomin on Saturday.
URL:https://laguestlist.com/event/zouk-los-angeles-grand-opening/
LOCATION:Zouk Los Angeles\, 643 N La Cienega Blvd\, Los Angeles\, CA\, 90069\, United States
CATEGORIES:Nightlife
ATTACH;FMTTYPE=image/png:https://laguestlist.com/wp-content/uploads/2025/03/zouk.png
END:VEVENT
BEGIN:VEVENT
DTSTART;TZID=America/Los_Angeles:20251002T200000
DTEND;TZID=America/Los_Angeles:20251002T230000
DTSTAMP:20260423T022810
CREATED:20250911T005946Z
LAST-MODIFIED:20250911T005946Z
UID:51470-1759435200-1759446000@laguestlist.com
SUMMARY:DJ Meredith Marks: The Naughty & Ice Tour
DESCRIPTION:Ticketed – OUTLOUD\, the leading LGBTQ+ music brand dedicated to celebrating and amplifying queer artistry through groundbreaking live events and entertainment experiences\, announces the OUTLOUD Presents DJ Meredith Marks – The Naughty & Ice Tour. Kicking off on Thursday\, October 2\, in West Hollywood\, California at Beaches Tropicana.
URL:https://laguestlist.com/event/dj-meredith-marks-the-naughty-ice-tour/
LOCATION:Beaches Tropicana\, 8911 Santa Monica Blvd\, West Hollywood\, CA\, 90069\, United States
CATEGORIES:Nightlife
ATTACH;FMTTYPE=image/png:https://laguestlist.com/wp-content/uploads/2025/09/Dj-Meredith-Marks.png
END:VEVENT
BEGIN:VEVENT
DTSTART;TZID=America/Los_Angeles:20251024T190000
DTEND;TZID=America/Los_Angeles:20251024T233000
DTSTAMP:20260423T022810
CREATED:20251020T222037Z
LAST-MODIFIED:20251020T222037Z
UID:51518-1761332400-1761348600@laguestlist.com
SUMMARY:Proper Presents: Washed Out
DESCRIPTION:RSVP – Gold Sky Productions and POM Wonderful have partnered with the Santa Monica Proper Hotel to bring you an unforgettable DJ set by Washed Out and opening set by Melis\, ft. complimentary POM mocktails and POM cocktails for purchase. Proper Presents is a multi-sensory series connecting guests and locals through music\, movement\, food\, and dialogue. From rooftop DJ sets and wellness rituals to chef-led tastings and thought-provoking panels\, each experience reflects the spirit of the property and the cultural pulse of its surroundings.
URL:https://laguestlist.com/event/proper-presents-washed-out/
LOCATION:Santa Monica Proper Hotel\, 700 Wilshire Blvd\, Santa Monica\, CA\, 90401\, United States
CATEGORIES:Nightlife
ATTACH;FMTTYPE=image/jpeg:https://laguestlist.com/wp-content/uploads/2025/10/Proper-Presents-Washed-Out.jpeg
END:VEVENT
BEGIN:VEVENT
DTSTART;TZID=America/Los_Angeles:20251031T210000
DTEND;TZID=America/Los_Angeles:20251101T020000
DTSTAMP:20260423T022810
CREATED:20251029T015404Z
LAST-MODIFIED:20251029T015404Z
UID:51547-1761944400-1761962400@laguestlist.com
SUMMARY:Maxim Halloween 2025
DESCRIPTION:Ticketed – Get ready for a spooky night filled with treats and tricks at Maxim LA Halloween Party – costumes are a must with sounds by DJ Ruckus taking place at the Hollywood Roosevelt.
URL:https://laguestlist.com/event/maxim-halloween-2025/
LOCATION:Hollywood Roosevelt\, 7000 Hollywood Boulevard\, Los Angeles\, CA\, 90028\, United States
CATEGORIES:Nightlife
ATTACH;FMTTYPE=image/jpeg:https://laguestlist.com/wp-content/uploads/2025/10/0-1.jpg
END:VEVENT
BEGIN:VEVENT
DTSTART;TZID=America/Los_Angeles:20251114T190000
DTEND;TZID=America/Los_Angeles:20251114T233000
DTSTAMP:20260423T022810
CREATED:20251107T203354Z
LAST-MODIFIED:20251107T203354Z
UID:51606-1763146800-1763163000@laguestlist.com
SUMMARY:Proper Presents: Passion Pit (DJ Set)
DESCRIPTION:RSVP – Gold Sky Productions\, Condesa Gin and POM Wonderful have partnered with the Santa Monica Proper Hotel to bring you an unforgettable DJ set by Passion Pit and opening set by Jasepi.
URL:https://laguestlist.com/event/proper-presents-passion-pit-dj-set/
LOCATION:Santa Monica Proper Hotel\, 700 Wilshire Blvd\, Santa Monica\, CA\, 90401\, United States
CATEGORIES:Nightlife
ATTACH;FMTTYPE=image/jpeg:https://laguestlist.com/wp-content/uploads/2025/11/Proper-Presents-Passion-Pit.jpeg
END:VEVENT
BEGIN:VEVENT
DTSTART;TZID=America/Los_Angeles:20251231T220000
DTEND;TZID=America/Los_Angeles:20260101T020000
DTSTAMP:20260423T022810
CREATED:20251104T234014Z
LAST-MODIFIED:20251104T234014Z
UID:51575-1767218400-1767232800@laguestlist.com
SUMMARY:Insomniac Presents Mike Posner
DESCRIPTION:Ticketed – Insomniac Presents Mike Posner to ring in the New Year in style.
URL:https://laguestlist.com/event/insomniac-presents-mike-posner/
LOCATION:Academy LA\, 6021 Hollywood Blvd.\, Los Angeles\, CA\, 90028\, United States
CATEGORIES:Holiday Party,Nightlife
ATTACH;FMTTYPE=image/jpeg:https://laguestlist.com/wp-content/uploads/2025/11/a529a80f-3458-4b2d-be99-fb20cdd1dec4.jpg
END:VEVENT
BEGIN:VEVENT
DTSTART;TZID=America/Los_Angeles:20260224T213000
DTEND;TZID=America/Los_Angeles:20260227T020000
DTSTAMP:20260423T022810
CREATED:20260218T193600Z
LAST-MODIFIED:20260218T193600Z
UID:51923-1771968600-1772157600@laguestlist.com
SUMMARY:Silencio Residency at The West Hollywood EDITION
DESCRIPTION:Invite Only – Silencio\, Paris’ subterranean private club and cultural venue in Paris designed by the late filmmaker David Lynch\, will make its Los Angeles debut this February. Taking over Sunset at EDITION\, the subterranean nightclub at The West Hollywood EDITION\, Silencio will present a three-night residency during Frieze LA 2026\, featuring diverse partners across art\, media\, and entertainment including the likes of LACMA-Avant Garde\, Tom of Finland Foundation\, How Long Gone\, DJ Harvey and VTSS.
URL:https://laguestlist.com/event/silencio-residency-at-the-west-hollywood-edition/
LOCATION:Sunset at EDITION\, 1090 North Doheny Drive\, West Hollywood\, CA\, 90069\, United States
CATEGORIES:Art,Nightlife
ATTACH;FMTTYPE=image/png:https://laguestlist.com/wp-content/uploads/2026/02/Silencio-Residency-at-The-West-Hollywood-EDITION.png
END:VEVENT
END:VCALENDAR