BEGIN:VCALENDAR
VERSION:2.0
PRODID:-//LA Guestlist - ECPv6.15.20//NONSGML v1.0//EN
CALSCALE:GREGORIAN
METHOD:PUBLISH
X-ORIGINAL-URL:https://laguestlist.com
X-WR-CALDESC:Events for LA Guestlist
REFRESH-INTERVAL;VALUE=DURATION:PT1H
X-Robots-Tag:noindex
X-PUBLISHED-TTL:PT1H
BEGIN:VTIMEZONE
TZID:America/Los_Angeles
BEGIN:DAYLIGHT
TZOFFSETFROM:-0800
TZOFFSETTO:-0700
TZNAME:PDT
DTSTART:20160313T100000
END:DAYLIGHT
BEGIN:STANDARD
TZOFFSETFROM:-0700
TZOFFSETTO:-0800
TZNAME:PST
DTSTART:20161106T090000
END:STANDARD
BEGIN:DAYLIGHT
TZOFFSETFROM:-0800
TZOFFSETTO:-0700
TZNAME:PDT
DTSTART:20170312T100000
END:DAYLIGHT
BEGIN:STANDARD
TZOFFSETFROM:-0700
TZOFFSETTO:-0800
TZNAME:PST
DTSTART:20171105T090000
END:STANDARD
BEGIN:DAYLIGHT
TZOFFSETFROM:-0800
TZOFFSETTO:-0700
TZNAME:PDT
DTSTART:20180311T100000
END:DAYLIGHT
BEGIN:STANDARD
TZOFFSETFROM:-0700
TZOFFSETTO:-0800
TZNAME:PST
DTSTART:20181104T090000
END:STANDARD
BEGIN:DAYLIGHT
TZOFFSETFROM:-0800
TZOFFSETTO:-0700
TZNAME:PDT
DTSTART:20190310T100000
END:DAYLIGHT
BEGIN:STANDARD
TZOFFSETFROM:-0700
TZOFFSETTO:-0800
TZNAME:PST
DTSTART:20191103T090000
END:STANDARD
END:VTIMEZONE
BEGIN:VEVENT
DTSTART;TZID=America/Los_Angeles:20170824T190000
DTEND;TZID=America/Los_Angeles:20170824T220000
DTSTAMP:20260420T033737
CREATED:20170819T011026Z
LAST-MODIFIED:20170819T011026Z
UID:26556-1503601200-1503612000@laguestlist.com
SUMMARY:POPPY Preview Night
DESCRIPTION:Invite Only – The h.wood Group special preview night for media with family and friend designed by John Sofio\, Built Inc. and creative Concept Development by John Terzian of The h.wood Group.
URL:https://laguestlist.com/event/poppy-preview-night/
LOCATION:CA
CATEGORIES:Nightlife
ATTACH;FMTTYPE=image/png:https://laguestlist.com/wp-content/uploads/2017/08/unnamed-2.png
END:VEVENT
BEGIN:VEVENT
DTSTART;TZID=America/Los_Angeles:20170824T220000
DTEND;TZID=America/Los_Angeles:20170824T220000
DTSTAMP:20260420T033737
CREATED:20170821T214438Z
LAST-MODIFIED:20170821T214438Z
UID:26604-1503612000-1503612000@laguestlist.com
SUMMARY:S&MJane
DESCRIPTION:Ticketed – Jane invites her guests to explore a night of erotic passions infused with herbs and spirits. Come play with Jane and her friends within our garden of seduction. This event is intended for patients ages 21+ in CA which has legalized the consumption of marijuana and is for educational/entertainment purposes only. As guests of Jane you’ll be able to enjoy medicated and non-medicated products. In addition to our curated vendor exhibitions\, the evening will include live burlesque entertainment that is sure to titillate and ignite the senses of the adventurous and curious.
URL:https://laguestlist.com/event/smjane/
LOCATION:333 Live\, 333 S Boylston St.\, Los Angeles\, CA\, 90017\, United States
CATEGORIES:Nightlife,Things to do
ATTACH;FMTTYPE=image/jpeg:https://laguestlist.com/wp-content/uploads/2017/08/https-2F2Fcdn.evbuc_.com2Fimages2F336527472F2204441674952F12Foriginal.jpg
END:VEVENT
BEGIN:VEVENT
DTSTART;TZID=America/Los_Angeles:20170831T220000
DTEND;TZID=America/Los_Angeles:20170831T220000
DTSTAMP:20260420T033737
CREATED:20170823T205100Z
LAST-MODIFIED:20170831T215410Z
UID:26692-1504216800-1504216800@laguestlist.com
SUMMARY:Create Live Presents French Montana
DESCRIPTION:Table Reservations – SBE’s CREATE Nightclub in Hollywood welcomes French Montana for the launch of CREATE LIVE. A new night in Los Angeles featuring live performances and surprise guests and celebrating the launch of new vodka flavor Ciroc French Vanilla in collaboration with French Montana. The award-winning recording artist will perform to kick off Labor Day weekend on August 31st\, 2017.
URL:https://laguestlist.com/event/create-live-presents-french-montana/
LOCATION:Create Nightclub\, 6021 Hollywood Boulevard\, Los Angeles\, CA\, 90028\, United States
CATEGORIES:Nightlife
ATTACH;FMTTYPE=image/jpeg:https://laguestlist.com/wp-content/uploads/2017/08/unnamed-2-4.jpg
END:VEVENT
BEGIN:VEVENT
DTSTART;TZID=America/Los_Angeles:20170901T213000
DTEND;TZID=America/Los_Angeles:20170901T213000
DTSTAMP:20260420T033737
CREATED:20170828T234645Z
LAST-MODIFIED:20170828T234645Z
UID:26790-1504301400-1504301400@laguestlist.com
SUMMARY:iLoveMakonnen at Avalon
DESCRIPTION:Ticketed – Check out iLoveMakonnen at Avalon Hollywood in Hollywood during Labor Day Weekend.
URL:https://laguestlist.com/event/ilovemakonnen-at-avalon/
LOCATION:Avalon\, 1735 Vine St.\, Los Angeles\, CA\, 90028\, United States
CATEGORIES:Concert,Nightlife
ATTACH;FMTTYPE=image/jpeg:https://laguestlist.com/wp-content/uploads/2017/08/f46c04b77e0549059d32b679d7635041.imagejpeg.7596269.jpg.CONTROLSEPTEMBER1flyerupdate2.jpg
END:VEVENT
BEGIN:VEVENT
DTSTART;TZID=America/Los_Angeles:20170903T190000
DTEND;TZID=America/Los_Angeles:20170903T190000
DTSTAMP:20260420T033737
CREATED:20170831T222743Z
LAST-MODIFIED:20170831T222743Z
UID:26890-1504465200-1504465200@laguestlist.com
SUMMARY:Rhondesia Nights Summer Season Finale
DESCRIPTION:Ticketed – On the night of Sunday September 3rd\, Rhondesia Nights Summer Season Finale at the beautiful Avenue Nightclub.
URL:https://laguestlist.com/event/rhondesia-nights-summer-season-finale/
LOCATION:Avenue
CATEGORIES:Nightlife
ATTACH;FMTTYPE=image/jpeg:https://laguestlist.com/wp-content/uploads/2017/08/20988498_10155702854118594_2702816690798883718_o.jpg
END:VEVENT
BEGIN:VEVENT
DTSTART;TZID=America/Los_Angeles:20170917T190000
DTEND;TZID=America/Los_Angeles:20170917T190000
DTSTAMP:20260420T033737
CREATED:20170913T184926Z
LAST-MODIFIED:20170913T184926Z
UID:27267-1505674800-1505674800@laguestlist.com
SUMMARY:The 2017 Golden Soiree Emmy Celebration
DESCRIPTION:Ticketed – The Golden Soiree is an exclusive awards season celebration to be held Sunday\, September 17\, 2017 – the night of the 69th Annual Emmy Awards. The event will bring together numerous award season nominees\, celebrities and social media influencers for an extraordinary night of glamor and fun.
URL:https://laguestlist.com/event/2017-golden-soiree-emmy-celebration/
LOCATION:Viva Hollywood\, 6350 Hollywood Blvd\, Los Angeles\, CA\, 90028\, United States
CATEGORIES:Nightlife
ATTACH;FMTTYPE=image/jpeg:https://laguestlist.com/wp-content/uploads/2017/09/21751930_1629048627115803_8477562812706131429_n.jpg
END:VEVENT
BEGIN:VEVENT
DTSTART;TZID=America/Los_Angeles:20171006T220000
DTEND;TZID=America/Los_Angeles:20171006T220000
DTSTAMP:20260420T033737
CREATED:20171003T045036Z
LAST-MODIFIED:20171003T045036Z
UID:27774-1507327200-1507327200@laguestlist.com
SUMMARY:Kanye Loves Kanye
DESCRIPTION:Ticketed – Kanye Loves Kanye is back for a fresh Yeezy Party\, Get down go ahead get down to Kanye Music and enjoy Kanye everything including Yeezy Drink Specials\, My Beautiful Dark Twisted Photobooth\, Giveaways and much more!
URL:https://laguestlist.com/event/kanye-loves-kanye/
LOCATION:Globe Theatre\, 740 S Broadway\, Los Angeles\, CA\, 90014\, United States
CATEGORIES:Nightlife
ATTACH;FMTTYPE=image/jpeg:https://laguestlist.com/wp-content/uploads/2017/10/21457712_336266793465017_6989986552833825734_o.jpg
END:VEVENT
BEGIN:VEVENT
DTSTART;TZID=America/Los_Angeles:20171020T210000
DTEND;TZID=America/Los_Angeles:20171020T210000
DTSTAMP:20260420T033737
CREATED:20171003T221734Z
LAST-MODIFIED:20171003T221734Z
UID:27803-1508533200-1508533200@laguestlist.com
SUMMARY:DRAKEPARTY.NET Presents Birth Drake Party
DESCRIPTION:RSVP –  DRAKEPARTY.NET is throwing a party in honor of Drake’s day of birth with tour favorite Drake songs\, Drake inspired cocktails\, Drake Masks and Drake photobooth.
URL:https://laguestlist.com/event/drakeparty-net-presents-birth-drake-party/
LOCATION:The Reserve\, 650 S. Spring\, Los Angeles\, CA\, 90014\, United States
CATEGORIES:Nightlife
ATTACH;FMTTYPE=image/png:https://laguestlist.com/wp-content/uploads/2017/10/unnamed-2.png
END:VEVENT
BEGIN:VEVENT
DTSTART;TZID=America/Los_Angeles:20171031T210000
DTEND;TZID=America/Los_Angeles:20171031T210000
DTSTAMP:20260420T033737
CREATED:20171023T230244Z
LAST-MODIFIED:20171023T230244Z
UID:28389-1509483600-1509483600@laguestlist.com
SUMMARY:Lipps LA Presents Halloween 2017
DESCRIPTION:Table Reservations – Lipps LA Presents Halloween 2017 with sounds by Nathalie Paris and a special live performance.
URL:https://laguestlist.com/event/lipps-la-presents-halloween-2017/
LOCATION:Avenue
CATEGORIES:Halloween,Nightlife
ATTACH;FMTTYPE=image/png:https://laguestlist.com/wp-content/uploads/2017/10/Screen-Shot-2017-10-23-at-3.53.22-PM.png
END:VEVENT
BEGIN:VEVENT
DTSTART;TZID=America/Los_Angeles:20171114T220000
DTEND;TZID=America/Los_Angeles:20171114T220000
DTSTAMP:20260420T033737
CREATED:20171114T222756Z
LAST-MODIFIED:20171114T222756Z
UID:29065-1510696800-1510696800@laguestlist.com
SUMMARY:PartyNextDoor at 1 OAK
DESCRIPTION:Table Reservations – PartyNextDoor is taking over 1 OAK this Tuesday.
URL:https://laguestlist.com/event/partynextdoor-1-oak-2/
LOCATION:1 OAK\, 9039 Sunset Boulevard\, West Hollywood\, CA\, United States
CATEGORIES:Nightlife
ATTACH;FMTTYPE=image/png:https://laguestlist.com/wp-content/uploads/2017/11/Screen-Shot-2017-11-14-at-2.25.04-PM.png
END:VEVENT
BEGIN:VEVENT
DTSTART;TZID=America/Los_Angeles:20171115T220000
DTEND;TZID=America/Los_Angeles:20171115T220000
DTSTAMP:20260420T033737
CREATED:20171114T231244Z
LAST-MODIFIED:20171114T231244Z
UID:29077-1510783200-1510783200@laguestlist.com
SUMMARY:Unveiling of Warwick #9
DESCRIPTION:Table Reservations – Stop by Warwick to check out their new fall look with the unveiling of Warwick #9.
URL:https://laguestlist.com/event/unveiling-warwick-9/
LOCATION:Warwick\, 6507 Sunset Blvd\, Los Angeles\, CA\, 90028\, United States
CATEGORIES:Nightlife
ATTACH;FMTTYPE=image/png:https://laguestlist.com/wp-content/uploads/2017/11/Screen-Shot-2017-11-14-at-3.10.07-PM.png
END:VEVENT
BEGIN:VEVENT
DTSTART;TZID=America/Los_Angeles:20171117T220000
DTEND;TZID=America/Los_Angeles:20171117T220000
DTSTAMP:20260420T033737
CREATED:20171025T025830Z
LAST-MODIFIED:20171025T025830Z
UID:28530-1510956000-1510956000@laguestlist.com
SUMMARY:FCANCER ft. Kap Slap
DESCRIPTION:Ticketed – FCancer’s upcoming event on Novemeber 17th with DJ Kap Slap with special guest Steven Spence and host Bravo TV personality Jax Taylor at Create Nightclub.
URL:https://laguestlist.com/event/fcancer-ft-kap-slap/
LOCATION:Create Nightclub\, 6021 Hollywood Boulevard\, Los Angeles\, CA\, 90028\, United States
CATEGORIES:Nightlife
ATTACH;FMTTYPE=image/jpeg:https://laguestlist.com/wp-content/uploads/2017/10/unnamed-11.jpg
END:VEVENT
BEGIN:VEVENT
DTSTART;TZID=America/Los_Angeles:20171127T220000
DTEND;TZID=America/Los_Angeles:20171127T220000
DTSTAMP:20260420T033737
CREATED:20171127T235958Z
LAST-MODIFIED:20171127T235958Z
UID:29266-1511820000-1511820000@laguestlist.com
SUMMARY:Steve Aoki's Birthday Celebration
DESCRIPTION:Invite Only – Dim Mak Presents Steve Aoki’s Birthday with Special Sets From Friends.
URL:https://laguestlist.com/event/steve-aokis-birthday-celebration/
LOCATION:CA
CATEGORIES:Nightlife
ATTACH;FMTTYPE=image/png:https://laguestlist.com/wp-content/uploads/2017/11/Screen-Shot-2017-11-27-at-4.58.11-PM.png
END:VEVENT
BEGIN:VEVENT
DTSTART;TZID=America/Los_Angeles:20171214T220000
DTEND;TZID=America/Los_Angeles:20171214T220000
DTSTAMP:20260420T033737
CREATED:20171212T182314Z
LAST-MODIFIED:20171212T182314Z
UID:29620-1513288800-1513288800@laguestlist.com
SUMMARY:G-Eazy "The Beautiful & Damned" Album Release Party
DESCRIPTION:Table Reservations – G-Eazy “The Beautiful & Damned” Album Release Party at 1 OAK.
URL:https://laguestlist.com/event/g-eazy-beautiful-damned-album-release-party/
LOCATION:1 OAK\, 9039 Sunset Boulevard\, West Hollywood\, CA\, United States
CATEGORIES:Nightlife
ATTACH;FMTTYPE=image/jpeg:https://laguestlist.com/wp-content/uploads/2017/12/unnamed-7-2.jpg
END:VEVENT
BEGIN:VEVENT
DTSTART;TZID=America/Los_Angeles:20171215T220000
DTEND;TZID=America/Los_Angeles:20171215T220000
DTSTAMP:20260420T033737
CREATED:20171212T233216Z
LAST-MODIFIED:20171212T233216Z
UID:29636-1513375200-1513375200@laguestlist.com
SUMMARY:Louis the Child at Create Nightclub
DESCRIPTION:Ticketed – Insomniac presents Louis the Child alongside Louis Fulton and Andrew Luce at Create Nightclub.
URL:https://laguestlist.com/event/louis-child-create-nightclub/
LOCATION:Create Nightclub\, 6021 Hollywood Boulevard\, Los Angeles\, CA\, 90028\, United States
CATEGORIES:Nightlife
ATTACH;FMTTYPE=image/png:https://laguestlist.com/wp-content/uploads/2017/12/Screen-Shot-2017-12-12-at-3.29.49-PM.png
END:VEVENT
BEGIN:VEVENT
DTSTART;TZID=America/Los_Angeles:20171231T200000
DTEND;TZID=America/Los_Angeles:20171231T200000
DTSTAMP:20260420T033737
CREATED:20171228T210340Z
LAST-MODIFIED:20171228T210340Z
UID:29786-1514750400-1514750400@laguestlist.com
SUMMARY:The Hudson's NYE Celebration
DESCRIPTION:Ticketed – Once again\, The Hudson is hosting the most anticipated New Year’s Eve party in West Hollywood. This event has Sold Out for 7 consecutive years\, and 2018 will be no different.
URL:https://laguestlist.com/event/hudsons-nye-celebration/
LOCATION:the Hudson\, 1114 North Crescent Heights Blvd\, West Hollywood\, CA\, 90046\, United States
CATEGORIES:Holiday Party,Nightlife
ATTACH;FMTTYPE=image/png:https://laguestlist.com/wp-content/uploads/2017/12/unnamed-1-3.png
END:VEVENT
BEGIN:VEVENT
DTSTART;TZID=America/Los_Angeles:20171231T220000
DTEND;TZID=America/Los_Angeles:20171231T220000
DTSTAMP:20260420T033737
CREATED:20171015T184014Z
LAST-MODIFIED:20171015T184014Z
UID:28134-1514757600-1514757600@laguestlist.com
SUMMARY:The Dillon Francis Ultra VIP NYE Experience
DESCRIPTION:Ticketed – Platinum-selling artist\, DJ\, and producer Dillon Francis today announced The Dillon Francis Ultra VIP NYE Experience\, a hometown New Year’s Eve performance at The Shrine Expo Hall in Los Angeles on December 31 with support from Whethan and Team Ezy.
URL:https://laguestlist.com/event/dillon-francis-ultra-vip-nye-experience/
LOCATION:Shrine Expo Hall\, 665 W Jefferson Blvd\, Los Angeles\, CA\, 90007\, United States
CATEGORIES:Holiday Party,Nightlife
ATTACH;FMTTYPE=image/jpeg:https://laguestlist.com/wp-content/uploads/2017/10/dillon-francis-ultra-vip-nye-experience-tickets_12-31-17_17_59cc3d373df5e.jpg
END:VEVENT
BEGIN:VEVENT
DTSTART;TZID=America/Los_Angeles:20180106T220000
DTEND;TZID=America/Los_Angeles:20180106T220000
DTSTAMP:20260420T033737
CREATED:20180105T173520Z
LAST-MODIFIED:20180105T173520Z
UID:29854-1515276000-1515276000@laguestlist.com
SUMMARY:Deadmau5 & Friends
DESCRIPTION:Ticketed – One the biggest artists on the planet has just announced a very special birthday party. Deadmau5 and friends will be taking over Sound Nightclub in what is set to be a party for the ages Presented by Sound Nightclub.
URL:https://laguestlist.com/event/deadmau5-friends/
LOCATION:Sound Nightclub\, 1642 N Las Palmas Ave\,  Los Angeles\, CA\, 90028\, United States
CATEGORIES:Nightlife
ATTACH;FMTTYPE=image/png:https://laguestlist.com/wp-content/uploads/2018/01/Screen-Shot-2018-01-05-at-10.26.49-AM.png
END:VEVENT
BEGIN:VEVENT
DTSTART;TZID=America/Los_Angeles:20180112T220000
DTEND;TZID=America/Los_Angeles:20180112T220000
DTSTAMP:20260420T033737
CREATED:20180109T215819Z
LAST-MODIFIED:20180109T215819Z
UID:29940-1515794400-1515794400@laguestlist.com
SUMMARY:Academy Grand Opening ft. Krewella
DESCRIPTION:Ticketed – This January\, Insomniac and Exchange LA invite you to celebrate the GRAND OPENING of Academy\, Los Angeles’ newest nightlife venue featuring high-energy sets from dance music’s most notable artists kicking off with Krewella.
URL:https://laguestlist.com/event/academy-grand-opening-ft-krewella/
LOCATION:Academy LA\, 6021 Hollywood Blvd.\, Los Angeles\, CA\, 90028\, United States
CATEGORIES:Nightlife
ATTACH;FMTTYPE=image/png:https://laguestlist.com/wp-content/uploads/2018/01/Screen-Shot-2018-01-09-at-2.55.35-PM.png
END:VEVENT
BEGIN:VEVENT
DTSTART;TZID=America/Los_Angeles:20180201T220000
DTEND;TZID=America/Los_Angeles:20180201T220000
DTSTAMP:20260420T033737
CREATED:20180131T233147Z
LAST-MODIFIED:20180131T233204Z
UID:30290-1517522400-1517522400@laguestlist.com
SUMMARY:Majid Jordan DJ Set at Poppy
DESCRIPTION:Table Reservations – Majid Jordan DJ Set at Poppy Nightclub hosted by Madison Beer.
URL:https://laguestlist.com/event/majid-jordan-dj-set-poppy/
LOCATION:Poppy\, 755 N. La Cienega Blvd\, Los Angeles\, CA\, United States
CATEGORIES:Nightlife
ATTACH;FMTTYPE=image/jpeg:https://laguestlist.com/wp-content/uploads/2018/01/unnamed-1-7.jpg
END:VEVENT
BEGIN:VEVENT
DTSTART;TZID=America/Los_Angeles:20180209T220000
DTEND;TZID=America/Los_Angeles:20180209T220000
DTSTAMP:20260420T033737
CREATED:20180205T171659Z
LAST-MODIFIED:20180205T171659Z
UID:30386-1518213600-1518213600@laguestlist.com
SUMMARY:Academy Presents Grandtheft
DESCRIPTION:Ticketed – Academy presents Grandtheft with special guests Wuki and Party Pupils. Grandtheft is a Producer/DJ based in Toronto\, Canada. Establishing an eclectic\, custom club sound by playing largely his own originals and remixes\, Grandtheft has slayed clubs worldwide and is respected as one of the best live DJs Canada has to offer.
URL:https://laguestlist.com/event/academy-presents-grandtheft/
LOCATION:Academy LA\, 6021 Hollywood Blvd.\, Los Angeles\, CA\, 90028\, United States
CATEGORIES:Nightlife
ATTACH;FMTTYPE=image/jpeg:https://laguestlist.com/wp-content/uploads/2018/02/97-og.jpg
END:VEVENT
BEGIN:VEVENT
DTSTART;TZID=America/Los_Angeles:20180216T220000
DTEND;TZID=America/Los_Angeles:20180216T220000
DTSTAMP:20260420T033737
CREATED:20180208T231853Z
LAST-MODIFIED:20180213T224406Z
UID:30531-1518818400-1518818400@laguestlist.com
SUMMARY:NBA All-Star Weekend with Diddy at Nightingale
DESCRIPTION:Ticketed – sbe’s Nightingale Plaza in West Hollywood announces stacked lineup of music artists in partnership with MADE nightlife for NBA All-Star weekend. Festivities kick off on Friday\, February 16th with DIDDY\, followed by Lil’ Wayne and 2Chainz on Saturday\, February 17th\, and Travis Scott on Sunday\, February 18th to close out the weekend at Nightingale’s highly coveted weekly hip-hop night.
URL:https://laguestlist.com/event/nba-star-weekend-diddy-nightingale/
LOCATION:Nightingale Plaza\, 643 North La Cienega Blvd\, Los Angeles\,\, CA\, 90069\, United States
CATEGORIES:Nightlife
ATTACH;FMTTYPE=image/jpeg:https://laguestlist.com/wp-content/uploads/2018/02/nba-all-star-weekend-hosted-by-diddy.jpg
END:VEVENT
BEGIN:VEVENT
DTSTART;TZID=America/Los_Angeles:20180217T220000
DTEND;TZID=America/Los_Angeles:20180217T220000
DTSTAMP:20260420T033737
CREATED:20180208T232134Z
LAST-MODIFIED:20180208T232134Z
UID:30534-1518904800-1518904800@laguestlist.com
SUMMARY:NBA All-Star Weekend Hosted by Lil Wayne & 2 Chainz
DESCRIPTION:Ticketed – sbe’s Nightingale Plaza in West Hollywood announces stacked lineup of music artists in partnership with MADE nightlife for NBA All-Star weekend. Festivities kick off on Friday\, February 16th with DIDDY\, followed by Lil’ Wayne and 2Chainz on Saturday\, February 17th\, and Travis Scott on Sunday\, February 18th to close out the weekend at Nightingale’s highly coveted weekly hip-hop night.
URL:https://laguestlist.com/event/nba-star-weekend-hosted-lil-wayne-2-chainz/
LOCATION:Nightingale Plaza\, 643 North La Cienega Blvd\, Los Angeles\,\, CA\, 90069\, United States
CATEGORIES:Nightlife
ATTACH;FMTTYPE=image/jpeg:https://laguestlist.com/wp-content/uploads/2018/02/nba-all-star-weekend-hosted-by-lil-wayne-2chainz.jpg
END:VEVENT
BEGIN:VEVENT
DTSTART;TZID=America/Los_Angeles:20180218T220000
DTEND;TZID=America/Los_Angeles:20180218T220000
DTSTAMP:20260420T033737
CREATED:20180205T171922Z
LAST-MODIFIED:20180205T171922Z
UID:30389-1518991200-1518991200@laguestlist.com
SUMMARY:Diddy & Kevin Hart's Official NBA All Star Afterparty
DESCRIPTION:Ticketed – Diddy & Kevin Hart’s Official NBA All Star Afterparty at Academy.
URL:https://laguestlist.com/event/diddy-kevin-harts-official-nba-star-afterparty/
LOCATION:Academy LA\, 6021 Hollywood Blvd.\, Los Angeles\, CA\, 90028\, United States
CATEGORIES:Nightlife
ATTACH;FMTTYPE=image/jpeg:https://laguestlist.com/wp-content/uploads/2018/02/04-og.jpg
END:VEVENT
BEGIN:VEVENT
DTSTART;TZID=America/Los_Angeles:20180218T220000
DTEND;TZID=America/Los_Angeles:20180218T220000
DTSTAMP:20260420T033737
CREATED:20180208T232543Z
LAST-MODIFIED:20180208T232543Z
UID:30537-1518991200-1518991200@laguestlist.com
SUMMARY:NBA All-Star Weekend with Travis Scott
DESCRIPTION:Ticketed – sbe’s Nightingale Plaza in West Hollywood announces stacked lineup of music artists in partnership with MADE nightlife for NBA All-Star weekend. Festivities kick off on Friday\, February 16th with DIDDY\, followed by Lil’ Wayne and 2Chainz on Saturday\, February 17th\, and Travis Scott on Sunday\, February 18th to close out the weekend at Nightingale’s highly coveted weekly hip-hop night.
URL:https://laguestlist.com/event/nba-star-weekend-travis-scott/
LOCATION:Nightingale Plaza\, 643 North La Cienega Blvd\, Los Angeles\,\, CA\, 90069\, United States
CATEGORIES:Nightlife
ATTACH;FMTTYPE=image/jpeg:https://laguestlist.com/wp-content/uploads/2018/02/greystonesundays-hosted-by-travis-scott.jpg
END:VEVENT
BEGIN:VEVENT
DTSTART;TZID=America/Los_Angeles:20180308T220000
DTEND;TZID=America/Los_Angeles:20180308T220000
DTSTAMP:20260420T033737
CREATED:20180307T223653Z
LAST-MODIFIED:20180307T223653Z
UID:31221-1520546400-1520546400@laguestlist.com
SUMMARY:Chance The Rapper Performing at Poppy
DESCRIPTION:Table Reservations – Chance The Rapper will be performing at Poppy Nightclub this Thursday.
URL:https://laguestlist.com/event/chance-the-rapper-performing-at-poppy/
LOCATION:Poppy\, 755 N. La Cienega Blvd\, Los Angeles\, CA\, United States
CATEGORIES:Nightlife
ATTACH;FMTTYPE=image/jpeg:https://laguestlist.com/wp-content/uploads/2018/03/unnamed-2-2.jpg
END:VEVENT
BEGIN:VEVENT
DTSTART;TZID=America/Los_Angeles:20180418T080000
DTEND;TZID=America/Los_Angeles:20180418T170000
DTSTAMP:20260420T033737
CREATED:20180315T174629Z
LAST-MODIFIED:20180315T174629Z
UID:31471-1524038400-1524070800@laguestlist.com
SUMMARY:Bonobo\, Little Dragon and More at the Ace Hotel DTLA
DESCRIPTION:Ticketed – Festival season’s night Ninja Tune and IHEARTCOMIX team up to host a duo of Coachella parties at The Theatre at Ace Hotel DTLA and at our spot in Palm Springs\, too. Featuring DJ sets by two-time Grammy nominee Bonobo\, Little Dragon and special guests.
URL:https://laguestlist.com/event/bonobo-little-dragon-and-more-at-the-ace-hotel-dtla/
LOCATION:CA
CATEGORIES:Nightlife
ATTACH;FMTTYPE=image/jpeg:https://laguestlist.com/wp-content/uploads/2018/03/unnamed-3-1.jpg
END:VEVENT
BEGIN:VEVENT
DTSTART;TZID=America/Los_Angeles:20180526T210000
DTEND;TZID=America/Los_Angeles:20180526T210000
DTSTAMP:20260420T033737
CREATED:20180525T175300Z
LAST-MODIFIED:20180525T175300Z
UID:33515-1527368400-1527368400@laguestlist.com
SUMMARY:Fetty Wap at Bootsy Bellows Saturday
DESCRIPTION:Table Reservations – Fetty Wap at Bootsy Bellows Saturday for Memorial Day Weekend.
URL:https://laguestlist.com/event/fetty-wap-at-bootsy-bellows-saturday/
LOCATION:Bootsy Bellows\, 9229 Sunset Blvd\, West Hollywood\, CA\, 90069\, United States
CATEGORIES:Holiday Party,Nightlife
ATTACH;FMTTYPE=image/jpeg:https://laguestlist.com/wp-content/uploads/2018/05/unnamed-2-1.jpg
END:VEVENT
BEGIN:VEVENT
DTSTART;TZID=America/Los_Angeles:20180530T190000
DTEND;TZID=America/Los_Angeles:20180530T220000
DTSTAMP:20260420T033737
CREATED:20180526T020002Z
LAST-MODIFIED:20180526T020306Z
UID:33535-1527706800-1527717600@laguestlist.com
SUMMARY:La Fête Media Preview
DESCRIPTION:Invite Only – La Fête Media Preview with handcrafted cocktails and pastis service created by Dave Kupchinsky and hors d’oeuvres presented by Norah executive chef Mike Williams.
URL:https://laguestlist.com/event/la-fete-media-preview/
LOCATION:CA
CATEGORIES:Nightlife
ATTACH;FMTTYPE=image/png:https://laguestlist.com/wp-content/uploads/2018/05/Screen-Shot-2018-05-25-at-6.58.01-PM.png
END:VEVENT
BEGIN:VEVENT
DTSTART;TZID=America/Los_Angeles:20180531T220000
DTEND;TZID=America/Los_Angeles:20180531T220000
DTSTAMP:20260420T033737
CREATED:20180531T030936Z
LAST-MODIFIED:20180531T030936Z
UID:33616-1527804000-1527804000@laguestlist.com
SUMMARY:Pusha-T Daytona Album Release Party at 1 OAK
DESCRIPTION:Table Reservation – Pusha-T Daytona Album Release Party at 1 OAK LA with tunes by Eric Dlux.
URL:https://laguestlist.com/event/pusha-t-daytona-album-release-party-at-1-oak/
LOCATION:1 OAK\, 9039 Sunset Boulevard\, West Hollywood\, CA\, United States
CATEGORIES:Nightlife
ATTACH;FMTTYPE=image/png:https://laguestlist.com/wp-content/uploads/2018/05/Screen-Shot-2018-05-30-at-8.07.42-PM.png
END:VEVENT
END:VCALENDAR