BEGIN:VCALENDAR
VERSION:2.0
PRODID:-//LA Guestlist - ECPv6.15.20//NONSGML v1.0//EN
CALSCALE:GREGORIAN
METHOD:PUBLISH
X-ORIGINAL-URL:https://laguestlist.com
X-WR-CALDESC:Events for LA Guestlist
REFRESH-INTERVAL;VALUE=DURATION:PT1H
X-Robots-Tag:noindex
X-PUBLISHED-TTL:PT1H
BEGIN:VTIMEZONE
TZID:America/Los_Angeles
BEGIN:DAYLIGHT
TZOFFSETFROM:-0800
TZOFFSETTO:-0700
TZNAME:PDT
DTSTART:20140309T100000
END:DAYLIGHT
BEGIN:STANDARD
TZOFFSETFROM:-0700
TZOFFSETTO:-0800
TZNAME:PST
DTSTART:20141102T090000
END:STANDARD
BEGIN:DAYLIGHT
TZOFFSETFROM:-0800
TZOFFSETTO:-0700
TZNAME:PDT
DTSTART:20150308T100000
END:DAYLIGHT
BEGIN:STANDARD
TZOFFSETFROM:-0700
TZOFFSETTO:-0800
TZNAME:PST
DTSTART:20151101T090000
END:STANDARD
BEGIN:DAYLIGHT
TZOFFSETFROM:-0800
TZOFFSETTO:-0700
TZNAME:PDT
DTSTART:20160313T100000
END:DAYLIGHT
BEGIN:STANDARD
TZOFFSETFROM:-0700
TZOFFSETTO:-0800
TZNAME:PST
DTSTART:20161106T090000
END:STANDARD
END:VTIMEZONE
BEGIN:VEVENT
DTSTART;TZID=America/Los_Angeles:20150815T210000
DTEND;TZID=America/Los_Angeles:20150815T210000
DTSTAMP:20260419T224032
CREATED:20150811T192053Z
LAST-MODIFIED:20150811T192053Z
UID:7114-1439672400-1439672400@laguestlist.com
SUMMARY:Bootie LA: Taylor Swift vs. Katy Perry
DESCRIPTION:Ticketed – It’s a Bootie battle for pop supremacy as we mash up Taylor Swift & Katy Perry throughout the night! Dance the night away with mashups form both Taylor Swift and Katy Perry.
URL:https://laguestlist.com/event/bootie-la-taylor-swift-vs-katy-perry/
LOCATION:The Regent\, 448 S. Main St.\, Los Angeles\, CA\, 90013\, United States
CATEGORIES:Nightlife,Things to do
ATTACH;FMTTYPE=image/jpeg:https://laguestlist.com/wp-content/uploads/2015/08/BootieLA_Aug15_2015.jpg
END:VEVENT
BEGIN:VEVENT
DTSTART;TZID=America/Los_Angeles:20150815T220000
DTEND;TZID=America/Los_Angeles:20150815T220000
DTSTAMP:20260419T224032
CREATED:20150813T005324Z
LAST-MODIFIED:20150813T005324Z
UID:7174-1439676000-1439676000@laguestlist.com
SUMMARY:Mya @ Henry’s
DESCRIPTION:Table Reservations – This Saturday’s “Commodore” at Henry’s\, featuring a live performance by Mya.
URL:https://laguestlist.com/event/mya-henrys/
LOCATION:Henry’s\, 8713 Beverly Blvd\, West Hollywood\, CA\, 90048\, United States
CATEGORIES:Nightlife
ATTACH;FMTTYPE=image/jpeg:https://laguestlist.com/wp-content/uploads/2015/08/unnamed15.jpg
END:VEVENT
BEGIN:VEVENT
DTSTART;TZID=America/Los_Angeles:20150818T210000
DTEND;TZID=America/Los_Angeles:20150818T210000
DTSTAMP:20260419T224032
CREATED:20150818T173942Z
LAST-MODIFIED:20150818T173942Z
UID:7386-1439931600-1439931600@laguestlist.com
SUMMARY:Nightswim w/ NASA
DESCRIPTION:RSVP – Head over to the Hollywood Roosevelt at The Tropicana Pool for some pool time at night and some great tunes from NASA.
URL:https://laguestlist.com/event/nightswim-w-nasa/
LOCATION:Hollywood Roosevelt\, 7000 Hollywood Boulevard\, Los Angeles\, CA\, 90028\, United States
CATEGORIES:Nightlife
ATTACH;FMTTYPE=image/jpeg:https://laguestlist.com/wp-content/uploads/2015/08/unnamed20.jpg
END:VEVENT
BEGIN:VEVENT
DTSTART;TZID=America/Los_Angeles:20150820T210000
DTEND;TZID=America/Los_Angeles:20150820T230000
DTSTAMP:20260419T224032
CREATED:20150817T220340Z
LAST-MODIFIED:20150817T220340Z
UID:7355-1440104400-1440111600@laguestlist.com
SUMMARY:We Are Your Friends Tour
DESCRIPTION:RSVP – Warner Brothers and A-OK Collective presents the We Are Your Friends Tour in conjunction with the release of “We Are Your Friends” Premiere with Zach Efron\, expect DJ sets by Michael Woods\, Classixx (DJ Set)\, and Pyramid.
URL:https://laguestlist.com/event/we-are-your-friends-tour/
LOCATION:Avalon\, 1735 Vine St.\, Los Angeles\, CA\, 90028\, United States
CATEGORIES:Movies,Nightlife
ATTACH;FMTTYPE=image/jpeg:https://laguestlist.com/wp-content/uploads/2015/08/keyart.jpg
END:VEVENT
BEGIN:VEVENT
DTSTART;TZID=America/Los_Angeles:20150820T220000
DTEND;TZID=America/Los_Angeles:20150820T220000
DTSTAMP:20260419T224032
CREATED:20150820T000209Z
LAST-MODIFIED:20150820T000209Z
UID:7447-1440108000-1440108000@laguestlist.com
SUMMARY:Jidenna @ 1 OAK
DESCRIPTION:Table Reservations – Dance the night away at 1 OAK LA with a performance by Jidenna singing his hit ‘Classic Man.’
URL:https://laguestlist.com/event/jidenna-1-oak/
LOCATION:1 OAK\, 9039 Sunset Boulevard\, West Hollywood\, CA\, United States
CATEGORIES:Nightlife
ATTACH;FMTTYPE=image/jpeg:https://laguestlist.com/wp-content/uploads/2015/08/11888031_10156018417075128_7479931503561458372_n.jpg
END:VEVENT
BEGIN:VEVENT
DTSTART;TZID=America/Los_Angeles:20150820T220000
DTEND;TZID=America/Los_Angeles:20150820T220000
DTSTAMP:20260419T224032
CREATED:20150820T221916Z
LAST-MODIFIED:20150820T221916Z
UID:7520-1440108000-1440108000@laguestlist.com
SUMMARY:Travis Barker @ Supperclub
DESCRIPTION:Ticketed – Travis Barker & Friends performing LIVE at Supperclub.
URL:https://laguestlist.com/event/travis-barker-supperclub/
LOCATION:SupperclubLA\, 6675 Hollywood Blvd\, Los Angeles\, CA\, 90028\, United States
CATEGORIES:Nightlife
ATTACH;FMTTYPE=image/png:https://laguestlist.com/wp-content/uploads/2015/08/Screen-Shot-2015-08-20-at-3.14.27-PM.png
END:VEVENT
BEGIN:VEVENT
DTSTART;TZID=America/Los_Angeles:20150821T200000
DTEND;TZID=America/Los_Angeles:20150821T200000
DTSTAMP:20260419T224032
CREATED:20150806T220700Z
LAST-MODIFIED:20150806T220700Z
UID:6934-1440187200-1440187200@laguestlist.com
SUMMARY:FYF & Rhonda: Paradise City
DESCRIPTION:Ticketed – (21+) A Club Called Rhonda and FYF have teamed up for Paradise City\, which will take place on Friday\, August 21\, from 8 p.m. to 3 a.m.\, at the Belasco Theatre in Downtown L.A. Scheduled to perform at this 21+ event are Matias Aguayo\, Dave P\, Goddollars\, Horse Meat Disco\, Maxxi Soundsystem\, Paradise\, Pional\, Psychemagik\, and Simian Mobile Disco (DJ set)\, among others.
URL:https://laguestlist.com/event/fyf-rhonda-paradise-city/
LOCATION:The Belasco Theatre\, 1050 South Hill Str\, 90015\, CA\, 90015\, United States
CATEGORIES:Music,Nightlife
ATTACH;FMTTYPE=image/jpeg:https://laguestlist.com/wp-content/uploads/2015/08/unnamed-52.jpg
END:VEVENT
BEGIN:VEVENT
DTSTART;TZID=America/Los_Angeles:20150822T210000
DTEND;TZID=America/Los_Angeles:20150822T210000
DTSTAMP:20260419T224032
CREATED:20150811T192338Z
LAST-MODIFIED:20150811T192338Z
UID:7116-1440277200-1440277200@laguestlist.com
SUMMARY:Bootie LA: Michael Jackson Mashup Night
DESCRIPTION:Ticketed – Bootie’s DJs mix and mash MJ mashups throughout the night with Michael Jackson tunes. Dance the night away at Bootie LA.
URL:https://laguestlist.com/event/bootie-la-michael-jackson-mashup-night/
LOCATION:The Regent\, 448 S. Main St.\, Los Angeles\, CA\, 90013\, United States
CATEGORIES:Nightlife,Things to do
ATTACH;FMTTYPE=image/jpeg:https://laguestlist.com/wp-content/uploads/2015/08/BootieLA_Aug22_2015.jpg
END:VEVENT
BEGIN:VEVENT
DTSTART;TZID=America/Los_Angeles:20150822T220000
DTEND;TZID=America/Los_Angeles:20150822T220000
DTSTAMP:20260419T224032
CREATED:20150727T204339Z
LAST-MODIFIED:20150727T204339Z
UID:6538-1440280800-1440280800@laguestlist.com
SUMMARY:Inception presents Claude VonStroke
DESCRIPTION:Ticketed – Quality music is born from the soul but gifted life through the gathering of like-minded people on the dance floor\, giving wings to friendship and feelings to thought. Every Saturday at Exchange LA\, good music and good memories bloom. This is the Inception of something beautiful.
URL:https://laguestlist.com/event/inception-presents-claude-vonstroke/
LOCATION:Exchange LA\, 618 S Spring St\, Los Angeles\, CA\, 90014\, United States
CATEGORIES:Nightlife
ATTACH;FMTTYPE=image/jpeg:https://laguestlist.com/wp-content/uploads/2015/07/11781609_10153740391418888_8606373947975083302_n.jpg
END:VEVENT
BEGIN:VEVENT
DTSTART;TZID=America/Los_Angeles:20150824T220000
DTEND;TZID=America/Los_Angeles:20150824T220000
DTSTAMP:20260419T224032
CREATED:20150823T221948Z
LAST-MODIFIED:20150823T221948Z
UID:7583-1440453600-1440453600@laguestlist.com
SUMMARY:Waka Flocka @ Henry's
DESCRIPTION:Table Reservations – The Place to be on Monday Nights is at Henry’s for #mymondays\, this week with Waka Flocka.
URL:https://laguestlist.com/event/waka-flocka-henrys/
LOCATION:Henry’s\, 8713 Beverly Blvd\, West Hollywood\, CA\, 90048\, United States
CATEGORIES:Nightlife
ATTACH;FMTTYPE=image/jpeg:https://laguestlist.com/wp-content/uploads/2015/08/11903836_10154181272112796_6435371091563384057_n.jpg
END:VEVENT
BEGIN:VEVENT
DTSTART;TZID=America/Los_Angeles:20150825T210000
DTEND;TZID=America/Los_Angeles:20150825T210000
DTSTAMP:20260419T224032
CREATED:20150825T172339Z
LAST-MODIFIED:20150825T172339Z
UID:7646-1440536400-1440536400@laguestlist.com
SUMMARY:NIGHTSWIM x Dan T Record Release Party
DESCRIPTION:RSVP – Nightswim at The Hollywood Roosevelt with Dan T’s record release party.
URL:https://laguestlist.com/event/nightswim-x-dan-t-record-release-party/
LOCATION:Hollywood Roosevelt\, 7000 Hollywood Boulevard\, Los Angeles\, CA\, 90028\, United States
CATEGORIES:Nightlife
ATTACH;FMTTYPE=image/jpeg:https://laguestlist.com/wp-content/uploads/2015/08/unnamed29.jpg
END:VEVENT
BEGIN:VEVENT
DTSTART;TZID=America/Los_Angeles:20150825T220000
DTEND;TZID=America/Los_Angeles:20150825T220000
DTSTAMP:20260419T224032
CREATED:20150825T025508Z
LAST-MODIFIED:20150825T025508Z
UID:7635-1440540000-1440540000@laguestlist.com
SUMMARY:Post Malone @ Bootsy Belows
DESCRIPTION:Table Reservations – VMA weekend is upon us\, check out a performance by newcomer who is making headlines Post Malone at Bootsy Belows.
URL:https://laguestlist.com/event/post-malone-bootsy-belows/
LOCATION:Bootsy Bellows\, 9229 Sunset Blvd\, West Hollywood\, CA\, 90069\, United States
CATEGORIES:Nightlife
ATTACH;FMTTYPE=image/jpeg:https://laguestlist.com/wp-content/uploads/2015/08/unnamed26.jpg
END:VEVENT
BEGIN:VEVENT
DTSTART;TZID=America/Los_Angeles:20150826T220000
DTEND;TZID=America/Los_Angeles:20150826T220000
DTSTAMP:20260419T224032
CREATED:20150820T052252Z
LAST-MODIFIED:20150820T052252Z
UID:7497-1440626400-1440626400@laguestlist.com
SUMMARY:Secret Guest DJ @ Los Globos
DESCRIPTION:Ticketed @ Door – There will be a secret guest DJ at this weeks installation of 143 at Los Globos\, and our instincts think that it’s someone from Wedidit Collective.
URL:https://laguestlist.com/event/secret-guest-dj-los-globos/
LOCATION:Los Globos\, 3040 Sunset Blvd\, Los Angeles\, CA\, 90026\, United States
CATEGORIES:Music,Nightlife
ATTACH;FMTTYPE=image/png:https://laguestlist.com/wp-content/uploads/2015/08/Screen-Shot-2015-08-19-at-10.11.21-PM.png
END:VEVENT
BEGIN:VEVENT
DTSTART;TZID=America/Los_Angeles:20150826T220000
DTEND;TZID=America/Los_Angeles:20150826T220000
DTSTAMP:20260419T224032
CREATED:20150826T222724Z
LAST-MODIFIED:20150826T222724Z
UID:7695-1440626400-1440626400@laguestlist.com
SUMMARY:Sean Stewart Birthday Celebration
DESCRIPTION:Table Reservation – Sean Stewart will be celebrating his birthday at Warwick.
URL:https://laguestlist.com/event/sean-stewart-birthday-celebration/
LOCATION:Warwick\, 6507 Sunset Blvd\, Los Angeles\, CA\, 90028\, United States
CATEGORIES:Nightlife
ATTACH;FMTTYPE=image/jpeg:https://laguestlist.com/wp-content/uploads/2015/08/unnamed-21.jpg
END:VEVENT
BEGIN:VEVENT
DTSTART;TZID=America/Los_Angeles:20150827T210000
DTEND;TZID=America/Los_Angeles:20150827T210000
DTSTAMP:20260419T224032
CREATED:20150807T221951Z
LAST-MODIFIED:20150820T192459Z
UID:6985-1440709200-1440709200@laguestlist.com
SUMMARY:Full Moon Bazaar feat. Photography by Sean McEnroe
DESCRIPTION:Open – This month\, we’re excited to present an exhibit from Sean McEnroe at Full Moon Bazaar. A portion of the proceeds from the night will be donated to CITTA\, which benefits survivors of the Nepalese earthquake.
URL:https://laguestlist.com/event/sean-mcenroe-at-full-moon-bazaar/
LOCATION:Skybar at Mondrian\, 8440 Sunset Boulevard\, West Hollywood\, CA\, 90069\, United States
CATEGORIES:Nightlife
ATTACH;FMTTYPE=image/jpeg:https://laguestlist.com/wp-content/uploads/2015/08/11902535_463942843778920_1023987368908772011_n.jpg
END:VEVENT
BEGIN:VEVENT
DTSTART;TZID=America/Los_Angeles:20150827T220000
DTEND;TZID=America/Los_Angeles:20150827T220000
DTSTAMP:20260419T224032
CREATED:20150826T223029Z
LAST-MODIFIED:20150826T223029Z
UID:7697-1440712800-1440712800@laguestlist.com
SUMMARY:LIT @ Hotel Fig Basement Hosted by Stephanie Villa & Badboi
DESCRIPTION:RSVP – presenting LIT Thursday at the Hotel Fig Basement with special hosts Stephanie Villa and Badboi.
URL:https://laguestlist.com/event/lit-hotel-fig-basement-hosted-by-stephanie-villa-badboi/
LOCATION:The Figueroa Hotel\, 939 South Figueroa Street #930\, Los Angeles\, CA\, 90015\, United States
CATEGORIES:Nightlife
ATTACH;FMTTYPE=image/jpeg:https://laguestlist.com/wp-content/uploads/2015/08/unnamed-110.jpg
END:VEVENT
BEGIN:VEVENT
DTSTART;TZID=America/Los_Angeles:20150827T220000
DTEND;TZID=America/Los_Angeles:20150827T220000
DTSTAMP:20260419T224032
CREATED:20150827T194525Z
LAST-MODIFIED:20150827T194525Z
UID:7707-1440712800-1440712800@laguestlist.com
SUMMARY:1 OAK VMA Edition hosted by G-Eazy
DESCRIPTION:Table Reservations – Head over to 1 OAK to celebrate VMA weekend hosted by G-Eazy and music by DJ Ruckus.
URL:https://laguestlist.com/event/1-oak-vma-edition-hosted-by-g-eazy/
LOCATION:1 OAK\, 9039 Sunset Boulevard\, West Hollywood\, CA\, United States
CATEGORIES:Nightlife
ATTACH;FMTTYPE=image/png:https://laguestlist.com/wp-content/uploads/2015/08/Screen-Shot-2015-08-27-at-12.32.22-PM.png
END:VEVENT
BEGIN:VEVENT
DTSTART;TZID=America/Los_Angeles:20150828T200000
DTEND;TZID=America/Los_Angeles:20150828T200000
DTSTAMP:20260419T224032
CREATED:20150822T212503Z
LAST-MODIFIED:20150822T212503Z
UID:7555-1440792000-1440792000@laguestlist.com
SUMMARY:Nexus Social Lounge Opening
DESCRIPTION:Invite Only – Nexus Social Lounge is hosting a private opening party with food\, drinks\, and performances by The Alchemist\, Budgie and Danny Magic.
URL:https://laguestlist.com/event/nexus-social-lounge-opening/
LOCATION:Nexus Social Lounge\, 511 E. 4th Street\, Los Angeles\, CA\, 90013\, United States
CATEGORIES:Nightlife
ATTACH;FMTTYPE=image/png:https://laguestlist.com/wp-content/uploads/2015/08/Screen-Shot-2015-08-22-at-2.19.58-PM.png
END:VEVENT
BEGIN:VEVENT
DTSTART;TZID=America/Los_Angeles:20150828T220000
DTEND;TZID=America/Los_Angeles:20150828T220000
DTSTAMP:20260419T224032
CREATED:20150823T222514Z
LAST-MODIFIED:20150823T222514Z
UID:7585-1440799200-1440799200@laguestlist.com
SUMMARY:The Weeknd Official Album Release Party
DESCRIPTION:Table Reservations – Join 1 OAK Los Angeles for The Weeknd’s “Beauty Behind The Madness” official album release party.
URL:https://laguestlist.com/event/the-weeknd-official-album-release-party/
LOCATION:1 OAK\, 9039 Sunset Boulevard\, West Hollywood\, CA\, United States
CATEGORIES:Music,Nightlife
ATTACH;FMTTYPE=image/png:https://laguestlist.com/wp-content/uploads/2015/08/Screen-Shot-2015-08-23-at-3.20.09-PM.png
END:VEVENT
BEGIN:VEVENT
DTSTART;TZID=America/Los_Angeles:20150828T220000
DTEND;TZID=America/Los_Angeles:20150828T220000
DTSTAMP:20260419T224032
CREATED:20150825T025827Z
LAST-MODIFIED:20150825T025913Z
UID:7637-1440799200-1440799200@laguestlist.com
SUMMARY:VMA Edition @ Henry's
DESCRIPTION:Table Reservations – Start off VMA weekend with Chedda da Connect & Twayne at Henry’s.
URL:https://laguestlist.com/event/henrys-vma-edition/
LOCATION:Henry’s\, 8713 Beverly Blvd\, West Hollywood\, CA\, 90048\, United States
CATEGORIES:Nightlife
ATTACH;FMTTYPE=image/jpeg:https://laguestlist.com/wp-content/uploads/2015/08/unnamed27.jpg
END:VEVENT
BEGIN:VEVENT
DTSTART;TZID=America/Los_Angeles:20150828T220000
DTEND;TZID=America/Los_Angeles:20150828T220000
DTSTAMP:20260419T224032
CREATED:20150825T030138Z
LAST-MODIFIED:20150825T030138Z
UID:7640-1440799200-1440799200@laguestlist.com
SUMMARY:VMA Party @ Bootsy Bellows
DESCRIPTION:Table Reservation – It’s VMA weekend in Los Angeles so you can be sure to find plenty of celebrities roaming around town. Make sure to celebrate in style at hotspot Bootsy Bellows.
URL:https://laguestlist.com/event/vma-party-bootsy-bellows/
LOCATION:Bootsy Bellows\, 9229 Sunset Blvd\, West Hollywood\, CA\, 90069\, United States
CATEGORIES:Nightlife
ATTACH;FMTTYPE=image/jpeg:https://laguestlist.com/wp-content/uploads/2015/08/unnamed-19.jpg
END:VEVENT
BEGIN:VEVENT
DTSTART;TZID=America/Los_Angeles:20150829T220000
DTEND;TZID=America/Los_Angeles:20150829T220000
DTSTAMP:20260419T224032
CREATED:20150825T030426Z
LAST-MODIFIED:20150825T030426Z
UID:7642-1440885600-1440885600@laguestlist.com
SUMMARY:B.o.b. @ Bootsy Bellows
DESCRIPTION:Table Reservation – Let loose at Bootsy Bellows with host B.o.b.
URL:https://laguestlist.com/event/b-o-b-bootsy-bellows/
LOCATION:Bootsy Bellows\, 9229 Sunset Blvd\, West Hollywood\, CA\, 90069\, United States
CATEGORIES:Nightlife
ATTACH;FMTTYPE=image/jpeg:https://laguestlist.com/wp-content/uploads/2015/08/unnamed28.jpg
END:VEVENT
BEGIN:VEVENT
DTSTART;TZID=America/Los_Angeles:20150829T220000
DTEND;TZID=America/Los_Angeles:20150829T220000
DTSTAMP:20260419T224032
CREATED:20150826T153840Z
LAST-MODIFIED:20150826T153840Z
UID:7691-1440885600-1440885600@laguestlist.com
SUMMARY:Busta Rhymes VMA Party
DESCRIPTION:Ticketed – Hot off the press! We’re getting #LITatLURE this weekend for the #VMA weekend celebration\, hosted by #BustaRhymes @conglomerateent @otgenasis! Tickets and Table Reservations: 562-449-6684
URL:https://laguestlist.com/event/busta-rhymes-vma-party/
LOCATION:Lure Nightclub\, 1439 Ivar Ave\, Los Angeles\, CA\, 90028\, United States
CATEGORIES:Nightlife
ATTACH;FMTTYPE=image/png:https://laguestlist.com/wp-content/uploads/2015/08/Screen-Shot-2015-08-26-at-8.27.39-AM.png
END:VEVENT
BEGIN:VEVENT
DTSTART;TZID=America/Los_Angeles:20150830T220000
DTEND;TZID=America/Los_Angeles:20150830T220000
DTSTAMP:20260419T224032
CREATED:20150824T220644Z
LAST-MODIFIED:20150824T220644Z
UID:7602-1440972000-1440972000@laguestlist.com
SUMMARY:DIDDY MTV VMA After Party
DESCRIPTION:Ticketed – Celebrate the 2015 VMAS at Diddy’s after party held at Supperclub.
URL:https://laguestlist.com/event/diddy-mtv-vma-after-party/
LOCATION:SupperclubLA\, 6675 Hollywood Blvd\, Los Angeles\, CA\, 90028\, United States
CATEGORIES:Award Show,Nightlife
ATTACH;FMTTYPE=image/jpeg:https://laguestlist.com/wp-content/uploads/2015/08/diddy-mtv.jpg
END:VEVENT
BEGIN:VEVENT
DTSTART;TZID=America/Los_Angeles:20150830T220000
DTEND;TZID=America/Los_Angeles:20150830T220000
DTSTAMP:20260419T224032
CREATED:20150827T011610Z
LAST-MODIFIED:20150828T191307Z
UID:7699-1440972000-1440972000@laguestlist.com
SUMMARY:VMA Nominees London Alley Entertainment hosted by Kenny Hamilton
DESCRIPTION:Table Reservations – VMA Nominees\nLondon Alley Entertainment presents 2015 VMA AFTER PARTY at Henry’s hosted Kenny Hamilton. Lots of their videos with big artists are nominated so expect celebrity galore.
URL:https://laguestlist.com/event/vma-nominees-london-alley-entertainment/
LOCATION:Henry’s\, 8713 Beverly Blvd\, West Hollywood\, CA\, 90048\, United States
CATEGORIES:Award Show,Nightlife
ATTACH;FMTTYPE=image/jpeg:https://laguestlist.com/wp-content/uploads/2015/08/unnamed30.jpg
END:VEVENT
BEGIN:VEVENT
DTSTART;TZID=America/Los_Angeles:20150901T210000
DTEND;TZID=America/Los_Angeles:20150901T210000
DTSTAMP:20260419T224032
CREATED:20150901T014643Z
LAST-MODIFIED:20150901T185659Z
UID:7875-1441141200-1441141200@laguestlist.com
SUMMARY:NIGHTSWIM #18 (w/ Party For America: Bernie 2016!)
DESCRIPTION:RSVP – Artists For Artists\, Crushee and Loud Village present… NIGHTSWIM! Week 18 is all about FEELING THE BERN. That’s right\, we are partying for Bernie Sanders and the future America.
URL:https://laguestlist.com/event/nightswim-18-w-party-for-america-bernie-2016/
LOCATION:Hollywood Roosevelt\, 7000 Hollywood Boulevard\, Los Angeles\, CA\, 90028\, United States
CATEGORIES:Nightlife
ATTACH;FMTTYPE=image/jpeg:https://laguestlist.com/wp-content/uploads/2015/08/11933488_10153157105706139_1082787077325550919_n.jpg
END:VEVENT
BEGIN:VEVENT
DTSTART;TZID=America/Los_Angeles:20150901T220000
DTEND;TZID=America/Los_Angeles:20150901T220000
DTSTAMP:20260419T224032
CREATED:20150831T225718Z
LAST-MODIFIED:20150831T225718Z
UID:7832-1441144800-1441144800@laguestlist.com
SUMMARY:Travi$ Scott @ 1 OAK
DESCRIPTION:Table Reservations – Travi$ Scott is about to drop his anticipated new album ‘Rodeo’ on September 4th and will be making a stop at 1 OAK LA.
URL:https://laguestlist.com/event/travi-scott-1-oak/
LOCATION:1 OAK\, 9039 Sunset Boulevard\, West Hollywood\, CA\, United States
CATEGORIES:Nightlife
ATTACH;FMTTYPE=image/jpeg:https://laguestlist.com/wp-content/uploads/2015/08/unnamed-113.jpg
END:VEVENT
BEGIN:VEVENT
DTSTART;TZID=America/Los_Angeles:20150901T220000
DTEND;TZID=America/Los_Angeles:20150901T220000
DTSTAMP:20260419T224032
CREATED:20150831T225925Z
LAST-MODIFIED:20150831T225925Z
UID:7834-1441144800-1441144800@laguestlist.com
SUMMARY:Pia Mia @ Bootsy Bellows
DESCRIPTION:Table Reservations – Singer Pia Mia who is known with rolling with cool crowd including Kylie Jenner will be performing this Tuesday at Bootsy Bellows.
URL:https://laguestlist.com/event/pia-mia-bootsy-bellows/
LOCATION:Bootsy Bellows\, 9229 Sunset Blvd\, West Hollywood\, CA\, 90069\, United States
CATEGORIES:Nightlife
ATTACH;FMTTYPE=image/jpeg:https://laguestlist.com/wp-content/uploads/2015/08/unnamed32.jpg
END:VEVENT
BEGIN:VEVENT
DTSTART;TZID=America/Los_Angeles:20150903T220000
DTEND;TZID=America/Los_Angeles:20150903T220000
DTSTAMP:20260419T224032
CREATED:20150902T024223Z
LAST-MODIFIED:20150902T024223Z
UID:7917-1441317600-1441317600@laguestlist.com
SUMMARY:Wiz Khalifa @ 1 OAK
DESCRIPTION:Table Reservations – Celebrate Wiz Khalifa’s birthday at 1 OAK and enjoy a special performance by the birthday boy himself.
URL:https://laguestlist.com/event/wiz-khalifa-1-oak/
LOCATION:1 OAK\, 9039 Sunset Boulevard\, West Hollywood\, CA\, United States
CATEGORIES:Nightlife
ATTACH;FMTTYPE=image/jpeg:https://laguestlist.com/wp-content/uploads/2015/09/unnamed1.jpg
END:VEVENT
BEGIN:VEVENT
DTSTART;TZID=America/Los_Angeles:20150904T220000
DTEND;TZID=America/Los_Angeles:20150904T220000
DTSTAMP:20260419T224032
CREATED:20150831T230123Z
LAST-MODIFIED:20150831T230123Z
UID:7836-1441404000-1441404000@laguestlist.com
SUMMARY:Miguel @ Bootsy Bellows
DESCRIPTION:Table Reservations – Star Labor Day Weekend with some sexy tunes by Miguel at Bootsy Bellows.
URL:https://laguestlist.com/event/miguel-bootsy-bellows/
LOCATION:Bootsy Bellows\, 9229 Sunset Blvd\, West Hollywood\, CA\, 90069\, United States
CATEGORIES:Nightlife
ATTACH;FMTTYPE=image/jpeg:https://laguestlist.com/wp-content/uploads/2015/08/unnamed33.jpg
END:VEVENT
END:VCALENDAR