BEGIN:VCALENDAR
VERSION:2.0
PRODID:-//LA Guestlist - ECPv6.15.20//NONSGML v1.0//EN
CALSCALE:GREGORIAN
METHOD:PUBLISH
X-WR-CALNAME:LA Guestlist
X-ORIGINAL-URL:https://laguestlist.com
X-WR-CALDESC:Events for LA Guestlist
REFRESH-INTERVAL;VALUE=DURATION:PT1H
X-Robots-Tag:noindex
X-PUBLISHED-TTL:PT1H
BEGIN:VTIMEZONE
TZID:America/Los_Angeles
BEGIN:DAYLIGHT
TZOFFSETFROM:-0800
TZOFFSETTO:-0700
TZNAME:PDT
DTSTART:20200308T100000
END:DAYLIGHT
BEGIN:STANDARD
TZOFFSETFROM:-0700
TZOFFSETTO:-0800
TZNAME:PST
DTSTART:20201101T090000
END:STANDARD
BEGIN:DAYLIGHT
TZOFFSETFROM:-0800
TZOFFSETTO:-0700
TZNAME:PDT
DTSTART:20210314T100000
END:DAYLIGHT
BEGIN:STANDARD
TZOFFSETFROM:-0700
TZOFFSETTO:-0800
TZNAME:PST
DTSTART:20211107T090000
END:STANDARD
BEGIN:DAYLIGHT
TZOFFSETFROM:-0800
TZOFFSETTO:-0700
TZNAME:PDT
DTSTART:20220313T100000
END:DAYLIGHT
BEGIN:STANDARD
TZOFFSETFROM:-0700
TZOFFSETTO:-0800
TZNAME:PST
DTSTART:20221106T090000
END:STANDARD
BEGIN:DAYLIGHT
TZOFFSETFROM:-0800
TZOFFSETTO:-0700
TZNAME:PDT
DTSTART:20230312T100000
END:DAYLIGHT
BEGIN:STANDARD
TZOFFSETFROM:-0700
TZOFFSETTO:-0800
TZNAME:PST
DTSTART:20231105T090000
END:STANDARD
END:VTIMEZONE
BEGIN:VEVENT
DTSTART;TZID=America/Los_Angeles:20211231T210000
DTEND;TZID=America/Los_Angeles:20220101T020000
DTSTAMP:20260420T233645
CREATED:20211222T152706Z
LAST-MODIFIED:20211222T152814Z
UID:45066-1640984400-1641002400@laguestlist.com
SUMMARY:A Night at Studio 54
DESCRIPTION:Ticketed – Celebrate the Glamour\, the Style & the Music of the Disco Era\, and Studio 54 at Tropicana Pool featuring DJ Bad Boy Bill\, DJ Tony Arzadon\, Guest DJ\, and Special Entertainers.
URL:https://laguestlist.com/event/a-night-at-studio-54/
LOCATION:Hollywood Roosevelt\, 7000 Hollywood Boulevard\, Los Angeles\, CA\, 90028\, United States
CATEGORIES:Nightlife
ATTACH;FMTTYPE=image/jpeg:https://laguestlist.com/wp-content/uploads/2021/12/Screen-Shot-2021-12-22-at-7.23.51-AM.jpg
END:VEVENT
BEGIN:VEVENT
DTSTART;TZID=America/Los_Angeles:20220116T220000
DTEND;TZID=America/Los_Angeles:20220117T030000
DTSTAMP:20260420T233645
CREATED:20220106T142139Z
LAST-MODIFIED:20220106T142139Z
UID:45097-1642370400-1642388400@laguestlist.com
SUMMARY:DJ Pauly D at Academy LA
DESCRIPTION:Ticketed – DJ Pauly D is taking over Academy LA.
URL:https://laguestlist.com/event/dj-pauly-d-at-academy-la/
LOCATION:Academy LA\, 6021 Hollywood Blvd.\, Los Angeles\, CA\, 90028\, United States
CATEGORIES:Nightlife
ATTACH;FMTTYPE=image/jpeg:https://laguestlist.com/wp-content/uploads/2022/01/Screen-Shot-2022-01-06-at-7.18.33-AM.jpg
END:VEVENT
END:VCALENDAR