BEGIN:VCALENDAR
VERSION:2.0
PRODID:-//LA Guestlist - ECPv6.15.20//NONSGML v1.0//EN
CALSCALE:GREGORIAN
METHOD:PUBLISH
X-ORIGINAL-URL:https://laguestlist.com
X-WR-CALDESC:Events for LA Guestlist
REFRESH-INTERVAL;VALUE=DURATION:PT1H
X-Robots-Tag:noindex
X-PUBLISHED-TTL:PT1H
BEGIN:VTIMEZONE
TZID:America/Los_Angeles
BEGIN:DAYLIGHT
TZOFFSETFROM:-0800
TZOFFSETTO:-0700
TZNAME:PDT
DTSTART:20220313T100000
END:DAYLIGHT
BEGIN:STANDARD
TZOFFSETFROM:-0700
TZOFFSETTO:-0800
TZNAME:PST
DTSTART:20221106T090000
END:STANDARD
BEGIN:DAYLIGHT
TZOFFSETFROM:-0800
TZOFFSETTO:-0700
TZNAME:PDT
DTSTART:20230312T100000
END:DAYLIGHT
BEGIN:STANDARD
TZOFFSETFROM:-0700
TZOFFSETTO:-0800
TZNAME:PST
DTSTART:20231105T090000
END:STANDARD
BEGIN:DAYLIGHT
TZOFFSETFROM:-0800
TZOFFSETTO:-0700
TZNAME:PDT
DTSTART:20240310T100000
END:DAYLIGHT
BEGIN:STANDARD
TZOFFSETFROM:-0700
TZOFFSETTO:-0800
TZNAME:PST
DTSTART:20241103T090000
END:STANDARD
END:VTIMEZONE
BEGIN:VEVENT
DTSTART;TZID=America/Los_Angeles:20230909T100000
DTEND;TZID=America/Los_Angeles:20230909T150000
DTSTAMP:20260421T170116
CREATED:20230830T200607Z
LAST-MODIFIED:20230830T200607Z
UID:49150-1694253600-1694271600@laguestlist.com
SUMMARY:Create & Cultivate: Beauty & Wellness
DESCRIPTION:Ticketed – Join Create & Cultivate for an epic day of self-care for your small business\, side hustle\, career\, or passion for beauty and wellness. The first in our new ‘Behind The Business’ event series\, we’re diving deep into the industries our C&C community cares about most. Get ready for thought-provoking conversations\, intimate mentor sessions with industry experts\, exclusive self-care experiences\, and bookable 1:1s with consultants whose advice would typically cost more than your entire skincare routine. Uncover industry trends\, receive actionable steps to launch or grow your business\, and learn mindful practices for professional growth—all while connecting with the amazing Create & Cultivate community in person.
URL:https://laguestlist.com/event/create-cultivate-beauty-wellness/
LOCATION:California Market Center\, 110 East 9th Street\, Los Angeles\, CA\, 90079\, United States
CATEGORIES:Networking
ATTACH;FMTTYPE=image/png:https://laguestlist.com/wp-content/uploads/2023/08/create.png
END:VEVENT
END:VCALENDAR