BEGIN:VCALENDAR
VERSION:2.0
PRODID:-//LA Guestlist - ECPv6.15.20//NONSGML v1.0//EN
CALSCALE:GREGORIAN
METHOD:PUBLISH
X-WR-CALNAME:LA Guestlist
X-ORIGINAL-URL:https://laguestlist.com
X-WR-CALDESC:Events for LA Guestlist
REFRESH-INTERVAL;VALUE=DURATION:PT1H
X-Robots-Tag:noindex
X-PUBLISHED-TTL:PT1H
BEGIN:VTIMEZONE
TZID:America/Los_Angeles
BEGIN:DAYLIGHT
TZOFFSETFROM:-0800
TZOFFSETTO:-0700
TZNAME:PDT
DTSTART:20170312T100000
END:DAYLIGHT
BEGIN:STANDARD
TZOFFSETFROM:-0700
TZOFFSETTO:-0800
TZNAME:PST
DTSTART:20171105T090000
END:STANDARD
BEGIN:DAYLIGHT
TZOFFSETFROM:-0800
TZOFFSETTO:-0700
TZNAME:PDT
DTSTART:20180311T100000
END:DAYLIGHT
BEGIN:STANDARD
TZOFFSETFROM:-0700
TZOFFSETTO:-0800
TZNAME:PST
DTSTART:20181104T090000
END:STANDARD
BEGIN:DAYLIGHT
TZOFFSETFROM:-0800
TZOFFSETTO:-0700
TZNAME:PDT
DTSTART:20190310T100000
END:DAYLIGHT
BEGIN:STANDARD
TZOFFSETFROM:-0700
TZOFFSETTO:-0800
TZNAME:PST
DTSTART:20191103T090000
END:STANDARD
END:VTIMEZONE
BEGIN:VEVENT
DTSTART;TZID=America/Los_Angeles:20180407T100000
DTEND;TZID=America/Los_Angeles:20180407T160000
DTSTAMP:20260420T061016
CREATED:20180327T001956Z
LAST-MODIFIED:20180327T001956Z
UID:31795-1523095200-1523116800@laguestlist.com
SUMMARY:Waves: TEDxUCLA 2018
DESCRIPTION:Ticketed – Join hundreds of big thinkers at Royce Hall for a day of mainstage talks\, exhibitions\, and activities that will expand your horizons and chart a new course for your creativity.
URL:https://laguestlist.com/event/waves-tedxucla-2018/
LOCATION:UCLA
CATEGORIES:Networking
ATTACH;FMTTYPE=image/png:https://laguestlist.com/wp-content/uploads/2018/03/Screen-Shot-2018-03-26-at-5.18.15-PM.png
END:VEVENT
BEGIN:VEVENT
DTSTART;TZID=America/Los_Angeles:20180407T170000
DTEND;TZID=America/Los_Angeles:20180407T190000
DTSTAMP:20260420T061016
CREATED:20180405T015643Z
LAST-MODIFIED:20180405T015643Z
UID:32148-1523120400-1523127600@laguestlist.com
SUMMARY:Get Baked\, LA by Publish Brand & Mr Holmes
DESCRIPTION:RSVP – Lifestyle brand\, Publish\, has teamed up with LA’s Mr. Holmes Bakehouse to give you the chance to meet the teams and get a sense of what it takes to realize a dream. This event is the launch of the Publish.ed Program\, linking with likeminded creatives to inspire future entrepreneurs with true stories\, struggles\, and most importantly\, successes. Join us for a night of free drinks\, mouth-watering pastries\, exclusive collaborative merchandise and live Q&A panel from the founders of both brands.
URL:https://laguestlist.com/event/get-baked-la-by-publish-brand-mr-holmes/
LOCATION:Mr Holmes Bakehouse\, 111 South Avenue 59\, Los Angeles\, CA\, 90042\, United States
CATEGORIES:Networking
ATTACH;FMTTYPE=image/jpeg:https://laguestlist.com/wp-content/uploads/2018/04/https_2F2Fcdn.evbuc_.com2Fimages2F430663552F1137050152912F12Foriginal.jpg
END:VEVENT
END:VCALENDAR