BEGIN:VCALENDAR
VERSION:2.0
PRODID:-//LA Guestlist - ECPv6.15.20//NONSGML v1.0//EN
CALSCALE:GREGORIAN
METHOD:PUBLISH
X-ORIGINAL-URL:https://laguestlist.com
X-WR-CALDESC:Events for LA Guestlist
REFRESH-INTERVAL;VALUE=DURATION:PT1H
X-Robots-Tag:noindex
X-PUBLISHED-TTL:PT1H
BEGIN:VTIMEZONE
TZID:America/Los_Angeles
BEGIN:DAYLIGHT
TZOFFSETFROM:-0800
TZOFFSETTO:-0700
TZNAME:PDT
DTSTART:20160313T100000
END:DAYLIGHT
BEGIN:STANDARD
TZOFFSETFROM:-0700
TZOFFSETTO:-0800
TZNAME:PST
DTSTART:20161106T090000
END:STANDARD
BEGIN:DAYLIGHT
TZOFFSETFROM:-0800
TZOFFSETTO:-0700
TZNAME:PDT
DTSTART:20170312T100000
END:DAYLIGHT
BEGIN:STANDARD
TZOFFSETFROM:-0700
TZOFFSETTO:-0800
TZNAME:PST
DTSTART:20171105T090000
END:STANDARD
BEGIN:DAYLIGHT
TZOFFSETFROM:-0800
TZOFFSETTO:-0700
TZNAME:PDT
DTSTART:20180311T100000
END:DAYLIGHT
BEGIN:STANDARD
TZOFFSETFROM:-0700
TZOFFSETTO:-0800
TZNAME:PST
DTSTART:20181104T090000
END:STANDARD
BEGIN:DAYLIGHT
TZOFFSETFROM:-0800
TZOFFSETTO:-0700
TZNAME:PDT
DTSTART:20190310T100000
END:DAYLIGHT
BEGIN:STANDARD
TZOFFSETFROM:-0700
TZOFFSETTO:-0800
TZNAME:PST
DTSTART:20191103T090000
END:STANDARD
END:VTIMEZONE
BEGIN:VEVENT
DTSTART;TZID=America/Los_Angeles:20170922T200000
DTEND;TZID=America/Los_Angeles:20170922T230000
DTSTAMP:20260419T182429
CREATED:20170922T194803Z
LAST-MODIFIED:20170922T194803Z
UID:27475-1506110400-1506121200@laguestlist.com
SUMMARY:Jhene Aiko M.A.P. Exhibition
DESCRIPTION:Invite Only – Samsung Presents Jhene Aiko M.A.P. Exhibition\, an interactive artistic exhibition unveiling Jhene’s M.A.P.
URL:https://laguestlist.com/event/jhene-aiko-m-p-exhibition/
CATEGORIES:Music
ATTACH;FMTTYPE=image/png:https://laguestlist.com/wp-content/uploads/2017/09/Screen-Shot-2017-09-22-at-12.41.50-PM.png
END:VEVENT
BEGIN:VEVENT
DTSTART;TZID=America/Los_Angeles:20170926T210000
DTEND;TZID=America/Los_Angeles:20170926T230000
DTSTAMP:20260419T182429
CREATED:20170920T220229Z
LAST-MODIFIED:20170920T220229Z
UID:27448-1506459600-1506466800@laguestlist.com
SUMMARY:Mondrian Sessions: EZI Performing "Redemption"
DESCRIPTION:Open –  Mondrian Sessions next Tuesday\, September 26 with the incredibly talented artist emerging artist\, EZI\, who has released her new song and music video\, “Redemption.” EZI will debut her first EP this fall\, and all attending Mondrian Sessions will get to hear some of her new singles first!  \nEZI is the first artist signed to shoe designer\, Steve Madden’s\, new record label\, 5 Town Records\, which was co-founded with music/marketing veteran\, Steve Feinberg. Madden himself hand-selected EZI as the record label’s first artists\, seeing her limitless potential to be a “mega pop star.”
URL:https://laguestlist.com/event/mondrian-sessions-ezi-performing-redemption/
LOCATION:Skybar at Mondrian\, 8440 Sunset Boulevard\, West Hollywood\, CA\, 90069\, United States
CATEGORIES:Music,Things to do
ATTACH;FMTTYPE=image/jpeg:https://laguestlist.com/wp-content/uploads/2017/09/unnamed.jpg
END:VEVENT
BEGIN:VEVENT
DTSTART;TZID=America/Los_Angeles:20171003T170000
DTEND;TZID=America/Los_Angeles:20171003T220000
DTSTAMP:20260419T182429
CREATED:20171003T034443Z
LAST-MODIFIED:20171003T034443Z
UID:27760-1507050000-1507068000@laguestlist.com
SUMMARY:Gorillaz x Freak City L.A. Pop-up
DESCRIPTION:Open – In celebration of Gorillaz’ sold out October 5th headline appearance at the Forum in Los Angeles\, G Foot—the collection of clothing and accessories designed by Gorillaz co-founder Jamie Hewlett—will be setting up a limited run L.A. pop-up store October 3rd and 4th at Freak City–L.A.’s underground music and fashion playground.
URL:https://laguestlist.com/event/gorillaz-x-freak-city-l-pop/
LOCATION:Freak City LA\, 2514 Daly St\, Los Angeles\, CA\, 90031\, United States
CATEGORIES:Music,Pop-Up Shop
ATTACH;FMTTYPE=image/jpeg:https://laguestlist.com/wp-content/uploads/2017/10/unnamed-3.jpg
END:VEVENT
BEGIN:VEVENT
DTSTART;TZID=America/Los_Angeles:20171004T170000
DTEND;TZID=America/Los_Angeles:20171004T220000
DTSTAMP:20260419T182429
CREATED:20171003T034639Z
LAST-MODIFIED:20171003T034639Z
UID:27764-1507136400-1507154400@laguestlist.com
SUMMARY:Gorillaz x Freak City L.A. Pop-up
DESCRIPTION:Open – In celebration of Gorillaz’ sold out October 5th headline appearance at the Forum in Los Angeles\, G Foot—the collection of clothing and accessories designed by Gorillaz co-founder Jamie Hewlett—will be setting up a limited run L.A. pop-up store October 3rd and 4th at Freak City–L.A.’s underground music and fashion playground.
URL:https://laguestlist.com/event/gorillaz-x-freak-city-l-pop-2/
LOCATION:Freak City LA\, 2514 Daly St\, Los Angeles\, CA\, 90031\, United States
CATEGORIES:Music,Pop-Up Shop
ATTACH;FMTTYPE=image/jpeg:https://laguestlist.com/wp-content/uploads/2017/10/unnamed-3.jpg
END:VEVENT
BEGIN:VEVENT
DTSTART;TZID=America/Los_Angeles:20171010T190000
DTEND;TZID=America/Los_Angeles:20171010T190000
DTSTAMP:20260419T182429
CREATED:20171007T211454Z
LAST-MODIFIED:20171007T211454Z
UID:27859-1507662000-1507662000@laguestlist.com
SUMMARY:Sonos Presents Beck Listening Session
DESCRIPTION:Invite Only – To celebrate Beck’s new album Colors\, Sonos is turning their SONOS room into an immersive Colors experience for the month of October and offering fans who preorder the album with us a chance to hear it one week early.
URL:https://laguestlist.com/event/sonos-presents-beck-listening-session/
CATEGORIES:Music
ATTACH;FMTTYPE=image/jpeg:https://laguestlist.com/wp-content/uploads/2017/10/DLUAbQuUEAABPQB.jpg
END:VEVENT
BEGIN:VEVENT
DTSTART;TZID=America/Los_Angeles:20171010T190000
DTEND;TZID=America/Los_Angeles:20171010T220000
DTSTAMP:20260419T182429
CREATED:20171002T001422Z
LAST-MODIFIED:20171002T001422Z
UID:27726-1507662000-1507672800@laguestlist.com
SUMMARY:DāM-FunK presents Glydezone: Sounds of Los Angeles
DESCRIPTION:Ticketed – As part of the Red Bull Music Academy Festival Los Angeles\, Dâm-Funk will record a special Tuesday edition of Glydezone live that celebrates the sounds of Los Angeles\, featuring three generations of LA musicians as special guests: Leon Sylvers III\, Dom Kennedy and Matt Martians. Expect plenty of chat and some of the best funk records you’ll ever hear
URL:https://laguestlist.com/event/dam-funk-presents-glydezone-sounds-los-angeles/
LOCATION:Barbara Morrison Performing Arts Center\, 4305 Degnan Blvd\, Los Angeles\, CA\, 90008\, United States
CATEGORIES:Music
ATTACH;FMTTYPE=image/jpeg:https://laguestlist.com/wp-content/uploads/2017/10/21587231_10155811213663217_5812366538169114469_o.jpg
END:VEVENT
BEGIN:VEVENT
DTSTART;TZID=America/Los_Angeles:20171011T190000
DTEND;TZID=America/Los_Angeles:20171011T220000
DTSTAMP:20260419T182429
CREATED:20171002T001825Z
LAST-MODIFIED:20171002T001825Z
UID:27730-1507748400-1507759200@laguestlist.com
SUMMARY:A Conversation with Floria Sigismondi about Music In Film
DESCRIPTION:Ticketed – The music video director for Marilyn Manson\, David Bowie\, Rihanna and more reveals how she sees music. \nWith a lifelong interest in the visual and fine arts\, Floria Sigismondi found her ideal medium in moving images. It was the place where the artist could bring together all her interests\, as well as communicate the strange experience of growing up in a Canadian factory town within an Italian household headed by opera singers. For the past two decades\, Sigismondi has brought her keen eye and unique style to music videos for David Bowie\, Marilyn Manson\, Rihanna and\, most recently\, Perfume Genius and Alice Glass.
URL:https://laguestlist.com/event/conversation-floria-sigismondi-music-film/
LOCATION:USC Brain and Creativity Institute
CATEGORIES:Music,Things to do
ATTACH;FMTTYPE=image/jpeg:https://laguestlist.com/wp-content/uploads/2017/10/21125625_10154931523752666_3789563030290333066_o.jpg
END:VEVENT
BEGIN:VEVENT
DTSTART;TZID=America/Los_Angeles:20171025T190000
DTEND;TZID=America/Los_Angeles:20171025T220000
DTSTAMP:20260419T182429
CREATED:20171023T232059Z
LAST-MODIFIED:20171023T232059Z
UID:28398-1508958000-1508968800@laguestlist.com
SUMMARY:Majid Jordan's "The Space Between" Visual Experience
DESCRIPTION:Invite Only – This Wednesday\, October 25\, join Majid Jordan to celebrate the release of their new album\, The Space Between\, with a unique audio/visual experience connected with DTS Play-Fi technology.
URL:https://laguestlist.com/event/majid-jordans-space-visual-experience/
CATEGORIES:Music
ATTACH;FMTTYPE=image/png:https://laguestlist.com/wp-content/uploads/2017/10/Screen-Shot-2017-10-23-at-4.16.10-PM.png
END:VEVENT
BEGIN:VEVENT
DTSTART;TZID=America/Los_Angeles:20171028T130000
DTEND;TZID=America/Los_Angeles:20171028T150000
DTSTAMP:20260419T182429
CREATED:20171002T002117Z
LAST-MODIFIED:20171002T002117Z
UID:27734-1509195600-1509202800@laguestlist.com
SUMMARY:A Conversation with Ice-T
DESCRIPTION:Ticketed – Ice-T introduced himself immediately as one of the West Coast’s most electrifying rappers. He began to rap at the seminal electro and early hip-hop party Uncle Jamm’s Army\, an event that grew from local dances to selling out the Los Angeles Sports Arena in only a few years. He went on to record a string of classic hip-hop albums in the late ’80s\, eventually broadening his palette with the infamous Body Count project\, an act known primarily for the controversy caused by the track “Cop Killer.” In this rare and intimate talk about his music career held before a party celebrating the legacy of Uncle Jamm’s Army\, Ice-T will walk us through those early days with the party crew and his artistic path as a hip-hop statesman.
URL:https://laguestlist.com/event/conversation-ice-t/
CATEGORIES:Music
ATTACH;FMTTYPE=image/jpeg:https://laguestlist.com/wp-content/uploads/2017/10/21369030_10155772136503217_5032975024451102949_o.jpg
END:VEVENT
BEGIN:VEVENT
DTSTART;TZID=America/Los_Angeles:20171112T180000
DTEND;TZID=America/Los_Angeles:20171112T220000
DTSTAMP:20260419T182429
CREATED:20171103T185931Z
LAST-MODIFIED:20171103T185931Z
UID:28798-1510509600-1510524000@laguestlist.com
SUMMARY:Major Lazer: Give Me Future - Exclusive LA Premiere
DESCRIPTION:Ticketed – Get your tickets now for the LA Premiere of Austin Peters’ film GIVE ME FUTURE which chronicles Major Lazer’s historic concert in Havana\, Cuba for 400\,000 people. This will be the only theatrical showing of the film in LA. The film\, which premiered at Sundance\, begins as a behind-the-scenes look at the concert and evolves into a masterful exploration of Cuba’s inspirational youth movement and its ingenious DIY information culture. View the trailer. This special evening will include post-screening conversation with Diplo moderated by DJ\, producer and Beats 1 host Anna Lunoe plus an after-party!
URL:https://laguestlist.com/event/major-lazer-give-future-exclusive-la-premiere/
LOCATION:Ace Hotel DTLA\, 921 S. Broadway\, Los Angeles\, CA\, 90015\, United States
CATEGORIES:Movies,Music
ATTACH;FMTTYPE=image/jpeg:https://laguestlist.com/wp-content/uploads/2017/11/unnamed-1.jpg
END:VEVENT
BEGIN:VEVENT
DTSTART;TZID=America/Los_Angeles:20171114T090000
DTEND;TZID=America/Los_Angeles:20171114T210000
DTSTAMP:20260419T182429
CREATED:20171107T211245Z
LAST-MODIFIED:20171107T211245Z
UID:28928-1510650000-1510693200@laguestlist.com
SUMMARY:Billboard's 2017 Touring Conference
DESCRIPTION:Ticketed – The 2017 Billboard Touring Conference & Awards will return on Nov. 14-15 when the live music industry’s premiere event will set up at the Montage Beverly Hills. After a 12-year run in New York\, the conference — which features industry-leading programming designed to inform and educate\, while providing a forum for industry leaders and professionals to explore the opportunities and challenges that define live music today — will once again take place in Los Angeles.
URL:https://laguestlist.com/event/billboards-2017-touring-conference/
LOCATION:Montage Beverly Hills\, 225 N Canon Dr\, Beverly Hills\, CA\, 90210\, United States
CATEGORIES:Music,Networking
ATTACH;FMTTYPE=image/png:https://laguestlist.com/wp-content/uploads/2017/11/Screen-Shot-2017-11-07-at-1.09.02-PM.png
END:VEVENT
BEGIN:VEVENT
DTSTART;TZID=America/Los_Angeles:20171115T090000
DTEND;TZID=America/Los_Angeles:20171115T200000
DTSTAMP:20260419T182429
CREATED:20171107T211420Z
LAST-MODIFIED:20171107T211420Z
UID:28931-1510736400-1510776000@laguestlist.com
SUMMARY:The 2017 Billboard Touring Conference & Awards
DESCRIPTION:Ticketed – The 2017 Billboard Touring Conference & Awards will return on Nov. 14-15 when the live music industry’s premier event will set up at the Montage Beverly Hills. After a 12-year run in New York\, the conference — which features industry-leading programming designed to inform and educate\, while providing a forum for industry leaders and professionals to explore the opportunities and challenges that define live music today — will once again take place in Los Angeles.
URL:https://laguestlist.com/event/2017-billboard-touring-conference-awards/
LOCATION:Montage Beverly Hills\, 225 N Canon Dr\, Beverly Hills\, CA\, 90210\, United States
CATEGORIES:Music,Networking
ATTACH;FMTTYPE=image/png:https://laguestlist.com/wp-content/uploads/2017/11/Screen-Shot-2017-11-07-at-1.09.02-PM.png
END:VEVENT
BEGIN:VEVENT
DTSTART;TZID=America/Los_Angeles:20171118T120000
DTEND;TZID=America/Los_Angeles:20171118T150000
DTSTAMP:20260419T182429
CREATED:20171115T184612Z
LAST-MODIFIED:20171115T184612Z
UID:29089-1511006400-1511017200@laguestlist.com
SUMMARY:Variety Hitmakers
DESCRIPTION:Invite Only – Variety Hitmakers celebrates their hitmakers list and honoree including their artist of the year\, Kendrick Lamar.
URL:https://laguestlist.com/event/variety-hitmakers/
CATEGORIES:Music
ATTACH;FMTTYPE=image/png:https://laguestlist.com/wp-content/uploads/2017/11/Screen-Shot-2017-11-15-at-10.43.19-AM.png
END:VEVENT
BEGIN:VEVENT
DTSTART;TZID=America/Los_Angeles:20171119T150000
DTEND;TZID=America/Los_Angeles:20171119T210000
DTSTAMP:20260419T182429
CREATED:20171107T204537Z
LAST-MODIFIED:20171107T204537Z
UID:28916-1511103600-1511125200@laguestlist.com
SUMMARY:Talib Kweli's Album Release Party at Kiss-n-Grind
DESCRIPTION:Ticketed – Talib Kweli’s Album Release Party at Kiss-n-Grind. Expect good vibes and great music selections from resident DJ Vikter Duplaix\, great cocktails\, good food and beautiful people at the beautiful Sofitel Los Angeles at Beverly Hills.
URL:https://laguestlist.com/event/talib-kwelis-album-release-party-kiss-n-grind/
LOCATION:Sofitel Hotel\, 8555 Beverly Boulevard\, Los Angeles\, CA\, 90048\, United States
CATEGORIES:Music
ATTACH;FMTTYPE=image/jpeg:https://laguestlist.com/wp-content/uploads/2017/11/unnamed-2-3.jpg
END:VEVENT
BEGIN:VEVENT
DTSTART;TZID=America/Los_Angeles:20171129T190000
DTEND;TZID=America/Los_Angeles:20171129T220000
DTSTAMP:20260419T182429
CREATED:20171129T062945Z
LAST-MODIFIED:20171129T062945Z
UID:29348-1511982000-1511992800@laguestlist.com
SUMMARY:G-Eazy "The Beautiful & Damned" Party
DESCRIPTION:Ticketed –  G-Eazy “The Beautiful & Damned” Fan Appreciation Preview Party
URL:https://laguestlist.com/event/g-eazy-beautiful-damned-party/
CATEGORIES:Music
ATTACH;FMTTYPE=image/png:https://laguestlist.com/wp-content/uploads/2017/11/Screen-Shot-2017-11-28-at-11.27.20-PM.png
END:VEVENT
BEGIN:VEVENT
DTSTART;TZID=America/Los_Angeles:20171130T173000
DTEND;TZID=America/Los_Angeles:20171130T223000
DTSTAMP:20260419T182429
CREATED:20171121T191401Z
LAST-MODIFIED:20171121T191401Z
UID:29173-1512063000-1512081000@laguestlist.com
SUMMARY:Billboard Women in Music 2017
DESCRIPTION:Invite Only – On November 30\, Billboard will present its annual Women in Music dinner and awards gala\, honoring some of the most talented\, influential and successful female artists in the music industry\, while also recognizing the most powerful female executives in the business. The event will consist of a red carpet\, cocktail reception\, a seated dinner/awards presentation\, and will feature special live performances.
URL:https://laguestlist.com/event/billboard-women-music-2017/
CATEGORIES:Music
ATTACH;FMTTYPE=image/jpeg:https://laguestlist.com/wp-content/uploads/2017/11/Billboard_Women_in_Music_2017_Logo.jpg
END:VEVENT
BEGIN:VEVENT
DTSTART;TZID=America/Los_Angeles:20171204T210000
DTEND;TZID=America/Los_Angeles:20171204T210000
DTSTAMP:20260419T182429
CREATED:20171121T193402Z
LAST-MODIFIED:20171121T193402Z
UID:29185-1512421200-1512421200@laguestlist.com
SUMMARY:Skam Artist Holiday Party
DESCRIPTION:Invite Only – The Annual Skam Artist Holiday Party with a brand new location.
URL:https://laguestlist.com/event/skam-artist-holiday-party-2/
CATEGORIES:Holiday Party,Music
ATTACH;FMTTYPE=image/png:https://laguestlist.com/wp-content/uploads/2017/11/Screen-Shot-2017-11-21-at-12.26.15-PM.png
END:VEVENT
BEGIN:VEVENT
DTSTART;TZID=America/Los_Angeles:20171207T180000
DTEND;TZID=America/Los_Angeles:20171207T200000
DTSTAMP:20260419T182429
CREATED:20171205T211830Z
LAST-MODIFIED:20171205T211830Z
UID:29464-1512669600-1512676800@laguestlist.com
SUMMARY:Domino Outpost x Gwen Stefani
DESCRIPTION:Invite Only – the Opening of Domino Outpost in Partnership with CB2 celebrating the new album by Gwen Stefani.
URL:https://laguestlist.com/event/domino-outpost-x-gwen-stefani/
CATEGORIES:Music
ATTACH;FMTTYPE=image/png:https://laguestlist.com/wp-content/uploads/2017/12/Screen-Shot-2017-12-05-at-1.16.04-PM.png
END:VEVENT
BEGIN:VEVENT
DTSTART;TZID=America/Los_Angeles:20171213T203000
DTEND;TZID=America/Los_Angeles:20171213T230000
DTSTAMP:20260419T182429
CREATED:20171211T194022Z
LAST-MODIFIED:20171211T194022Z
UID:29557-1513197000-1513206000@laguestlist.com
SUMMARY:K-Swiss & Married To the Mob: Leikeli47 ‘Wash & Set’ Listening Party
DESCRIPTION:Invite Only – K-Swiss & Married To the Mob Presents Leikeli47 ‘Wash & Set’ Album Listening Party & K-Swiss & Married To The Mob Collaboration Campaign Launch.
URL:https://laguestlist.com/event/k-swiss-married-mob-leikeli47-wash-set-listening-party/
CATEGORIES:Music
ATTACH;FMTTYPE=image/png:https://laguestlist.com/wp-content/uploads/2017/12/Screen-Shot-2017-12-11-at-11.38.13-AM.png
END:VEVENT
BEGIN:VEVENT
DTSTART;TZID=America/Los_Angeles:20180208T193000
DTEND;TZID=America/Los_Angeles:20180208T230000
DTSTAMP:20260419T182429
CREATED:20180206T004244Z
LAST-MODIFIED:20180206T004244Z
UID:30450-1518118200-1518130800@laguestlist.com
SUMMARY:8th Annual Guild of Music Supervisors Awards
DESCRIPTION:Ticketed – The 8th Annual Guild of Music Supervisors Awards will honor creative achievement in music supervision within the film\, television\, trailers\, and games industries. 15 awards will be presented in the historic Theatre at Ace Hotel with a performance from Kenny Loggins.
URL:https://laguestlist.com/event/8th-annual-guild-music-supervisors-awards/
LOCATION:Ace Hotel DTLA\, 921 S. Broadway\, Los Angeles\, CA\, 90015\, United States
CATEGORIES:Event,Music
ATTACH;FMTTYPE=image/png:https://laguestlist.com/wp-content/uploads/2018/02/Screen-Shot-2018-02-05-at-4.40.04-PM.png
END:VEVENT
BEGIN:VEVENT
DTSTART;TZID=America/Los_Angeles:20180215T190000
DTEND;TZID=America/Los_Angeles:20180215T220000
DTSTAMP:20260419T182429
CREATED:20171218T205938Z
LAST-MODIFIED:20180207T000226Z
UID:29705-1518721200-1518732000@laguestlist.com
SUMMARY:Sixth Annual Global Spin Awards
DESCRIPTION:Invite Only – The Global Spin Awards (GSA)\, honoring the most dynamic and talented DJ’s from around the world\, alongside REVOLT\, unveiled the 2018 nominees. The Global Spin Awards also announced the 2018 honoree recipients: Grammy Award-winning songwriter/producer Timbaland will receive the “Lifetime Achievement Award” and CEO of So So Def and Grammy Award-winning songwriter/producer Jermaine Dupri will receive the “Breaking Barriers Award”. Each year GSA recognizes two respected visionaries that have contributed to the continuous growth and success of the industry. This year\, both recipients share a timeless legacy and influence on music\, and beyond. The 2018 Global Spin Awards will air exclusively on REVOLT.
URL:https://laguestlist.com/event/sixth-annual-global-spin-awards/
LOCATION:The Novo DTLA\, 800 W Olympic Blvd\, Ste A335\, Los Angeles\, CA\, 90015\, United States
CATEGORIES:Award Show,Music
ATTACH;FMTTYPE=image/jpeg:https://laguestlist.com/wp-content/uploads/2017/12/Screenshot_20171212-081136.jpg
END:VEVENT
BEGIN:VEVENT
DTSTART;TZID=America/Los_Angeles:20180311T170000
DTEND;TZID=America/Los_Angeles:20180311T200000
DTSTAMP:20260419T182429
CREATED:20180307T200538Z
LAST-MODIFIED:20180307T200538Z
UID:31197-1520787600-1520798400@laguestlist.com
SUMMARY:2018 iHeartRadio Music Awards
DESCRIPTION:Invite Only – 2018 iHeartRadio Music Awards hosted by Hailey Baldwin and DJ Khaled\, performers include Bon Jovi\, Ed Sheeran\, Cardi B\, Maroon 5\, Camila Cabello\, Charlie Puth\, Chance The Rapper
URL:https://laguestlist.com/event/2018-iheartradio-music-awards/
LOCATION:The Forum\, 3900 W Manchester Blvd\, Inglewood\, CA\, 90305\, United States
CATEGORIES:Award Show,Music
ATTACH;FMTTYPE=image/jpeg:https://laguestlist.com/wp-content/uploads/2018/03/iheartradio-music-awards-2018-nominados-7de6b.jpg
END:VEVENT
BEGIN:VEVENT
DTSTART;TZID=America/Los_Angeles:20180324T200000
DTEND;TZID=America/Los_Angeles:20180324T200000
DTSTAMP:20260419T182429
CREATED:20180321T221014Z
LAST-MODIFIED:20180321T221014Z
UID:31592-1521921600-1521921600@laguestlist.com
SUMMARY:Spotify Presents Louder Together Live Performance
DESCRIPTION:RSVP – Spotify launched Louder Together\, a program bringing artists together to collaborate on original Spotify Singles songs in the spirit of community\, empowerment and inspiration. Coinciding with Women’s History Month\, Louder Together’s debut single partners emerging female artists\, Sasha Sloan\, Nina Nesbitt and Charlotte Lawrence\, who have come together for the first time to create and record an original Spotify Singles song titled\, ‘Psychopath\,’ the first multi-artist collaboration for a Spotify Single.
URL:https://laguestlist.com/event/spotify-presents-louder-together-live-performance/
LOCATION:Resident\, 428 S. Hewitt St.\, Los Angeles\, CA\, 90013\, United States
CATEGORIES:Music
ATTACH;FMTTYPE=image/png:https://laguestlist.com/wp-content/uploads/2018/03/Screen-Shot-2018-03-21-at-3.07.14-PM.png
END:VEVENT
BEGIN:VEVENT
DTSTART;TZID=America/Los_Angeles:20180326T190000
DTEND;TZID=America/Los_Angeles:20180326T210000
DTSTAMP:20260419T182429
CREATED:20180325T232759Z
LAST-MODIFIED:20180325T232759Z
UID:31705-1522090800-1522098000@laguestlist.com
SUMMARY:Rich the Kid Album Release Party
DESCRIPTION:Invite Only – Ciroc Presents Rich the Kid Album Release Party for “The World Is Yours.”
URL:https://laguestlist.com/event/rich-the-kid-album-release-party/
CATEGORIES:Music
ATTACH;FMTTYPE=image/png:https://laguestlist.com/wp-content/uploads/2018/03/Screen-Shot-2018-03-25-at-4.24.27-PM.png
END:VEVENT
BEGIN:VEVENT
DTSTART;TZID=America/Los_Angeles:20180329T193000
DTEND;TZID=America/Los_Angeles:20180329T230000
DTSTAMP:20260419T182429
CREATED:20180329T165404Z
LAST-MODIFIED:20180329T165404Z
UID:31895-1522351800-1522364400@laguestlist.com
SUMMARY:Form Labs Music Preview
DESCRIPTION:Invite Only – Form Labs is giving guests the opportunity to preview the Form Arcosanti Festival with music by Blood Orange and other special guests.
URL:https://laguestlist.com/event/form-labs-music-preview/
CATEGORIES:Event,Music
ATTACH;FMTTYPE=image/png:https://laguestlist.com/wp-content/uploads/2018/03/Screen-Shot-2018-03-29-at-9.44.28-AM.png
END:VEVENT
BEGIN:VEVENT
DTSTART;TZID=America/Los_Angeles:20180329T200000
DTEND;TZID=America/Los_Angeles:20180329T230000
DTSTAMP:20260419T182429
CREATED:20180325T192006Z
LAST-MODIFIED:20180325T192006Z
UID:31702-1522353600-1522364400@laguestlist.com
SUMMARY:Fia NyXX Album Release Party
DESCRIPTION:Ticketed – Join Fia NyXX for her West Coast album release party on March 29 at The Mint! Fia released her EP entitled\, “Everything Girl” on March 23 and is bringing together fans and industry alike to celebrate. Doors open at 8 pm\, show at 9 pm. Fia NyXX adds a unique flair to pop music paying tribute to the soulful sounds of the Motown era. This larger-than-life show will feature an extravagant production complete with an eight piece band and backup dancers. You’ll be immersed into a classic old Hollywood setting\, fused with an all-night dance party. \n** Make sure to mention LA Guestlist at the bar for drink specials on the signature cocktail ‘She Devil’ and beer **
URL:https://laguestlist.com/event/fia-nyxx-album-release-party/
LOCATION:The Mint\, 6010 West Pico Blvd. \, Los Angeles\, CA\, 90035\, United States
CATEGORIES:Concert,Music
ATTACH;FMTTYPE=image/jpeg:https://laguestlist.com/wp-content/uploads/2018/03/unnamed-4-3.jpg
END:VEVENT
BEGIN:VEVENT
DTSTART;TZID=America/Los_Angeles:20180329T200000
DTEND;TZID=America/Los_Angeles:20180329T230000
DTSTAMP:20260419T182429
CREATED:20180329T163944Z
LAST-MODIFIED:20180329T163944Z
UID:31892-1522353600-1522364400@laguestlist.com
SUMMARY:Anna Lunoe "Blaze of Glory" Video Release Party
DESCRIPTION:Invite Only – Anna Lunoe “Blaze of Glory” Video Release Party at Moonlight Rollerway in LA\, Dress code : Blazin’ pastels.
URL:https://laguestlist.com/event/anna-lunoe-blaze-of-glory-video-release-party/
CATEGORIES:Music
ATTACH;FMTTYPE=image/jpeg:https://laguestlist.com/wp-content/uploads/2018/03/maxresdefault-1.jpg
END:VEVENT
BEGIN:VEVENT
DTSTART;TZID=America/Los_Angeles:20180405T190000
DTEND;TZID=America/Los_Angeles:20180405T220000
DTSTAMP:20260419T182429
CREATED:20180402T235222Z
LAST-MODIFIED:20180402T235222Z
UID:31959-1522954800-1522965600@laguestlist.com
SUMMARY:John Legend x Google Pixel 2
DESCRIPTION:Invite Only – John Legend with exclusively debut his new single “A Good Night\,” where guests will get to see the video premiere\, captured entirely on Google Pixel 2.
URL:https://laguestlist.com/event/john-legend-x-google-pixel-2/
CATEGORIES:Music,Technology
ATTACH;FMTTYPE=image/jpeg:https://laguestlist.com/wp-content/uploads/2018/04/c3dd4d86801b4ceca8dac7405306d58d.jpg
END:VEVENT
BEGIN:VEVENT
DTSTART;TZID=America/Los_Angeles:20180411T200000
DTEND;TZID=America/Los_Angeles:20180411T230000
DTSTAMP:20260419T182429
CREATED:20180403T210205Z
LAST-MODIFIED:20180403T210205Z
UID:32038-1523476800-1523487600@laguestlist.com
SUMMARY:Skybar Presents: Jessie Saint John hosted by Mixed Feelings
DESCRIPTION:Open – Skybar Presents and Mixed Feelings are thrilled to announce the Los Angeles performance of Jessie Saint John on Wednesday\, April 11 at 8PM\, in celebration of his debut single\, “Move.” A prominent pop music trailblazer\, Jessie Saint John has written songs for Britney Spears\, Charli XCX\, Sia and Camila Cabello\, but now his personal work is taking center stage. Come enjoy cocktails by Skybar and DJ set before and after by Alex Chapman.
URL:https://laguestlist.com/event/skybar-presents-jessie-saint-john-hosted-by-mixed-feelings/
LOCATION:Skybar at Mondrian\, 8440 Sunset Boulevard\, West Hollywood\, CA\, 90069\, United States
CATEGORIES:Music,Things to do
ATTACH;FMTTYPE=image/png:https://laguestlist.com/wp-content/uploads/2018/04/unnamed-2.png
END:VEVENT
BEGIN:VEVENT
DTSTART;TZID=America/Los_Angeles:20180425T193000
DTEND;TZID=America/Los_Angeles:20180425T213000
DTSTAMP:20260419T182429
CREATED:20180421T043400Z
LAST-MODIFIED:20180421T043400Z
UID:32623-1524684600-1524691800@laguestlist.com
SUMMARY:NYLON and The Grove Presents Musician Ellise Gitas
DESCRIPTION:RSVP – On Wednesday\, April 25\, NYLON and The Grove will host the third installment of their monthly music series\, Playlisted at The Grove. This month\, rising star Ellise Gitas will take the stage and spotlight her musical talents and impressive vocals for the crowd. Ellise moved to Los Angeles at 17-years-old to pursue her passion for music. Drawn to the artistic freedom and global reach offered by social media\, Ellise broadcasted her first YouTube video on her channel in 2015\, highlighting her talent through a stunning cover of Adele’s hit song\, “Hello.” With no formal training and an appetite for all aspects of music\, her undeniable talent and impressive vocal-range caught the attention of the internet and national media. As a result\, Ellise has become one of the greatest up-and-coming acts in music today. On February 5\, 2018\, she released her third single\, “Love Made Me Do It.”
URL:https://laguestlist.com/event/nylon-and-the-grove-presents-musician-ellise-gitas/
LOCATION:The Grove\, 189 The Grove Drive\, Los Angeles\, Los Angeles\, CA\, 90036\, United States
CATEGORIES:Music
END:VEVENT
END:VCALENDAR