BEGIN:VCALENDAR
VERSION:2.0
PRODID:-//LA Guestlist - ECPv6.15.20//NONSGML v1.0//EN
CALSCALE:GREGORIAN
METHOD:PUBLISH
X-ORIGINAL-URL:https://laguestlist.com
X-WR-CALDESC:Events for LA Guestlist
REFRESH-INTERVAL;VALUE=DURATION:PT1H
X-Robots-Tag:noindex
X-PUBLISHED-TTL:PT1H
BEGIN:VTIMEZONE
TZID:America/Los_Angeles
BEGIN:DAYLIGHT
TZOFFSETFROM:-0800
TZOFFSETTO:-0700
TZNAME:PDT
DTSTART:20150308T100000
END:DAYLIGHT
BEGIN:STANDARD
TZOFFSETFROM:-0700
TZOFFSETTO:-0800
TZNAME:PST
DTSTART:20151101T090000
END:STANDARD
BEGIN:DAYLIGHT
TZOFFSETFROM:-0800
TZOFFSETTO:-0700
TZNAME:PDT
DTSTART:20160313T100000
END:DAYLIGHT
BEGIN:STANDARD
TZOFFSETFROM:-0700
TZOFFSETTO:-0800
TZNAME:PST
DTSTART:20161106T090000
END:STANDARD
BEGIN:DAYLIGHT
TZOFFSETFROM:-0800
TZOFFSETTO:-0700
TZNAME:PDT
DTSTART:20170312T100000
END:DAYLIGHT
BEGIN:STANDARD
TZOFFSETFROM:-0700
TZOFFSETTO:-0800
TZNAME:PST
DTSTART:20171105T090000
END:STANDARD
BEGIN:DAYLIGHT
TZOFFSETFROM:-0800
TZOFFSETTO:-0700
TZNAME:PDT
DTSTART:20180311T100000
END:DAYLIGHT
BEGIN:STANDARD
TZOFFSETFROM:-0700
TZOFFSETTO:-0800
TZNAME:PST
DTSTART:20181104T090000
END:STANDARD
END:VTIMEZONE
BEGIN:VEVENT
DTSTART;TZID=America/Los_Angeles:20161208T190000
DTEND;TZID=America/Los_Angeles:20161208T220000
DTSTAMP:20260422T114809
CREATED:20161205T194514Z
LAST-MODIFIED:20161205T194514Z
UID:20281-1481223600-1481234400@laguestlist.com
SUMMARY:Spotify x ADD Presents T-Pain x Southside
DESCRIPTION:RSVP – Spotify x ADD Presents #TrafficJams with c at Fat Eyes Studio.
URL:https://laguestlist.com/event/spotify-x-add-presents-t-pain-x-southside/
LOCATION:Fat Eyes Studios\, 4466 Worth Street \, Los Angeles\, CA\, United States
CATEGORIES:Music
ATTACH;FMTTYPE=image/png:https://laguestlist.com/wp-content/uploads/2016/12/Screen-Shot-2016-12-05-at-11.41.47-AM.png
END:VEVENT
BEGIN:VEVENT
DTSTART;TZID=America/Los_Angeles:20161215T203000
DTEND;TZID=America/Los_Angeles:20161215T203000
DTSTAMP:20260422T114809
CREATED:20161213T220458Z
LAST-MODIFIED:20161213T220458Z
UID:20555-1481833800-1481833800@laguestlist.com
SUMMARY:DeLeon 100 x Billboard Magazine feat by Miguel
DESCRIPTION:Invite Only – DeLeon 100 event powered by Billboard Magazine at The Sayers Club. This event will be celebrating artists rising to “The Next Level” and Miguel will be performing\, among others.
URL:https://laguestlist.com/event/deleon-100-x-billboard-magazine-feat-miguel/
LOCATION:The Sayers Club\, 1645 Wilcox Ave\, Los Angeles\, CA\, 90028\, United States
CATEGORIES:Magazine,Music
ATTACH;FMTTYPE=image/png:https://laguestlist.com/wp-content/uploads/2016/12/Screen-Shot-2016-12-13-at-2.01.08-PM.png
END:VEVENT
BEGIN:VEVENT
DTSTART;TZID=America/Los_Angeles:20161217T190000
DTEND;TZID=America/Los_Angeles:20161217T220000
DTSTAMP:20260422T114809
CREATED:20161212T192859Z
LAST-MODIFIED:20161212T192859Z
UID:20520-1482001200-1482012000@laguestlist.com
SUMMARY:Vevo Presents the Weeknd
DESCRIPTION:Invite Only – Vevo Presents: The Weeknd live this Saturday at the LA Hangar Studios.
URL:https://laguestlist.com/event/vevo-presents-weeknd/
LOCATION:LA Hangar Studios\, 2627 Medford St\, Los Angeles\, CA\, 90034\, United States
CATEGORIES:Music
ATTACH;FMTTYPE=image/jpeg:https://laguestlist.com/wp-content/uploads/2016/12/15232092_10153974125910933_3482404032775791411_n.jpg
END:VEVENT
BEGIN:VEVENT
DTSTART;TZID=America/Los_Angeles:20170107T200000
DTEND;TZID=America/Los_Angeles:20170107T230000
DTSTAMP:20260422T114809
CREATED:20170103T204331Z
LAST-MODIFIED:20170103T204331Z
UID:20870-1483819200-1483830000@laguestlist.com
SUMMARY:Andy Garcia and The CineSon All Stars
DESCRIPTION:Ticketed – Hailed for its authentic sound and dynamic performances\, Andy Garcia and The CineSon All Stars’ vibrant style is rooted in the music of the late\, legendary Afro Cuban bassist Israel “Cachao” Lopez\, who is known for inventing the mambo rhythm along with his brother\, Orestes Lopez. Members of Cachao’s original band are among the thirteen musicians that make up Andy Garcia and The CineSon All Stars\, which has captivated audiences around the world. Don’t miss your chance to experience this unforgettable evening with Grammy and Latin Grammy Award-winner Andy Garcia with his band.
URL:https://laguestlist.com/event/andy-garcia-cineson-stars/
LOCATION:Gil Cates Theater\, 10886 Le Conte Ave\, Los Angeles\, CA\, 90024\, United States
CATEGORIES:Music
ATTACH;FMTTYPE=image/jpeg:https://laguestlist.com/wp-content/uploads/2017/01/1477420695_info_image_AndyGarcia-206x270-new.jpg
END:VEVENT
BEGIN:VEVENT
DTSTART;TZID=America/Los_Angeles:20170112T200000
DTEND;TZID=America/Los_Angeles:20170112T200000
DTSTAMP:20260422T114809
CREATED:20170108T213055Z
LAST-MODIFIED:20170108T213055Z
UID:20987-1484251200-1484251200@laguestlist.com
SUMMARY:The Flaming Lips Album Release Party
DESCRIPTION:Invite Only – The Psychedelic Flaming Lips Album Release Party Oczy Mlody presented by Warner Bros and Beats by Dre with DJ set by Brothers Grilin.
URL:https://laguestlist.com/event/flaming-lips-album-release-party/
LOCATION:CA
CATEGORIES:Music
ATTACH;FMTTYPE=image/png:https://laguestlist.com/wp-content/uploads/2017/01/Screen-Shot-2017-01-08-at-1.25.32-PM.png
END:VEVENT
BEGIN:VEVENT
DTSTART;TZID=America/Los_Angeles:20170117T190000
DTEND;TZID=America/Los_Angeles:20170117T220000
DTSTAMP:20260422T114809
CREATED:20170114T005806Z
LAST-MODIFIED:20170114T005806Z
UID:21125-1484679600-1484690400@laguestlist.com
SUMMARY:Friedman Amplification Pre NAMM Concert
DESCRIPTION:Ticketed – Join your fellow rock fanatics for an exclusive evening with some of the biggest names\, baddest bands and grittiest guitarists in rock n’ roll. The lineup includes: Gilby Clarke (Guns N’ Roses)\, Billy Morrison (Billy Idol)\, Chris Chaney (Jane’s Addiction)\, Erik Eldenius (Billy Idol)\, Kenny Kanowski (SteelHeart\, Chillin Sun)\, Mark McGrath (Sugar Ray)\, Dave Kushner (Velvet Revolver)\, Andy Patalan (Sponge)\, Dave Black (Seduce)\, Doug Rappoport (Edgar Winter) and bands Seduce and Cairo Knife Fight.
URL:https://laguestlist.com/event/friedman-amplification-pre-namm-concert/
LOCATION:Lucky Strike Live\, 6801 Hollywood Blvd\, Los Angeles\, CA\, 90028\, United States
CATEGORIES:Music
ATTACH;FMTTYPE=image/png:https://laguestlist.com/wp-content/uploads/2017/01/unnamed-7.png
END:VEVENT
BEGIN:VEVENT
DTSTART;TZID=America/Los_Angeles:20170128T210000
DTEND;TZID=America/Los_Angeles:20170128T210000
DTSTAMP:20260422T114809
CREATED:20161226T224847Z
LAST-MODIFIED:20161226T224847Z
UID:20779-1485637200-1485637200@laguestlist.com
SUMMARY:Soulection 6 Year Anniversary
DESCRIPTION:Ticketed – To celebrate their anniversary\, Soulection will be throwing a big party on Saturday\, January 28\, 2017. Join the fun as they celebrate 6 years of Soulection in Los Angeles. This one’s going to be extra special featuring a SoundClash + special guests.
URL:https://laguestlist.com/event/soulection-6-year-anniversary/
LOCATION:The Novo DTLA\, 800 W Olympic Blvd\, Ste A335\, Los Angeles\, CA\, 90015\, United States
CATEGORIES:Music
ATTACH;FMTTYPE=image/png:https://laguestlist.com/wp-content/uploads/2016/12/unnamed-3-1.png
END:VEVENT
BEGIN:VEVENT
DTSTART;TZID=America/Los_Angeles:20170203T170000
DTEND;TZID=America/Los_Angeles:20170203T230000
DTSTAMP:20260422T114809
CREATED:20170201T230353Z
LAST-MODIFIED:20170201T230353Z
UID:21546-1486141200-1486162800@laguestlist.com
SUMMARY:Big Sean "I Decided" Pop Up Shop
DESCRIPTION:Open – Set to launch his own pop-up shop for the first time ever\, Big Sean’s “I Decided” shopping locations will invade four of the most popular cities in America. Taking place in New York City\, Los Angeles\, Detroit and Toronto\, the locations will serve as the number one destination for all Big Sean merch\, themed after his latest project.
URL:https://laguestlist.com/event/big-sean-decided-pop-shop/
LOCATION:CA
CATEGORIES:Music,Pop-Up Shop
ATTACH;FMTTYPE=image/png:https://laguestlist.com/wp-content/uploads/2017/02/Screen-Shot-2017-02-01-at-3.01.16-PM.png
END:VEVENT
BEGIN:VEVENT
DTSTART;TZID=America/Los_Angeles:20170204T170000
DTEND;TZID=America/Los_Angeles:20170204T230000
DTSTAMP:20260422T114809
CREATED:20170201T230526Z
LAST-MODIFIED:20170201T230526Z
UID:21549-1486227600-1486249200@laguestlist.com
SUMMARY:Big Sean "I Decided" Pop Up Shop
DESCRIPTION:Open – Set to launch his own pop-up shop for the first time ever\, Big Sean’s I Decided shopping locations will invade four of the most popular cities in America. Taking place in New York City\, Los Angeles\, Detroit and Toronto\, the locations will serve as the number one destination for all Big Sean merch\, themed after his latest project.
URL:https://laguestlist.com/event/big-sean-decided-pop-shop-2/
LOCATION:CA
CATEGORIES:Music,Pop-Up Shop
ATTACH;FMTTYPE=image/png:https://laguestlist.com/wp-content/uploads/2017/02/Screen-Shot-2017-02-01-at-3.01.16-PM.png
END:VEVENT
BEGIN:VEVENT
DTSTART;TZID=America/Los_Angeles:20170205T120000
DTEND;TZID=America/Los_Angeles:20170205T160000
DTSTAMP:20260422T114809
CREATED:20170201T230644Z
LAST-MODIFIED:20170201T230644Z
UID:21551-1486296000-1486310400@laguestlist.com
SUMMARY:Big Sean "I Decided" Pop Up Shop
DESCRIPTION:Open – Set to launch his own pop-up shop for the first time ever\, Big Sean’s I Decided shopping locations will invade four of the most popular cities in America. Taking place in New York City\, Los Angeles\, Detroit and Toronto\, the locations will serve as the number one destination for all Big Sean merch\, themed after his latest project.
URL:https://laguestlist.com/event/big-sean-decided-pop-shop-3/
LOCATION:CA
CATEGORIES:Music,Pop-Up Shop
ATTACH;FMTTYPE=image/png:https://laguestlist.com/wp-content/uploads/2017/02/Screen-Shot-2017-02-01-at-3.01.16-PM.png
END:VEVENT
BEGIN:VEVENT
DTSTART;TZID=America/Los_Angeles:20170208T190000
DTEND;TZID=America/Los_Angeles:20170208T220000
DTSTAMP:20260422T114809
CREATED:20170201T192159Z
LAST-MODIFIED:20170201T192159Z
UID:21532-1486580400-1486591200@laguestlist.com
SUMMARY:House of Stoli Grammy Celebration
DESCRIPTION:Invite Only – House of Stoli Grammy Celebration in honor of Cool & Dre’s Grammy Nomination with exclusive Special Guest Performances.
URL:https://laguestlist.com/event/house-stoli-grammy-celebration/
LOCATION:CA
CATEGORIES:Music
ATTACH;FMTTYPE=image/png:https://laguestlist.com/wp-content/uploads/2017/02/Screen-Shot-2017-02-01-at-11.08.57-AM.png
END:VEVENT
BEGIN:VEVENT
DTSTART;TZID=America/Los_Angeles:20170208T203000
DTEND;TZID=America/Los_Angeles:20170208T203000
DTSTAMP:20260422T114809
CREATED:20170207T032345Z
LAST-MODIFIED:20170207T032345Z
UID:21653-1486585800-1486585800@laguestlist.com
SUMMARY:Mind of Genius Pre-Grammy Party
DESCRIPTION:Invite Only – Mind of a Genius Records’ Pre-Grammy Party with Gallant.
URL:https://laguestlist.com/event/mind-genius-pre-grammy-party/
LOCATION:The Peppermint Club\, 8713 Beverly Blvd\, Los Angeles\, CA\, 90048\, United States
CATEGORIES:Music
ATTACH;FMTTYPE=image/png:https://laguestlist.com/wp-content/uploads/2017/02/Screen-Shot-2017-02-06-at-7.21.58-PM.png
END:VEVENT
BEGIN:VEVENT
DTSTART;TZID=America/Los_Angeles:20170209T120000
DTEND;TZID=America/Los_Angeles:20170209T170000
DTSTAMP:20260422T114809
CREATED:20170207T005720Z
LAST-MODIFIED:20170207T005720Z
UID:21634-1486641600-1486659600@laguestlist.com
SUMMARY:Masterpass #ThankTheFans House
DESCRIPTION:Open – KCRW’s Music Director and cultural influencer Jason Bentley presents Dance Active: Music as a Uniting Force at the Masterpass #ThankTheFans House with special guests. From 12 to 5 p.m. PT each day\, visitors can test their hand behind the turntables\, rock out with Gibson Guitars\, step into a recording booth or cozy up to a Vinyl Me\, Please curated listening station with a friend.
URL:https://laguestlist.com/event/masterpass-thankthefans-house/
LOCATION:Gibson Brand Sunset\, 8801 Sunset Blvd\, Los Angeles\, CA\, 90069\, United States
CATEGORIES:Music,Things to do
ATTACH;FMTTYPE=image/png:https://laguestlist.com/wp-content/uploads/2017/02/Screen-Shot-2017-02-06-at-4.55.48-PM.png
END:VEVENT
BEGIN:VEVENT
DTSTART;TZID=America/Los_Angeles:20170209T200000
DTEND;TZID=America/Los_Angeles:20170209T200000
DTSTAMP:20260422T114809
CREATED:20170206T205110Z
LAST-MODIFIED:20170206T205110Z
UID:21611-1486670400-1486670400@laguestlist.com
SUMMARY:The Iconic Big Mac Grammy Party with DJ Khaled
DESCRIPTION:Invite Only – Two new Mac sandwiches – the Grand MacTM and Mac JrTM join the legendary Big Mac sandwich on the menu at McDonald’s this month for a limited time\, proving there is truly now a Mac for any moment! \nMcDonald’s will celebrate with a star-studded party celebrating the music industry\, featuring live performances and surprise red carpet with performers include musician and social media sensation\, DJ Khaled along with DJ set by Balthazar Getty.
URL:https://laguestlist.com/event/iconic-big-mac-grammy-party-dj-khaled/
LOCATION:The Peppermint Club\, 8713 Beverly Blvd\, Los Angeles\, CA\, 90048\, United States
CATEGORIES:Music
ATTACH;FMTTYPE=image/png:https://laguestlist.com/wp-content/uploads/2017/02/Screen-Shot-2017-02-06-at-12.46.26-PM.png
END:VEVENT
BEGIN:VEVENT
DTSTART;TZID=America/Los_Angeles:20170209T200000
DTEND;TZID=America/Los_Angeles:20170209T200000
DTSTAMP:20260422T114809
CREATED:20170206T212022Z
LAST-MODIFIED:20170206T212022Z
UID:21619-1486670400-1486670400@laguestlist.com
SUMMARY:Empire Presents Anderson. Paak Birthday Celebration
DESCRIPTION:Invite Only – Join Anderson. Park\, Empire artists and other special surprise guests for a night of celebration and music.
URL:https://laguestlist.com/event/empire-presents-anderson-paak-birthday-celebration/
LOCATION:The Macarthur\, 607 S Park View St\, Los Angeles\, CA\, 90057\, United States
CATEGORIES:Music
ATTACH;FMTTYPE=image/png:https://laguestlist.com/wp-content/uploads/2017/02/Screen-Shot-2017-02-06-at-1.12.14-PM.png
END:VEVENT
BEGIN:VEVENT
DTSTART;TZID=America/Los_Angeles:20170210T220000
DTEND;TZID=America/Los_Angeles:20170210T220000
DTSTAMP:20260422T114809
CREATED:20170208T183526Z
LAST-MODIFIED:20170208T183526Z
UID:21690-1486764000-1486764000@laguestlist.com
SUMMARY:G.O.O.D. Music Grammy Party at 1 OAK
DESCRIPTION:Table Reservations – G.O.O.D. Music Grammy Party with live performances from Pusha T\, Desiigner and Madeintyo at 1 OAK.
URL:https://laguestlist.com/event/g-o-o-d-music-grammy-party-1-oak/
LOCATION:1 OAK\, 9039 Sunset Boulevard\, West Hollywood\, CA\, United States
CATEGORIES:Music,Nightlife
ATTACH;FMTTYPE=image/png:https://laguestlist.com/wp-content/uploads/2017/02/Screen-Shot-2017-02-08-at-10.33.14-AM.png
END:VEVENT
BEGIN:VEVENT
DTSTART;TZID=America/Los_Angeles:20170211T110000
DTEND;TZID=America/Los_Angeles:20170211T160000
DTSTAMP:20260422T114809
CREATED:20170207T223506Z
LAST-MODIFIED:20170207T223506Z
UID:21660-1486810800-1486828800@laguestlist.com
SUMMARY:Roc Nation Pre-Grammy Brunch
DESCRIPTION:Invite Only – Roc Nation’s exclusive pre-Grammy brunch returns to host members of the ROC NATION family and specially invited guests. This year’s event is sponsored by our partners Citi\, Barclays Center\, and Audemars Piguet\, with a special thank you to supporters D’USSÉ\, Armand de Brignac\, H.D. Buttercup\, Devialet\, sbe\, and LIFEWTR .
URL:https://laguestlist.com/event/roc-nation-pre-grammy-brunch/
LOCATION:CA
CATEGORIES:Music
ATTACH;FMTTYPE=image/jpeg:https://laguestlist.com/wp-content/uploads/2017/02/the_roc_nation_logo.jpg
END:VEVENT
BEGIN:VEVENT
DTSTART;TZID=America/Los_Angeles:20170211T123000
DTEND;TZID=America/Los_Angeles:20170211T153000
DTSTAMP:20260422T114809
CREATED:20170201T224727Z
LAST-MODIFIED:20170201T224727Z
UID:21535-1486816200-1486827000@laguestlist.com
SUMMARY:UMG Artist Showcase
DESCRIPTION:Invite Only – Universal Music Group is hosting their annual Artist Showcase on the Saturday of Grammy weekend. The event will be held at The Theatre at The Ace Hotel (929 South Broadway) and is presented by Citi and American Airlines. While the performances are a surprise\, past artists who have performed at the UMG showcase include Demi Lovato\, DNCE\, The Weeknd\, Sam Smith\, Keith Urban\, Ariana Grande and Lorde.
URL:https://laguestlist.com/event/umg-artist-showcase/
LOCATION:Ace Hotel DTLA\, 921 S. Broadway\, Los Angeles\, CA\, 90015\, United States
CATEGORIES:Award Show,Music
ATTACH;FMTTYPE=image/png:https://laguestlist.com/wp-content/uploads/2017/02/unnamed-2.png
END:VEVENT
BEGIN:VEVENT
DTSTART;TZID=America/Los_Angeles:20170211T190000
DTEND;TZID=America/Los_Angeles:20170211T230000
DTSTAMP:20260422T114809
CREATED:20170207T000915Z
LAST-MODIFIED:20170207T000915Z
UID:21631-1486839600-1486854000@laguestlist.com
SUMMARY:Primary Wave 11th Annual Pre-Grammy Party in Partnership with Smirnoff Vodka
DESCRIPTION:Invite Only – Primary Wave will host their 11th annual Pre-Grammy party in partnership with Smirnoff vodka on Saturday\, February 11 held at the luxurious rooftop perched atop of the London Hotel. Making his first Grammy appearance\, CeeLo Green will debut new persona Gnarly Davidson. Guests will enjoy hors d’oeuvres and specialty Smirnoff cocktails\, including the original Moscow Mule invented by the brand on Sunset Blvd. in 1941\, with beats provided by DJ Cassidy.
URL:https://laguestlist.com/event/primary-wave-11th-annual-pre-grammy-party-partnership-smirnoff-vodka/
LOCATION:The London Hotel\, 1020 N San Vicente Blvd\, West Hollywood\, CA\, 90069\, United States
CATEGORIES:Award Show,Music
ATTACH;FMTTYPE=image/png:https://laguestlist.com/wp-content/uploads/2017/02/Screen-Shot-2017-02-06-at-4.04.25-PM.png
END:VEVENT
BEGIN:VEVENT
DTSTART;TZID=America/Los_Angeles:20170211T200000
DTEND;TZID=America/Los_Angeles:20170211T230000
DTSTAMP:20260422T114809
CREATED:20170206T223623Z
LAST-MODIFIED:20170206T223623Z
UID:21623-1486843200-1486854000@laguestlist.com
SUMMARY:Soho Sounds Presents Anderson .Paak & the Free Nationals & Kaytranada
DESCRIPTION:Invite Only – Soho House is launching Soho Sounds\, our new pop-up music series. The first event is packed with talent and will take place at an off-site venue in Downtown LA on 11 February 2017\, on the same weekend as the GRAMMY Awards. \nTickets are available to members of Soho House West Hollywood and Little Beach House Malibu\, priced $45. The address is 648 S Broadway\, Los Angeles\, CA 90014\, and doors open at 9PM.
URL:https://laguestlist.com/event/soho-sounds-presents-anderson-paak-free-nationals-kaytranada/
LOCATION:Clifton’s\, 648 S. Broadway\, Los Angeles\, CA\, 90014\, United States
CATEGORIES:Music
ATTACH;FMTTYPE=image/jpeg:https://laguestlist.com/wp-content/uploads/2017/02/Soho_Sounds_Houseseven_V2-1.jpg
END:VEVENT
BEGIN:VEVENT
DTSTART;TZID=America/Los_Angeles:20170212T203000
DTEND;TZID=America/Los_Angeles:20170212T230000
DTSTAMP:20260422T114809
CREATED:20170201T224947Z
LAST-MODIFIED:20170201T224947Z
UID:21538-1486931400-1486940400@laguestlist.com
SUMMARY:UMG Grammy After Party
DESCRIPTION:Invite Only – Universal Music Group is hosting their annual Grammy after party\, immediately following the 59th Annual Grammy Awards on February 12. The event will be held at The Theatre at The Ace Hotel (929 South Broadway) and is presented by Citi and American Airlines.
URL:https://laguestlist.com/event/umg-grammy-party/
LOCATION:Ace Hotel DTLA\, 921 S. Broadway\, Los Angeles\, CA\, 90015\, United States
CATEGORIES:Award Show,Music
ATTACH;FMTTYPE=image/png:https://laguestlist.com/wp-content/uploads/2017/02/unnamed-2-1.png
END:VEVENT
BEGIN:VEVENT
DTSTART;TZID=America/Los_Angeles:20170212T210000
DTEND;TZID=America/Los_Angeles:20170212T210000
DTSTAMP:20260422T114809
CREATED:20170207T222905Z
LAST-MODIFIED:20170207T222905Z
UID:21657-1486933200-1486933200@laguestlist.com
SUMMARY:GQ in Partnership with YouTube
DESCRIPTION:Invite Only – GQ in Partnership with YouTube Grammy Party Celebration at Chateau Marmont.
URL:https://laguestlist.com/event/gq-partnership-youtube/
LOCATION:Chateau Marmont\, 8221 Sunset Blvd\, West Holywood\, CA\, 90046\, United States
CATEGORIES:Magazine,Music
ATTACH;FMTTYPE=image/jpeg:https://laguestlist.com/wp-content/uploads/2017/02/ce9074233f50598a25f7f006bc206677.jpg
END:VEVENT
BEGIN:VEVENT
DTSTART;TZID=America/Los_Angeles:20170212T210000
DTEND;TZID=America/Los_Angeles:20170212T233000
DTSTAMP:20260422T114809
CREATED:20170201T225243Z
LAST-MODIFIED:20170202T202809Z
UID:21541-1486933200-1486942200@laguestlist.com
SUMMARY:Warner Music Group Grammy Celebration
DESCRIPTION:Invite Only – Warner Music Group will once again roll out the red carpet in celebration of the 59th annual Grammy Awards with special musical performances including Gallant\, Kehlani and Spencer Ludwig and celebrity guests.
URL:https://laguestlist.com/event/warner-music-group-grammy-celebration/
LOCATION:Milk Studio\, 855 N Cahuenga Blvd\, Los Angeles\, CA\, 90038\, United States
CATEGORIES:Award Show,Music
ATTACH;FMTTYPE=image/jpeg:https://laguestlist.com/wp-content/uploads/2017/02/client16.jpg
END:VEVENT
BEGIN:VEVENT
DTSTART;TZID=America/Los_Angeles:20170212T220000
DTEND;TZID=America/Los_Angeles:20170212T220000
DTSTAMP:20260422T114809
CREATED:20170210T183631Z
LAST-MODIFIED:20170210T183721Z
UID:21713-1486936800-1486936800@laguestlist.com
SUMMARY:Dim Mak Grammy After Party at Bootsy Bellows
DESCRIPTION:Table Reservations – Dim Mak Grammy After Party at Bootsy Bellows hosted by Steve Aoki.
URL:https://laguestlist.com/event/dim-mak-grammy-party-bootsy-bellows/
LOCATION:Bootsy Bellows\, 9229 Sunset Blvd\, West Hollywood\, CA\, 90069\, United States
CATEGORIES:Music,Nightlife
ATTACH;FMTTYPE=image/jpeg:https://laguestlist.com/wp-content/uploads/2017/02/unnamed-3.jpg
END:VEVENT
BEGIN:VEVENT
DTSTART;TZID=America/Los_Angeles:20170214T220000
DTEND;TZID=America/Los_Angeles:20170214T220000
DTSTAMP:20260422T114809
CREATED:20170214T224915Z
LAST-MODIFIED:20170214T224915Z
UID:21837-1487109600-1487109600@laguestlist.com
SUMMARY:LiveFast Presents Love to Love You
DESCRIPTION:RSVP – LiveFast Presents Love to Love You\, a lingerie party for lovers with DJs Rick Trainor and Bettie Blue.
URL:https://laguestlist.com/event/livefast-presents-love-love/
LOCATION:The Standard Hollywood\, 8300 Sunset Blvd\, Los Angeles\, CA\, 90069\, United States
CATEGORIES:Music
ATTACH;FMTTYPE=image/png:https://laguestlist.com/wp-content/uploads/2017/02/Screen-Shot-2017-02-14-at-2.44.53-PM.png
END:VEVENT
BEGIN:VEVENT
DTSTART;TZID=America/Los_Angeles:20170301T200000
DTEND;TZID=America/Los_Angeles:20170301T200000
DTSTAMP:20260422T114809
CREATED:20170301T180855Z
LAST-MODIFIED:20170301T180855Z
UID:22256-1488398400-1488398400@laguestlist.com
SUMMARY:Boiler Room x Budweiser What’s Brewing…In Los Angeles
DESCRIPTION:RSVP – Boiler Room and Budweiser continue their travels – next stop\, Los Angeles! East LA natives Buyepongo bring their infectious rhythms and show us what’s brewing in LA’s vibrant hispanic scene. Our special guest host Ceci Bastida will be taking us on a ride through the City of Angels with Quantic Music\, Mexican Institute of Sound\, and Chico Mann + Captain Planet live.
URL:https://laguestlist.com/event/boiler-room-x-budweiser-whats-brewingin-los-angeles/
LOCATION:CA
CATEGORIES:Music
ATTACH;FMTTYPE=image/png:https://laguestlist.com/wp-content/uploads/2017/03/Screen-Shot-2017-03-01-at-10.07.13-AM.png
END:VEVENT
BEGIN:VEVENT
DTSTART;TZID=America/Los_Angeles:20170305T180000
DTEND;TZID=America/Los_Angeles:20170305T220000
DTSTAMP:20260422T114809
CREATED:20170227T232306Z
LAST-MODIFIED:20170227T232306Z
UID:22176-1488736800-1488751200@laguestlist.com
SUMMARY:2017 iHeartRadio Music Awards
DESCRIPTION:Invite Only – the fan-fueled fourth annual iHeartRadio Music Awards on Sunday\, March 5\, will feature live performances and first-time duets and collaborations by today’s biggest artists\, including Katy Perry\, Ed Sheeran\, The Chainsmokers\, Shawn Mendes\, Thomas Rhett\, Noah Cyrus and Big Sean\, who join already announced performer Bruno Mars.
URL:https://laguestlist.com/event/2017-iheartradio-music-awards/
LOCATION:The Forum\, 3900 W Manchester Blvd\, Inglewood\, CA\, 90305\, United States
CATEGORIES:Award Show,Music
ATTACH;FMTTYPE=image/jpeg:https://laguestlist.com/wp-content/uploads/2017/02/aHR0cDovL2ltZy5jY3JkLmNsZWFyY2hhbm5lbC5jb20vbWVkaWEvbWxpYi8yMTM1LzIwMTYvMTIvZGVmYXVsdC9paGVhcnRyYWRpb19tdXNpY19hd2FyZHNfc2hhcmVfMF8xNDgxNTY3NTUwLmpwZw.jpg
END:VEVENT
BEGIN:VEVENT
DTSTART;TZID=America/Los_Angeles:20170309T163000
DTEND;TZID=America/Los_Angeles:20170309T190000
DTSTAMP:20260422T114809
CREATED:20170307T013437Z
LAST-MODIFIED:20170307T013437Z
UID:22304-1489077000-1489086000@laguestlist.com
SUMMARY:Office Hours with A$AP Rocky
DESCRIPTION:RSVP for UCLA Students – Join us for an intimate conversation and Q&A with multi Grammy Award-nominated rapper A$AP Rocky! Presented by the Music Industry Committee at UCLA in partnership with the UCLA Herb Alpert School of Music. In conversation with music journalist Steve Baltin.
URL:https://laguestlist.com/event/office-hours-aap-rocky/
LOCATION:UCLA
CATEGORIES:Music,Networking
ATTACH;FMTTYPE=image/jpeg:https://laguestlist.com/wp-content/uploads/2017/03/https-2F2Fcdn.evbuc_.com2Fimages2F290203572F1939585902262F12Foriginal.jpg
END:VEVENT
BEGIN:VEVENT
DTSTART;TZID=America/Los_Angeles:20170311T130000
DTEND;TZID=America/Los_Angeles:20170311T190000
DTSTAMP:20260422T114809
CREATED:20170228T000008Z
LAST-MODIFIED:20170228T000008Z
UID:22208-1489237200-1489258800@laguestlist.com
SUMMARY:Midnight In Paris Record Release Pool Party
DESCRIPTION:RSVP – Midnight In Paris Record Release Party #MIPMusic Presented by L’Affaire Musicale x Orlove Entertainment. Rain or Shine\, join us under the Solarium at Skybar at Mondrian for the exclusive Midnight in Paris Music Record Release Pool Party for LA’s Mahalo\, whose massive WTFYWF EP drops on MIP Feb 24th.
URL:https://laguestlist.com/event/midnight-paris-record-release-pool-party/
LOCATION:Skybar at Mondrian\, 8440 Sunset Boulevard\, West Hollywood\, CA\, 90069\, United States
CATEGORIES:Fun in the Sun,Music
ATTACH;FMTTYPE=image/jpeg:https://laguestlist.com/wp-content/uploads/2017/02/16707704_1248995808523137_5845158197745626447_o.jpg
END:VEVENT
BEGIN:VEVENT
DTSTART;TZID=America/Los_Angeles:20170322T180000
DTEND;TZID=America/Los_Angeles:20170322T200000
DTSTAMP:20260422T114809
CREATED:20170316T054354Z
LAST-MODIFIED:20170316T054354Z
UID:22482-1490205600-1490212800@laguestlist.com
SUMMARY:Anderson .Paak Meet + Greet
DESCRIPTION:Open – Meet & Greet and Vinyl Signing with Anderson .Paak. First 200 people to purchase UO ‘Malibu’ exclusive pink color vinyl will receive a wristband for a live Meet + Greet with the artist.
URL:https://laguestlist.com/event/anderson-paak-meet-greet/
LOCATION:Space 15 Twenty\, 1520 N. Cahuenga Blvd\, Los Angeles\, CA\, 90028\, United States
CATEGORIES:Music
ATTACH;FMTTYPE=image/jpeg:https://laguestlist.com/wp-content/uploads/2017/03/anderson-paak.jpeg
END:VEVENT
END:VCALENDAR