BEGIN:VCALENDAR
VERSION:2.0
PRODID:-//LA Guestlist - ECPv6.15.20//NONSGML v1.0//EN
CALSCALE:GREGORIAN
METHOD:PUBLISH
X-WR-CALNAME:LA Guestlist
X-ORIGINAL-URL:https://laguestlist.com
X-WR-CALDESC:Events for LA Guestlist
REFRESH-INTERVAL;VALUE=DURATION:PT1H
X-Robots-Tag:noindex
X-PUBLISHED-TTL:PT1H
BEGIN:VTIMEZONE
TZID:America/Los_Angeles
BEGIN:DAYLIGHT
TZOFFSETFROM:-0800
TZOFFSETTO:-0700
TZNAME:PDT
DTSTART:20210314T100000
END:DAYLIGHT
BEGIN:STANDARD
TZOFFSETFROM:-0700
TZOFFSETTO:-0800
TZNAME:PST
DTSTART:20211107T090000
END:STANDARD
BEGIN:DAYLIGHT
TZOFFSETFROM:-0800
TZOFFSETTO:-0700
TZNAME:PDT
DTSTART:20220313T100000
END:DAYLIGHT
BEGIN:STANDARD
TZOFFSETFROM:-0700
TZOFFSETTO:-0800
TZNAME:PST
DTSTART:20221106T090000
END:STANDARD
BEGIN:DAYLIGHT
TZOFFSETFROM:-0800
TZOFFSETTO:-0700
TZNAME:PDT
DTSTART:20230312T100000
END:DAYLIGHT
BEGIN:STANDARD
TZOFFSETFROM:-0700
TZOFFSETTO:-0800
TZNAME:PST
DTSTART:20231105T090000
END:STANDARD
BEGIN:DAYLIGHT
TZOFFSETFROM:-0800
TZOFFSETTO:-0700
TZNAME:PDT
DTSTART:20240310T100000
END:DAYLIGHT
BEGIN:STANDARD
TZOFFSETFROM:-0700
TZOFFSETTO:-0800
TZNAME:PST
DTSTART:20241103T090000
END:STANDARD
END:VTIMEZONE
BEGIN:VEVENT
DTSTART;TZID=America/Los_Angeles:20220609T203000
DTEND;TZID=America/Los_Angeles:20220609T223000
DTSTAMP:20260421T102403
CREATED:20220608T164940Z
LAST-MODIFIED:20220608T164940Z
UID:45946-1654806600-1654813800@laguestlist.com
SUMMARY:ELLE Women In Music 2022
DESCRIPTION:Invite Only – ELLE Magazine partners with Dolce & Gabbana to host the annual event celebrating the special issue honoring Doja Cat.
URL:https://laguestlist.com/event/elle-women-in-music-2022/
LOCATION:CA
CATEGORIES:Magazine,Music
ATTACH;FMTTYPE=image/jpeg:https://laguestlist.com/wp-content/uploads/2022/06/Doja-Cat-ELLE-Magazine-June-July-2022-Women-in-Music-Issue-Tom-Lorenzo-Site-TLO-1.jpg
END:VEVENT
BEGIN:VEVENT
DTSTART;TZID=America/Los_Angeles:20220624T193000
DTEND;TZID=America/Los_Angeles:20220624T230000
DTSTAMP:20260421T102403
CREATED:20220602T003012Z
LAST-MODIFIED:20220602T003012Z
UID:45892-1656099000-1656111600@laguestlist.com
SUMMARY:Red Bull Culture Clash LA
DESCRIPTION:Ticketed – Red Bull Culture Clash is the ultimate soundclash. Four crews\, assembled from some of the top MCs\, DJs\, and producers on the planet\, face off in a pitched battle. The goal? To win over the crowd.
URL:https://laguestlist.com/event/red-bull-culture-clash-la/
LOCATION:Shrine Expo Hall\, 665 W Jefferson Blvd\, Los Angeles\, CA\, 90007\, United States
CATEGORIES:Music
ATTACH;FMTTYPE=image/jpeg:https://laguestlist.com/wp-content/uploads/2022/06/uploadedimage_626c88d65af2d.jpg
END:VEVENT
BEGIN:VEVENT
DTSTART;TZID=America/Los_Angeles:20220721T200000
DTEND;TZID=America/Los_Angeles:20220721T230000
DTSTAMP:20260421T102403
CREATED:20220718T225418Z
LAST-MODIFIED:20220718T225418Z
UID:46140-1658433600-1658444400@laguestlist.com
SUMMARY:Thundercat Performs at The Broad
DESCRIPTION:Ticketed – In celebration of Takashi Murakami: Stepping on the Tail of a Rainbow\, self-described Japanophile and two-time Grammy-winning musician Thundercat will play a live set exemplifying the unexpected and genre-defying nature he has become known for. Sharing the bill will be a performance by Ginger Root\, who combines influences of Japanese City Pop and the days of Stax and Philly Soul\, for a fresh take on the ever-evolving Bedroom Pop scene. The evening kicks off with Leimert Park DJ Linafornia\, who has been a mainstay of the local eclectic beat scene since 2016.
URL:https://laguestlist.com/event/thundercat-performs-at-the-broad/
LOCATION:Broad Museum\, 221 S. Grand Avenue\, Los Angeles\, CA\, 90012\, United States
CATEGORIES:Music
ATTACH;FMTTYPE=image/png:https://laguestlist.com/wp-content/uploads/2022/07/TBRO-0047_thundercat_ginger_event_page_hero_1500x1000_r1v1_ef.png
END:VEVENT
BEGIN:VEVENT
DTSTART;TZID=America/Los_Angeles:20220821T110000
DTEND;TZID=America/Los_Angeles:20220824T020000
DTSTAMP:20260421T102403
CREATED:20220810T204930Z
LAST-MODIFIED:20220810T204930Z
UID:46380-1661079600-1661306400@laguestlist.com
SUMMARY:Skam Summer Music Summit 2022
DESCRIPTION:Ticketed – The 2022 SKAM Summer Music Summit is a three day\, Music x Tech x Influencer conference-style celebration founded by Sujit Kundu\, the founder and CEO of SKAM Artist and Skam Division. The summit takes over the entire DREAM Hollywood Hotel and surrounding LA venues with performances by DJs from around the world\, pool parties\, various brand activations\, brunches\, and dinners with unforgettable guests.
URL:https://laguestlist.com/event/skam-summer-music-summit-2022/
LOCATION:Dream Hotel\, 1615 Cahuenga Blvd\, Los Angeles\, CA\, 90028\, United States
CATEGORIES:Music,Networking
ATTACH;FMTTYPE=image/png:https://laguestlist.com/wp-content/uploads/2022/08/Screen-Shot-2022-08-10-at-1.47.50-PM.png
END:VEVENT
BEGIN:VEVENT
DTSTART;TZID=America/Los_Angeles:20220916T120000
DTEND;TZID=America/Los_Angeles:20220918T230000
DTSTAMP:20260421T102403
CREATED:20220728T163912Z
LAST-MODIFIED:20220728T163912Z
UID:46248-1663329600-1663542000@laguestlist.com
SUMMARY:Primavera Sounds Los Angeles
DESCRIPTION:Ticketed – Primavera Sound\, the festival that originated from Barcelona\, is making a move to Los Angeles with an epic lineup which includes headliners Lorde\, Nine Inch Nails\, and Artic Monkeys.
URL:https://laguestlist.com/event/primavera-sounds-los-angeles/
LOCATION:LA State Historic Park\, 1245 N Spring St\, Los Angeles\, CA\, 90012\, United States
CATEGORIES:Music
ATTACH;FMTTYPE=image/jpeg:https://laguestlist.com/wp-content/uploads/2022/07/RG_StateHistoricParkCA_0916_PrimaveraSoundLA_SG_1080x1080_CLEAN-1024x1024-1.jpg
END:VEVENT
BEGIN:VEVENT
DTSTART;TZID=America/Los_Angeles:20220916T123000
DTEND;TZID=America/Los_Angeles:20220918T180000
DTSTAMP:20260421T102403
CREATED:20220914T222044Z
LAST-MODIFIED:20220914T222044Z
UID:46558-1663331400-1663524000@laguestlist.com
SUMMARY:Spotify x Blackpink: Born Pink Pop-Up Experience
DESCRIPTION:RSVP – Spotify and BLACKPINK are teaming up to create a very special and first of its kind experience for Blinks to step inside the world of BORN PINK\, the group’s upcoming sophomore album\, from September 16-18 in Los Angeles. Dreamt up by Jisoo\, Jennie\, Rosé\, and Lisa\, every element of this 3-day experience was crafted by BLACKPINK for their fans to celebrate their brand-new album out on Friday\, 9/16.
URL:https://laguestlist.com/event/spotify-x-blackpink-born-pink-pop-up-experience/
LOCATION:CA
CATEGORIES:Music
ATTACH;FMTTYPE=image/jpeg:https://laguestlist.com/wp-content/uploads/2022/09/Fco_gouacAEzg2G.jpg
END:VEVENT
BEGIN:VEVENT
DTSTART;TZID=America/Los_Angeles:20221026T190000
DTEND;TZID=America/Los_Angeles:20221026T220000
DTSTAMP:20260421T102403
CREATED:20221026T181547Z
LAST-MODIFIED:20221026T181547Z
UID:46982-1666810800-1666821600@laguestlist.com
SUMMARY:DVSN’s Album Listening Event
DESCRIPTION:Invite Only – Jermaine Dupri and LVRN presents\nDVSN’s Album Listening Event for their new album Working on My Karma.
URL:https://laguestlist.com/event/dvsns-album-listening-event/
LOCATION:CA
CATEGORIES:Music
ATTACH;FMTTYPE=image/png:https://laguestlist.com/wp-content/uploads/2022/10/dvsn.png
END:VEVENT
BEGIN:VEVENT
DTSTART;TZID=America/Los_Angeles:20221026T210000
DTEND;TZID=America/Los_Angeles:20221027T000000
DTSTAMP:20260421T102403
CREATED:20221020T010610Z
LAST-MODIFIED:20221020T010610Z
UID:46893-1666818000-1666828800@laguestlist.com
SUMMARY:Flaunt x The Big Pink
DESCRIPTION:Invite Only – FLAUNT and Houston Bros are teaming up for the exclusive after-party celebration of the new record from\nThe Big Pink features a live performance\, and champagne courtesy of Peermusic.
URL:https://laguestlist.com/event/flaunt-x-the-big-pink/
LOCATION:CA
CATEGORIES:Magazine,Music
ATTACH;FMTTYPE=image/png:https://laguestlist.com/wp-content/uploads/2022/10/Flaunt.png
END:VEVENT
BEGIN:VEVENT
DTSTART;TZID=America/Los_Angeles:20221110T180000
DTEND;TZID=America/Los_Angeles:20221110T210000
DTSTAMP:20260421T102403
CREATED:20221104T181359Z
LAST-MODIFIED:20221104T181804Z
UID:47096-1668103200-1668114000@laguestlist.com
SUMMARY:SiriusXM LA Garage Presents Tom Petty & The Heartbreakers
DESCRIPTION:Invite Only – SiriusXM LA Garage Presents Tom Petty & The Heartbreakers featuring an exclusive first listen to Tom Petty & The Heartbreakers: Live at The Fillmore (1997)\, their new album culled from the legendary 20-show run at the historic venue\, followed by a round table discussion featuring The Heartbreakers and hosted by Mark Felsot.
URL:https://laguestlist.com/event/siriusxm-la-garage-presents-tom-petty-the-heartbreakers/
LOCATION:CA
CATEGORIES:Music
ATTACH;FMTTYPE=image/png:https://laguestlist.com/wp-content/uploads/2022/11/Sirius.png
END:VEVENT
BEGIN:VEVENT
DTSTART;TZID=America/Los_Angeles:20221114T190000
DTEND;TZID=America/Los_Angeles:20221114T220000
DTSTAMP:20260421T102403
CREATED:20221104T182444Z
LAST-MODIFIED:20221104T182444Z
UID:47098-1668452400-1668463200@laguestlist.com
SUMMARY:Oliver Sim of The xx Presents Hideous
DESCRIPTION:Invite Only – Oliver Sim—best known as singer and bassist of The xx—is set to present an intimate evening of film\, music and more. Sim will perform stripped-back renditions of songs from his much-lauded debut album Hideous Bastard followed by a Q&A and screening of the short film “Hideous\,” starring and soundtracked by Sim himself and directed by filmmaker Yann Gonzalez.
URL:https://laguestlist.com/event/oliver-sim-of-the-xx-presents-hideous/
LOCATION:CA
CATEGORIES:Event,Music
ATTACH;FMTTYPE=image/jpeg:https://laguestlist.com/wp-content/uploads/2022/11/unnamed-1.jpg
END:VEVENT
BEGIN:VEVENT
DTSTART;TZID=America/Los_Angeles:20221203T110000
DTEND;TZID=America/Los_Angeles:20221203T160000
DTSTAMP:20260421T102403
CREATED:20221202T225445Z
LAST-MODIFIED:20221202T225445Z
UID:47330-1670065200-1670083200@laguestlist.com
SUMMARY:Variety Sixth Annual Hitmakers Brunch
DESCRIPTION:Invite Only – Variety Sixth Annual Hitmakers celebrated with an an invitation-only brunch. The November 30 issue and accompanying event looks back at the year in music and recognizes the writers\, producers\, publishers\, managers and executives who helped make — and break — the 25 most-consumed songs of the year\, as measured by Luminate. The celebration will honor Elton John and Dua Lipa\, Future\, Selena Gomez\, Imagine Dragons\, Kim Petras\, Omar Apollo\, Latto\, and Lizzo.
URL:https://laguestlist.com/event/variety-sixth-annual-hitmakers-brunch/
LOCATION:CA
CATEGORIES:Magazine,Music
ATTACH;FMTTYPE=image/jpeg:https://laguestlist.com/wp-content/uploads/2022/12/EoHTKarXcAEVUOk.jpg
END:VEVENT
BEGIN:VEVENT
DTSTART;TZID=America/Los_Angeles:20221206T220000
DTEND;TZID=America/Los_Angeles:20221207T020000
DTSTAMP:20260421T102403
CREATED:20221206T004956Z
LAST-MODIFIED:20221206T004956Z
UID:47352-1670364000-1670378400@laguestlist.com
SUMMARY:Metro Boomin Heroes & Villains Release Party
DESCRIPTION:Invite Only – RapCaviar Presents Metro Boomin Heroes & Villains Release Party.
URL:https://laguestlist.com/event/metro-boomin-heroes-villains-release-party/
LOCATION:CA
CATEGORIES:Music
ATTACH;FMTTYPE=image/png:https://laguestlist.com/wp-content/uploads/2022/12/Rap.png
END:VEVENT
BEGIN:VEVENT
DTSTART;TZID=America/Los_Angeles:20221208T180000
DTEND;TZID=America/Los_Angeles:20221208T210000
DTSTAMP:20260421T102403
CREATED:20221206T020423Z
LAST-MODIFIED:20221206T020423Z
UID:47369-1670522400-1670533200@laguestlist.com
SUMMARY:Dr. Martens Presents Shamir
DESCRIPTION:RSVP – Dr. Martens Presents is back with free live shows\, bringing some of their favorite bands\, DJs\, and performers to venues and Docs stores across LA\, Chicago\, NYC\, and Austin.
URL:https://laguestlist.com/event/dr-martens-presents-shamir/
LOCATION:Dr. Martens\, 3432 W. Sunset Blvd.\, Silverlake\, CA\, United States
CATEGORIES:Music
ATTACH;FMTTYPE=image/png:https://laguestlist.com/wp-content/uploads/2022/12/DrMArteens.png
END:VEVENT
BEGIN:VEVENT
DTSTART;TZID=America/Los_Angeles:20221210T110000
DTEND;TZID=America/Los_Angeles:20221210T180000
DTSTAMP:20260421T102403
CREATED:20221118T203418Z
LAST-MODIFIED:20221118T203418Z
UID:47254-1670670000-1670695200@laguestlist.com
SUMMARY:Beastie Boys EXHIBIT
DESCRIPTION:RSVP –  Beyond the Streets and CONTROL Gallery\, in partnership with Goldenvoice\, will be hosting the most comprehensive Beastie Boys exhibition ever in Los Angeles from December 10th to January 23rd. Titled EXHIBIT\, the show will offer a storied dive into the group’s near forty-year history: the raucous rap debut of Licensed To Ill\, the sample masterpiece Paul’s Boutique\, the inimitable DIY approach of Check Your Head & Ill Communication\, the Grammy-winning Hello Nasty\, the all-instrumental stylings of The Mix-Up\, the love letter to New York that is To the 5 Boroughs and their last offering\, Hot Sauce Committee Part Two – all told through a collection of personal items\, artifacts and ephemera—much of which has never been seen by the public—until now.
URL:https://laguestlist.com/event/beastie-boys-exhibit/
LOCATION:Beyond The Streets Los Angeles\, 434 N. La Brea Ave\, Los Angeles\, CA\, 90036\, United States
CATEGORIES:Art,Music
ATTACH;FMTTYPE=image/jpeg:https://laguestlist.com/wp-content/uploads/2022/11/uploadedimage_6372a0131f5b1.jpg
END:VEVENT
BEGIN:VEVENT
DTSTART;TZID=America/Los_Angeles:20221211T170000
DTEND;TZID=America/Los_Angeles:20221212T230000
DTSTAMP:20260421T102403
CREATED:20220914T215043Z
LAST-MODIFIED:20220914T215159Z
UID:46552-1670778000-1670886000@laguestlist.com
SUMMARY:LA3C Festival
DESCRIPTION:Ticketed – Maluma and Megan Thee Stallion to headline its highly anticipated two-day culture and creativity festival\, LA3C\, taking place December 10-11\, 2022 at the Los Angeles State Historic Park\, Los Angeles’ premier downtown destination for concerts and events. Three-time\, Grammy award-winning superstar Megan Thee Stallion will headline the show on Saturday\, December 10\, and Maluma will headline Sunday\, December 11 and the festival will include performances by K Pop stage-breakers Seventeen and LA music icon\, Snoop Dogg.
URL:https://laguestlist.com/event/la3c-festival/
LOCATION:LA State Historic Park\, 1245 N Spring St\, Los Angeles\, CA\, 90012\, United States
CATEGORIES:Music
ATTACH;FMTTYPE=image/png:https://laguestlist.com/wp-content/uploads/2022/09/Screen-Shot-2022-09-14-at-2.48.59-PM.png
END:VEVENT
BEGIN:VEVENT
DTSTART;TZID=America/Los_Angeles:20230131T160000
DTEND;TZID=America/Los_Angeles:20230131T190000
DTSTAMP:20260421T102403
CREATED:20230130T001915Z
LAST-MODIFIED:20230130T001915Z
UID:47709-1675180800-1675191600@laguestlist.com
SUMMARY:Amazon Music’s Artist Space & LA HQ Opening
DESCRIPTION:Invite Only – Amazon Music’s Artist Space & LA HQ Preview hosted by Gia Peppers with music from Anderson .Paak.
URL:https://laguestlist.com/event/amazon-musics-artist-space-la-hq-opening/
LOCATION:CA
CATEGORIES:Event,Music
ATTACH;FMTTYPE=image/png:https://laguestlist.com/wp-content/uploads/2023/01/amazon.png
END:VEVENT
BEGIN:VEVENT
DTSTART;TZID=America/Los_Angeles:20230201T170000
DTEND;TZID=America/Los_Angeles:20230201T190000
DTSTAMP:20260421T102403
CREATED:20230130T014239Z
LAST-MODIFIED:20230130T014239Z
UID:47734-1675270800-1675278000@laguestlist.com
SUMMARY:Billboard Power 100
DESCRIPTION:Invite Only – Billboard’s Power 100 Event is returning in partnership with UBS to celebrate influential figures across the music business.
URL:https://laguestlist.com/event/billboard-power-100-2/
LOCATION:CA
CATEGORIES:Magazine,Music
ATTACH;FMTTYPE=image/png:https://laguestlist.com/wp-content/uploads/2023/01/billboard.png
END:VEVENT
BEGIN:VEVENT
DTSTART;TZID=America/Los_Angeles:20230201T190000
DTEND;TZID=America/Los_Angeles:20230201T220000
DTSTAMP:20260421T102403
CREATED:20230128T152808Z
LAST-MODIFIED:20230128T152808Z
UID:47672-1675278000-1675288800@laguestlist.com
SUMMARY:Music on TikTok Party 2023
DESCRIPTION:Invite Only – TikTok is celebrating Grammy Week with their Music on TikTok Party 2023.
URL:https://laguestlist.com/event/music-on-tiktok-party-2023/
LOCATION:CA
CATEGORIES:Event,Music
ATTACH;FMTTYPE=image/png:https://laguestlist.com/wp-content/uploads/2023/01/tiktok.png
END:VEVENT
BEGIN:VEVENT
DTSTART;TZID=America/Los_Angeles:20230201T200000
DTEND;TZID=America/Los_Angeles:20230202T000000
DTSTAMP:20260421T102403
CREATED:20230126T023351Z
LAST-MODIFIED:20230126T023351Z
UID:47643-1675281600-1675296000@laguestlist.com
SUMMARY:Meta Celebrates 50 Years in Hip Hop
DESCRIPTION:Invite Only – Meta Celebrates 50 Years in Hip Hop with a DJ set by The Originals.
URL:https://laguestlist.com/event/meta-celebrates-50-years-in-hip-hop/
LOCATION:No Vacancy\, 1727 N. Hudson Ave.\, Los Angeles\, CA\, United States
CATEGORIES:Music
ATTACH;FMTTYPE=image/png:https://laguestlist.com/wp-content/uploads/2023/01/Meta.png
END:VEVENT
BEGIN:VEVENT
DTSTART;TZID=America/Los_Angeles:20230202T190000
DTEND;TZID=America/Los_Angeles:20230202T220000
DTSTAMP:20260421T102403
CREATED:20230128T174622Z
LAST-MODIFIED:20230128T174622Z
UID:47678-1675364400-1675375200@laguestlist.com
SUMMARY:Recording Academy Honors with The Black Music Collective
DESCRIPTION:Invite Only – Recording Academy Honors Presented By The Black Music Collective to honore Grammy Award-winning artists Dr. Dre\, Missy Elliott and Lil Wayne\, and music executive Sylvia Rhone at The Hollywood Palladium.
URL:https://laguestlist.com/event/recording-academy-honors-with-the-black-music-collective/
LOCATION:The Palladium\, 6215 Sunset Boulevard\,  Los Angeles\, CA\, 90028\, United States
CATEGORIES:Music
ATTACH;FMTTYPE=image/jpeg:https://laguestlist.com/wp-content/uploads/2023/01/recording-academy-honors-black-music-collective-2022-grammys-grammy-week-Hero-g.com_1644x925_Copy.jpg
END:VEVENT
BEGIN:VEVENT
DTSTART;TZID=America/Los_Angeles:20230202T190000
DTEND;TZID=America/Los_Angeles:20230202T230000
DTSTAMP:20260421T102403
CREATED:20230126T015059Z
LAST-MODIFIED:20230126T015059Z
UID:47635-1675364400-1675378800@laguestlist.com
SUMMARY:Spotify 6th Annual Best New Artist Grammys Party
DESCRIPTION:Invite Only – Spotify 6th Annual Best New Artist Grammys Party to showcase all 10 of this year’s best new artist Grammy nominees: Anitta\, Omar Apollo\, Domi & JD Beck\, Muni Long\, Samara Joy\, Latto\, Måneskin\, Tobe Nwigwe\, Molly Tuttle and Wet Leg.
URL:https://laguestlist.com/event/spotify-6th-annual-best-new-artist-grammys-party/
LOCATION:Pacific Design Center\, 8687 Melrose Ave\, West Hollywood\, CA\, 90069\, United States
CATEGORIES:Music
ATTACH;FMTTYPE=image/jpeg:https://laguestlist.com/wp-content/uploads/2023/01/ab67706f000000023e532dc73378f4b0c85f35f8.jpg
END:VEVENT
BEGIN:VEVENT
DTSTART;TZID=America/Los_Angeles:20230203T200000
DTEND;TZID=America/Los_Angeles:20230203T230000
DTSTAMP:20260421T102403
CREATED:20230126T024422Z
LAST-MODIFIED:20230126T024422Z
UID:47645-1675454400-1675465200@laguestlist.com
SUMMARY:Grey Goose Presents Rhythm & Bleu
DESCRIPTION:Invite Only – Grey Goose Presents Rhythm & Bleu in partnership with Raedio with sounds by Siobhan Bell and Bryan-Michal Cox\, and vocal set by Josh Levi.
URL:https://laguestlist.com/event/grey-goose-presents-rhythm-bleu/
LOCATION:CA
CATEGORIES:Music
ATTACH;FMTTYPE=image/png:https://laguestlist.com/wp-content/uploads/2023/01/grey.png
END:VEVENT
BEGIN:VEVENT
DTSTART;TZID=America/Los_Angeles:20230204T120000
DTEND;TZID=America/Los_Angeles:20230204T150000
DTSTAMP:20260421T102403
CREATED:20230128T181313Z
LAST-MODIFIED:20230128T181313Z
UID:47684-1675512000-1675522800@laguestlist.com
SUMMARY:Grey Goose Presents Sound Sessions
DESCRIPTION:Invite Only – Grey Goose Essences Presents Sound Sessions during Grammy Weekend with a special performance by Jazmine Sullivan.
URL:https://laguestlist.com/event/grey-goose-presents-sound-sessions/
LOCATION:CA
CATEGORIES:Music
ATTACH;FMTTYPE=image/png:https://laguestlist.com/wp-content/uploads/2023/01/grey-1.png
END:VEVENT
BEGIN:VEVENT
DTSTART;TZID=America/Los_Angeles:20230204T180000
DTEND;TZID=America/Los_Angeles:20230204T220000
DTSTAMP:20260421T102403
CREATED:20230126T021906Z
LAST-MODIFIED:20230126T021906Z
UID:47639-1675533600-1675548000@laguestlist.com
SUMMARY:Clive Davis Pre-Grammy Gala 2023
DESCRIPTION:Invite Only – Clive Davis’ white-hot pre-Grammy gala is returning for the first time since 2020 and the event will honor Atlantic Records executives Julie Greenwald and Craig Kallman.
URL:https://laguestlist.com/event/clive-davis-pre-grammy-gala-2023/
LOCATION:The Beverly Hilton
CATEGORIES:Music
ATTACH;FMTTYPE=image/png:https://laguestlist.com/wp-content/uploads/2023/01/clive.png
END:VEVENT
BEGIN:VEVENT
DTSTART;TZID=America/Los_Angeles:20230204T190000
DTEND;TZID=America/Los_Angeles:20230204T220000
DTSTAMP:20260421T102403
CREATED:20230126T024853Z
LAST-MODIFIED:20230126T024853Z
UID:47647-1675537200-1675548000@laguestlist.com
SUMMARY:Primary Wave’s 16th Annual Pre-Grammy Party
DESCRIPTION:Invite Only – Primary Wave Music and the Estate of Whitney E. Houston will honor the incomparable singer throughout Grammy week with a residency celebrating her 60th birthday\, career\, and life presented by Sony\, with additional sponsors M·A·C Cosmetics\, Proflowers\, and City National Bank.
URL:https://laguestlist.com/event/primary-waves-16th-annual-pre-grammy-party/
LOCATION:CA
CATEGORIES:Music
ATTACH;FMTTYPE=image/png:https://laguestlist.com/wp-content/uploads/2023/01/whitney.png
END:VEVENT
BEGIN:VEVENT
DTSTART;TZID=America/Los_Angeles:20230205T153000
DTEND;TZID=America/Los_Angeles:20230205T210000
DTSTAMP:20260421T102403
CREATED:20230128T153821Z
LAST-MODIFIED:20230128T154722Z
UID:47674-1675611000-1675630800@laguestlist.com
SUMMARY:Steven Tyler's Janies Fund 2023
DESCRIPTION:Invite Only – On Sunday 5th February 2023\, Steven Tyler will hold his fourth annual GRAMMY Awards Viewing Party to benefit Janie’s Fund in Hollywood. This year’s “Jam for Janie” will feature an epic performance by multi-platinum selling recording artist\, songwriter\, and trailblazer Miley Cyrus\, a long-time supporter of Janie’s Fund.
URL:https://laguestlist.com/event/steven-tylers-grammy-awards-viewing-party-2023/
LOCATION:The Palladium\, 6215 Sunset Boulevard\,  Los Angeles\, CA\, 90028\, United States
CATEGORIES:Award Show,Music
ATTACH;FMTTYPE=image/jpeg:https://laguestlist.com/wp-content/uploads/2023/01/FkXbI2sWIA4HAZk.jpg
END:VEVENT
BEGIN:VEVENT
DTSTART;TZID=America/Los_Angeles:20230205T170000
DTEND;TZID=America/Los_Angeles:20230205T220000
DTSTAMP:20260421T102403
CREATED:20221213T164428Z
LAST-MODIFIED:20221213T164428Z
UID:47423-1675616400-1675634400@laguestlist.com
SUMMARY:65th Annual GRAMMY Awards
DESCRIPTION:Invite Only – The 65th Annual GRAMMY Awards\, Music’s Biggest Night\, is set for Sun\, Feb. 5\, 2023\, returning to Los Angeles’ Crypto.com Arena and will broadcast live on the CBS Television Network and stream live and on-demand on Paramount+.
URL:https://laguestlist.com/event/65th-annual-grammy-awards/
LOCATION:Crypto.com Arena\, 1111 S Figueroa St\, Los Angeles\, CA\, 90015\, United States
CATEGORIES:Award Show,Music
ATTACH;FMTTYPE=image/png:https://laguestlist.com/wp-content/uploads/2022/12/Grammy-.png
END:VEVENT
BEGIN:VEVENT
DTSTART;TZID=America/Los_Angeles:20230205T190000
DTEND;TZID=America/Los_Angeles:20230205T220000
DTSTAMP:20260421T102403
CREATED:20230128T174002Z
LAST-MODIFIED:20230128T174002Z
UID:47676-1675623600-1675634400@laguestlist.com
SUMMARY:The Grammys & Henry Diltz Celebration
DESCRIPTION:Invite Only – Morrison Hotel Gallery is proud to announce that founding partner and legendary music photographer\, Henry Diltz\, is being honored with a Trustees Award on February 4th as a part of the Recording Academy annual Grammy Week. This Special Merit Award is presented to those who have made significant contributions in the music industry. Henry Diltz has photographed more than 250 album covers and thousands of publicity shots in the 1960s and 1970s\, including the iconic Morrison Hotel cover for the Doors. Diltz was the official photographer of the renowned 1969 Woodstock festival and his\nwork has appeared in The New York Times\, Los Angeles Times\, LIFE\, People\, Rolling Stone\, High Times\, and Billboard.
URL:https://laguestlist.com/event/the-grammys-henry-diltz-celebration/
LOCATION:Sunset Marquis\, 1200 Alta Loma Rd\, West Hollywood\, CA\, 90069\, United States
CATEGORIES:Music,Photography
ATTACH;FMTTYPE=image/jpeg:https://laguestlist.com/wp-content/uploads/2023/01/unnamed.jpg
END:VEVENT
BEGIN:VEVENT
DTSTART;TZID=America/Los_Angeles:20230301T160000
DTEND;TZID=America/Los_Angeles:20230301T220000
DTSTAMP:20260421T102403
CREATED:20230222T022416Z
LAST-MODIFIED:20230222T022416Z
UID:48002-1677686400-1677708000@laguestlist.com
SUMMARY:Billboard Women in Music 2023
DESCRIPTION:Ticketed – Billboard Women in Music is an annual event held by Billboard honoring Lana Del Rey\, Kim Petras\, TWICE\, Becky G & more.
URL:https://laguestlist.com/event/billboard-women-in-music-2023/
LOCATION:Youtube Theatre\, 1011 Stadium Dr\, Inglewood\, CA\, 90305\, United States
CATEGORIES:Magazine,Music
ATTACH;FMTTYPE=image/png:https://laguestlist.com/wp-content/uploads/2023/02/billboard.png
END:VEVENT
BEGIN:VEVENT
DTSTART;TZID=America/Los_Angeles:20230302T200000
DTEND;TZID=America/Los_Angeles:20230302T230000
DTSTAMP:20260421T102403
CREATED:20230301T001417Z
LAST-MODIFIED:20230301T001417Z
UID:48018-1677787200-1677798000@laguestlist.com
SUMMARY:Levis + Born x Raised Party
DESCRIPTION:Invite Only – Levis + Born x Raised Party to kick off Rolling Loud Festival with music by Chase B.
URL:https://laguestlist.com/event/levis-born-x-raised-party/
LOCATION:CA
CATEGORIES:Fashion,Music
ATTACH;FMTTYPE=image/jpeg:https://laguestlist.com/wp-content/uploads/2023/02/1-1.jpg
END:VEVENT
END:VCALENDAR