BEGIN:VCALENDAR
VERSION:2.0
PRODID:-//LA Guestlist - ECPv6.15.20//NONSGML v1.0//EN
CALSCALE:GREGORIAN
METHOD:PUBLISH
X-ORIGINAL-URL:https://laguestlist.com
X-WR-CALDESC:Events for LA Guestlist
REFRESH-INTERVAL;VALUE=DURATION:PT1H
X-Robots-Tag:noindex
X-PUBLISHED-TTL:PT1H
BEGIN:VTIMEZONE
TZID:America/Los_Angeles
BEGIN:DAYLIGHT
TZOFFSETFROM:-0800
TZOFFSETTO:-0700
TZNAME:PDT
DTSTART:20230312T100000
END:DAYLIGHT
BEGIN:STANDARD
TZOFFSETFROM:-0700
TZOFFSETTO:-0800
TZNAME:PST
DTSTART:20231105T090000
END:STANDARD
BEGIN:DAYLIGHT
TZOFFSETFROM:-0800
TZOFFSETTO:-0700
TZNAME:PDT
DTSTART:20240310T100000
END:DAYLIGHT
BEGIN:STANDARD
TZOFFSETFROM:-0700
TZOFFSETTO:-0800
TZNAME:PST
DTSTART:20241103T090000
END:STANDARD
BEGIN:DAYLIGHT
TZOFFSETFROM:-0800
TZOFFSETTO:-0700
TZNAME:PDT
DTSTART:20250309T100000
END:DAYLIGHT
BEGIN:STANDARD
TZOFFSETFROM:-0700
TZOFFSETTO:-0800
TZNAME:PST
DTSTART:20251102T090000
END:STANDARD
END:VTIMEZONE
BEGIN:VEVENT
DTSTART;TZID=America/Los_Angeles:20240601T170000
DTEND;TZID=America/Los_Angeles:20240602T220000
DTSTAMP:20260419T140241
CREATED:20240325T001421Z
LAST-MODIFIED:20240325T001421Z
UID:50137-1717261200-1717365600@laguestlist.com
SUMMARY:Outloud Music Festival 2024
DESCRIPTION:Ticketed – OUTLOUD Music Festival is a multi-day\, award-winning LGBTQ+ Music Festival\, profiling and celebrating Queer artistry as the kick-off concert to Pride Month with Kylie Minogue\, Janelle Monae\, Diplo\, and many more. This high-energy live music experience features show-stopping performances from the OUTLOUD Main Stage. Guests can enjoy tasty food and beverage areas\, cocktails and beer gardens\, photo ops\, surprise appearances\, and world-class stage production.
URL:https://laguestlist.com/event/outloud-music-festival-2024/
LOCATION:West Hollywood Park\, 647 N San Vicente Blvd\, West Hollywood\, CA\, 90069\, United States
CATEGORIES:Music
ATTACH;FMTTYPE=image/jpeg:https://laguestlist.com/wp-content/uploads/2024/03/Screensho-2.jpg
END:VEVENT
END:VCALENDAR