BEGIN:VCALENDAR
VERSION:2.0
PRODID:-//LA Guestlist - ECPv6.15.20//NONSGML v1.0//EN
CALSCALE:GREGORIAN
METHOD:PUBLISH
X-ORIGINAL-URL:https://laguestlist.com
X-WR-CALDESC:Events for LA Guestlist
REFRESH-INTERVAL;VALUE=DURATION:PT1H
X-Robots-Tag:noindex
X-PUBLISHED-TTL:PT1H
BEGIN:VTIMEZONE
TZID:America/Los_Angeles
BEGIN:DAYLIGHT
TZOFFSETFROM:-0800
TZOFFSETTO:-0700
TZNAME:PDT
DTSTART:20180311T100000
END:DAYLIGHT
BEGIN:STANDARD
TZOFFSETFROM:-0700
TZOFFSETTO:-0800
TZNAME:PST
DTSTART:20181104T090000
END:STANDARD
BEGIN:DAYLIGHT
TZOFFSETFROM:-0800
TZOFFSETTO:-0700
TZNAME:PDT
DTSTART:20190310T100000
END:DAYLIGHT
BEGIN:STANDARD
TZOFFSETFROM:-0700
TZOFFSETTO:-0800
TZNAME:PST
DTSTART:20191103T090000
END:STANDARD
BEGIN:DAYLIGHT
TZOFFSETFROM:-0800
TZOFFSETTO:-0700
TZNAME:PDT
DTSTART:20200308T100000
END:DAYLIGHT
BEGIN:STANDARD
TZOFFSETFROM:-0700
TZOFFSETTO:-0800
TZNAME:PST
DTSTART:20201101T090000
END:STANDARD
BEGIN:DAYLIGHT
TZOFFSETFROM:-0800
TZOFFSETTO:-0700
TZNAME:PDT
DTSTART:20210314T100000
END:DAYLIGHT
BEGIN:STANDARD
TZOFFSETFROM:-0700
TZOFFSETTO:-0800
TZNAME:PST
DTSTART:20211107T090000
END:STANDARD
BEGIN:DAYLIGHT
TZOFFSETFROM:-0800
TZOFFSETTO:-0700
TZNAME:PDT
DTSTART:20220313T100000
END:DAYLIGHT
BEGIN:STANDARD
TZOFFSETFROM:-0700
TZOFFSETTO:-0800
TZNAME:PST
DTSTART:20221106T090000
END:STANDARD
BEGIN:DAYLIGHT
TZOFFSETFROM:-0800
TZOFFSETTO:-0700
TZNAME:PDT
DTSTART:20230312T100000
END:DAYLIGHT
BEGIN:STANDARD
TZOFFSETFROM:-0700
TZOFFSETTO:-0800
TZNAME:PST
DTSTART:20231105T090000
END:STANDARD
END:VTIMEZONE
BEGIN:VEVENT
DTSTART;TZID=America/Los_Angeles:20191207T110000
DTEND;TZID=America/Los_Angeles:20191207T140000
DTSTAMP:20260423T213021
CREATED:20191202T034428Z
LAST-MODIFIED:20191202T034428Z
UID:39445-1575716400-1575727200@laguestlist.com
SUMMARY:Variety's Hitmaker of the Year Brunch
DESCRIPTION:Invite Only – Variety is pleased to announce the honorees for its third annual Hitmakers issue to be published on December 4th. Celebrating the year in music\, the Hitmakers print package recognizes the writers\, producers\, publishers\, managers and executives who helped make — and break — the 25 most consumed songs of the year as compiled by BuzzAngle Music. Hitmakers culminates in a by-invitation-only brunch to be held on Saturday\, December 7\, sponsored by Citi. At the event\, Citi and Variety will present an award to a female artist who has used her influence to support women in the music business.
URL:https://laguestlist.com/event/varietys-hitmaker-of-the-year-brunch/
LOCATION:CA
CATEGORIES:Magazine,Music
ATTACH;FMTTYPE=image/jpeg:https://laguestlist.com/wp-content/uploads/2019/12/ye3a94p.jpg
END:VEVENT
BEGIN:VEVENT
DTSTART;TZID=America/Los_Angeles:20200123T180000
DTEND;TZID=America/Los_Angeles:20200123T200000
DTSTAMP:20260423T213021
CREATED:20200118T200728Z
LAST-MODIFIED:20200118T200728Z
UID:39874-1579802400-1579809600@laguestlist.com
SUMMARY:2020 Billboard Power List
DESCRIPTION:Invite Only – 2020 Billboard Power List Celebration with a Soundcloud Showcase live onstage.
URL:https://laguestlist.com/event/2020-billboard-power-list/
LOCATION:CA
CATEGORIES:Magazine,Music
ATTACH;FMTTYPE=image/png:https://laguestlist.com/wp-content/uploads/2020/01/Screen-Shot-2020-01-18-at-12.05.25-PM.png
END:VEVENT
BEGIN:VEVENT
DTSTART;TZID=America/Los_Angeles:20200220T190000
DTEND;TZID=America/Los_Angeles:20200221T020000
DTSTAMP:20260423T213021
CREATED:20200211T175632Z
LAST-MODIFIED:20200211T175632Z
UID:40144-1582225200-1582250400@laguestlist.com
SUMMARY:Easyriders Re-Launch & 50th Anniversary Party
DESCRIPTION:Invite Only – Celebrate the Re-Launch & 50th Anniversary of Easyriders magazines with live music bu Wild Belle and DJ set by Jesse Hughes from Eagles of Death Metal\,\nart activations\, and complimentary food and drinks.
URL:https://laguestlist.com/event/easyriders-re-launch-50th-anniversary-party/
LOCATION:CA
CATEGORIES:Magazine
ATTACH;FMTTYPE=image/png:https://laguestlist.com/wp-content/uploads/2020/02/Screen-Shot-2020-02-11-at-9.53.40-AM.png
END:VEVENT
BEGIN:VEVENT
DTSTART;TZID=America/Los_Angeles:20210624T200000
DTEND;TZID=America/Los_Angeles:20210624T230000
DTSTAMP:20260423T213021
CREATED:20210623T040658Z
LAST-MODIFIED:20210623T040658Z
UID:43557-1624564800-1624575600@laguestlist.com
SUMMARY:Galore: Youth Issue Party
DESCRIPTION:Invite Only – Prince + Jacob invite guests to celebrate Galore Magazines Youth Issue hosted by Atiana De La Hoya with special guests.
URL:https://laguestlist.com/event/galore-youth-issue-party/
LOCATION:CA
CATEGORIES:Magazine
ATTACH;FMTTYPE=image/png:https://laguestlist.com/wp-content/uploads/2021/06/Screen-Shot-2021-06-22-at-9.04.50-PM.png
END:VEVENT
BEGIN:VEVENT
DTSTART;TZID=America/Los_Angeles:20210805T210000
DTEND;TZID=America/Los_Angeles:20210806T000000
DTSTAMP:20260423T213021
CREATED:20210730T144819Z
LAST-MODIFIED:20210730T144819Z
UID:44000-1628197200-1628208000@laguestlist.com
SUMMARY:FLAUNT Presents The Future Experience
DESCRIPTION:Invite Only – Join FLAUNT at Bar Lis\, the new open-air rooftop lounge for an evening of stargazing and dancing\, featuring performances by Tatiana Hazel\, Heidi Lawden\, and special guests to celebrate The Future Experience.
URL:https://laguestlist.com/event/flaunt-presents-the-future-experience/
LOCATION:CA
CATEGORIES:Magazine
ATTACH;FMTTYPE=image/jpeg:https://laguestlist.com/wp-content/uploads/2021/07/Screen-Shot-2021-07-30-at-7.45.59-AM.jpg
END:VEVENT
BEGIN:VEVENT
DTSTART;TZID=America/Los_Angeles:20210813T210000
DTEND;TZID=America/Los_Angeles:20210814T020000
DTSTAMP:20260423T213021
CREATED:20210813T034022Z
LAST-MODIFIED:20210813T034022Z
UID:44187-1628888400-1628906400@laguestlist.com
SUMMARY:Foxes Issue 9 Release
DESCRIPTION:Invite Only – Foxes Issue 9 Release Party with tunes by Myles Hendrik and Wade Crescent and a live performance by More*
URL:https://laguestlist.com/event/foxes-issue-9-release/
LOCATION:CA
CATEGORIES:Magazine
ATTACH;FMTTYPE=image/jpeg:https://laguestlist.com/wp-content/uploads/2021/08/Screen-Shot-2021-08-12-at-8.37.28-PM.jpg
END:VEVENT
BEGIN:VEVENT
DTSTART;TZID=America/Los_Angeles:20211118T190000
DTEND;TZID=America/Los_Angeles:20211118T220000
DTSTAMP:20260423T213021
CREATED:20211114T014619Z
LAST-MODIFIED:20211114T014619Z
UID:44793-1637262000-1637272800@laguestlist.com
SUMMARY:GQ Men of The Year Awards 2021
DESCRIPTION:Invite Only –  Editor in Chief Jim Nelson Presents the GQ Men of the Year Party\, celebrating their Men of the Year issue.
URL:https://laguestlist.com/event/gq-men-of-the-year-awards-2021/
LOCATION:CA
CATEGORIES:Fashion,Magazine
ATTACH;FMTTYPE=image/jpeg:https://laguestlist.com/wp-content/uploads/2021/11/Screen-Shot-2021-11-13-at-5.44.09-PM.jpg
END:VEVENT
BEGIN:VEVENT
DTSTART;TZID=America/Los_Angeles:20220210T223000
DTEND;TZID=America/Los_Angeles:20220211T020000
DTSTAMP:20260423T213021
CREATED:20220209T150810Z
LAST-MODIFIED:20220209T150810Z
UID:45254-1644532200-1644544800@laguestlist.com
SUMMARY:Treats Presents MainRō VIP Preview
DESCRIPTION:Invite Only – MainRō VIP Preview hosted by Treats in Hollywood with sounds by
URL:https://laguestlist.com/event/treats-presents-mainro-vip-preview/
LOCATION:CA
CATEGORIES:Magazine
ATTACH;FMTTYPE=image/jpeg:https://laguestlist.com/wp-content/uploads/2022/02/Screen-Shot-2022-02-09-at-7.05.51-AM.jpg
END:VEVENT
BEGIN:VEVENT
DTSTART;TZID=America/Los_Angeles:20220212T220000
DTEND;TZID=America/Los_Angeles:20220213T020000
DTSTAMP:20260423T213021
CREATED:20220106T144334Z
LAST-MODIFIED:20220106T144334Z
UID:45106-1644703200-1644717600@laguestlist.com
SUMMARY:Maxim Electric Nights with Tiesto
DESCRIPTION:Invite Only – The Maxim Super Bowl LVI party in Los Angeles is called Maxim Electric Nights. The iconic magazine is putting together one of the biggest Super Bowl week parties in Los Angeles during the weekend of the Big Game in 2022. Dubbed “Maxim Electric Nights\,” this glitzy event will take place on Saturday\, February 12th at City Market LA in the center of downtown the night before the Super Bowl
URL:https://laguestlist.com/event/maxim-electric-nights-with-tiesto/
LOCATION:City Market Social House\, 1137 South San Pedro Street\, Los Angeles\, CA\, 90015\, United States
CATEGORIES:Magazine,Sports
ATTACH;FMTTYPE=image/jpeg:https://laguestlist.com/wp-content/uploads/2022/01/Screen-Shot-2022-01-06-at-7.38.25-AM.jpg
END:VEVENT
BEGIN:VEVENT
DTSTART;TZID=America/Los_Angeles:20220318T220000
DTEND;TZID=America/Los_Angeles:20220319T020000
DTSTAMP:20260423T213021
CREATED:20220315T143821Z
LAST-MODIFIED:20220315T143821Z
UID:45387-1647640800-1647655200@laguestlist.com
SUMMARY:Galore Presents Rodeo Disco with Gigi Goode
DESCRIPTION:Invite Only – Prince Chenoa invites guests to celebrate Rodeo Disco hosted by Gigi Goode with a special guest performance by Jenevieve.
URL:https://laguestlist.com/event/galore-presents-rodeo-disco-with-gigi-goode/
LOCATION:CA
CATEGORIES:Magazine
ATTACH;FMTTYPE=image/png:https://laguestlist.com/wp-content/uploads/2022/03/Screen-Shot-2022-03-15-at-7.35.25-AM.png
END:VEVENT
BEGIN:VEVENT
DTSTART;TZID=America/Los_Angeles:20220329T190000
DTEND;TZID=America/Los_Angeles:20220329T220000
DTSTAMP:20260423T213021
CREATED:20220329T165704Z
LAST-MODIFIED:20220329T165704Z
UID:45495-1648580400-1648591200@laguestlist.com
SUMMARY:PrettyLittleThing x Galore Digital Cover Launch Party
DESCRIPTION:Invite Only – PrettyLittleThing x Galore Digital Cover Launch Party with Christine Quinn.
URL:https://laguestlist.com/event/prettylittlething-x-galore-digital-cover-launch-party/
LOCATION:CA
CATEGORIES:Magazine
ATTACH;FMTTYPE=image/png:https://laguestlist.com/wp-content/uploads/2022/03/Screen-Shot-2022-03-29-at-9.55.16-AM.png
END:VEVENT
BEGIN:VEVENT
DTSTART;TZID=America/Los_Angeles:20220413T210000
DTEND;TZID=America/Los_Angeles:20220414T020000
DTSTAMP:20260423T213021
CREATED:20220405T182917Z
LAST-MODIFIED:20220405T182917Z
UID:45647-1649883600-1649901600@laguestlist.com
SUMMARY:Flaunt Presents The Phone a Friend Issue
DESCRIPTION:Invite Only – Flaunt and Pandora are throwing an exclusive party to celebrate The Phone a Friend Issue featuring performances by Becky G\, Lous and the Yakuza and special guests with cocktails by Dos Hombres.
URL:https://laguestlist.com/event/flaunt-presents-the-phone-a-friend-issue/
LOCATION:CA
CATEGORIES:Magazine
ATTACH;FMTTYPE=image/png:https://laguestlist.com/wp-content/uploads/2022/04/Screen-Shot-2022-04-05-at-11.26.29-AM.png
END:VEVENT
BEGIN:VEVENT
DTSTART;TZID=America/Los_Angeles:20220415T140000
DTEND;TZID=America/Los_Angeles:20220415T180000
DTSTAMP:20260423T213021
CREATED:20220408T004755Z
LAST-MODIFIED:20220408T004755Z
UID:45651-1650031200-1650045600@laguestlist.com
SUMMARY:Galore Ranch Hosted by Tyga & Chloe Cherry
DESCRIPTION:Invite Only –  Galore\, Foot Locker\, 1800 Tequila\, and NTWRK are throwing it down in the desert hosted by rapper Tyga and Euphoria’s Chloe Cherry. There will be stations for hand-crafted 1800 Tequila cocktails\, glam sessions poolside with NYX Pro Make-up artists\, DJ sets\, and exclusive collaborations from streetwear and design legends like Chicago Bulls design advisor Don C\, Foot Locker’s first women’s creative director Melody Ehsani\, vintage purveyor Sean Wotherspoon\, rapper Freddie Gibbs and more.
URL:https://laguestlist.com/event/galore-ranch-hosted-by-tyga-chloe-cherry/
LOCATION:Palm Springs
CATEGORIES:Coachella,Magazine
ATTACH;FMTTYPE=image/png:https://laguestlist.com/wp-content/uploads/2022/04/Screen-Shot-2022-04-07-at-5.44.07-PM.png
END:VEVENT
BEGIN:VEVENT
DTSTART;TZID=America/Los_Angeles:20220420T120000
DTEND;TZID=America/Los_Angeles:20220420T190000
DTSTAMP:20260423T213021
CREATED:20220419T200514Z
LAST-MODIFIED:20220419T210936Z
UID:45728-1650456000-1650481200@laguestlist.com
SUMMARY:LA Weekly 420 Issue Pool Party
DESCRIPTION:RSVP – Hotel Ziggy’s first official Pool Party this Wednesday\, April 20th in celebration of LA WEEKLY’S 4.20 edition Presented by Lumpy’s Flowers! Get your dance on poolside with sets by Lexi Stellwood\, followed by a special guest DJ set by Alex Carapetis and DJ Pookie. Enjoy refreshing cocktails in the sun featuring JAJA drink specials and guests will stay hydrated with Caliwater\, a Cactus Based Functional Beverage. Activations\, including a Tarot Card reader from 1-5 pm\, and brand inclusions will be offered\, along with poolside food stations and check out Ziggy’s new poolside bites menu.
URL:https://laguestlist.com/event/la-weekly-420-issue-pool-party/
LOCATION:Hotel Ziggy\, 8462 Sunset Blvd\, West Hollywood\, CA\, 90069\, United States
CATEGORIES:Magazine
ATTACH;FMTTYPE=image/jpeg:https://laguestlist.com/wp-content/uploads/2022/04/1-8.jpg
END:VEVENT
BEGIN:VEVENT
DTSTART;TZID=America/Los_Angeles:20220512T190000
DTEND;TZID=America/Los_Angeles:20220512T220000
DTSTAMP:20260423T213021
CREATED:20220506T221930Z
LAST-MODIFIED:20220506T221930Z
UID:45842-1652382000-1652392800@laguestlist.com
SUMMARY:Flaunt & Onitsuka Tiger: Spring Fling
DESCRIPTION:Invite Only – Flaunt Magazine & Onitsuka Tiger Present Spring Fling Hosted by Nico Hiraga with DJ Sets by PLÄYGIRL\, Drew Byrd\, and special guests with cocktails and horse d’oeuvres.
URL:https://laguestlist.com/event/flaunt-onitsuka-tiger-spring-fling/
LOCATION:CA
CATEGORIES:Magazine
ATTACH;FMTTYPE=image/png:https://laguestlist.com/wp-content/uploads/2022/05/Screen-Shot-2022-05-06-at-3.16.49-PM.png
END:VEVENT
BEGIN:VEVENT
DTSTART;TZID=America/Los_Angeles:20220609T203000
DTEND;TZID=America/Los_Angeles:20220609T223000
DTSTAMP:20260423T213021
CREATED:20220608T164940Z
LAST-MODIFIED:20220608T164940Z
UID:45946-1654806600-1654813800@laguestlist.com
SUMMARY:ELLE Women In Music 2022
DESCRIPTION:Invite Only – ELLE Magazine partners with Dolce & Gabbana to host the annual event celebrating the special issue honoring Doja Cat.
URL:https://laguestlist.com/event/elle-women-in-music-2022/
LOCATION:CA
CATEGORIES:Magazine,Music
ATTACH;FMTTYPE=image/jpeg:https://laguestlist.com/wp-content/uploads/2022/06/Doja-Cat-ELLE-Magazine-June-July-2022-Women-in-Music-Issue-Tom-Lorenzo-Site-TLO-1.jpg
END:VEVENT
BEGIN:VEVENT
DTSTART;TZID=America/Los_Angeles:20220615T193000
DTEND;TZID=America/Los_Angeles:20220615T220000
DTSTAMP:20260423T213021
CREATED:20220615T035159Z
LAST-MODIFIED:20220615T035159Z
UID:46045-1655321400-1655330400@laguestlist.com
SUMMARY:Food & Beverage Launch Issue
DESCRIPTION:Invite Only – Lance Bass celebrates his cover on the June 2022 issue of Food & Beverage Magazine with drinks\, food and immaculate vibes all night.
URL:https://laguestlist.com/event/food-beverage-launch-issue/
LOCATION:CA
CATEGORIES:Magazine
ATTACH;FMTTYPE=image/png:https://laguestlist.com/wp-content/uploads/2022/06/Screen-Shot-2022-06-14-at-8.49.50-PM.png
END:VEVENT
BEGIN:VEVENT
DTSTART;TZID=America/Los_Angeles:20220727T203000
DTEND;TZID=America/Los_Angeles:20220728T010000
DTSTAMP:20260423T213021
CREATED:20220725T235019Z
LAST-MODIFIED:20220725T235019Z
UID:46190-1658953800-1658970000@laguestlist.com
SUMMARY:Versace Odissea Release
DESCRIPTION:Invite Only – Dazed Magazine celebrates thed release of the Versace Odissea Sneaker with special DJ Sets by Heron Preston\, Siobhan Bell\, and Bae Bae.
URL:https://laguestlist.com/event/versace-odissea-release/
LOCATION:CA
CATEGORIES:Event,Fashion,Magazine
ATTACH;FMTTYPE=image/png:https://laguestlist.com/wp-content/uploads/2022/07/Screen-Shot-2022-07-25-at-4.47.15-PM.png
END:VEVENT
BEGIN:VEVENT
DTSTART;TZID=America/Los_Angeles:20220811T193000
DTEND;TZID=America/Los_Angeles:20220811T220000
DTSTAMP:20260423T213021
CREATED:20220725T234645Z
LAST-MODIFIED:20220725T234645Z
UID:46188-1660246200-1660255200@laguestlist.com
SUMMARY:Variety 2022 Power of Young Hollywood
DESCRIPTION:Invite Only – Variety’s Power of Young Hollywood celebration returns to Los Angeles in person on August 11\, presented by Facebook Gaming. Variety will host an esteemed group of young actors\, musicians\, digital influencers\, and more. The invite-only party includes a red carpet\, cocktail hour\, awards ceremony\, and special gaming tournament. This year’s honorees include Brooklyn Peltz Beckham\, Angus Cloud\, Halle Bailey and Becky G. They will appear on a split run cover of Variety’s annual Power of Young Hollywood issue\, on newsstands August 10.
URL:https://laguestlist.com/event/variety-2022-power-of-young-hollywood/
LOCATION:Neuehouse\,  6121 Sunset Blvd\, Los Angeles\, CA\, 90028\, United States
CATEGORIES:Magazine
ATTACH;FMTTYPE=image/png:https://laguestlist.com/wp-content/uploads/2022/07/unnamed-2.png
END:VEVENT
BEGIN:VEVENT
DTSTART;TZID=America/Los_Angeles:20220824T190000
DTEND;TZID=America/Los_Angeles:20220824T210000
DTSTAMP:20260423T213021
CREATED:20220823T200755Z
LAST-MODIFIED:20220823T200755Z
UID:46456-1661367600-1661374800@laguestlist.com
SUMMARY:Galore Celebrates Summer Issue
DESCRIPTION:Invite Only – Galore Celebrates Summer Issue with host Marta Pozzan\, and DJ sets by BJPandaBear and Brandy Cyrus.
URL:https://laguestlist.com/event/galore-celebrates-summer-issue/
LOCATION:Fred Segal Sunset
CATEGORIES:Magazine
ATTACH;FMTTYPE=image/png:https://laguestlist.com/wp-content/uploads/2022/08/Screen-Shot-2022-08-23-at-1.03.59-PM.png
END:VEVENT
BEGIN:VEVENT
DTSTART;TZID=America/Los_Angeles:20220831T180000
DTEND;TZID=America/Los_Angeles:20220831T200000
DTSTAMP:20260423T213021
CREATED:20220819T155426Z
LAST-MODIFIED:20220819T155426Z
UID:46423-1661968800-1661976000@laguestlist.com
SUMMARY:Flaunt & Magnlens Celebration
DESCRIPTION:Invite Only – Flaunt & Magnlens cocktail celebration in honor of Magnlens US Flagship and The First Time Offenders Issue.
URL:https://laguestlist.com/event/flaunt-magnlens-celebration/
LOCATION:CA
CATEGORIES:Grand Opening,Magazine
ATTACH;FMTTYPE=image/png:https://laguestlist.com/wp-content/uploads/2022/08/Screen-Shot-2022-08-19-at-8.51.45-AM.png
END:VEVENT
BEGIN:VEVENT
DTSTART;TZID=America/Los_Angeles:20220831T210000
DTEND;TZID=America/Los_Angeles:20220901T000000
DTSTAMP:20260423T213021
CREATED:20220824T003239Z
LAST-MODIFIED:20220824T003239Z
UID:46460-1661979600-1661990400@laguestlist.com
SUMMARY:Flaunt & Magnlens First Time Offenders After Party
DESCRIPTION:Invite Only – Flaunt & Magnlens First Time Offenders After Party following the opening of Magnlens flagship store.
URL:https://laguestlist.com/event/flaunt-magnlens-first-time-offenders-after-party/
LOCATION:CA
CATEGORIES:Magazine
ATTACH;FMTTYPE=image/png:https://laguestlist.com/wp-content/uploads/2022/08/Screen-Shot-2022-08-23-at-5.30.39-PM.png
END:VEVENT
BEGIN:VEVENT
DTSTART;TZID=America/Los_Angeles:20220929T210000
DTEND;TZID=America/Los_Angeles:20220930T000000
DTSTAMP:20260423T213021
CREATED:20220926T223427Z
LAST-MODIFIED:20220926T223427Z
UID:46656-1664485200-1664496000@laguestlist.com
SUMMARY:Flaunt: The Emotional Rescue Issue
DESCRIPTION:Invite Only – Flaunt Magazine will preview The Emotional Rescue Issue honoring Barbie Ferreira with cocktails by Dos Hombre.
URL:https://laguestlist.com/event/flaunt-the-emotional-rescue-issue/
LOCATION:CA
CATEGORIES:Magazine
ATTACH;FMTTYPE=image/png:https://laguestlist.com/wp-content/uploads/2022/09/screen.png
END:VEVENT
BEGIN:VEVENT
DTSTART;TZID=America/Los_Angeles:20221026T170000
DTEND;TZID=America/Los_Angeles:20221026T190000
DTSTAMP:20260423T213021
CREATED:20221020T005629Z
LAST-MODIFIED:20221020T005629Z
UID:46889-1666803600-1666810800@laguestlist.com
SUMMARY:Marni x Cultured Magazine
DESCRIPTION:Invite Only – Marni will host a private evening with Sarah Harrelson and Laura Dubin-Wander at Marni for an evening of cocktails and shopping in partnership with Cultured Magazine.
URL:https://laguestlist.com/event/marni-x-cultured-magazine/
LOCATION:CA
CATEGORIES:Fashion,Magazine
ATTACH;FMTTYPE=image/png:https://laguestlist.com/wp-content/uploads/2022/10/Marni.png
END:VEVENT
BEGIN:VEVENT
DTSTART;TZID=America/Los_Angeles:20221026T210000
DTEND;TZID=America/Los_Angeles:20221027T000000
DTSTAMP:20260423T213021
CREATED:20221020T010610Z
LAST-MODIFIED:20221020T010610Z
UID:46893-1666818000-1666828800@laguestlist.com
SUMMARY:Flaunt x The Big Pink
DESCRIPTION:Invite Only – FLAUNT and Houston Bros are teaming up for the exclusive after-party celebration of the new record from\nThe Big Pink features a live performance\, and champagne courtesy of Peermusic.
URL:https://laguestlist.com/event/flaunt-x-the-big-pink/
LOCATION:CA
CATEGORIES:Magazine,Music
ATTACH;FMTTYPE=image/png:https://laguestlist.com/wp-content/uploads/2022/10/Flaunt.png
END:VEVENT
BEGIN:VEVENT
DTSTART;TZID=America/Los_Angeles:20221103T180000
DTEND;TZID=America/Los_Angeles:20221103T200000
DTSTAMP:20260423T213021
CREATED:20221103T005251Z
LAST-MODIFIED:20221103T005251Z
UID:47078-1667498400-1667505600@laguestlist.com
SUMMARY:Galore Mag x ESPRIT
DESCRIPTION:Invite Only – Galore Mag and ESPRIT are hosting an exclusive pop-up to shop items from the ESPRIT x Tamtotsu Yagi capsule collection with host Charlotte D’Alessio.
URL:https://laguestlist.com/event/galore-mag-x-esprit/
LOCATION:CA
CATEGORIES:Fashion,Magazine
END:VEVENT
BEGIN:VEVENT
DTSTART;TZID=America/Los_Angeles:20221109T190000
DTEND;TZID=America/Los_Angeles:20221109T220000
DTSTAMP:20260423T213021
CREATED:20221104T175047Z
LAST-MODIFIED:20221104T175047Z
UID:47089-1668020400-1668031200@laguestlist.com
SUMMARY:Flaunt Celebrate The Emotional Rescue Issue
DESCRIPTION:Invite Only – Flaunt and Ben Bridges Celebrate The Emotional Rescue Issue honoring Jessica Alba.
URL:https://laguestlist.com/event/flaunt-celebrate-the-emotional-rescue-issue/
LOCATION:CA
CATEGORIES:Magazine
ATTACH;FMTTYPE=image/png:https://laguestlist.com/wp-content/uploads/2022/11/Flaunt.png
END:VEVENT
BEGIN:VEVENT
DTSTART;TZID=America/Los_Angeles:20221112T110000
DTEND;TZID=America/Los_Angeles:20221112T180000
DTSTAMP:20260423T213021
CREATED:20221019T200555Z
LAST-MODIFIED:20221019T200555Z
UID:46878-1668250800-1668276000@laguestlist.com
SUMMARY:Teen Vogue Summit 2022
DESCRIPTION:Ticketed – Teen Vogue Summit returns to Los Angeles on November 12th for an all-day block party celebration featuring inspirational conversations\, food trucks\, music\, and much more.
URL:https://laguestlist.com/event/teen-vogue-summit-2022/
LOCATION:Goya Studios\, 1541 N Cahuenga Blvd\, Los Angeles\, CA\, United States
CATEGORIES:Magazine,Networking
ATTACH;FMTTYPE=image/png:https://laguestlist.com/wp-content/uploads/2022/10/teenv.png
END:VEVENT
BEGIN:VEVENT
DTSTART;TZID=America/Los_Angeles:20221117T200000
DTEND;TZID=America/Los_Angeles:20221118T000000
DTSTAMP:20260423T213021
CREATED:20221109T173445Z
LAST-MODIFIED:20221109T173445Z
UID:47157-1668715200-1668729600@laguestlist.com
SUMMARY:GQ Men Of The Year 2022
DESCRIPTION:Invite Only – Editor-in-Chief Will Welch Presents the GQ Men of the Year Party\, celebrating their Men of the Year issue.
URL:https://laguestlist.com/event/gq-men-of-the-year-2022/
LOCATION:CA
CATEGORIES:Magazine
ATTACH;FMTTYPE=image/png:https://laguestlist.com/wp-content/uploads/2022/11/GQ.png
END:VEVENT
BEGIN:VEVENT
DTSTART;TZID=America/Los_Angeles:20221117T220000
DTEND;TZID=America/Los_Angeles:20221118T000000
DTSTAMP:20260423T213021
CREATED:20221029T000950Z
LAST-MODIFIED:20221029T000950Z
UID:47025-1668722400-1668729600@laguestlist.com
SUMMARY:Billboard Live: City Girls
DESCRIPTION:Ticketed – To celebrate the unveiling of Billboard’s R&B/Hip-Hop Power Players list & issue\, Billboard will be hosting Billboard Live: R&B/Hip-Hop\, an open-to-the-public can’t miss music event. Concert attendees will be treated to an unforgettable night with the exclusive opportunity to see performances by hip-hop’s hottest female artists up close and personal. The night will kick off with an opening set\, presented by Samsung\, from Alabama’s very own princess of rap Flo Milli. Fans will then enjoy an electrifying headlining performance from the hit-making duo City Girls.
URL:https://laguestlist.com/event/billboard-live-city-girls/
LOCATION:Academy LA\, 6021 Hollywood Blvd.\, Los Angeles\, CA\, 90028\, United States
CATEGORIES:Magazine,Nightlife
ATTACH;FMTTYPE=image/jpeg:https://laguestlist.com/wp-content/uploads/2022/10/unnamed-1-2.jpg
END:VEVENT
END:VCALENDAR