BEGIN:VCALENDAR
VERSION:2.0
PRODID:-//LA Guestlist - ECPv6.15.20//NONSGML v1.0//EN
CALSCALE:GREGORIAN
METHOD:PUBLISH
X-ORIGINAL-URL:https://laguestlist.com
X-WR-CALDESC:Events for LA Guestlist
REFRESH-INTERVAL;VALUE=DURATION:PT1H
X-Robots-Tag:noindex
X-PUBLISHED-TTL:PT1H
BEGIN:VTIMEZONE
TZID:America/Los_Angeles
BEGIN:DAYLIGHT
TZOFFSETFROM:-0800
TZOFFSETTO:-0700
TZNAME:PDT
DTSTART:20170312T100000
END:DAYLIGHT
BEGIN:STANDARD
TZOFFSETFROM:-0700
TZOFFSETTO:-0800
TZNAME:PST
DTSTART:20171105T090000
END:STANDARD
BEGIN:DAYLIGHT
TZOFFSETFROM:-0800
TZOFFSETTO:-0700
TZNAME:PDT
DTSTART:20180311T100000
END:DAYLIGHT
BEGIN:STANDARD
TZOFFSETFROM:-0700
TZOFFSETTO:-0800
TZNAME:PST
DTSTART:20181104T090000
END:STANDARD
BEGIN:DAYLIGHT
TZOFFSETFROM:-0800
TZOFFSETTO:-0700
TZNAME:PDT
DTSTART:20190310T100000
END:DAYLIGHT
BEGIN:STANDARD
TZOFFSETFROM:-0700
TZOFFSETTO:-0800
TZNAME:PST
DTSTART:20191103T090000
END:STANDARD
BEGIN:DAYLIGHT
TZOFFSETFROM:-0800
TZOFFSETTO:-0700
TZNAME:PDT
DTSTART:20200308T100000
END:DAYLIGHT
BEGIN:STANDARD
TZOFFSETFROM:-0700
TZOFFSETTO:-0800
TZNAME:PST
DTSTART:20201101T090000
END:STANDARD
BEGIN:DAYLIGHT
TZOFFSETFROM:-0800
TZOFFSETTO:-0700
TZNAME:PDT
DTSTART:20210314T100000
END:DAYLIGHT
BEGIN:STANDARD
TZOFFSETFROM:-0700
TZOFFSETTO:-0800
TZNAME:PST
DTSTART:20211107T090000
END:STANDARD
END:VTIMEZONE
BEGIN:VEVENT
DTSTART;TZID=America/Los_Angeles:20181202T190000
DTEND;TZID=America/Los_Angeles:20181202T230000
DTSTAMP:20260419T210821
CREATED:20181201T234611Z
LAST-MODIFIED:20181201T234611Z
UID:36501-1543777200-1543791600@laguestlist.com
SUMMARY:Patrick Starrr x MAC Holiday Party
DESCRIPTION:Invite Only – Get on board for the ultimate slay ride! Party with Patrick Starr as he unveils his final\, most festive MAC collab\, come decked out in total holiday glam\, prepped for a wild night and ready to slay.
URL:https://laguestlist.com/event/patrick-starrr-x-mac-holiday-party/
LOCATION:CA
CATEGORIES:Holiday Party
ATTACH;FMTTYPE=image/png:https://laguestlist.com/wp-content/uploads/2018/12/Screen-Shot-2018-12-01-at-3.43.48-PM.png
END:VEVENT
BEGIN:VEVENT
DTSTART;TZID=America/Los_Angeles:20181203T210000
DTEND;TZID=America/Los_Angeles:20181204T000000
DTSTAMP:20260419T210821
CREATED:20181201T235054Z
LAST-MODIFIED:20181201T235054Z
UID:36505-1543870800-1543881600@laguestlist.com
SUMMARY:Skam Artist Annual Holiday Party
DESCRIPTION:Invite Only – The Skam Artist Annual Holiday Party is back in full force\, taking over Dave & Buster’s.
URL:https://laguestlist.com/event/skam-artist-annual-holiday-party/
LOCATION:CA
CATEGORIES:Holiday Party
ATTACH;FMTTYPE=image/png:https://laguestlist.com/wp-content/uploads/2018/12/Screen-Shot-2018-12-01-at-3.48.21-PM.png
END:VEVENT
BEGIN:VEVENT
DTSTART;TZID=America/Los_Angeles:20181207T140000
DTEND;TZID=America/Los_Angeles:20181207T190000
DTSTAMP:20260419T210821
CREATED:20181125T204519Z
LAST-MODIFIED:20181125T204551Z
UID:36441-1544191200-1544209200@laguestlist.com
SUMMARY:Ultimate Holiday Dress Shop at the REVOLVE Social Club
DESCRIPTION:Invite Only – RSVP to our ultimate Holiday Dress Shop at the REVOLVE Social Club. Bring your squad to shop the best Holiday dresses of the season while sipping champagne and getting glam at our hair and makeup bar!
URL:https://laguestlist.com/event/ultimate-holiday-dress-shop-at-the-revolve-social-club/
LOCATION:REVOLVE Social Club\, 8070 Melrose Ave.\, Los Angeles\, CA\, United States
CATEGORIES:Holiday Party
ATTACH;FMTTYPE=image/png:https://laguestlist.com/wp-content/uploads/2018/11/Screen-Shot-2018-11-25-at-1.44.24-PM.png
END:VEVENT
BEGIN:VEVENT
DTSTART;TZID=America/Los_Angeles:20181208T100000
DTEND;TZID=America/Los_Angeles:20181208T170000
DTSTAMP:20260419T210821
CREATED:20181125T204714Z
LAST-MODIFIED:20181125T204714Z
UID:36444-1544263200-1544288400@laguestlist.com
SUMMARY:Ultimate Holiday Dress Shop at the REVOLVE Social Club
DESCRIPTION:Invite Only – RSVP to our ultimate Holiday Dress Shop at the REVOLVE Social Club. Bring your squad to shop the best Holiday dresses of the season while sipping champagne and getting glam at our hair and makeup bar!
URL:https://laguestlist.com/event/ultimate-holiday-dress-shop-at-the-revolve-social-club-2/
LOCATION:REVOLVE Social Club\, 8070 Melrose Ave.\, Los Angeles\, CA\, United States
CATEGORIES:Holiday Party
ATTACH;FMTTYPE=image/png:https://laguestlist.com/wp-content/uploads/2018/11/Screen-Shot-2018-11-25-at-1.44.24-PM.png
END:VEVENT
BEGIN:VEVENT
DTSTART;TZID=America/Los_Angeles:20181211T203000
DTEND;TZID=America/Los_Angeles:20181211T230000
DTSTAMP:20260419T210821
CREATED:20181202T002455Z
LAST-MODIFIED:20181202T002455Z
UID:36533-1544560200-1544569200@laguestlist.com
SUMMARY:CASPER Holiday Party
DESCRIPTION:Invite Onlyy – Celebrate the holidays with CASPER! Guests will enjoy refreshments\, light bites\, music by DJ Rush\, and special performances as we get into the holiday spirit.
URL:https://laguestlist.com/event/casper-holiday-party-2/
LOCATION:CA
CATEGORIES:Holiday Party
ATTACH;FMTTYPE=image/png:https://laguestlist.com/wp-content/uploads/2018/12/Screen-Shot-2018-12-01-at-4.21.03-PM.png
END:VEVENT
BEGIN:VEVENT
DTSTART;TZID=America/Los_Angeles:20181215T200000
DTEND;TZID=America/Los_Angeles:20181216T020000
DTSTAMP:20260419T210821
CREATED:20181215T200045Z
LAST-MODIFIED:20181215T200045Z
UID:36614-1544904000-1544925600@laguestlist.com
SUMMARY:Seth MacFarlane Annual Holiday Party
DESCRIPTION:Invite Only – Seth MacFarlane Annual Holiday Party Extravaganza.
URL:https://laguestlist.com/event/seth-macfarlane-annual-holiday-party/
LOCATION:CA
CATEGORIES:Holiday Party
ATTACH;FMTTYPE=image/png:https://laguestlist.com/wp-content/uploads/2018/12/Screen-Shot-2018-12-15-at-11.59.20-AM.png
END:VEVENT
BEGIN:VEVENT
DTSTART;TZID=America/Los_Angeles:20181215T220000
DTEND;TZID=America/Los_Angeles:20181216T020000
DTSTAMP:20260419T210821
CREATED:20181215T200313Z
LAST-MODIFIED:20181215T200313Z
UID:36617-1544911200-1544925600@laguestlist.com
SUMMARY:Young n Reckless Prom
DESCRIPTION:Invite Only – Young n Reckless Annual Prom to celebrate the holidays.
URL:https://laguestlist.com/event/young-n-reckless-prom/
LOCATION:CA
CATEGORIES:Holiday Party
ATTACH;FMTTYPE=image/png:https://laguestlist.com/wp-content/uploads/2018/12/Screen-Shot-2018-12-15-at-12.01.06-PM.png
END:VEVENT
BEGIN:VEVENT
DTSTART;TZID=America/Los_Angeles:20181231T200000
DTEND;TZID=America/Los_Angeles:20190101T020000
DTSTAMP:20260419T210821
CREATED:20181224T191214Z
LAST-MODIFIED:20181224T191214Z
UID:36639-1546286400-1546308000@laguestlist.com
SUMMARY:The Bungalow Huntington Beach NYE 2019 with Travis Barker
DESCRIPTION:Ticketed – New Years Eve 2019 at The Bungalow Huntington Beach with DJ Set By Travis Barker\, Premium Open Bar for the entire evening\, Dancing & More!
URL:https://laguestlist.com/event/the-bungalow-huntington-beach-nye-2019-with-travis-barker/
LOCATION:The Bungalow Huntington Beach\, 21058 Pacific Coast Highway\, Huntington Beach\, CA\, 92648\, United States
CATEGORIES:Holiday Party
ATTACH;FMTTYPE=image/png:https://laguestlist.com/wp-content/uploads/2018/12/Screen-Shot-2018-12-24-at-12.09.38-PM.png
END:VEVENT
BEGIN:VEVENT
DTSTART;TZID=America/Los_Angeles:20181231T200000
DTEND;TZID=America/Los_Angeles:20190101T020000
DTSTAMP:20260419T210821
CREATED:20181224T191640Z
LAST-MODIFIED:20181224T191640Z
UID:36642-1546286400-1546308000@laguestlist.com
SUMMARY:Minimal Effort New Year's Eve with Sasha\, Skream\, Layton Giordani & More
DESCRIPTION:Ticketed – Minimal Effort heading back to the Belasco Theater in Downtown Los Angeles for a major New Year’s Eve celebration. After kicking off the holiday season with All Hallow’s Eve\, their Halloween bash\, they’re coming back around full circle to wrap up the season and kick off 2019. \nThe lineup is filled with some killer house + techno talent. Sasha\, Skream\, Layton Giordani\, Justin Jay\, Will Clarke\, Super Flu\, YokoO\, and Option4 are just some of the artists that will be leading attendees through the final hours of 2018.
URL:https://laguestlist.com/event/minimal-effort-new-years-eve-with-sasha-skream-layton-giordani-more/
LOCATION:Belaco Theatre
CATEGORIES:Holiday Party
ATTACH;FMTTYPE=image/png:https://laguestlist.com/wp-content/uploads/2018/12/Screen-Shot-2018-12-24-at-12.14.44-PM.png
END:VEVENT
BEGIN:VEVENT
DTSTART;TZID=America/Los_Angeles:20181231T200000
DTEND;TZID=America/Los_Angeles:20190101T020000
DTSTAMP:20260419T210821
CREATED:20181224T192835Z
LAST-MODIFIED:20181224T192835Z
UID:36651-1546286400-1546308000@laguestlist.com
SUMMARY:Grand Park and The Music Center’s N.Y.E.L.A.
DESCRIPTION:Open – What’s up Los Angeles? Dance your heart out and into 2019 with best friends\, sweeties\, friendly neighbors\, and those cousins from out-of-town at the West Coast’s flagship New Year’s Eve celebration. Grand Park and The Music Center’s N.Y.E.L.A. is the place to dream together and welcome new beginnings with a countdown on City Hall\, live music\, food\, and photo booths in one big\, beautiful\, colorful Angeleno experience to remember! #NYELA
URL:https://laguestlist.com/event/grand-park-and-the-music-centers-n-y-e-l-a/
LOCATION:Grand Park\, 200 N Grand Ave\, Los Angeles\, CA\, 90012\, United States
CATEGORIES:Holiday Party
ATTACH;FMTTYPE=image/png:https://laguestlist.com/wp-content/uploads/2018/12/Screen-Shot-2018-12-24-at-12.25.45-PM.png
END:VEVENT
BEGIN:VEVENT
DTSTART;TZID=America/Los_Angeles:20181231T210000
DTEND;TZID=America/Los_Angeles:20190101T020000
DTSTAMP:20260419T210821
CREATED:20181224T190342Z
LAST-MODIFIED:20181224T190342Z
UID:36633-1546290000-1546308000@laguestlist.com
SUMMARY:Prohibition NYE x Bumble: LA's Enchanting New Year's
DESCRIPTION:Ticketed – McCullough and Ross\, in partnership with KCRW\, presents the seventh annual Prohibition NYE\, now with special event activations from buzzworthy social networking app and new event partner\, Bumble. \nWith LA’s historic Union Station as its backdrop\, the Roaring Twenties-themed Prohibition NYE returns with a full spectrum of entertainment including the sounds of world-class DJs\, a live jazz ensemble\, a renowned burlesque troupe\, and a premium open bar for all guests. This year’s acts include LA’s own Classixx (DJ set)\, Lyndsay and the All Nighters\, and more. As the clock strikes midnight\, Prohibition NYE guests will cheers as the signature ball drops 60 feet from the famous Art Deco ceilings of Union Station. \nBy downloading the Bumble app and showing an active profile\, along with an official Prohibition NYE ticket\, users will be granted access to Bumble’s yellow-carpeted entrance into the event\, as well as the Roaring 20s themed photo booth. \nProhibition NYE will offer a limited number of VIP tables\, featuring hostess service\, and an exclusive\, stage-side elevated viewing experience. \nThe 1920s themed event will run from 9 p.m. December 31\, until 2 a.m. January 1. Tickets are available on Eventbrite. General Admission tickets retail for $185.
URL:https://laguestlist.com/event/prohibition-nye-x-bumble-las-enchanting-new-years/
LOCATION:Union Station\,  800 N Alameda St\, Los Angeles\, CA\, 90012\, United States
CATEGORIES:Holiday Party
ATTACH;FMTTYPE=image/jpeg:https://laguestlist.com/wp-content/uploads/2018/12/unnamed-4.jpg
END:VEVENT
BEGIN:VEVENT
DTSTART;TZID=America/Los_Angeles:20181231T210000
DTEND;TZID=America/Los_Angeles:20190101T020000
DTSTAMP:20260419T210821
CREATED:20181224T190843Z
LAST-MODIFIED:20181224T190843Z
UID:36636-1546290000-1546308000@laguestlist.com
SUMMARY:TAO Group Presents NYE 2019
DESCRIPTION:Ticketed – TAO Group will be ringing in the New Year with a one of a kind experience! Combining world-class cuisine from both TAO and Beauty & Essex\, alongside 360˚ views from The Highlight Room\, and our ultra-luxe club Avenue\, guests have the best in one place. 2019 never looked so good!
URL:https://laguestlist.com/event/tao-group-presents-nye-2019/
LOCATION:Dream Hotel\, 1615 Cahuenga Blvd\, Los Angeles\, CA\, 90028\, United States
CATEGORIES:Holiday Party
ATTACH;FMTTYPE=image/png:https://laguestlist.com/wp-content/uploads/2018/12/Screen-Shot-2018-12-24-at-12.04.45-PM.png
END:VEVENT
BEGIN:VEVENT
DTSTART;TZID=America/Los_Angeles:20181231T210000
DTEND;TZID=America/Los_Angeles:20190101T020000
DTSTAMP:20260419T210821
CREATED:20181224T193233Z
LAST-MODIFIED:20181224T193233Z
UID:36654-1546290000-1546308000@laguestlist.com
SUMMARY:Dita Von Teese’s New Year’s Eve Gala Show
DESCRIPTION:Ticketed – Internationally renowned Queen of Burlesque\, Dita Von Teese\, will be ringing in 2019 with a glittering New Year’s Eve performance at the historic Orpheum Theatre in downtown Los Angeles. \nThe evening of glamour will include show-stopping performances by Von Teese alongside a stellar cast of some the brightest stars in modern burlesque. In addition to the jaw-dropping performances\, fans will also be stunned by a dazzling display of some of Dita’s own haute couture\, Swarovski-embellished costumes from Catherine D’Lish\, Jenny Packham\, Elie Saab and more\, as they enter the historic venue.
URL:https://laguestlist.com/event/dita-von-teeses-new-years-eve-gala-show-2/
LOCATION:The Orpheum Theatre\, 842 S. Broadway\, Los Angeles\, CA\, 90014\, United States
CATEGORIES:Holiday Party
ATTACH;FMTTYPE=image/png:https://laguestlist.com/wp-content/uploads/2018/12/Screen-Shot-2018-12-24-at-12.32.01-PM.png
END:VEVENT
BEGIN:VEVENT
DTSTART;TZID=America/Los_Angeles:20181231T210000
DTEND;TZID=America/Los_Angeles:20190101T020000
DTSTAMP:20260419T210821
CREATED:20181224T194015Z
LAST-MODIFIED:20181224T194015Z
UID:36657-1546290000-1546308000@laguestlist.com
SUMMARY:NYE: Skybar at Mondrian Hotel with DJ set by Tiana Verhagen
DESCRIPTION:Ticketed – An unforgettable New Year’s Eve party awaits you at Skybar at The Mondrian\, one of Los Angeles’s most exciting nightlife hotspots and event venues. This NYE\, Skybar at The Mondrian invites you to join Los Angeles’s stylish party crowd and lavish in first-rate amenities like open bar\, live DJ performance by Tiana Verhagen\, and more. With spirited ambiance\, free-flowing dancing\, and nonstop revelry\, Los Angeles’s NYE party is the perfect way to kickstart a brand new year.
URL:https://laguestlist.com/event/nye-skybar-at-mondrian-hotel-with-dj-set-by-tiana-verhagen/
LOCATION:Skybar at Mondrian\, 8440 Sunset Boulevard\, West Hollywood\, CA\, 90069\, United States
CATEGORIES:Holiday Party
ATTACH;FMTTYPE=image/jpeg:https://laguestlist.com/wp-content/uploads/2018/12/46853408_10161192231105261_8595490450024955904_o.jpg
END:VEVENT
BEGIN:VEVENT
DTSTART;TZID=America/Los_Angeles:20181231T210000
DTEND;TZID=America/Los_Angeles:20190101T020000
DTSTAMP:20260419T210821
CREATED:20181228T173240Z
LAST-MODIFIED:20181228T173240Z
UID:36698-1546290000-1546308000@laguestlist.com
SUMMARY:Skyspace LA New Year’s Eve Party
DESCRIPTION:Ticketed – Set the tone for the new year at OUE Skyspace LA’s sky-high soirée. This observatory-turned-nightclub will feature multi-level dance floors\, live DJs\, an open bar (∞ ????!) and adrenaline-pumping Skyslide rides that allow you to plunge into 2019…all 1\,000 feet above LA! The night will feature Two DJs (including Dre Sinatra) and multi-level dancefloors\, Open bar\, Unlimited Skyslide rides\, Passed hors oeuvres and Complimentary champagne toast at midnight.
URL:https://laguestlist.com/event/skyspace-la-new-years-eve-party/
LOCATION:Skyspace Los Angeles\, 633 W 5th St \, Los Angeles\, CA\, 90071\, United States
CATEGORIES:Holiday Party
ATTACH;FMTTYPE=image/jpeg:https://laguestlist.com/wp-content/uploads/2018/12/1543281354-oue-skyspace-new-years-eve-tickets.jpg
END:VEVENT
BEGIN:VEVENT
DTSTART;TZID=America/Los_Angeles:20181231T220000
DTEND;TZID=America/Los_Angeles:20190101T030000
DTSTAMP:20260419T210821
CREATED:20181224T211751Z
LAST-MODIFIED:20181224T211751Z
UID:36660-1546293600-1546311600@laguestlist.com
SUMMARY:Insomniac Events Presents NYE ft. Afrojack
DESCRIPTION:Ticketed – Insomniac Events presents: Afrojack New Years Eve Countdown at Academy LA with Brian Matrix\nand Nght Si.
URL:https://laguestlist.com/event/insomniac-events-presents-nye-ft-afrojack/
LOCATION:Academy LA\, 6021 Hollywood Blvd.\, Los Angeles\, CA\, 90028\, United States
CATEGORIES:Holiday Party
ATTACH;FMTTYPE=image/jpeg:https://laguestlist.com/wp-content/uploads/2018/12/https___cdn.evbuc_.com_images_53990585_251243194019_1_original.jpg
END:VEVENT
BEGIN:VEVENT
DTSTART;TZID=America/Los_Angeles:20190213T220000
DTEND;TZID=America/Los_Angeles:20190214T020000
DTSTAMP:20260419T210821
CREATED:20190212T143408Z
LAST-MODIFIED:20190212T143408Z
UID:37186-1550095200-1550109600@laguestlist.com
SUMMARY:Ignite Valentines Day Celebration with Cardi B
DESCRIPTION:Invite Only – Ignite Valentines Day Angels and Devils Celebration hosted by Dan Bilzerian with Cardi B and Tyga.
URL:https://laguestlist.com/event/ignite-valentines-day-celebration-with-cardi-b/
LOCATION:CA
CATEGORIES:Holiday Party
ATTACH;FMTTYPE=image/png:https://laguestlist.com/wp-content/uploads/2019/02/Screen-Shot-2019-02-12-at-6.28.58-AM.png
END:VEVENT
BEGIN:VEVENT
DTSTART;TZID=America/Los_Angeles:20190214T200000
DTEND;TZID=America/Los_Angeles:20190215T020000
DTSTAMP:20260419T210821
CREATED:20190208T042100Z
LAST-MODIFIED:20190208T042100Z
UID:37120-1550174400-1550196000@laguestlist.com
SUMMARY:Bumble: Love + Connection
DESCRIPTION:Open – Celebrate Valentines Day with Bumble: Love + Connection at the Mondrian with tunes by Tiana Verhagen.
URL:https://laguestlist.com/event/bumble-love-connection/
LOCATION:Skybar at Mondrian\, 8440 Sunset Boulevard\, West Hollywood\, CA\, 90069\, United States
CATEGORIES:Holiday Party
ATTACH;FMTTYPE=image/jpeg:https://laguestlist.com/wp-content/uploads/2019/02/2-1.jpg
END:VEVENT
BEGIN:VEVENT
DTSTART;TZID=America/Los_Angeles:20190214T210000
DTEND;TZID=America/Los_Angeles:20190215T000000
DTSTAMP:20260419T210821
CREATED:20190212T143149Z
LAST-MODIFIED:20190212T143149Z
UID:37183-1550178000-1550188800@laguestlist.com
SUMMARY:The Galore Valentines Day Party Hosted By Austin Mahone
DESCRIPTION:Invite Only  – The Galore Valentines Day Party Celebrating the Romance Issue Hosted By Austin Mahone and Special Presentation By Les Amis Homme.
URL:https://laguestlist.com/event/the-galore-valentines-day-party-hosted-by-austin-mahone/
LOCATION:CA
CATEGORIES:Holiday Party
ATTACH;FMTTYPE=image/png:https://laguestlist.com/wp-content/uploads/2019/02/Screen-Shot-2019-02-12-at-6.29.21-AM.png
END:VEVENT
BEGIN:VEVENT
DTSTART;TZID=America/Los_Angeles:20190316T130000
DTEND;TZID=America/Los_Angeles:20190316T220000
DTSTAMP:20260419T210821
CREATED:20190225T011925Z
LAST-MODIFIED:20190225T011925Z
UID:37235-1552741200-1552773600@laguestlist.com
SUMMARY:8th Annual Rock & Reilly's St. Paddy's Day Block Party
DESCRIPTION:Ticketed – 8th time is a charm for the largest St. Paddy’s Day party west of the LA River. Rock & Reilly’s Sunset Strip presents the 8th Annual St. Paddy’s Day Block Party with DJs\, Food\, Games & 100 Kegs of Green Beer!
URL:https://laguestlist.com/event/8th-annual-rock-reillys-st-paddys-day-block-party/
LOCATION:Rock & Reilly’s Irish Pub\, 8911 W Sunset Blvd\, West Hollywod\, CA\, 90069\, United States
CATEGORIES:Holiday Party
ATTACH;FMTTYPE=image/jpeg:https://laguestlist.com/wp-content/uploads/2019/02/52436938_2575933342422319_5226206705028694016_o.jpg
END:VEVENT
BEGIN:VEVENT
DTSTART;TZID=America/Los_Angeles:20190704T000000
DTEND;TZID=America/Los_Angeles:20190704T200000
DTSTAMP:20260419T210821
CREATED:20190630T215238Z
LAST-MODIFIED:20190630T215238Z
UID:38222-1562198400-1562270400@laguestlist.com
SUMMARY:Kendall and Kylie Swimwear July 4th Celebration
DESCRIPTION:Ticketed – Celebrate the Fourth of July with Kendall and Kylie Swimwear at the Hollywood Roosevelt.
URL:https://laguestlist.com/event/kendall-and-kylie-swimwear-july-4th-celebration/
LOCATION:Hollywood Roosevelt\, 7000 Hollywood Boulevard\, Los Angeles\, CA\, 90028\, United States
CATEGORIES:Holiday Party
ATTACH;FMTTYPE=image/png:https://laguestlist.com/wp-content/uploads/2019/06/Screen-Shot-2019-06-30-at-2.50.19-PM.png
END:VEVENT
BEGIN:VEVENT
DTSTART;TZID=America/Los_Angeles:20190704T170000
DTEND;TZID=America/Los_Angeles:20190704T220000
DTSTAMP:20260419T210821
CREATED:20190702T035623Z
LAST-MODIFIED:20190702T035623Z
UID:38229-1562259600-1562277600@laguestlist.com
SUMMARY:Red White & Bootsy 4th of July Celebration
DESCRIPTION:Invite Only – The party of the year that makes everyone in Los Angeles wear white is back at Nobu Malibu for Red White & Bootsy to celebrate the 4th of July.
URL:https://laguestlist.com/event/red-white-bootsy-4th-of-july-celebration/
LOCATION:Nobu Malibu\, 22706 Pacific Coast Hwy\, Malibu\, CA\, 90265\, United States
CATEGORIES:Event,Holiday Party
ATTACH;FMTTYPE=image/png:https://laguestlist.com/wp-content/uploads/2019/07/Screen-Shot-2019-07-01-at-8.53.23-PM.png
END:VEVENT
BEGIN:VEVENT
DTSTART;TZID=America/Los_Angeles:20190902T190000
DTEND;TZID=America/Los_Angeles:20190902T230000
DTSTAMP:20260419T210821
CREATED:20190902T150812Z
LAST-MODIFIED:20190902T150812Z
UID:38701-1567450800-1567465200@laguestlist.com
SUMMARY:Élephante Labor Day Party
DESCRIPTION:Ticketed – Enjoy endless summer vibes at Elephante with live music and DJs to close out the Labor Day weekend. Summer never ends at Elephante.
URL:https://laguestlist.com/event/elephante-labor-day-party/
LOCATION:Élephante\, 1332 2nd St\, Santa Monica\, CA\, 90401\, United States
CATEGORIES:Holiday Party
ATTACH;FMTTYPE=image/jpeg:https://laguestlist.com/wp-content/uploads/2019/09/unnamed.jpg
END:VEVENT
BEGIN:VEVENT
DTSTART;TZID=America/Los_Angeles:20191126T220000
DTEND;TZID=America/Los_Angeles:20191127T020000
DTSTAMP:20260419T210821
CREATED:20191125T192712Z
LAST-MODIFIED:20191125T192712Z
UID:39387-1574805600-1574820000@laguestlist.com
SUMMARY:Born x Raised Sadie Hawkins Winter Formal
DESCRIPTION:Invite Only
URL:https://laguestlist.com/event/born-x-raised-sadie-hawkins-winter-formal-2/
LOCATION:CA
CATEGORIES:Holiday Party
ATTACH;FMTTYPE=image/png:https://laguestlist.com/wp-content/uploads/2019/11/Screen-Shot-2019-11-25-at-12.25.04-PM.png
END:VEVENT
BEGIN:VEVENT
DTSTART;TZID=America/Los_Angeles:20191209T170000
DTEND;TZID=America/Los_Angeles:20191209T200000
DTSTAMP:20260419T210821
CREATED:20191126T192900Z
LAST-MODIFIED:20191126T192900Z
UID:39421-1575910800-1575921600@laguestlist.com
SUMMARY:Let it Zoe 2019
DESCRIPTION:Invite Only – Celebrate the holiday season at Rachel Zoes’ winter soirée Let it Zoe for a night of curated gifting\, seasonal bites\, cocktails\, and glamour style moments.
URL:https://laguestlist.com/event/let-it-zoe-2019/
LOCATION:CA
CATEGORIES:Event,Holiday Party
ATTACH;FMTTYPE=image/png:https://laguestlist.com/wp-content/uploads/2019/11/Screen-Shot-2019-11-26-at-12.26.59-PM.png
END:VEVENT
BEGIN:VEVENT
DTSTART;TZID=America/Los_Angeles:20191218T110000
DTEND;TZID=America/Los_Angeles:20191218T170000
DTSTAMP:20260419T210821
CREATED:20191215T221124Z
LAST-MODIFIED:20191215T221124Z
UID:39585-1576666800-1576688400@laguestlist.com
SUMMARY:6th Annual TDE Concert
DESCRIPTION:Bring Gift for Admission – Top Dawg Entertainment\, home to Kendrick Lamar\, ScHoolboy Q\, SZA\, Jay Rock\, Isaiah Rashad\, Ab-Soul\, SiR\, Lance Skiiiwalker\, REASON and Zacari for TDE’s 6th Annual Holiday Concert/Toy Drive and Nickerson Gardens Community Day. The two-day event kicks off Wednesday\, December 18th\, with the concert featuring performances from TDE’s entire roster and surprise guests. 2018’s concert featured a performance from the Astroworld rapper Travis Scott\, preceded by words from LA’s very own Councilman Joe Buscaino.
URL:https://laguestlist.com/event/6th-annual-tde-concert/
LOCATION:Nickerson Gardens\, 1590 E 114th St\, Watts\, CA\, 90059\, United States
CATEGORIES:Event,Holiday Party
ATTACH;FMTTYPE=image/png:https://laguestlist.com/wp-content/uploads/2019/12/Screen-Shot-2019-12-15-at-2.07.24-PM.png
END:VEVENT
BEGIN:VEVENT
DTSTART;TZID=America/Los_Angeles:20191219T220000
DTEND;TZID=America/Los_Angeles:20191220T020000
DTSTAMP:20260419T210821
CREATED:20191219T040034Z
LAST-MODIFIED:20191219T040034Z
UID:39608-1576792800-1576807200@laguestlist.com
SUMMARY:The Hundreds Holiday Party
DESCRIPTION:Invite Only  – The Hundreds will celebrate Christmas season at their annual Holiday Party.
URL:https://laguestlist.com/event/the-hundreds-holiday-party/
LOCATION:CA
CATEGORIES:Holiday Party
ATTACH;FMTTYPE=image/png:https://laguestlist.com/wp-content/uploads/2019/12/Screen-Shot-2019-12-18-at-7.58.33-PM.png
END:VEVENT
BEGIN:VEVENT
DTSTART;TZID=America/Los_Angeles:20191231T160000
DTEND;TZID=America/Los_Angeles:20191231T160000
DTSTAMP:20260419T210821
CREATED:20191227T004134Z
LAST-MODIFIED:20191227T004134Z
UID:39634-1577808000-1577808000@laguestlist.com
SUMMARY:Insomniac Presents Countdown NYE 2019
DESCRIPTION:Ticketed – Turn up and count down with Insomniac this New Year’s Eve! For fans of electronic dance music in Southern California\, it’s the only way to ring in 2020.
URL:https://laguestlist.com/event/insomniac-presents-countdown-nye-2019/
LOCATION:NOS Events Center\, 689 S E St\, San Bernardino\, CA\, 92408\, United States
CATEGORIES:Concert,Holiday Party
ATTACH;FMTTYPE=image/png:https://laguestlist.com/wp-content/uploads/2019/12/Screen-Shot-2019-12-26-at-5.37.54-PM.png
END:VEVENT
BEGIN:VEVENT
DTSTART;TZID=America/Los_Angeles:20191231T180000
DTEND;TZID=America/Los_Angeles:20200101T010000
DTSTAMP:20260419T210821
CREATED:20191227T030339Z
LAST-MODIFIED:20191227T030339Z
UID:39698-1577815200-1577840400@laguestlist.com
SUMMARY:Dave and Busters NYE '20
DESCRIPTION:Ticketed – Come out to Dave & Busters Hollywood to Celebrate the New Year with the whole family. Enjoy the sounds of our Live DJ\, an awesome Virtual Reality experience\, an assorted appetizer buffet\, a champagne toast\, and of course a countdown and ball drop!
URL:https://laguestlist.com/event/dave-and-busters-nye-20/
LOCATION:Dave & Buster’s Hollywood\, 6801 Hollywood Blvd\, Los Angeles\, CA\, 90028\, United States
CATEGORIES:Event,Holiday Party
ATTACH;FMTTYPE=image/png:https://laguestlist.com/wp-content/uploads/2019/12/Screen-Shot-2019-12-26-at-7.58.52-PM.png
END:VEVENT
BEGIN:VEVENT
DTSTART;TZID=America/Los_Angeles:20191231T200000
DTEND;TZID=America/Los_Angeles:20191231T200000
DTSTAMP:20260419T210821
CREATED:20191227T001039Z
LAST-MODIFIED:20191227T001039Z
UID:39621-1577822400-1577822400@laguestlist.com
SUMMARY:#BOOM! 2020: An Alcohol- and Drug-Free Extravaganza
DESCRIPTION:RSVP –  The excitement is building in West Hollywood as New Year’s Eve gets closer. Preparations are underway for the 7th annual alcohol- and drug-free party known as #BOOM! This annual FREE glittering gala is one of the hottest New Year’s Eve events in Southern California.  #BOOM! is known for its safe and celebratory environment\, as well as free admission\, free food\, free non-alcoholic drinks\, and free fun\, including a costume competition\, face and body painting\, photobooth\, midnight toast and hours of dancing.
URL:https://laguestlist.com/event/boom-2020-an-alcohol-and-drug-free-extravaganza/
LOCATION:West Hollywood Park\, 647 N San Vicente Blvd\, West Hollywood\, CA\, 90069\, United States
CATEGORIES:Event,Holiday Party
ATTACH;FMTTYPE=image/jpeg:https://laguestlist.com/wp-content/uploads/2019/12/https___cdn.evbuc_.com_images_85254645_269506876094_1_original.jpg
END:VEVENT
END:VCALENDAR