BEGIN:VCALENDAR
VERSION:2.0
PRODID:-//LA Guestlist - ECPv6.15.20//NONSGML v1.0//EN
CALSCALE:GREGORIAN
METHOD:PUBLISH
X-ORIGINAL-URL:https://laguestlist.com
X-WR-CALDESC:Events for LA Guestlist
REFRESH-INTERVAL;VALUE=DURATION:PT1H
X-Robots-Tag:noindex
X-PUBLISHED-TTL:PT1H
BEGIN:VTIMEZONE
TZID:America/Los_Angeles
BEGIN:DAYLIGHT
TZOFFSETFROM:-0800
TZOFFSETTO:-0700
TZNAME:PDT
DTSTART:20210314T100000
END:DAYLIGHT
BEGIN:STANDARD
TZOFFSETFROM:-0700
TZOFFSETTO:-0800
TZNAME:PST
DTSTART:20211107T090000
END:STANDARD
BEGIN:DAYLIGHT
TZOFFSETFROM:-0800
TZOFFSETTO:-0700
TZNAME:PDT
DTSTART:20220313T100000
END:DAYLIGHT
BEGIN:STANDARD
TZOFFSETFROM:-0700
TZOFFSETTO:-0800
TZNAME:PST
DTSTART:20221106T090000
END:STANDARD
BEGIN:DAYLIGHT
TZOFFSETFROM:-0800
TZOFFSETTO:-0700
TZNAME:PDT
DTSTART:20230312T100000
END:DAYLIGHT
BEGIN:STANDARD
TZOFFSETFROM:-0700
TZOFFSETTO:-0800
TZNAME:PST
DTSTART:20231105T090000
END:STANDARD
BEGIN:DAYLIGHT
TZOFFSETFROM:-0800
TZOFFSETTO:-0700
TZNAME:PDT
DTSTART:20240310T100000
END:DAYLIGHT
BEGIN:STANDARD
TZOFFSETFROM:-0700
TZOFFSETTO:-0800
TZNAME:PST
DTSTART:20241103T090000
END:STANDARD
END:VTIMEZONE
BEGIN:VEVENT
DTSTART;TZID=America/Los_Angeles:20220704T120000
DTEND;TZID=America/Los_Angeles:20220704T233000
DTSTAMP:20260420T051847
CREATED:20220630T041602Z
LAST-MODIFIED:20220630T041602Z
UID:46094-1656936000-1656977400@laguestlist.com
SUMMARY:Mama Shelter LA: Red\, White\, and Booze
DESCRIPTION:Open – Mama Shelter launches 4th of July specials for their upcoming celebration on both their rooftop and in the lobby bar\, of their famed Hollywood location. The day will consist of a special menu by Mama Shelter’s new chef and LA-native\, Jonathan Kim. The custom Americana-themed menu by Kim will include a choice of hotdog (Kosher Frankfurter or Pork Sausage\, stuffed with Emmental cheese)\, homemade french fries or potato chips\, and apple pie flavored ice cream for $20\, paired with a Bad Hombre Mexican Lager (from LA’s Boomtown Brewery) on the rooftop\, or choice of draft beer in the lobby for an additional $5.
URL:https://laguestlist.com/event/mama-shelter-la-red-white-and-booze/
LOCATION:Mama Shelter\, 6500 Selma Ave\, Los Angeles\, CA\, 90028\, United States
CATEGORIES:Holiday Party
ATTACH;FMTTYPE=image/png:https://laguestlist.com/wp-content/uploads/2022/06/mama-loves-you-logo.png
END:VEVENT
BEGIN:VEVENT
DTSTART;TZID=America/Los_Angeles:20220704T170000
DTEND;TZID=America/Los_Angeles:20220704T220000
DTSTAMP:20260420T051847
CREATED:20220622T182135Z
LAST-MODIFIED:20220622T182135Z
UID:46086-1656954000-1656972000@laguestlist.com
SUMMARY:Revolve Presents Red White & Bootsy
DESCRIPTION:Invite Only – Revolve is taking over Nobu Malibu Red White & Bootsy\, their staple all-white party to celebrate 4th of July.
URL:https://laguestlist.com/event/revolve-presents-red-white-bootsy/
LOCATION:Nobu Malibu\, 22706 Pacific Coast Hwy\, Malibu\, CA\, 90265\, United States
CATEGORIES:Holiday Party
ATTACH;FMTTYPE=image/png:https://laguestlist.com/wp-content/uploads/2022/06/Screen-Shot-2022-06-22-at-11.19.16-AM.png
END:VEVENT
BEGIN:VEVENT
DTSTART;TZID=America/Los_Angeles:20221117T170000
DTEND;TZID=America/Los_Angeles:20221117T200000
DTSTAMP:20260420T051847
CREATED:20221104T175826Z
LAST-MODIFIED:20221104T175826Z
UID:47091-1668704400-1668715200@laguestlist.com
SUMMARY:Rodeo Drive Holiday Lighting with David Foster and Katharine McPhee
DESCRIPTION:Open – Beverly Hills will kick off the holiday season with beautiful decor and festive lighting displays on Rodeo Drive\n with their annual Holiday Lighting Celebration and a special performance by David Foster and Katharine McPhee.
URL:https://laguestlist.com/event/rodeo-drive-holiday-lighting-with-david-foster-and-katharine-mcphee/
LOCATION:Rodeo Drive
CATEGORIES:Holiday Party
ATTACH;FMTTYPE=image/jpeg:https://laguestlist.com/wp-content/uploads/2022/11/Beverly-Hills-Rodeo-Dr-Lighting-Ceremony-Christmas-Season-Beverly-Hills-Magazine-1-e1479086424835.jpg
END:VEVENT
BEGIN:VEVENT
DTSTART;TZID=America/Los_Angeles:20221119T100000
DTEND;TZID=America/Los_Angeles:20221119T180000
DTSTAMP:20260420T051847
CREATED:20221104T183601Z
LAST-MODIFIED:20221104T183601Z
UID:47101-1668852000-1668880800@laguestlist.com
SUMMARY:Venice Winter Fest 2022
DESCRIPTION:RSVP – Join us Saturday\, November 19th\, 2022 from 10 am- 6 pm in the Mar Vista Arts District for a visit from Santa\, shop locally made brands & artists for your Holiday gifts\, art\, music\, food trucks\, beer gardens\, vintage car show & so much more! Stroll the fest grounds as you enjoy a day filled with musical performances\, activities for the entire family\, holiday decor and a chance to visit with Santa.
URL:https://laguestlist.com/event/venice-winter-fest-2022/
LOCATION:CA
CATEGORIES:Holiday Party
ATTACH;FMTTYPE=image/png:https://laguestlist.com/wp-content/uploads/2022/11/Venice.png
END:VEVENT
BEGIN:VEVENT
DTSTART;TZID=America/Los_Angeles:20221120T190000
DTEND;TZID=America/Los_Angeles:20221120T210000
DTSTAMP:20260420T051847
CREATED:20221116T001646Z
LAST-MODIFIED:20221116T001646Z
UID:47206-1668970800-1668978000@laguestlist.com
SUMMARY:Tree Lighting at The Grove
DESCRIPTION:Open – Join The Grove Annual Tree Lighting ceremony and taping of CBS’s the 24th Annual A Home for the Holidays hosted by Gloria Estefan as we officially kick off the holiday season! This year’s event will celebrate families whose lives have been changed through adoption. The magical evening will feature special performances by Andy Grammer\, Little Big Town\, Mickey Guyton and David Foster & Kat McPhee. Delight in the lighting of the Christmas tree\, the season’s first snowfall\, a fireworks spectacular\, Santa’s grand arrival and recognizing 20 years of The Grove in Los Angeles.
URL:https://laguestlist.com/event/tree-lighting-at-the-grove/
LOCATION:The Grove\, 189 The Grove Drive\, Los Angeles\, Los Angeles\, CA\, 90036\, United States
CATEGORIES:Holiday Party,Things to do
ATTACH;FMTTYPE=image/png:https://laguestlist.com/wp-content/uploads/2022/11/2022_GAF_TreeLighting_EventPromotion_HompageTile_EventsPage_OffersPage_900x600.png
END:VEVENT
BEGIN:VEVENT
DTSTART;TZID=America/Los_Angeles:20221211T170000
DTEND;TZID=America/Los_Angeles:20221211T200000
DTSTAMP:20260420T051847
CREATED:20221207T213551Z
LAST-MODIFIED:20221207T213551Z
UID:47375-1670778000-1670788800@laguestlist.com
SUMMARY:A Craving Christmas with Chrissy Teigen
DESCRIPTION:Ticketed – You’re invited to a special appearance with best-selling author and Cravings founder\, Chrissy Teigen at Westfield Century City’s Santa’s North Pole Journey. Join us for a Cravings Christmas\, say hello to Santa\, meet Chrissy and take home boxes of her viral baking mixes that have sold out multiple times.
URL:https://laguestlist.com/event/a-craving-christmas-with-chrissy-teigen/
LOCATION:Westfield Century City
CATEGORIES:Holiday Party
ATTACH;FMTTYPE=image/png:https://laguestlist.com/wp-content/uploads/2022/12/Teigen.png
END:VEVENT
BEGIN:VEVENT
DTSTART;TZID=America/Los_Angeles:20221213T190000
DTEND;TZID=America/Los_Angeles:20221213T210000
DTSTAMP:20260420T051847
CREATED:20221213T162002Z
LAST-MODIFIED:20221213T162002Z
UID:47415-1670958000-1670965200@laguestlist.com
SUMMARY:Tinder Holiday Happy Hour
DESCRIPTION:Invite Only – Tinder Holiday Happy Hour in celebration of the Holiday Season.
URL:https://laguestlist.com/event/tinder-holiday-happy-hour/
LOCATION:CA
CATEGORIES:Holiday Party
ATTACH;FMTTYPE=image/png:https://laguestlist.com/wp-content/uploads/2022/12/tinder.png
END:VEVENT
BEGIN:VEVENT
DTSTART;TZID=America/Los_Angeles:20221214T190000
DTEND;TZID=America/Los_Angeles:20221214T220000
DTSTAMP:20260420T051847
CREATED:20221213T160947Z
LAST-MODIFIED:20221213T160947Z
UID:47410-1671044400-1671055200@laguestlist.com
SUMMARY:DeLeón Tequila Holiday Festivities
DESCRIPTION:Invite Only – DeLeón Tequila Holiday Festivities to celebrate friends\, family and LOVE during the holiday season.
URL:https://laguestlist.com/event/deleon-tequila-holiday-festivities/
LOCATION:CA
CATEGORIES:Holiday Party
ATTACH;FMTTYPE=image/png:https://laguestlist.com/wp-content/uploads/2022/12/Deleon.png
END:VEVENT
BEGIN:VEVENT
DTSTART;TZID=America/Los_Angeles:20221215T190000
DTEND;TZID=America/Los_Angeles:20221215T220000
DTSTAMP:20260420T051847
CREATED:20221213T160556Z
LAST-MODIFIED:20221213T160556Z
UID:47408-1671130800-1671141600@laguestlist.com
SUMMARY:Flaunt & Onitsuka Tiger Festive Holiday Fête
DESCRIPTION:Invite Only – Flaunt & Onitsuka Tiger Festive Holiday Fête in celebration of The Tempest Issue honoring Delilah Belle Hamlin and Asher Angel.
URL:https://laguestlist.com/event/flaunt-onitsuka-tiger-festive-holiday-fete/
LOCATION:CA
CATEGORIES:Holiday Party,Magazine
ATTACH;FMTTYPE=image/png:https://laguestlist.com/wp-content/uploads/2022/12/Flaunt-1.png
END:VEVENT
BEGIN:VEVENT
DTSTART;TZID=America/Los_Angeles:20221216T193000
DTEND;TZID=America/Los_Angeles:20221216T203000
DTSTAMP:20260420T051847
CREATED:20221215T235515Z
LAST-MODIFIED:20221215T235515Z
UID:47474-1671219000-1671222600@laguestlist.com
SUMMARY:Foot Locker Holiday House Party
DESCRIPTION:Open – One of the Foot Locker stores to participate in the 24-hour celebration will be the Hollywood Foot Locker location in Los Angeles\, California. Los Angeles will center their holiday experience around shoe customization and gift wrapping. Rapper BIA\, who starred in the holiday campaign – a full circle moment for her as a former Foot Locker Striper store associate – will be joining the fun with a private meet & greet with fans during the celebrations.
URL:https://laguestlist.com/event/foot-locker-holiday-house-party/
LOCATION:Foot Locker Hollywood\, 6801 Hollywood Blvd Suite 147\, Los Angeles\, CA\, 90028\, United States
CATEGORIES:Event,Fashion,Holiday Party
ATTACH;FMTTYPE=image/jpeg:https://laguestlist.com/wp-content/uploads/2022/12/1.jpg
END:VEVENT
BEGIN:VEVENT
DTSTART;TZID=America/Los_Angeles:20221216T200000
DTEND;TZID=America/Los_Angeles:20221217T020000
DTSTAMP:20260420T051847
CREATED:20221213T194150Z
LAST-MODIFIED:20221213T194150Z
UID:47428-1671220800-1671242400@laguestlist.com
SUMMARY:Amare Magazine Release Party with Tamra Judge
DESCRIPTION:RSVP – Amare Magazine Release Party with host Tamra Judge at Skybar at the Mondrian.
URL:https://laguestlist.com/event/amare-magazine-release-party-with-tamra-judge/
LOCATION:Skybar at Mondrian\, 8440 Sunset Boulevard\, West Hollywood\, CA\, 90069\, United States
CATEGORIES:Holiday Party,Magazine
ATTACH;FMTTYPE=image/png:https://laguestlist.com/wp-content/uploads/2022/12/tam.png
END:VEVENT
BEGIN:VEVENT
DTSTART;TZID=America/Los_Angeles:20221216T210000
DTEND;TZID=America/Los_Angeles:20221217T010000
DTSTAMP:20260420T051847
CREATED:20221213T163136Z
LAST-MODIFIED:20221213T163136Z
UID:47419-1671224400-1671238800@laguestlist.com
SUMMARY:Patrón Tequila Pajama Jam
DESCRIPTION:Invite Only – Patrón Tequila Pajama Jam Holiday Party.
URL:https://laguestlist.com/event/patron-tequila-pajama-jam/
LOCATION:CA
CATEGORIES:Holiday Party
ATTACH;FMTTYPE=image/png:https://laguestlist.com/wp-content/uploads/2022/12/Patron.png
END:VEVENT
BEGIN:VEVENT
DTSTART;TZID=America/Los_Angeles:20221217T160000
DTEND;TZID=America/Los_Angeles:20221217T230000
DTSTAMP:20260420T051847
CREATED:20221213T162411Z
LAST-MODIFIED:20221213T162837Z
UID:47417-1671292800-1671318000@laguestlist.com
SUMMARY:Hollywood Roosevelt Holiday Market
DESCRIPTION:RSVP – Curated Outdoor Holiday Market at The Hollywood Roosevelt. S﻿pend the day poolside shopping for holiday gifts and styles!
URL:https://laguestlist.com/event/hollywood-roosevelt-holiday-market/
LOCATION:Hollywood Roosevelt\, 7000 Hollywood Boulevard\, Los Angeles\, CA\, 90028\, United States
CATEGORIES:Holiday Party
ATTACH;FMTTYPE=image/png:https://laguestlist.com/wp-content/uploads/2022/12/roosy.png
END:VEVENT
BEGIN:VEVENT
DTSTART;TZID=America/Los_Angeles:20221219T180000
DTEND;TZID=America/Los_Angeles:20221219T220000
DTSTAMP:20260420T051847
CREATED:20221213T214843Z
LAST-MODIFIED:20221213T214843Z
UID:47430-1671472800-1671487200@laguestlist.com
SUMMARY:Off The Menu Ha-Ha-Ha-Liday Comedy Show
DESCRIPTION:Ticketed – Enjoy a night of belly laughs\, delicious food\, and unlimited specialty cocktails! Off The Menu & House of Suntory Presents Ha-Ha-Ha-Liday Comedy Show on Monday\, December 19th at the iconic Brain Dead Studios. Tickets include dinner and dessert from local LA restaurants including Slab BBQ & Prince Street Pizza\, cocktails from House of Suntory\, and a holiday-themed comedy show featuring Adam Ray\, Rachel Wolfson\, and Erik Griffin\, hosted by Heavvy.
URL:https://laguestlist.com/event/off-the-menu-ha-ha-ha-liday-comedy-show/
LOCATION:Brain Dead Studios\, 611 N Fairfax Ave\, Los Angeles\, CA\, 90036\, United States
CATEGORIES:Comedy,Holiday Party
ATTACH;FMTTYPE=image/png:https://laguestlist.com/wp-content/uploads/2022/12/unnamed-2.png
END:VEVENT
BEGIN:VEVENT
DTSTART;TZID=America/Los_Angeles:20221231T190000
DTEND;TZID=America/Los_Angeles:20221231T233000
DTSTAMP:20260420T051847
CREATED:20221214T214054Z
LAST-MODIFIED:20221214T214054Z
UID:47446-1672513200-1672529400@laguestlist.com
SUMMARY:New Year's Eve with The Roots
DESCRIPTION:Ticketed – Welcome the new year in style with the legendary Roots crew at Walt Disney Concert Hall.
URL:https://laguestlist.com/event/new-years-eve-with-the-roots/
LOCATION:Walt Disney Concert Hall\, 	111 S Grand Ave
CATEGORIES:Concert,Holiday Party
ATTACH;FMTTYPE=image/png:https://laguestlist.com/wp-content/uploads/2022/12/the-roots.png
END:VEVENT
BEGIN:VEVENT
DTSTART;TZID=America/Los_Angeles:20221231T200000
DTEND;TZID=America/Los_Angeles:20230101T020000
DTSTAMP:20260420T051847
CREATED:20221219T230109Z
LAST-MODIFIED:20221219T230109Z
UID:47487-1672516800-1672538400@laguestlist.com
SUMMARY:The Bungalow Santa Monica NYE 2023
DESCRIPTION:Ticketed – Do New Year’s Eve big at The Bungalow Santa Monica. Head to the ”Bungalow Boardwalk” and enjoy all the classics-from our Penny Arcade and Tarot readings to live Magic\, and the Caricature artists we all know and love. Dance the night away with DJ sets by Kayper & Graham Funke\, along with a blowout live performance by 80’s cover band\, Fast Times. Indulge with our premium hosted bar\, elevated food stations\, or delicious sweet treats.
URL:https://laguestlist.com/event/the-bungalow-santa-monica-nye-2023/
LOCATION:The Bungalow\, 101 Wilshire Blvd\, Santa Monica\, CA\, 90401\, United States
CATEGORIES:Holiday Party
ATTACH;FMTTYPE=image/png:https://laguestlist.com/wp-content/uploads/2022/12/Bungalo.png
END:VEVENT
BEGIN:VEVENT
DTSTART;TZID=America/Los_Angeles:20221231T200000
DTEND;TZID=America/Los_Angeles:20230101T020000
DTSTAMP:20260420T051847
CREATED:20221219T230457Z
LAST-MODIFIED:20221219T230457Z
UID:47489-1672516800-1672538400@laguestlist.com
SUMMARY:The Hollywood Roosevelt NYE 2023
DESCRIPTION:Ticketed – The Hollywood Roosevelt NYE 2023 with an elegant four-course dinner by Chef Rigo Salas\, premium open bar from 8 pm-9 pm\, festive countdown\, and a champagne toast at midnight with live entertainment by The Satin Dollz.
URL:https://laguestlist.com/event/the-hollywood-roosevelt-nye-2023/
LOCATION:Hollywood Roosevelt\, 7000 Hollywood Boulevard\, Los Angeles\, CA\, 90028\, United States
CATEGORIES:Holiday Party
ATTACH;FMTTYPE=image/png:https://laguestlist.com/wp-content/uploads/2022/12/HR.png
END:VEVENT
BEGIN:VEVENT
DTSTART;TZID=America/Los_Angeles:20221231T200000
DTEND;TZID=America/Los_Angeles:20230101T020000
DTSTAMP:20260420T051847
CREATED:20221219T231318Z
LAST-MODIFIED:20221219T231318Z
UID:47491-1672516800-1672538400@laguestlist.com
SUMMARY:Skybar New Year's Eve 2023
DESCRIPTION:Ticketed – Join Skybar as they elegantly ring in 2023 in extravagant fashion. Wear your classiest cocktail attire and come celebrate the new year over delectable cocktails\, the taste-making sounds of DJ Eric Sharp\, original art installations\, and of course\, the breathtaking backdrop of one of Los Angeles’ premier venues.
URL:https://laguestlist.com/event/skybar-new-years-eve-2023/
LOCATION:Skybar at Mondrian\, 8440 Sunset Boulevard\, West Hollywood\, CA\, 90069\, United States
CATEGORIES:Holiday Party
ATTACH;FMTTYPE=image/png:https://laguestlist.com/wp-content/uploads/2022/12/SKYBAR_NYE2022_1x1_V12.png
END:VEVENT
BEGIN:VEVENT
DTSTART;TZID=America/Los_Angeles:20221231T200000
DTEND;TZID=America/Los_Angeles:20230101T020000
DTSTAMP:20260420T051847
CREATED:20221221T225429Z
LAST-MODIFIED:20221221T225429Z
UID:47512-1672516800-1672538400@laguestlist.com
SUMMARY:E.P. & L.P New Years Eve Discotheque
DESCRIPTION:Ticketed – E.P. & L.P is bringing in 2023 in style with one hell of a party that will take over their rooftop and first restaurant with music\, open bar and passed appetizers.
URL:https://laguestlist.com/event/e-p-l-p-new-years-eve-discotheque/
LOCATION:CA
CATEGORIES:Holiday Party
END:VEVENT
BEGIN:VEVENT
DTSTART;TZID=America/Los_Angeles:20221231T210000
DTEND;TZID=America/Los_Angeles:20221231T233000
DTSTAMP:20260420T051847
CREATED:20221214T213002Z
LAST-MODIFIED:20221214T213002Z
UID:47442-1672520400-1672529400@laguestlist.com
SUMMARY:Dita Von Teese's GLAMONATRIX Gala
DESCRIPTION:Ticketed – Spend a sparkly New Year’s Eve at the Orpheum as contemporary pin-up icon Dita Von Teese hosts this year-end burlesque showcase.
URL:https://laguestlist.com/event/dita-von-teeses-glamonatrix-gala/
LOCATION:The Orpheum Theatre\, 842 S. Broadway\, Los Angeles\, CA\, 90014\, United States
CATEGORIES:Holiday Party
ATTACH;FMTTYPE=image/jpeg:https://laguestlist.com/wp-content/uploads/2022/12/FgvMnlTVQAAtR0f.jpg
END:VEVENT
BEGIN:VEVENT
DTSTART;TZID=America/Los_Angeles:20221231T210000
DTEND;TZID=America/Los_Angeles:20230101T020000
DTSTAMP:20260420T051847
CREATED:20221215T002514Z
LAST-MODIFIED:20221215T002514Z
UID:47448-1672520400-1672538400@laguestlist.com
SUMMARY:Prohibition NYE 2022
DESCRIPTION:Ticketed – or its 9th year\, Prohibition NYE will return to the iconic Union Station to bring back the excitement and glamour of the Roaring Twenties. Experience theatrical burlesque\, live jazz ensembles\, a headlining DJ SET by renowned DJ duo Neil Frances\, and a premium open bar featuring champagne and specialty cocktails.
URL:https://laguestlist.com/event/prohibition-nye-2022/
LOCATION:Union Station\,  800 N Alameda St\, Los Angeles\, CA\, 90012\, United States
CATEGORIES:Holiday Party
ATTACH;FMTTYPE=image/png:https://laguestlist.com/wp-content/uploads/2022/12/prohi.png
END:VEVENT
BEGIN:VEVENT
DTSTART;TZID=America/Los_Angeles:20221231T210000
DTEND;TZID=America/Los_Angeles:20230101T020000
DTSTAMP:20260420T051847
CREATED:20221219T231743Z
LAST-MODIFIED:20221219T231743Z
UID:47493-1672520400-1672538400@laguestlist.com
SUMMARY:Schwartz & Sandy's NYE Party
DESCRIPTION:Ticketed – Schwartz & Sandy’s NYE Party with open bar\, DJ Grooves\, passed appetizers and raffle prizes.
URL:https://laguestlist.com/event/schwartz-sandys-nye-party/
LOCATION:Schwartz and Sandy’s
CATEGORIES:Holiday Party
ATTACH;FMTTYPE=image/png:https://laguestlist.com/wp-content/uploads/2022/12/shwartz.png
END:VEVENT
BEGIN:VEVENT
DTSTART;TZID=America/Los_Angeles:20221231T210000
DTEND;TZID=America/Los_Angeles:20230101T020000
DTSTAMP:20260420T051847
CREATED:20221219T232145Z
LAST-MODIFIED:20221219T232145Z
UID:47495-1672520400-1672538400@laguestlist.com
SUMMARY:New Year's Eve at Winston House
DESCRIPTION:Ticketed – New Year’s Eve at Winston House with Open Bar\, Jazz\, and surprised music guests.
URL:https://laguestlist.com/event/new-years-eve-at-winston-house/
LOCATION:Winston House\, 23 Windward Ave\, Venice\, CA\, 90291\, United States
CATEGORIES:Holiday Party
ATTACH;FMTTYPE=image/jpeg:https://laguestlist.com/wp-content/uploads/2022/12/unnamed-1.jpg
END:VEVENT
BEGIN:VEVENT
DTSTART;TZID=America/Los_Angeles:20221231T210000
DTEND;TZID=America/Los_Angeles:20230101T020000
DTSTAMP:20260420T051847
CREATED:20221219T232556Z
LAST-MODIFIED:20221221T224314Z
UID:47497-1672520400-1672538400@laguestlist.com
SUMMARY:Yamashiro New Years Eve Party 2023
DESCRIPTION:Ticketed – A historic Hollywood institution\, Yamashiro has served as a film setting\, event space\, and nightlife venue in LA for decades and is the host of a luminous New Year’s party this NYE. Brimming with amenities like a 5-hour premium open bar and a live DJ heating up the dance floor with Top 40\, Hip-Hop\, House\, and mash-up tracks\, the evening culminates in a DJ-led live countdown to midnight complete with complimentary champagne and party favors.
URL:https://laguestlist.com/event/yamashiro-new-years-eve-party-2023/
LOCATION:Yamashiro
CATEGORIES:Holiday Party
ATTACH;FMTTYPE=image/png:https://laguestlist.com/wp-content/uploads/2022/12/yama-1.png
END:VEVENT
BEGIN:VEVENT
DTSTART;TZID=America/Los_Angeles:20221231T210000
DTEND;TZID=America/Los_Angeles:20230101T020000
DTSTAMP:20260420T051847
CREATED:20221221T224821Z
LAST-MODIFIED:20221221T224821Z
UID:47508-1672520400-1672538400@laguestlist.com
SUMMARY:Bar Lis Midnight in the French Riviera
DESCRIPTION:Ticketed – High above the heart of Hollywood sits Bar Lis\, a chic rooftop lounge that captures the iconic spirit and style of the French Riviera. Patrons here are immersed in a sophisticated mix of classic South of France culture and modern Southern California ease.
URL:https://laguestlist.com/event/bar-lis-midnight-in-the-french-riviera/
LOCATION:Bar Lis\, 1541 Wilcox Ave\, Los Angeles\, CA\, 90028\, United States
CATEGORIES:Holiday Party
ATTACH;FMTTYPE=image/png:https://laguestlist.com/wp-content/uploads/2022/12/Bar-Lis.png
END:VEVENT
BEGIN:VEVENT
DTSTART;TZID=America/Los_Angeles:20221231T220000
DTEND;TZID=America/Los_Angeles:20230101T020000
DTSTAMP:20260420T051847
CREATED:20221221T225153Z
LAST-MODIFIED:20221221T225153Z
UID:47510-1672524000-1672538400@laguestlist.com
SUMMARY:Ty Dolla $ign Nightingale Plaza NYE 2023
DESCRIPTION:Ticketed – NYE at Nightingale Plaza is set to be the party of the year with both cash bar & open bar tickets\, DJ Orator\, Dre Sinatra & Ty Dolla $ign.
URL:https://laguestlist.com/event/ty-dolla-ign-nightingale-plaza-nye-2023/
LOCATION:Nightingale Plaza\, 643 North La Cienega Blvd\, Los Angeles\,\, CA\, 90069\, United States
CATEGORIES:Holiday Party
ATTACH;FMTTYPE=image/png:https://laguestlist.com/wp-content/uploads/2022/12/Ty.png
END:VEVENT
BEGIN:VEVENT
DTSTART;TZID=America/Los_Angeles:20230101T140000
DTEND;TZID=America/Los_Angeles:20230101T210000
DTSTAMP:20260420T051847
CREATED:20221219T225736Z
LAST-MODIFIED:20221219T225736Z
UID:47485-1672581600-1672606800@laguestlist.com
SUMMARY:The Do-Over Presents The New-Over
DESCRIPTION:RSVP – The New-Over returns\, saving your New Year’s festivities with our annual New Year’s Day burner to keep things extra swirly. Join The Do-Over DJ’s and mystery guests as we keep your heads ringin’ all day long present by AKILA Eyewear .
URL:https://laguestlist.com/event/the-do-over-presents-the-new-over/
LOCATION:Lure Nightclub\, 1439 Ivar Ave\, Los Angeles\, CA\, 90028\, United States
CATEGORIES:Holiday Party
ATTACH;FMTTYPE=image/png:https://laguestlist.com/wp-content/uploads/2022/12/New.png
END:VEVENT
BEGIN:VEVENT
DTSTART;TZID=America/Los_Angeles:20230704T170000
DTEND;TZID=America/Los_Angeles:20230704T220000
DTSTAMP:20260420T051847
CREATED:20230617T164956Z
LAST-MODIFIED:20230617T164956Z
UID:48847-1688490000-1688508000@laguestlist.com
SUMMARY:Bliss Presents Red\, White & Bootsy
DESCRIPTION:Invite Only – Bootsy Bellows is bringing their annual all white Fourth of July celebration Red\, White & Bootsy presented by Bliss at Nobu Malbu.
URL:https://laguestlist.com/event/bliss-presents-red-white-bootsy/
LOCATION:Nobu Malibu\, 22706 Pacific Coast Hwy\, Malibu\, CA\, 90265\, United States
CATEGORIES:Holiday Party
ATTACH;FMTTYPE=image/jpeg:https://laguestlist.com/wp-content/uploads/2023/06/1-3-1.jpg
END:VEVENT
BEGIN:VEVENT
DTSTART;TZID=America/Los_Angeles:20230923T200000
DTEND;TZID=America/Los_Angeles:20230924T000000
DTSTAMP:20260420T051847
CREATED:20230922T012150Z
LAST-MODIFIED:20230922T012150Z
UID:49277-1695499200-1695513600@laguestlist.com
SUMMARY:Mr. T's 1 Year Celebration
DESCRIPTION:Invite Only – The popular and exclusive restaurant\, Mr. T’s\, will celebrate their One Year Anniversary party with wine and cocktail lounge with award-winning French cuisine.
URL:https://laguestlist.com/event/mr-ts-1-year-celebration/
LOCATION:CA
CATEGORIES:Holiday Party
ATTACH;FMTTYPE=image/png:https://laguestlist.com/wp-content/uploads/2023/09/mrt.png
END:VEVENT
BEGIN:VEVENT
DTSTART;TZID=America/Los_Angeles:20231113T190000
DTEND;TZID=America/Los_Angeles:20231113T200000
DTSTAMP:20260420T051847
CREATED:20231113T023925Z
LAST-MODIFIED:20231113T023925Z
UID:49609-1699902000-1699905600@laguestlist.com
SUMMARY:Tree Lighting at The Grove
DESCRIPTION:Open – Join The Grove for their 22nd Annual Tree Lighting Celebration as we officially kick off the holiday season! The magical evening will feature special performances by David Foster\, Katharine McPhee\, and other special guests. Delight in the lighting of the Christmas tree\, the season’s first snowfall\, a fireworks spectacular\, Santa’s grand arrival and more.
URL:https://laguestlist.com/event/tree-lighting-at-the-grove-2/
LOCATION:The Grove\, 189 The Grove Drive\, Los Angeles\, Los Angeles\, CA\, 90036\, United States
CATEGORIES:Holiday Party
ATTACH;FMTTYPE=image/jpeg:https://laguestlist.com/wp-content/uploads/2023/11/The-Grove-Tree-Lighting-1920x1200_11zon-1024x640-1.jpg
END:VEVENT
END:VCALENDAR