BEGIN:VCALENDAR
VERSION:2.0
PRODID:-//LA Guestlist - ECPv6.15.20//NONSGML v1.0//EN
CALSCALE:GREGORIAN
METHOD:PUBLISH
X-WR-CALNAME:LA Guestlist
X-ORIGINAL-URL:https://laguestlist.com
X-WR-CALDESC:Events for LA Guestlist
REFRESH-INTERVAL;VALUE=DURATION:PT1H
X-Robots-Tag:noindex
X-PUBLISHED-TTL:PT1H
BEGIN:VTIMEZONE
TZID:America/Los_Angeles
BEGIN:DAYLIGHT
TZOFFSETFROM:-0800
TZOFFSETTO:-0700
TZNAME:PDT
DTSTART:20160313T100000
END:DAYLIGHT
BEGIN:STANDARD
TZOFFSETFROM:-0700
TZOFFSETTO:-0800
TZNAME:PST
DTSTART:20161106T090000
END:STANDARD
BEGIN:DAYLIGHT
TZOFFSETFROM:-0800
TZOFFSETTO:-0700
TZNAME:PDT
DTSTART:20170312T100000
END:DAYLIGHT
BEGIN:STANDARD
TZOFFSETFROM:-0700
TZOFFSETTO:-0800
TZNAME:PST
DTSTART:20171105T090000
END:STANDARD
BEGIN:DAYLIGHT
TZOFFSETFROM:-0800
TZOFFSETTO:-0700
TZNAME:PDT
DTSTART:20180311T100000
END:DAYLIGHT
BEGIN:STANDARD
TZOFFSETFROM:-0700
TZOFFSETTO:-0800
TZNAME:PST
DTSTART:20181104T090000
END:STANDARD
END:VTIMEZONE
BEGIN:VEVENT
DTSTART;TZID=America/Los_Angeles:20170505T220000
DTEND;TZID=America/Los_Angeles:20170505T220000
DTSTAMP:20260424T003412
CREATED:20170430T232439Z
LAST-MODIFIED:20170430T232439Z
UID:23720-1494021600-1494021600@laguestlist.com
SUMMARY:Five Four Cinco de Mayo Celebration
DESCRIPTION:Invite Only – Five Four Cinco de Mayo Celebration in honor of their 15 Year Anniversary with an All White Dress Code and music provided by DJ Eric Dlux.
URL:https://laguestlist.com/event/five-four-cinco-de-mayo-celebration/
LOCATION:CA
CATEGORIES:Holiday Party,Things to do
ATTACH;FMTTYPE=image/png:https://laguestlist.com/wp-content/uploads/2017/04/Screen-Shot-2017-04-30-at-4.20.51-PM.png
END:VEVENT
BEGIN:VEVENT
DTSTART;TZID=America/Los_Angeles:20170528T120000
DTEND;TZID=America/Los_Angeles:20170528T190000
DTSTAMP:20260424T003412
CREATED:20170519T184929Z
LAST-MODIFIED:20170519T184929Z
UID:24223-1495972800-1495998000@laguestlist.com
SUMMARY:SurferxBlood & The Hollywood Roosevelt Presents "Land of the Free"
DESCRIPTION:RSVP – Join SurferxBlood on Sunday May 28th for Memorial Weekend at The Roosevelt Tropicana Pool. It’s going down! The first holiday of the year No school No work! You’re invited to take part in the festivities. Come one\, come all\, bring guests\, and hang loose. It’s going to be epic poolside fun.
URL:https://laguestlist.com/event/surferxblood-hollywood-roosevelt-presents-land-free/
LOCATION:Hollywood Roosevelt\, 7000 Hollywood Boulevard\, Los Angeles\, CA\, 90028\, United States
CATEGORIES:Fun in the Sun,Holiday Party
ATTACH;FMTTYPE=image/jpeg:https://laguestlist.com/wp-content/uploads/2017/05/unnamed-2.jpg
END:VEVENT
BEGIN:VEVENT
DTSTART;TZID=America/Los_Angeles:20170528T130000
DTEND;TZID=America/Los_Angeles:20170528T190000
DTSTAMP:20260424T003412
CREATED:20170527T220711Z
LAST-MODIFIED:20170527T220920Z
UID:24434-1495976400-1495998000@laguestlist.com
SUMMARY:Dime Piece Pool Party
DESCRIPTION:Invite Only – Dime Piece is teaming up with The Line Hotel’s Camp Commissary to bring you Two Pool parties this weekend with music by Orange Calderon and Jasmine Salano on Sunday.
URL:https://laguestlist.com/event/dime-piece-pool-party/
LOCATION:the Line Hotel\, 3515 Wilshire Blvd\, Los Angeles\, CA\, 90010\, United States
CATEGORIES:Fun in the Sun,Holiday Party
ATTACH;FMTTYPE=image/png:https://laguestlist.com/wp-content/uploads/2017/05/Screen-Shot-2017-05-27-at-3.02.31-PM.png
END:VEVENT
BEGIN:VEVENT
DTSTART;TZID=America/Los_Angeles:20170528T220000
DTEND;TZID=America/Los_Angeles:20170528T220000
DTSTAMP:20260424T003412
CREATED:20170524T215442Z
LAST-MODIFIED:20170524T215520Z
UID:24371-1496008800-1496008800@laguestlist.com
SUMMARY:The Sound of Rhonda presents Felix Da Housecat
DESCRIPTION:Ticketed – The Sound of Rhonda presents Felix Da Housecat with Goddollars and Paradise at Sound Nightclub.
URL:https://laguestlist.com/event/sound-rhonda-presents-felix-da-housecat/
LOCATION:Sound Nightclub\, 1642 N Las Palmas Ave\,  Los Angeles\, CA\, 90028\, United States
CATEGORIES:Holiday Party,Nightlife
ATTACH;FMTTYPE=image/jpeg:https://laguestlist.com/wp-content/uploads/2017/05/us-0528-968589-949650-front.jpg
END:VEVENT
BEGIN:VEVENT
DTSTART;TZID=America/Los_Angeles:20170529T130000
DTEND;TZID=America/Los_Angeles:20170529T190000
DTSTAMP:20260424T003412
CREATED:20170520T174310Z
LAST-MODIFIED:20170520T174310Z
UID:24238-1496062800-1496084400@laguestlist.com
SUMMARY:WAVEY featuring Metro Area + Overjoy & More
DESCRIPTION:Ticketed – Going to be kicking things off with a legendary NY duo for the realest heads. Rarely do they make their way to the West Coast\, so it’s definitely a special one. We’re also bringing along our favorite LA trio and Wavey Alumni to join\, and won’t be forgetting some of the homies to support. As usual the floaties will line the pool so be ready for a dip after you put in that footwork
URL:https://laguestlist.com/event/wavey-featuring-metro-area-overjoy/
LOCATION:Mondrian Hotel\, 8440 Sunset Blvd\, West Hollywood\, CA\, 90069\, United States
CATEGORIES:Fun in the Sun,Holiday Party
ATTACH;FMTTYPE=image/jpeg:https://laguestlist.com/wp-content/uploads/2017/05/18425021_1591165597583501_1007608529742917101_n.jpg
END:VEVENT
BEGIN:VEVENT
DTSTART;TZID=America/Los_Angeles:20170529T130000
DTEND;TZID=America/Los_Angeles:20170529T190000
DTSTAMP:20260424T003412
CREATED:20170527T220844Z
LAST-MODIFIED:20170527T220844Z
UID:24438-1496062800-1496084400@laguestlist.com
SUMMARY:Dime Piece Pool Party
DESCRIPTION:Invite Only – Dime Piece is teaming up with The Line Hotel’s Camp Commissary to bring you Two Pool parties this weekend with music by Bella Fiasco and Nitrane on Monday.
URL:https://laguestlist.com/event/dime-piece-pool-party-2/
LOCATION:the Line Hotel\, 3515 Wilshire Blvd\, Los Angeles\, CA\, 90010\, United States
CATEGORIES:Fun in the Sun,Holiday Party
ATTACH;FMTTYPE=image/png:https://laguestlist.com/wp-content/uploads/2017/05/Screen-Shot-2017-05-27-at-3.02.31-PM.png
END:VEVENT
END:VCALENDAR