BEGIN:VCALENDAR
VERSION:2.0
PRODID:-//LA Guestlist - ECPv6.15.20//NONSGML v1.0//EN
CALSCALE:GREGORIAN
METHOD:PUBLISH
X-ORIGINAL-URL:https://laguestlist.com
X-WR-CALDESC:Events for LA Guestlist
REFRESH-INTERVAL;VALUE=DURATION:PT1H
X-Robots-Tag:noindex
X-PUBLISHED-TTL:PT1H
BEGIN:VTIMEZONE
TZID:America/Los_Angeles
BEGIN:DAYLIGHT
TZOFFSETFROM:-0800
TZOFFSETTO:-0700
TZNAME:PDT
DTSTART:20230312T100000
END:DAYLIGHT
BEGIN:STANDARD
TZOFFSETFROM:-0700
TZOFFSETTO:-0800
TZNAME:PST
DTSTART:20231105T090000
END:STANDARD
BEGIN:DAYLIGHT
TZOFFSETFROM:-0800
TZOFFSETTO:-0700
TZNAME:PDT
DTSTART:20240310T100000
END:DAYLIGHT
BEGIN:STANDARD
TZOFFSETFROM:-0700
TZOFFSETTO:-0800
TZNAME:PST
DTSTART:20241103T090000
END:STANDARD
BEGIN:DAYLIGHT
TZOFFSETFROM:-0800
TZOFFSETTO:-0700
TZNAME:PDT
DTSTART:20250309T100000
END:DAYLIGHT
BEGIN:STANDARD
TZOFFSETFROM:-0700
TZOFFSETTO:-0800
TZNAME:PST
DTSTART:20251102T090000
END:STANDARD
BEGIN:DAYLIGHT
TZOFFSETFROM:-0800
TZOFFSETTO:-0700
TZNAME:PDT
DTSTART:20260308T100000
END:DAYLIGHT
BEGIN:STANDARD
TZOFFSETFROM:-0700
TZOFFSETTO:-0800
TZNAME:PST
DTSTART:20261101T090000
END:STANDARD
BEGIN:DAYLIGHT
TZOFFSETFROM:-0800
TZOFFSETTO:-0700
TZNAME:PDT
DTSTART:20270314T100000
END:DAYLIGHT
BEGIN:STANDARD
TZOFFSETFROM:-0700
TZOFFSETTO:-0800
TZNAME:PST
DTSTART:20271107T090000
END:STANDARD
END:VTIMEZONE
BEGIN:VEVENT
DTSTART;TZID=America/Los_Angeles:20241103T130000
DTEND;TZID=America/Los_Angeles:20241103T160000
DTSTAMP:20260419T071419
CREATED:20240908T002844Z
LAST-MODIFIED:20240908T002916Z
UID:50731-1730638800-1730649600@laguestlist.com
SUMMARY:Los Angeles Magazine’s The Food Event 2024
DESCRIPTION:Ticketed – Join Los Angeles magazine at The Food Event 2024\, our 18th annual epicurean extravaganza\, set in the iconic infield at Santa Anita Park. This annual culinary festival features unlimited samplings from up to 40 of L.A.’s best restaurants\, live craft beers\, boutique wines\, spirits and cocktails\, and special experiences courtesy of our sponsors.
URL:https://laguestlist.com/event/los-angeles-magazines-the-food-event-2024/
LOCATION:Santa Anita Park\, 285 West Huntington Drive\, Arcadia\, CA\, 91007\, United States
CATEGORIES:Gastronomy
ATTACH;FMTTYPE=image/png:https://laguestlist.com/wp-content/uploads/2024/09/the-food-event-2024.png
END:VEVENT
BEGIN:VEVENT
DTSTART;TZID=America/Los_Angeles:20241203T200000
DTEND;TZID=America/Los_Angeles:20241203T223000
DTSTAMP:20260419T071419
CREATED:20241029T043311Z
LAST-MODIFIED:20241029T043311Z
UID:50846-1733256000-1733265000@laguestlist.com
SUMMARY:L.A. Times: 101 Best Restaurants of 2024
DESCRIPTION:Ticketed – L.A. Times will unveil its annual 101 Best Restaurants guide at the Hollywood Palladium on the evening of Dec. 3. The all-inclusive event will feature food and drinks from Southern California’s top restaurants and bars\, plus a live countdown of The Times’ annual restaurants guide
URL:https://laguestlist.com/event/l-a-times-101-best-restaurants-of-2024/
LOCATION:The Palladium\, 6215 Sunset Boulevard\,  Los Angeles\, CA\, 90028\, United States
CATEGORIES:Gastronomy
ATTACH;FMTTYPE=image/jpeg:https://laguestlist.com/wp-content/uploads/2024/10/unnamed.jpg
END:VEVENT
BEGIN:VEVENT
DTSTART;TZID=America/Los_Angeles:20250628T120000
DTEND;TZID=America/Los_Angeles:20250629T180000
DTSTAMP:20260419T071419
CREATED:20250528T173121Z
LAST-MODIFIED:20250528T173121Z
UID:51254-1751112000-1751220000@laguestlist.com
SUMMARY:Infatuation’s EEEEATSCON 2025
DESCRIPTION:Ticketed – EEEEEATSCON Los Angeles will feature an exciting lineup of one-of-a-kind restaurant collaborations and some of The Infatuation’s favorite restaurants from Los Angeles and across the country\, including: Bridgetown Roti x Quarter Sheets\, WAKE AND LAKE x Sqirl\, BBAD\, Lorenzo California\, Good Alley\, Evil Cooks\, III Mas\, Temaki Society\, Santa Canela\, Aunt Yvette’s Kitchen\, Zira Uzbek Kitchen\, San Francisco’s Bodega SF\, New York City’s Caffè Panna\, Majordōmo\, and more. Attendees can also enjoy engaging programing and live conversations with popular podcast hosts including How Long Gone\, Mythical Kitchen’s Last Meals\, Complex’s Idea Generation and Lemme Say This. 
URL:https://laguestlist.com/event/infatuations-eeeeatscon-2025/
LOCATION:The Barker Hangar\, 3021 Airport Ave\, Santa Monica\, CA\, 90405\, United States
CATEGORIES:Gastronomy
ATTACH;FMTTYPE=image/jpeg:https://laguestlist.com/wp-content/uploads/2025/05/1.jpg
END:VEVENT
BEGIN:VEVENT
DTSTART;TZID=America/Los_Angeles:20250913T120000
DTEND;TZID=America/Los_Angeles:20250913T200000
DTSTAMP:20260419T071419
CREATED:20250807T024458Z
LAST-MODIFIED:20250807T024458Z
UID:51371-1757764800-1757793600@laguestlist.com
SUMMARY:Family Style Food Fest 2025
DESCRIPTION:Ticketed – Complex Presents Family Style Food Fest 2025 hosted by Verdy. An immersive festival experience perfectly pairing the streetwear and culinary worlds with real-life entertainment. Family Style features a delicious food lineup\, top-tier restaurants (including out-of-state legends)\, collaborative merchandise from the hottest brands and designers\, a Kid’s Area\, and a curated music lineup.
URL:https://laguestlist.com/event/family-style-food-fest-2025/
LOCATION:LA State Historic Park\, 1245 N Spring St\, Los Angeles\, CA\, 90012\, United States
CATEGORIES:Gastronomy
ATTACH;FMTTYPE=image/png:https://laguestlist.com/wp-content/uploads/2025/08/ff.png
END:VEVENT
BEGIN:VEVENT
DTSTART;TZID=America/Los_Angeles:20250918T180000
DTEND;TZID=America/Los_Angeles:20250918T230000
DTSTAMP:20260419T071419
CREATED:20250911T005321Z
LAST-MODIFIED:20250911T005321Z
UID:51467-1758218400-1758236400@laguestlist.com
SUMMARY:The Macallan: A Month of Timeless Taste
DESCRIPTION:RSVP – Join The Macallan in Los Angeles for a bespoke experience celebrating our newly reimagined Timeless Collections—an evolution of our Double Cask and Sherry Oak ranges\, in collaboration with design legend\, David Carson. To mark the occasion\, The Macallan will host a Month of Timeless Taste beginning September 18th\, bringing bespoke cocktails\, immersive pairings\, and collectible charms to leading bars and restaurants nationwide. Be the first to experience this journey at our debut event at Death & Co. Los Angeles.
URL:https://laguestlist.com/event/the-macallan-a-month-of-timeless-taste/
LOCATION:Death & Co LA\, 818 E 3rd St\, Los Angeles\, CA\, 90013\, United States
CATEGORIES:Gastronomy
ATTACH;FMTTYPE=image/jpeg:https://laguestlist.com/wp-content/uploads/2025/09/MAC-2025-Double-Cask-Mini-Range-Envtl-Product-Static-16x9-RGB-150dpi-1.jpg
END:VEVENT
BEGIN:VEVENT
DTSTART;TZID=America/Los_Angeles:20251010T193000
DTEND;TZID=America/Los_Angeles:20251011T220000
DTSTAMP:20260419T071419
CREATED:20250927T015139Z
LAST-MODIFIED:20250927T015139Z
UID:51512-1760124600-1760220000@laguestlist.com
SUMMARY:Food Bowl Night Market 2025
DESCRIPTION:Ticketed – The Los Angeles Times has announced details for Food Bowl Night Market\, a culinary event showcasing Southern California’s dynamic food scene\, presented by Square. The festival will take place over two days on Oct. 10 and 11 at the City Market Social House in downtown L.A. The all-inclusive Friday and Saturday events will feature unlimited tastings from over 25 restaurants\, drink selections from wineries and distilleries\, DJ sets\, activities and more. Tickets are on sale now at lafoodbowl.com. VIP early entry tickets\, presented by Cathay Pacific\, are also available for purchase.
URL:https://laguestlist.com/event/food-bowl-night-market-2025/
LOCATION:City Market Social House\, 1137 South San Pedro Street\, Los Angeles\, CA\, 90015\, United States
CATEGORIES:Gastronomy
ATTACH;FMTTYPE=image/png:https://laguestlist.com/wp-content/uploads/2025/09/Food-Bowl-Night-Market.png
END:VEVENT
BEGIN:VEVENT
DTSTART;TZID=America/Los_Angeles:20251012T120000
DTEND;TZID=America/Los_Angeles:20251012T200000
DTSTAMP:20260419T071419
CREATED:20250927T011042Z
LAST-MODIFIED:20250927T011042Z
UID:51503-1760270400-1760299200@laguestlist.com
SUMMARY:Tenderfest 2025
DESCRIPTION:Ticketed – Get ready for a cluckin’ good time at TENDERFEST 4 EVER\, the world’s largest all-you-can-eat chicken tender festival\, returning to the heart of Beverly Hills! This is more than just a food festival; it’s a foodie experience designed for everyone\, from families looking for a fun weekend outing to couples seeking a unique date night.
URL:https://laguestlist.com/event/tenderfest-2025/
LOCATION:Wallis Annenberg Center for the Performing Arts\, 9390 N. Santa Monica Blvd.\, Beverly Hills\, CA\, 90210\, United States
CATEGORIES:Gastronomy
ATTACH;FMTTYPE=image/png:https://laguestlist.com/wp-content/uploads/2025/09/Tenderfest-2025.png
END:VEVENT
BEGIN:VEVENT
DTSTART;TZID=America/Los_Angeles:20251019T180000
DTEND;TZID=America/Los_Angeles:20251019T220000
DTSTAMP:20260419T071419
CREATED:20250927T014656Z
LAST-MODIFIED:20250927T014656Z
UID:51511-1760896800-1760911200@laguestlist.com
SUMMARY:Beverly Hills Autumn BBQ
DESCRIPTION:Ticketed – A one-of-a-kind culinary celebration in magnificent Beverly Cañon Gardens\, The Maybourne Beverly Hills and Spago Beverly Hills’ Chef Wolfgang Puck join forces for an unforgettable three-hour evening of elevated BBQ\, cocktails and philanthropy – the Beverly Hills Autumn BBQ\, benefitting No Kid Hungry. With chef stations\, master mixologist bars\, live music\, a silent auction\, and wine & spirits tastings sprinkled across lush gardens of Beverly Hills.
URL:https://laguestlist.com/event/beverly-hills-autumn-bbq/
LOCATION:Beverly Hills
CATEGORIES:Gastronomy
END:VEVENT
BEGIN:VEVENT
DTSTART;TZID=America/Los_Angeles:20251209T200000
DTEND;TZID=America/Los_Angeles:20251209T223000
DTSTAMP:20260419T071419
CREATED:20251110T231610Z
LAST-MODIFIED:20251110T231610Z
UID:51626-1765310400-1765319400@laguestlist.com
SUMMARY:L.A. Times 101 Best Restaurants 2025
DESCRIPTION:Ticketed – Spend an evening with the city’s most acclaimed chefs and culinary icons as we celebrate the electrifying countdown to the No. 1 restaurant in L.A. at the L.A. Times 101 Best Restaurants 2025 event presented by OpenTable and Square! Mix and mingle with L.A.’s culinary elite and enjoy unlimited food and drink from top local restaurants for one unforgettable night.
URL:https://laguestlist.com/event/l-a-times-101-best-restaurants-2025/
LOCATION:The Palladium\, 6215 Sunset Boulevard\,  Los Angeles\, CA\, 90028\, United States
CATEGORIES:Gastronomy
ATTACH;FMTTYPE=image/png:https://laguestlist.com/wp-content/uploads/2025/11/L.A.-Times-101-Best-Restaurants-2025.png
END:VEVENT
BEGIN:VEVENT
DTSTART;TZID=America/Los_Angeles:20260328T110000
DTEND;TZID=America/Los_Angeles:20260329T210000
DTSTAMP:20260419T071419
CREATED:20260212T233706Z
LAST-MODIFIED:20260212T233706Z
UID:51886-1774695600-1774818000@laguestlist.com
SUMMARY:Yes Chef Food Fest Los Angeles
DESCRIPTION:Ticketed – Yes Chef Food Fest Presented by Verizon\, the cultural phenomenon redefining how food\, entertainment\, and lifestyle collide\, today announced its highly anticipated Los Angeles debut. The two-day festival will take place on March 28th and 29th 2026 at Reframe Studios in Los Angeles
URL:https://laguestlist.com/event/yes-chef-food-fest-los-angeles/
LOCATION:Reframe Studios\, W Colorado Blvd.\, Los Angeles\, CA\, 90039\, United States
CATEGORIES:Gastronomy
ATTACH;FMTTYPE=image/png:https://laguestlist.com/wp-content/uploads/2026/02/Yes-Chef-Food-Fest-Los-Angeles.png
END:VEVENT
BEGIN:VEVENT
DTSTART;TZID=America/Los_Angeles:20260503T170000
DTEND;TZID=America/Los_Angeles:20260503T203000
DTSTAMP:20260419T071419
CREATED:20260331T191802Z
LAST-MODIFIED:20260331T191802Z
UID:52136-1777827600-1777840200@laguestlist.com
SUMMARY:Cuisine for a Cause 2026
DESCRIPTION:Ticketed – For one night\, some of LA’s most acclaimed chefs will cook side by side at Cuisine for a Cause\, Lupus LA’s signature culinary fundraiser. Hosted at Vibiana in downtown Los Angeles\, the evening invites guests to explore a courtyard tasting experience featuring signature dishes from top restaurants across the city – offering a rare opportunity to sample standout bites from multiple culinary destinations in one place. Desserts will be served during the indoor program\, accompanied by an open bar. Proceeds support Lupus LA’s work advancing lupus research\, patient services\, and advocacy.
URL:https://laguestlist.com/event/cuisine-for-a-cause-2026/
LOCATION:Vibiana\, 214 S Main Street\, Los Angeles\, CA\, 90012\, United States
CATEGORIES:Gastronomy
ATTACH;FMTTYPE=image/png:https://laguestlist.com/wp-content/uploads/2026/03/Lupus-LA-CFAC-2026.png
END:VEVENT
BEGIN:VEVENT
DTSTART;TZID=America/Los_Angeles:20260516T120000
DTEND;TZID=America/Los_Angeles:20260517T180000
DTSTAMP:20260419T071419
CREATED:20260401T002017Z
LAST-MODIFIED:20260401T002017Z
UID:52143-1778932800-1779040800@laguestlist.com
SUMMARY:EEEEEATSCON Los Angeles 2026
DESCRIPTION:Ticketed – Celebrating Los Angeles with the Return of The Infatuation’s EEEEEATSCON Los Angeles in Santa Monica This Summer\, food experience built in the spirit of a music festival\, but with restaurants as the headliners.
URL:https://laguestlist.com/event/eeeeeatscon-los-angeles-2026/
LOCATION:The Barker Hangar\, 3021 Airport Ave\, Santa Monica\, CA\, 90405\, United States
CATEGORIES:Gastronomy
ATTACH;FMTTYPE=image/png:https://laguestlist.com/wp-content/uploads/2026/03/EEEEEATSCON.png
END:VEVENT
END:VCALENDAR