BEGIN:VCALENDAR
VERSION:2.0
PRODID:-//LA Guestlist - ECPv6.15.20//NONSGML v1.0//EN
CALSCALE:GREGORIAN
METHOD:PUBLISH
X-ORIGINAL-URL:https://laguestlist.com
X-WR-CALDESC:Events for LA Guestlist
REFRESH-INTERVAL;VALUE=DURATION:PT1H
X-Robots-Tag:noindex
X-PUBLISHED-TTL:PT1H
BEGIN:VTIMEZONE
TZID:America/Los_Angeles
BEGIN:DAYLIGHT
TZOFFSETFROM:-0800
TZOFFSETTO:-0700
TZNAME:PDT
DTSTART:20200308T100000
END:DAYLIGHT
BEGIN:STANDARD
TZOFFSETFROM:-0700
TZOFFSETTO:-0800
TZNAME:PST
DTSTART:20201101T090000
END:STANDARD
BEGIN:DAYLIGHT
TZOFFSETFROM:-0800
TZOFFSETTO:-0700
TZNAME:PDT
DTSTART:20210314T100000
END:DAYLIGHT
BEGIN:STANDARD
TZOFFSETFROM:-0700
TZOFFSETTO:-0800
TZNAME:PST
DTSTART:20211107T090000
END:STANDARD
BEGIN:DAYLIGHT
TZOFFSETFROM:-0800
TZOFFSETTO:-0700
TZNAME:PDT
DTSTART:20220313T100000
END:DAYLIGHT
BEGIN:STANDARD
TZOFFSETFROM:-0700
TZOFFSETTO:-0800
TZNAME:PST
DTSTART:20221106T090000
END:STANDARD
BEGIN:DAYLIGHT
TZOFFSETFROM:-0800
TZOFFSETTO:-0700
TZNAME:PDT
DTSTART:20230312T100000
END:DAYLIGHT
BEGIN:STANDARD
TZOFFSETFROM:-0700
TZOFFSETTO:-0800
TZNAME:PST
DTSTART:20231105T090000
END:STANDARD
BEGIN:DAYLIGHT
TZOFFSETFROM:-0800
TZOFFSETTO:-0700
TZNAME:PDT
DTSTART:20240310T100000
END:DAYLIGHT
BEGIN:STANDARD
TZOFFSETFROM:-0700
TZOFFSETTO:-0800
TZNAME:PST
DTSTART:20241103T090000
END:STANDARD
BEGIN:DAYLIGHT
TZOFFSETFROM:-0800
TZOFFSETTO:-0700
TZNAME:PDT
DTSTART:20250309T100000
END:DAYLIGHT
BEGIN:STANDARD
TZOFFSETFROM:-0700
TZOFFSETTO:-0800
TZNAME:PST
DTSTART:20251102T090000
END:STANDARD
BEGIN:DAYLIGHT
TZOFFSETFROM:-0800
TZOFFSETTO:-0700
TZNAME:PDT
DTSTART:20260308T100000
END:DAYLIGHT
BEGIN:STANDARD
TZOFFSETFROM:-0700
TZOFFSETTO:-0800
TZNAME:PST
DTSTART:20261101T090000
END:STANDARD
END:VTIMEZONE
BEGIN:VEVENT
DTSTART;TZID=America/Los_Angeles:20210724T100000
DTEND;TZID=America/Los_Angeles:20210724T140000
DTSTAMP:20260425T112257
CREATED:20210718T000815Z
LAST-MODIFIED:20210718T000815Z
UID:43848-1627120800-1627135200@laguestlist.com
SUMMARY:MICO Seltzer Launch Brunch
DESCRIPTION:Invite Only – Mico Seltzer kicks-off the launch with a private brunch. Invited guests will learn from a horticulturalist about the current status and how to properly grow the Blue Agave Plant.
URL:https://laguestlist.com/event/mico-seltzer-launch-brunch/
LOCATION:CA
CATEGORIES:Event,Fun in the Sun
ATTACH;FMTTYPE=image/png:https://laguestlist.com/wp-content/uploads/2021/07/Screen-Shot-2021-07-17-at-4.53.40-PM.png
END:VEVENT
BEGIN:VEVENT
DTSTART;TZID=America/Los_Angeles:20210725T150000
DTEND;TZID=America/Los_Angeles:20210725T190000
DTSTAMP:20260425T112257
CREATED:20210718T001201Z
LAST-MODIFIED:20210718T001201Z
UID:43851-1627225200-1627239600@laguestlist.com
SUMMARY:MICO Seltzer Pool Party
DESCRIPTION:Invite Only – Mico Seltzer wraps up their launch weekend with a rooftop pool party with friends and family.
URL:https://laguestlist.com/event/mico-seltzer-pool-party/
LOCATION:CA
CATEGORIES:Fun in the Sun
ATTACH;FMTTYPE=image/png:https://laguestlist.com/wp-content/uploads/2021/07/Screen-Shot-2021-07-17-at-5.09.24-PM.png
END:VEVENT
BEGIN:VEVENT
DTSTART;TZID=America/Los_Angeles:20210808T150000
DTEND;TZID=America/Los_Angeles:20210808T200000
DTSTAMP:20260425T112257
CREATED:20210723T011723Z
LAST-MODIFIED:20210723T011723Z
UID:43956-1628434800-1628452800@laguestlist.com
SUMMARY:Rhonda Lis
DESCRIPTION:Invite Only – A Club Called Rhonda presents Rhonda Lis\, a scenic Sunday dance and swim celebrating the grand opening of the new Thompson Hotel Hollywood and its rooftop Bar Lis.
URL:https://laguestlist.com/event/rhonda-lis/
LOCATION:CA
CATEGORIES:Fun in the Sun
ATTACH;FMTTYPE=image/jpeg:https://laguestlist.com/wp-content/uploads/2021/07/Screen-Shot-2021-07-22-at-6.14.21-PM.jpg
END:VEVENT
BEGIN:VEVENT
DTSTART;TZID=America/Los_Angeles:20210906T130000
DTEND;TZID=America/Los_Angeles:20210906T190000
DTSTAMP:20260425T112257
CREATED:20210905T232758Z
LAST-MODIFIED:20210905T232758Z
UID:44447-1630933200-1630954800@laguestlist.com
SUMMARY:Wicked Paradise Labor Day Party w/ Sam Blacky
DESCRIPTION:Ticketed – Wicked Paradise is throwing a Labor Pool Party at Skybar at the Mondran with DJ Sam Blacky and friends.
URL:https://laguestlist.com/event/wicked-paradise-labor-day-party-w-sam-blacky/
LOCATION:Skybar at Mondrian\, 8440 Sunset Boulevard\, West Hollywood\, CA\, 90069\, United States
CATEGORIES:Fun in the Sun
ATTACH;FMTTYPE=image/jpeg:https://laguestlist.com/wp-content/uploads/2021/09/Screen-Shot-2021-09-05-at-4.25.45-PM.jpg
END:VEVENT
BEGIN:VEVENT
DTSTART;TZID=America/Los_Angeles:20210917T140000
DTEND;TZID=America/Los_Angeles:20210917T233000
DTSTAMP:20260425T112257
CREATED:20210916T042034Z
LAST-MODIFIED:20210916T042034Z
UID:44538-1631887200-1631921400@laguestlist.com
SUMMARY:Broken Shaker Los Angeles Sky Dive Pool Party
DESCRIPTION:Open – On Friday September 17th\, Broken Shaker at Freehand Los Angeles presents Sky Dive. Head downtown for a rooftop pool party at the award-winning bar with performances from Desirable D\, DJ Sidewords\, DJ Jazzabelle\, and Vincent Villaneva.
URL:https://laguestlist.com/event/broken-shaker-los-angeles-sky-dive-pool-party/
LOCATION:Broken Shaker Los Angeles\, 416 W. 8th St.\, Los Angeles\, CA\, 90014\, United States
CATEGORIES:Fun in the Sun
ATTACH;FMTTYPE=image/jpeg:https://laguestlist.com/wp-content/uploads/2021/09/unnamed-5.jpg
END:VEVENT
BEGIN:VEVENT
DTSTART;TZID=America/Los_Angeles:20210919T120000
DTEND;TZID=America/Los_Angeles:20210919T180000
DTSTAMP:20260425T112258
CREATED:20210917T232921Z
LAST-MODIFIED:20210917T232921Z
UID:44554-1632052800-1632074400@laguestlist.com
SUMMARY:Sperry Presents All Aboard
DESCRIPTION:Invite Only – Guests will celebrate the closing of summer this Sunday with Sperry with drinks\, tacos\, tunes by Wade Crescent\, and lots of fun.
URL:https://laguestlist.com/event/sperry-presents-all-aboard/
LOCATION:CA
CATEGORIES:Fun in the Sun
ATTACH;FMTTYPE=image/jpeg:https://laguestlist.com/wp-content/uploads/2021/09/Screen-Shot-2021-09-17-at-4.24.32-PM.jpg
END:VEVENT
BEGIN:VEVENT
DTSTART;TZID=America/Los_Angeles:20220602T170000
DTEND;TZID=America/Los_Angeles:20220602T230000
DTSTAMP:20260425T112258
CREATED:20220602T000853Z
LAST-MODIFIED:20220602T000853Z
UID:45886-1654189200-1654210800@laguestlist.com
SUMMARY:The Bungalow Night Market w/ Mayer Hawthorne
DESCRIPTION:Open – The Bungalow Santa Monica’s Night Market presented by KCRW returns this summer to The Fairmont Miramar Hotel with an exciting new lineup of food vendors\, beverage\, and brand activations\, family-friendly activities\, live DJ performances\, and celebrity guest bartenders. Free and open to the public for guests (and pets) of all ages\, the Bungalow’s Night Market kicks off Thursday\, June 2\, and will run every Thursday from 5 pm to 11 pm through September 1. Night Market kicks off with an opening night DJ set by Grammy-nominated artist and multi-instrumentalist Mayer Hawthorne and brand activations from Kendall Jenner’s 818 Tequila\, complete with a cabana and games.
URL:https://laguestlist.com/event/the-bungalow-night-market-w-mayer-hawthorne/
LOCATION:The Bungalow\, 101 Wilshire Blvd\, Santa Monica\, CA\, 90401\, United States
CATEGORIES:Fun in the Sun
ATTACH;FMTTYPE=image/jpeg:https://laguestlist.com/wp-content/uploads/2022/06/NightMarket-MayerHawthorne-09.jpg
END:VEVENT
BEGIN:VEVENT
DTSTART;TZID=America/Los_Angeles:20220612T100000
DTEND;TZID=America/Los_Angeles:20220612T160000
DTSTAMP:20260425T112258
CREATED:20220608T165436Z
LAST-MODIFIED:20220608T165436Z
UID:45948-1655028000-1655049600@laguestlist.com
SUMMARY:Real Food From The Ground Up Tour
DESCRIPTION:Open – Real Food From The Ground Up s taking it a step further by hosting an exclusive Snack Lovers Summer Series\, stopping at select cities along the way this summer\, with the first stop in Los Angeles. At the event\, attendees can connect with each other over their love for plants\, upping their snack game with plant-based snacks and refreshments\, snapping photos with scenic backdrops\, and experiencing their first-ever plant-based DJ set. Real Food From The Ground Up has asked DJ Shai to curate unique songs from nature using a breakthrough technology called PlantWave\, which connects electrodes to plant leaves and detects slight electrical variations and then translates them into music.
URL:https://laguestlist.com/event/real-food-from-the-ground-up-tour/
LOCATION:Dock Street\, 767 S. Alameda St.\, Los Angeles\, CA\, 90021\, United States
CATEGORIES:Fun in the Sun
ATTACH;FMTTYPE=image/png:https://laguestlist.com/wp-content/uploads/2022/06/Screen-Shot-2022-06-08-at-9.51.13-AM.png
END:VEVENT
BEGIN:VEVENT
DTSTART;TZID=America/Los_Angeles:20220625T140000
DTEND;TZID=America/Los_Angeles:20220625T190000
DTSTAMP:20260425T112258
CREATED:20220625T164005Z
LAST-MODIFIED:20220625T164005Z
UID:46090-1656165600-1656183600@laguestlist.com
SUMMARY:SKRT Launch Party
DESCRIPTION:Invite Only – SKRT Official Launch Party hosted by Mario and BIA.
URL:https://laguestlist.com/event/skrt-launch-party/
LOCATION:CA
CATEGORIES:Fun in the Sun
ATTACH;FMTTYPE=image/jpeg:https://laguestlist.com/wp-content/uploads/2022/06/0.jpg
END:VEVENT
BEGIN:VEVENT
DTSTART;TZID=America/Los_Angeles:20220821T140000
DTEND;TZID=America/Los_Angeles:20220821T210000
DTSTAMP:20260425T112258
CREATED:20220805T191450Z
LAST-MODIFIED:20220805T191450Z
UID:46322-1661090400-1661115600@laguestlist.com
SUMMARY:The Do-Over Los Angeles
DESCRIPTION:RSVP – The Do-Over is back for another summer Sunday session! Your favorite daytime smash keeps the heat up for August with a whole cast of mystery guest DJs from around the globe alongside The Do-Over DJs.
URL:https://laguestlist.com/event/the-do-over-los-angeles-6/
LOCATION:Sunset Room\, 1439 Ivar Avenue\, Los Angeles\, CA\, 90028\, United States
CATEGORIES:Fun in the Sun
ATTACH;FMTTYPE=image/png:https://laguestlist.com/wp-content/uploads/2022/08/unnamed-2.png
END:VEVENT
BEGIN:VEVENT
DTSTART;TZID=America/Los_Angeles:20220825T160000
DTEND;TZID=America/Los_Angeles:20220825T200000
DTSTAMP:20260425T112258
CREATED:20220817T200342Z
LAST-MODIFIED:20220817T200342Z
UID:46412-1661443200-1661457600@laguestlist.com
SUMMARY:JuneShine & Lo Siento Presents Golden Hour
DESCRIPTION:RSVP – To celebrate our newest flavor with ambassador Cody Ko called Hippie Juice\, JuneShine is hosting Golden Hour at Belles Beach House in partnership with Lo Siento Tequila.
URL:https://laguestlist.com/event/juneshine-lo-siento-presents-golden-hour/
LOCATION:Belles Beach House\, 24 Windward Avenue\, Los Angeles\, CA\, 90291\, United States
CATEGORIES:Fun in the Sun
ATTACH;FMTTYPE=image/png:https://laguestlist.com/wp-content/uploads/2022/08/Screen-Shot-2022-08-17-at-1.01.12-PM.png
END:VEVENT
BEGIN:VEVENT
DTSTART;TZID=America/Los_Angeles:20220902T130000
DTEND;TZID=America/Los_Angeles:20220905T160000
DTSTAMP:20260425T112258
CREATED:20220811T201329Z
LAST-MODIFIED:20220811T201329Z
UID:46382-1662123600-1662393600@laguestlist.com
SUMMARY:The 40th Annual Malibu Chili Cook-Off
DESCRIPTION:Ticketed – The 40th Annual Malibu Chili Cook-Off will take place on Labor Day weekend\, September 2-5\, 2022 at 23575 Civic Center Way. Hosted by the Boys & Girls Club of Malibu. The Malibu Chili Cook-Off will include engaging experiences and surprises to make it a weekend full of fantastic food\, drink\, carnival rides\, amusement\, and fun for friends and the whole family. This year also will mark four consecutive years of reaching zero waste through the on-site sustainability program at the fair. Attendees are encouraged to bring their own water bottles and use the refillable water stations. In addition to favorite local restaurants\, businesses and artisans\, various music\, DJs\, performances\, arts and crafts\, and community support opportunities will be present throughout the weekend.
URL:https://laguestlist.com/event/the-40th-annual-malibu-chili-cook-off/
LOCATION:Malibu Creek State Park\, 1925 Las Virgenes Rd\, Calabasas\, CA\, 91302\, United States
CATEGORIES:Fun in the Sun
ATTACH;FMTTYPE=image/png:https://laguestlist.com/wp-content/uploads/2022/08/Screen-Shot-2022-08-11-at-1.09.36-PM.png
END:VEVENT
BEGIN:VEVENT
DTSTART;TZID=America/Los_Angeles:20221106T100000
DTEND;TZID=America/Los_Angeles:20221106T140000
DTSTAMP:20260425T112258
CREATED:20220929T192527Z
LAST-MODIFIED:20220929T192527Z
UID:46668-1667728800-1667743200@laguestlist.com
SUMMARY:Party on the Pier 2022
DESCRIPTION:Ticketed – Party on the Pier is back with Mattel including carnival games with fabulous Mattel toys as prizes\, celebrity appearances\, photo booth\, and many fun activites.
URL:https://laguestlist.com/event/party-on-the-pier-2022/
LOCATION:Santa Monica Pier\, Santa Monica\, CA\, 90401\, United States
CATEGORIES:Charity,Fun in the Sun
ATTACH;FMTTYPE=image/png:https://laguestlist.com/wp-content/uploads/2022/09/partyonpier.png
END:VEVENT
BEGIN:VEVENT
DTSTART;TZID=America/Los_Angeles:20230331T140000
DTEND;TZID=America/Los_Angeles:20230331T180000
DTSTAMP:20260425T112258
CREATED:20230326T195519Z
LAST-MODIFIED:20230326T195519Z
UID:48321-1680271200-1680285600@laguestlist.com
SUMMARY:Don Julia Rosado Take PTO Event
DESCRIPTION:Invite Only – Don Julia Rosado Take PTO (Party Time Off) Event with music by Politik and a surprise performance.
URL:https://laguestlist.com/event/don-julia-rosado-take-pto-event/
LOCATION:CA
CATEGORIES:Event,Fun in the Sun
ATTACH;FMTTYPE=image/png:https://laguestlist.com/wp-content/uploads/2023/03/PTO.png
END:VEVENT
BEGIN:VEVENT
DTSTART;TZID=America/Los_Angeles:20230624T130000
DTEND;TZID=America/Los_Angeles:20230624T200000
DTSTAMP:20260425T112258
CREATED:20230503T034605Z
LAST-MODIFIED:20230503T034605Z
UID:48616-1687611600-1687636800@laguestlist.com
SUMMARY:Rosé Day LA
DESCRIPTION:Ticketed – Indulge in a variety of rosé offerings at the most elegant summer experience in the country. Complemented by live DJ’s\, luxury brand activations\, delicious food pairings\, leisure games\, custom photo moments and much more!
URL:https://laguestlist.com/event/rose-day-la/
LOCATION:King Gillette Ranch\, 26800 Mulholland Hwy\, Calabasas\, CA\, 91302\, United States
CATEGORIES:Fun in the Sun
ATTACH;FMTTYPE=image/png:https://laguestlist.com/wp-content/uploads/2023/05/rose.png
END:VEVENT
BEGIN:VEVENT
DTSTART;TZID=America/Los_Angeles:20230702T120000
DTEND;TZID=America/Los_Angeles:20230702T190000
DTSTAMP:20260425T112258
CREATED:20230627T041253Z
LAST-MODIFIED:20230627T041253Z
UID:48877-1688299200-1688324400@laguestlist.com
SUMMARY:Sunset Splash with DJ Pee Wee
DESCRIPTION:RSVP – Cabana Nightlife has taken over Hotel Ziggy to Presents: Sunset Splash on Sunday\, July 2 from 12 – 7:00 p.m. Join us for a fun filled day in the sun partying poolside with music and vibes provided by DJ Pee Wee\, Leisan\, Mango & Ginger and Vago that will be sure to keep the party going all throughout the day. Cool down with El Cristiano Tequila and Selvarey Rum who will be serving up the speciality drink experience to partygoers and offering bottle packages. Gather your friends and get ready to party cause Summer is here! This will be a pool party that you won’t want to miss – we can’t wait to see you at Sunset Splash!
URL:https://laguestlist.com/event/sunset-splash-with-dj-pee-wee/
LOCATION:Hotel Ziggy\, 8462 Sunset Blvd\, West Hollywood\, CA\, 90069\, United States
CATEGORIES:Fun in the Sun
ATTACH;FMTTYPE=image/png:https://laguestlist.com/wp-content/uploads/2023/06/splash.png
END:VEVENT
BEGIN:VEVENT
DTSTART;TZID=America/Los_Angeles:20230723T140000
DTEND;TZID=America/Los_Angeles:20230723T220000
DTSTAMP:20260425T112258
CREATED:20230720T040917Z
LAST-MODIFIED:20230720T040917Z
UID:49009-1690120800-1690149600@laguestlist.com
SUMMARY:Red Cup Day Party
DESCRIPTION:RSVP – This Sunday June 23rd Starting at 2pm Come Join us for a FREE day-party experience at Red Cup\, This is event is back for one Sunday Only! Get ready to turn up with live performances by Ying Yang Twins\, Lloyd\, Chingy\, along with tunes by DJ Vice\, and many more.
URL:https://laguestlist.com/event/red-cup-day-party/
LOCATION:Pershing Square\, 532 S Olive St\, Los Angeles\, CA\, 90013\, United States
CATEGORIES:Fun in the Sun
ATTACH;FMTTYPE=image/png:https://laguestlist.com/wp-content/uploads/2023/07/yingyang.png
END:VEVENT
BEGIN:VEVENT
DTSTART;TZID=America/Los_Angeles:20230901T160000
DTEND;TZID=America/Los_Angeles:20230904T200000
DTSTAMP:20260425T112258
CREATED:20230720T041513Z
LAST-MODIFIED:20230720T041513Z
UID:49011-1693584000-1693857600@laguestlist.com
SUMMARY:Malibu Chili Cook-Off 2023
DESCRIPTION:Ticketed – The temperature is rising in Malibu over Labor Day Weekend for the\n41st annual Malibu Chili Cook-Off\, which runs Friday\, September 1\, through Monday\, September 4\, 2023\, is a four-day event bringing together friends\, families\, local businesses and restaurants for a weekend of fun in the sun and carnival rides to crown the ultimate Chili Cook-Off winner.
URL:https://laguestlist.com/event/malibu-chili-cook-off-2023/
LOCATION:Malibu Creek State Park\, 1925 Las Virgenes Rd\, Calabasas\, CA\, 91302\, United States
CATEGORIES:Fun in the Sun
ATTACH;FMTTYPE=image/png:https://laguestlist.com/wp-content/uploads/2023/07/malibu.png
END:VEVENT
BEGIN:VEVENT
DTSTART;TZID=America/Los_Angeles:20230923T140000
DTEND;TZID=America/Los_Angeles:20230923T200000
DTSTAMP:20260425T112258
CREATED:20230913T050340Z
LAST-MODIFIED:20230913T050340Z
UID:49237-1695477600-1695499200@laguestlist.com
SUMMARY:Matua Wine Present Endless Summer
DESCRIPTION:RSVP – Matua Wines is celebrating the launch of their first ever canned spritzer with the Endless Summer pool party with a DJ set by Charly Jordan\, and lots of fun activations.
URL:https://laguestlist.com/event/matua-wine-present-endless-summer/
LOCATION:Skybar at Mondrian\, 8440 Sunset Boulevard\, West Hollywood\, CA\, 90069\, United States
CATEGORIES:Fun in the Sun
ATTACH;FMTTYPE=image/png:https://laguestlist.com/wp-content/uploads/2023/09/matua.png
END:VEVENT
BEGIN:VEVENT
DTSTART;TZID=America/Los_Angeles:20240516T160000
DTEND;TZID=America/Los_Angeles:20240516T190000
DTSTAMP:20260425T112258
CREATED:20240507T023500Z
LAST-MODIFIED:20240507T023500Z
UID:50415-1715875200-1715886000@laguestlist.com
SUMMARY:Golden Road Brewing’s Ride On Beach Party
DESCRIPTION:Invite Only – Summer is almost here and to celebrate\, Golden Road Brewing kicking off the season at a beach party. Join us for an afternoon of food\, drinks\, games\, and music with a live performance from Blu DeTiger.
URL:https://laguestlist.com/event/golden-road-brewings-ride-on-beach-party/
LOCATION:Huntington Beach
CATEGORIES:Fun in the Sun
ATTACH;FMTTYPE=image/jpeg:https://laguestlist.com/wp-content/uploads/2024/05/beer-4504059_26b88_hd.jpg
END:VEVENT
BEGIN:VEVENT
DTSTART;TZID=America/Los_Angeles:20240608T120000
DTEND;TZID=America/Los_Angeles:20240609T180000
DTSTAMP:20260425T112258
CREATED:20240405T201223Z
LAST-MODIFIED:20240405T201223Z
UID:50256-1717848000-1717956000@laguestlist.com
SUMMARY:EEEEEATSCON Los Angeles 2024
DESCRIPTION:Ticketed – A food experience built in the spirit of a music festival\, but with restaurants as the headliners. This year’s event will offer exciting programming including conversations with television personality and cookbook author Chrissy Teigen\, actress\, producer\, and entrepreneur Sofia Vergara with her son\, restauranteur and television host Manolo Gonzalez Vergara\, food critic and philanthropist Keith Lee\, chef David Chang\, comedian and actress Nicole Byer\, in addition to more than 25 restaurant
URL:https://laguestlist.com/event/eeeeeatscon-los-angeles-2024/
LOCATION:The Barker Hangar\, 3021 Airport Ave\, Santa Monica\, CA\, 90405\, United States
CATEGORIES:Fun in the Sun,Gastronomy
ATTACH;FMTTYPE=image/png:https://laguestlist.com/wp-content/uploads/2024/04/eeast.png
END:VEVENT
BEGIN:VEVENT
DTSTART;TZID=America/Los_Angeles:20240608T130000
DTEND;TZID=America/Los_Angeles:20240608T200000
DTSTAMP:20260425T112258
CREATED:20240507T025015Z
LAST-MODIFIED:20240507T025015Z
UID:50417-1717851600-1717876800@laguestlist.com
SUMMARY:Rosé Day Los Angeles 2024
DESCRIPTION:Ticketed – Rosé Day Los Angeles is back for a magnificent outdoor soiree that is set to captivate your senses with tune by Anderson .Paak\, and DJ Rucks. This highly anticipated occasion will take place at the prestigious King Gillette Ranch in Calabasas\, unveiling a new chapter of opulence.
URL:https://laguestlist.com/event/rose-day-los-angeles-2024/
LOCATION:King Gillette Ranch\, 26800 Mulholland Hwy\, Calabasas\, CA\, 91302\, United States
CATEGORIES:Fun in the Sun
ATTACH;FMTTYPE=image/jpeg:https://laguestlist.com/wp-content/uploads/2024/05/rose-day-los-angeles-june-8th.jpg
END:VEVENT
BEGIN:VEVENT
DTSTART;TZID=America/Los_Angeles:20240711T170000
DTEND;TZID=America/Los_Angeles:20240711T230000
DTSTAMP:20260425T112258
CREATED:20240711T175822Z
LAST-MODIFIED:20240711T175822Z
UID:50591-1720717200-1720738800@laguestlist.com
SUMMARY:The Bungalow Night Market w/ Anderson .Paak
DESCRIPTION:Ticketed – Anderson .Paak is coming back to Night Market at the Bungalow and 100% of the proceeds will go directly to support .Paak House foundation.
URL:https://laguestlist.com/event/the-bungalow-night-market-w-anderson-paak/
LOCATION:The Bungalow\, 101 Wilshire Blvd\, Santa Monica\, CA\, 90401\, United States
CATEGORIES:Fun in the Sun
ATTACH;FMTTYPE=image/png:https://laguestlist.com/wp-content/uploads/2024/07/peeweeh.png
END:VEVENT
BEGIN:VEVENT
DTSTART;TZID=America/Los_Angeles:20240803T120000
DTEND;TZID=America/Los_Angeles:20240803T190000
DTSTAMP:20260425T112258
CREATED:20240730T025248Z
LAST-MODIFIED:20240730T025248Z
UID:50666-1722686400-1722711600@laguestlist.com
SUMMARY:FLAUNT Beach Club With Nautica and Roxy
DESCRIPTION:Invite Only – FLAUNT Beach Club With Nautica and Roxy with Lounging and Bites at Nautica Beach and Sounds and Sips by The Roxy Pool.
URL:https://laguestlist.com/event/flaunt-beach-club-with-nautica-and-roxy/
LOCATION:Santa Monica Beach
CATEGORIES:Fun in the Sun
ATTACH;FMTTYPE=image/png:https://laguestlist.com/wp-content/uploads/2024/07/roxy.png
END:VEVENT
BEGIN:VEVENT
DTSTART;TZID=America/Los_Angeles:20240906T170000
DTEND;TZID=America/Los_Angeles:20240907T230000
DTSTAMP:20260425T112258
CREATED:20240507T031024Z
LAST-MODIFIED:20240507T031024Z
UID:50424-1725642000-1725750000@laguestlist.com
SUMMARY:Zedd In The Park 2024
DESCRIPTION:Ticketed – Multi-platinum global superstar Zedd announces the fourth edition of his famed Zedd In The Park presented by Insomniac. Back for the first time since 2022 and better than ever\, the hugely successful event is set to take place on Friday\, September 6th and Saturday\, September 7th at LA Historic Park featuring games\, a special VIP area\, art installations\, multiple food trucks\, and much more.
URL:https://laguestlist.com/event/zedd-in-the-park-2024/
LOCATION:LA State Historic Park\, 1245 N Spring St\, Los Angeles\, CA\, 90012\, United States
CATEGORIES:Concert,Fun in the Sun
ATTACH;FMTTYPE=image/jpeg:https://laguestlist.com/wp-content/uploads/2024/05/FOtahyToYJMzVzpuJwYPfP1es9NhhxnQTF9OGDgz-972x597-1.jpg
END:VEVENT
BEGIN:VEVENT
DTSTART;TZID=America/Los_Angeles:20241005T110000
DTEND;TZID=America/Los_Angeles:20241005T180000
DTSTAMP:20260425T112258
CREATED:20240908T004554Z
LAST-MODIFIED:20240908T004554Z
UID:50740-1728126000-1728151200@laguestlist.com
SUMMARY:Polo Classic by Veuve Clicquot 2024
DESCRIPTION:Ticketed – On Saturday\, October 5\, 2024\, join us in Los Angeles\, California to experience the Veuve Clicquot Polo Classic\, a celebration of style\, sport and spectacle. This year’s event introduces reimagined ticket packages that offer guests more curated and elevated experiences\, all including Veuve Clicquot Champagne and highlighting our new cuvée: Veuve Clicquot RICH.
URL:https://laguestlist.com/event/polo-classic-by-veuve-clicquot-2024/
LOCATION:Will Rogers State Park\, 1501 Will Rogers State Park Rd\, Pacific Palisades\, CA\, 90272\, United States
CATEGORIES:Fun in the Sun,Sports
ATTACH;FMTTYPE=image/jpeg:https://laguestlist.com/wp-content/uploads/2024/09/1dc897f0-fe32-4870-aefc-d78113e31d63_RETINA_PORTRAIT_3_2.jpg
END:VEVENT
BEGIN:VEVENT
DTSTART;TZID=America/Los_Angeles:20250307T120000
DTEND;TZID=America/Los_Angeles:20250308T180000
DTSTAMP:20260425T112258
CREATED:20250305T075431Z
LAST-MODIFIED:20250305T075431Z
UID:50965-1741348800-1741456800@laguestlist.com
SUMMARY:Levi’s 5th Pocket Fire Relief Pop Up
DESCRIPTION:RSVP – Join Levi’s at the 5th Pocket to shop and customize LEVI’S® ICONS. Enjoy Pool\, Live DJs and Exclusive Merch. Unlock Special Customizations with your LEVI’S® purchase. 100 % of sales will benefit the California Community Foundation’s Wildfire Recovery Fund.
URL:https://laguestlist.com/event/levis-5th-pocket-fire-relief-pop-up/
LOCATION:CA
CATEGORIES:Fun in the Sun
ATTACH;FMTTYPE=image/jpeg:https://laguestlist.com/wp-content/uploads/2025/03/1.jpg
END:VEVENT
BEGIN:VEVENT
DTSTART;TZID=America/Los_Angeles:20250605T110000
DTEND;TZID=America/Los_Angeles:20250607T190000
DTSTAMP:20260425T112258
CREATED:20250531T011307Z
LAST-MODIFIED:20250531T011307Z
UID:51264-1749121200-1749322800@laguestlist.com
SUMMARY:Le Petit Court by Max
DESCRIPTION:RSVP – To mark the debut of Roland-Garros on Max for the first time in the U.S.\, Max is bringing the tournament to life in Venice Beach\, Los Angeles with “Le Petit Court\,” a pickleball experience featuring the iconic clay court and signature umpire tower. The court will be available for the public free of charge to reserve for open play or to take lessons with professional pickle ballers in partnership with Pickle Pop and offer a dedicated lounge to stream the tournament on Max\, photo moments throughout\, and more. Space is limited.
URL:https://laguestlist.com/event/le-petit-court-by-max/
LOCATION:Venice Beach
CATEGORIES:Fitness,Fun in the Sun,Things to do
ATTACH;FMTTYPE=image/png:https://laguestlist.com/wp-content/uploads/2025/05/Max.png
END:VEVENT
BEGIN:VEVENT
DTSTART;TZID=America/Los_Angeles:20250614T130000
DTEND;TZID=America/Los_Angeles:20250614T210000
DTSTAMP:20260425T112258
CREATED:20250604T164331Z
LAST-MODIFIED:20250604T164331Z
UID:51266-1749906000-1749934800@laguestlist.com
SUMMARY:5th Annual Rosé Day Los Angeles
DESCRIPTION:Ticketed – The 5th Annual Rosé Day Los Angeles will have lots of firsts this year\, including TAO Group Hospitality\, Red Bull Air Force skydiving surprise and Formula 1 car\, Wellness Zone\, Pinkberry\, luxury jewelry and handbag shopping experience as well as the return of their signature helicopter flower petal drop. The gourmet culinary experience will be curated by The Next Iron Chef winner and Michelin-starred Chef Marc Forgione presented by HexClad\, featuring caviar\, oysters\, lobster and some of LA’s finest food trucks. Guests will enjoy ultra-premium rosé\, champagne and spirits from LVMH\, Suntory Global Spirits and Sainte Marguerite en Provence along with full day of live music\, with performances from Kid Francescoli and Mojave Grey as well as energetic sets from DJ Ruckus and DJ Pookie.
URL:https://laguestlist.com/event/5th-annual-rose-day-los-angeles/
LOCATION:King Gillette Ranch\, 26800 Mulholland Hwy\, Calabasas\, CA\, 91302\, United States
CATEGORIES:Fun in the Sun
ATTACH;FMTTYPE=image/png:https://laguestlist.com/wp-content/uploads/2025/06/rose.png
END:VEVENT
BEGIN:VEVENT
DTSTART;TZID=America/Los_Angeles:20250809T160000
DTEND;TZID=America/Los_Angeles:20250809T200000
DTSTAMP:20260425T112258
CREATED:20250807T013819Z
LAST-MODIFIED:20250807T013819Z
UID:51365-1754755200-1754769600@laguestlist.com
SUMMARY:Perry’s Beach with Brody Jenner & Devin Lucien
DESCRIPTION:Ticketed – Day Dream Beach Club at Perry’s Beach with Special Guest DJs Brody Jenner & Devin Lucien at Santa Monica Beach.
URL:https://laguestlist.com/event/perrys-beach-with-brody-jenner-devin-lucien/
LOCATION:CA
CATEGORIES:Fun in the Sun
ATTACH;FMTTYPE=image/png:https://laguestlist.com/wp-content/uploads/2025/08/Perrys-beach.png
END:VEVENT
END:VCALENDAR