BEGIN:VCALENDAR
VERSION:2.0
PRODID:-//LA Guestlist - ECPv6.15.20//NONSGML v1.0//EN
CALSCALE:GREGORIAN
METHOD:PUBLISH
X-ORIGINAL-URL:https://laguestlist.com
X-WR-CALDESC:Events for LA Guestlist
REFRESH-INTERVAL;VALUE=DURATION:PT1H
X-Robots-Tag:noindex
X-PUBLISHED-TTL:PT1H
BEGIN:VTIMEZONE
TZID:America/Los_Angeles
BEGIN:DAYLIGHT
TZOFFSETFROM:-0800
TZOFFSETTO:-0700
TZNAME:PDT
DTSTART:20170312T100000
END:DAYLIGHT
BEGIN:STANDARD
TZOFFSETFROM:-0700
TZOFFSETTO:-0800
TZNAME:PST
DTSTART:20171105T090000
END:STANDARD
BEGIN:DAYLIGHT
TZOFFSETFROM:-0800
TZOFFSETTO:-0700
TZNAME:PDT
DTSTART:20180311T100000
END:DAYLIGHT
BEGIN:STANDARD
TZOFFSETFROM:-0700
TZOFFSETTO:-0800
TZNAME:PST
DTSTART:20181104T090000
END:STANDARD
BEGIN:DAYLIGHT
TZOFFSETFROM:-0800
TZOFFSETTO:-0700
TZNAME:PDT
DTSTART:20190310T100000
END:DAYLIGHT
BEGIN:STANDARD
TZOFFSETFROM:-0700
TZOFFSETTO:-0800
TZNAME:PST
DTSTART:20191103T090000
END:STANDARD
END:VTIMEZONE
BEGIN:VEVENT
DTSTART;TZID=America/Los_Angeles:20180421T140000
DTEND;TZID=America/Los_Angeles:20180421T180000
DTSTAMP:20260421T204402
CREATED:20180420T043455Z
LAST-MODIFIED:20180420T043853Z
UID:32598-1524319200-1524333600@laguestlist.com
SUMMARY:Ladies of Leisure with Music by Tiana Verhagen & Alygany
DESCRIPTION:Open – Stop by Skybar at Mondrian to cool down and relax with some refreshing drinks while dancing to the tunes of Tiana Verhagen and special DJ set by Alygany.
URL:https://laguestlist.com/event/ladies-of-leisure-with-music-by-tiana-verhagen/
LOCATION:Skybar at Mondrian\, 8440 Sunset Boulevard\, West Hollywood\, CA\, 90069\, United States
CATEGORIES:Fun in the Sun
ATTACH;FMTTYPE=image/png:https://laguestlist.com/wp-content/uploads/2018/04/Screen-Shot-2018-04-19-at-9.31.35-PM.png
END:VEVENT
END:VCALENDAR