BEGIN:VCALENDAR
VERSION:2.0
PRODID:-//LA Guestlist - ECPv6.15.20//NONSGML v1.0//EN
CALSCALE:GREGORIAN
METHOD:PUBLISH
X-ORIGINAL-URL:https://laguestlist.com
X-WR-CALDESC:Events for LA Guestlist
REFRESH-INTERVAL;VALUE=DURATION:PT1H
X-Robots-Tag:noindex
X-PUBLISHED-TTL:PT1H
BEGIN:VTIMEZONE
TZID:America/Los_Angeles
BEGIN:DAYLIGHT
TZOFFSETFROM:-0800
TZOFFSETTO:-0700
TZNAME:PDT
DTSTART:20210314T100000
END:DAYLIGHT
BEGIN:STANDARD
TZOFFSETFROM:-0700
TZOFFSETTO:-0800
TZNAME:PST
DTSTART:20211107T090000
END:STANDARD
BEGIN:DAYLIGHT
TZOFFSETFROM:-0800
TZOFFSETTO:-0700
TZNAME:PDT
DTSTART:20220313T100000
END:DAYLIGHT
BEGIN:STANDARD
TZOFFSETFROM:-0700
TZOFFSETTO:-0800
TZNAME:PST
DTSTART:20221106T090000
END:STANDARD
BEGIN:DAYLIGHT
TZOFFSETFROM:-0800
TZOFFSETTO:-0700
TZNAME:PDT
DTSTART:20230312T100000
END:DAYLIGHT
BEGIN:STANDARD
TZOFFSETFROM:-0700
TZOFFSETTO:-0800
TZNAME:PST
DTSTART:20231105T090000
END:STANDARD
BEGIN:DAYLIGHT
TZOFFSETFROM:-0800
TZOFFSETTO:-0700
TZNAME:PDT
DTSTART:20240310T100000
END:DAYLIGHT
BEGIN:STANDARD
TZOFFSETFROM:-0700
TZOFFSETTO:-0800
TZNAME:PST
DTSTART:20241103T090000
END:STANDARD
END:VTIMEZONE
BEGIN:VEVENT
DTSTART;TZID=America/Los_Angeles:20221026T170000
DTEND;TZID=America/Los_Angeles:20221026T190000
DTSTAMP:20260422T234852
CREATED:20221020T005629Z
LAST-MODIFIED:20221020T005629Z
UID:46889-1666803600-1666810800@laguestlist.com
SUMMARY:Marni x Cultured Magazine
DESCRIPTION:Invite Only – Marni will host a private evening with Sarah Harrelson and Laura Dubin-Wander at Marni for an evening of cocktails and shopping in partnership with Cultured Magazine.
URL:https://laguestlist.com/event/marni-x-cultured-magazine/
CATEGORIES:Fashion,Magazine
ATTACH;FMTTYPE=image/png:https://laguestlist.com/wp-content/uploads/2022/10/Marni.png
END:VEVENT
BEGIN:VEVENT
DTSTART;TZID=America/Los_Angeles:20221102T200000
DTEND;TZID=America/Los_Angeles:20221102T230000
DTSTAMP:20260422T234852
CREATED:20221101T174935Z
LAST-MODIFIED:20221101T174935Z
UID:47039-1667419200-1667430000@laguestlist.com
SUMMARY:boohooMAN x Swae Lee
DESCRIPTION:Invite Only – boohooMAN will debut their new collaboration with host Swae Lee.
URL:https://laguestlist.com/event/boohooman-x-swae-lee/
CATEGORIES:Fashion
ATTACH;FMTTYPE=image/png:https://laguestlist.com/wp-content/uploads/2022/11/swae.png
END:VEVENT
BEGIN:VEVENT
DTSTART;TZID=America/Los_Angeles:20221103T180000
DTEND;TZID=America/Los_Angeles:20221103T200000
DTSTAMP:20260422T234852
CREATED:20221103T005251Z
LAST-MODIFIED:20221103T005251Z
UID:47078-1667498400-1667505600@laguestlist.com
SUMMARY:Galore Mag x ESPRIT
DESCRIPTION:Invite Only – Galore Mag and ESPRIT are hosting an exclusive pop-up to shop items from the ESPRIT x Tamtotsu Yagi capsule collection with host Charlotte D’Alessio.
URL:https://laguestlist.com/event/galore-mag-x-esprit/
CATEGORIES:Fashion,Magazine
END:VEVENT
BEGIN:VEVENT
DTSTART;TZID=America/Los_Angeles:20221108T200000
DTEND;TZID=America/Los_Angeles:20221108T233000
DTSTAMP:20260422T234852
CREATED:20221107T204149Z
LAST-MODIFIED:20221107T204149Z
UID:47140-1667937600-1667950200@laguestlist.com
SUMMARY:Barneys New York Beauty & Wellness
DESCRIPTION:Invite Only – Barneys New York Beauty  & Wellness launch party revealing the exclusive formulation GLOCELA.
URL:https://laguestlist.com/event/barneys-new-york-beauty-wellness/
CATEGORIES:Beauty,Fashion
ATTACH;FMTTYPE=image/png:https://laguestlist.com/wp-content/uploads/2022/11/Barneys.png
END:VEVENT
BEGIN:VEVENT
DTSTART;TZID=America/Los_Angeles:20221109T180000
DTEND;TZID=America/Los_Angeles:20221109T220000
DTSTAMP:20260422T234852
CREATED:20221109T171809Z
LAST-MODIFIED:20221109T171809Z
UID:47153-1668016800-1668031200@laguestlist.com
SUMMARY:Rihanna’s Savage X Fenty Show Vol. 4
DESCRIPTION:Invite Only – Prime Video presents the highly anticipated Savage X Fenty Show Vol. 4\, featuring Rihanna’s Savage X Fenty collection which will Livestream from Los Angeles. The Savage X Fenty Show Vol. 4 Collection will be available to shop in the Amazon Fashion store and at Savage X Fenty on November 9.
URL:https://laguestlist.com/event/rihannas-savage-x-fenty-show-vol-4/
CATEGORIES:Event,Fashion
ATTACH;FMTTYPE=image/jpeg:https://laguestlist.com/wp-content/uploads/2022/11/https___hypebeast.com_wp-content_blogs.dir_6_files_2022_10_savage-x-fenty-show-vol-4-full-lineup-new-teaser-0.jpg
END:VEVENT
BEGIN:VEVENT
DTSTART;TZID=America/Los_Angeles:20221117T200000
DTEND;TZID=America/Los_Angeles:20221117T220000
DTSTAMP:20260422T234852
CREATED:20221116T231053Z
LAST-MODIFIED:20221116T231053Z
UID:47227-1668715200-1668722400@laguestlist.com
SUMMARY:Flight Club Los Angeles: Ryan Scott Personal Collection
DESCRIPTION:Invite Only – Vintage sneaker collector Ryan Scott will showcase his complete collection of original ‘85 Air Jordan 1s\, Dunks and Air Force 1s. On view\, exclusively at Flight Club Los Angeles with a presentation followed by and Q&A by Scott during the evening’s festivities.
URL:https://laguestlist.com/event/flight-club-los-angeles-ryan-scott-personal-collection/
CATEGORIES:Fashion
ATTACH;FMTTYPE=image/png:https://laguestlist.com/wp-content/uploads/2022/11/unnamed.png
END:VEVENT
BEGIN:VEVENT
DTSTART;TZID=America/Los_Angeles:20221118T110000
DTEND;TZID=America/Los_Angeles:20221118T180000
DTSTAMP:20260422T234852
CREATED:20221109T175525Z
LAST-MODIFIED:20221109T175525Z
UID:47159-1668769200-1668794400@laguestlist.com
SUMMARY:Sporty & Rich x adidas Originals Pop-Up
DESCRIPTION:Open – On Friday\, November 18th\, for one day only\, the footwear from the collection will be available to purchase ahead of the formal e-commerce launch (November 22) through an exclusive Sporty & Rich x adidas Originals pop-up store location in LA. \nThe adidas Originals and Sporty & Rich capsule collection draws on vintage sportswear references in gender neutral sizing to update adidas classics including the Campus 80s\, Samba OG\, Stan Smith\, and Firebird Tracksuit\, made up in two colorways – green with white accents and white with collegiate burgundy accents\, in order to communicate a holistic message of modern day rest and replenishment.
URL:https://laguestlist.com/event/sporty-rich-x-adidas-originals-pop-up/
LOCATION:Sporty & Rich x adidas Originals Pop-Up\, 620 N La Cienega Blvd\, Los Angeles\, CA\, 90069\, United States
CATEGORIES:Fashion,Pop-Up Shop
ATTACH;FMTTYPE=image/jpeg:https://laguestlist.com/wp-content/uploads/2022/11/05_MI_FW22_SPORTY_RICH_ENERGY_ORIGINALS_HQ6074_FTW_OCT_F_0031.jpg
END:VEVENT
BEGIN:VEVENT
DTSTART;TZID=America/Los_Angeles:20221207T190000
DTEND;TZID=America/Los_Angeles:20221207T210000
DTSTAMP:20260422T234852
CREATED:20221206T212420Z
LAST-MODIFIED:20221206T212420Z
UID:47371-1670439600-1670446800@laguestlist.com
SUMMARY:ALITY Design’s Launch Party
DESCRIPTION:Invite Only –  Guests will join ALITY in embodying & celebrating ALITY Designs debut collection\, LAYERS with cocktails\, appetizers\, live performers\, and more!
URL:https://laguestlist.com/event/ality-designs-launch-party/
CATEGORIES:Fashion
ATTACH;FMTTYPE=image/png:https://laguestlist.com/wp-content/uploads/2022/12/Ality.png
END:VEVENT
BEGIN:VEVENT
DTSTART;TZID=America/Los_Angeles:20221208T180000
DTEND;TZID=America/Los_Angeles:20221208T200000
DTSTAMP:20260422T234852
CREATED:20221206T005855Z
LAST-MODIFIED:20221206T010051Z
UID:47356-1670522400-1670529600@laguestlist.com
SUMMARY:ESPRIT Pop Up with Lily Easton
DESCRIPTION:Invite Only – ESPRIT is hosting a special evening of cocktails\, music and shopping with Lily Easton and music by William Lifestyle.
URL:https://laguestlist.com/event/esprit-pop-up-with-lily-easton/
CATEGORIES:Event,Fashion
ATTACH;FMTTYPE=image/png:https://laguestlist.com/wp-content/uploads/2022/12/Espritflyer.png
END:VEVENT
BEGIN:VEVENT
DTSTART;TZID=America/Los_Angeles:20221208T200000
DTEND;TZID=America/Los_Angeles:20221208T230000
DTSTAMP:20260422T234852
CREATED:20221206T235636Z
LAST-MODIFIED:20221206T235636Z
UID:47373-1670529600-1670540400@laguestlist.com
SUMMARY:Celine Fall/ Winter 23 Show
DESCRIPTION:Invite Only – Celine Fall/ Winter 23 Show at The Wiltern.
URL:https://laguestlist.com/event/celine-fall-winter-23-show/
LOCATION:The Wiltern\, 3790 Wilshire Blvd\, Los Angeles\, CA\, 90010\, United States
CATEGORIES:Fashion
ATTACH;FMTTYPE=image/jpeg:https://laguestlist.com/wp-content/uploads/2022/12/1-2-1.jpg
END:VEVENT
BEGIN:VEVENT
DTSTART;TZID=America/Los_Angeles:20221209T120000
DTEND;TZID=America/Los_Angeles:20221211T210000
DTSTAMP:20260422T234852
CREATED:20221209T005838Z
LAST-MODIFIED:20221209T005838Z
UID:47382-1670587200-1670792400@laguestlist.com
SUMMARY:REVOLVE Winterland
DESCRIPTION:RSVP – Celebrate the most wonderful time of the year with REVOLVE at their first-ever REVOLVE Winterland. REVOLVE Winterland is an outdoor immersive experience bringing to life the magic and joy of the holiday season with your favorite REVOLVE brand.
URL:https://laguestlist.com/event/revolve-winterland/
CATEGORIES:Event,Fashion,Things to do
END:VEVENT
BEGIN:VEVENT
DTSTART;TZID=America/Los_Angeles:20221216T193000
DTEND;TZID=America/Los_Angeles:20221216T203000
DTSTAMP:20260422T234852
CREATED:20221215T235515Z
LAST-MODIFIED:20221215T235515Z
UID:47474-1671219000-1671222600@laguestlist.com
SUMMARY:Foot Locker Holiday House Party
DESCRIPTION:Open – One of the Foot Locker stores to participate in the 24-hour celebration will be the Hollywood Foot Locker location in Los Angeles\, California. Los Angeles will center their holiday experience around shoe customization and gift wrapping. Rapper BIA\, who starred in the holiday campaign – a full circle moment for her as a former Foot Locker Striper store associate – will be joining the fun with a private meet & greet with fans during the celebrations.
URL:https://laguestlist.com/event/foot-locker-holiday-house-party/
LOCATION:Foot Locker Hollywood\, 6801 Hollywood Blvd Suite 147\, Los Angeles\, CA\, 90028\, United States
CATEGORIES:Event,Fashion,Holiday Party
ATTACH;FMTTYPE=image/jpeg:https://laguestlist.com/wp-content/uploads/2022/12/1.jpg
END:VEVENT
BEGIN:VEVENT
DTSTART;TZID=America/Los_Angeles:20230202T200000
DTEND;TZID=America/Los_Angeles:20230202T230000
DTSTAMP:20260422T234852
CREATED:20230117T151426Z
LAST-MODIFIED:20230127T152842Z
UID:47598-1675368000-1675378800@laguestlist.com
SUMMARY:Adidas x Stella McCartney S/S23 Launch
DESCRIPTION:Invite Only – Stella McCartney will showcase her S/S23 eco sportswear collection with Adidas in Los Angeles.
URL:https://laguestlist.com/event/adidas-x-stella-mccartney-s-s23-launch/
CATEGORIES:Fashion
ATTACH;FMTTYPE=image/png:https://laguestlist.com/wp-content/uploads/2023/01/stella.png
END:VEVENT
BEGIN:VEVENT
DTSTART;TZID=America/Los_Angeles:20230203T100000
DTEND;TZID=America/Los_Angeles:20230203T180000
DTSTAMP:20260422T234852
CREATED:20230130T002727Z
LAST-MODIFIED:20230130T002727Z
UID:47711-1675418400-1675447200@laguestlist.com
SUMMARY:Kith Beverly Hills Grand Opening
DESCRIPTION:Open – Kith will open their second flagship store in Los Angeles on Rodeo Drive in Beverly Hills. This store will offer our Kith men’s\, women’s and kid’s lines\, in addition to multi-brand apparel\, footwear\, and accessories. It also includes a Kith Treats bar serving our full menu of cereal and ice cream specials.
URL:https://laguestlist.com/event/kith-beverly-hills-grand-opening/
LOCATION:Kith Beverly Hills\, 262 N. Rodeo Dr.\, Beverly Hills\, CA\, 90210\, United States
CATEGORIES:Fashion,Grand Opening
ATTACH;FMTTYPE=image/png:https://laguestlist.com/wp-content/uploads/2023/01/Kith.png
END:VEVENT
BEGIN:VEVENT
DTSTART;TZID=America/Los_Angeles:20230203T180000
DTEND;TZID=America/Los_Angeles:20230203T220000
DTSTAMP:20260422T234852
CREATED:20230130T151033Z
LAST-MODIFIED:20230130T151243Z
UID:47743-1675447200-1675461600@laguestlist.com
SUMMARY:Rhude Autumn/Winter 2023 Collection
DESCRIPTION:Invite Only – Rhuigi Villaseñor will show the Rhude Autumn/Winter 2023 Collection in Los Angeles titled Rhude Awakening: Fuel My Fire.
URL:https://laguestlist.com/event/rhude-autumn-winter-2023-collection/
LOCATION:Los Angeles
CATEGORIES:Fashion
ATTACH;FMTTYPE=image/jpeg:https://laguestlist.com/wp-content/uploads/2023/01/1.jpg
END:VEVENT
BEGIN:VEVENT
DTSTART;TZID=America/Los_Angeles:20230217T180000
DTEND;TZID=America/Los_Angeles:20230217T210000
DTSTAMP:20260422T234852
CREATED:20230215T154725Z
LAST-MODIFIED:20230215T154725Z
UID:47928-1676656800-1676667600@laguestlist.com
SUMMARY:Cult Gaia x Frieze Viewing Party
DESCRIPTION:Invite Only – Cult Gaia is kicking off Frieze LA with a private unveiling of our one-of-a-kind wax sculpture\, Ecdysis
URL:https://laguestlist.com/event/cult-gaia-x-frieze-viewing-party/
CATEGORIES:Art,Fashion
ATTACH;FMTTYPE=image/png:https://laguestlist.com/wp-content/uploads/2023/02/cult.png
END:VEVENT
BEGIN:VEVENT
DTSTART;TZID=America/Los_Angeles:20230224T120000
DTEND;TZID=America/Los_Angeles:20230224T200000
DTSTAMP:20260422T234852
CREATED:20230222T041935Z
LAST-MODIFIED:20230222T041935Z
UID:48007-1677240000-1677268800@laguestlist.com
SUMMARY:Paris Hilton: House of Y2K
DESCRIPTION:Open – Opening on February 24\, the House of Y2K explores the evolution of shopping from the turn of the millennium to now\, showcasing a curated selection of Paris Hilton’s personal items from the period alongside the launch of a limited-edition velour tracksuit\, exclusively available on Klarna
URL:https://laguestlist.com/event/paris-hilton-house-of-y2k/
LOCATION:Melrose Ave
CATEGORIES:Fashion
ATTACH;FMTTYPE=image/png:https://laguestlist.com/wp-content/uploads/2023/02/ousereal.png
END:VEVENT
BEGIN:VEVENT
DTSTART;TZID=America/Los_Angeles:20230302T180000
DTEND;TZID=America/Los_Angeles:20230302T203000
DTSTAMP:20260422T234852
CREATED:20230301T001130Z
LAST-MODIFIED:20230301T001130Z
UID:48016-1677780000-1677789000@laguestlist.com
SUMMARY:MCM x Tate McRae Collection
DESCRIPTION:Invite Only – MCM x Tate McRae Collection SS23 celebration with live performance by Tate McRae.
URL:https://laguestlist.com/event/mcm-x-tate-mcrae-collection/
CATEGORIES:Fashion
ATTACH;FMTTYPE=image/png:https://laguestlist.com/wp-content/uploads/2023/02/mcm.png
END:VEVENT
BEGIN:VEVENT
DTSTART;TZID=America/Los_Angeles:20230302T200000
DTEND;TZID=America/Los_Angeles:20230302T230000
DTSTAMP:20260422T234852
CREATED:20230301T001417Z
LAST-MODIFIED:20230301T001417Z
UID:48018-1677787200-1677798000@laguestlist.com
SUMMARY:Levis + Born x Raised Party
DESCRIPTION:Invite Only – Levis + Born x Raised Party to kick off Rolling Loud Festival with music by Chase B.
URL:https://laguestlist.com/event/levis-born-x-raised-party/
CATEGORIES:Fashion,Music
ATTACH;FMTTYPE=image/jpeg:https://laguestlist.com/wp-content/uploads/2023/02/1-1.jpg
END:VEVENT
BEGIN:VEVENT
DTSTART;TZID=America/Los_Angeles:20230309T180000
DTEND;TZID=America/Los_Angeles:20230309T220000
DTSTAMP:20260422T234852
CREATED:20230109T195230Z
LAST-MODIFIED:20230308T162036Z
UID:47542-1678384800-1678399200@laguestlist.com
SUMMARY:Versace Fashion Show Fall/Winter 2023
DESCRIPTION:Invite Only – Versace announces the House will show its combined FW23 collection in Los Angeles on Friday\, March 10th\, 2023 during Oscar Week.
URL:https://laguestlist.com/event/versace-fashion-show-fall-winter-2023/
LOCATION:Los Angeles
CATEGORIES:Fashion
ATTACH;FMTTYPE=image/jpeg:https://laguestlist.com/wp-content/uploads/2023/01/8c81135bedfb1a6bc70050a80635a2b9.jpg
END:VEVENT
BEGIN:VEVENT
DTSTART;TZID=America/Los_Angeles:20230311T100000
DTEND;TZID=America/Los_Angeles:20230312T220000
DTSTAMP:20260422T234852
CREATED:20230309T021521Z
LAST-MODIFIED:20230309T021521Z
UID:48157-1678528800-1678658400@laguestlist.com
SUMMARY:The Model Experience LAFW
DESCRIPTION:Ticketed – Attend LA’s premiere Fashion Week Festival at The Barker Hangar in Santa Monica. Enjoy a full day of back-to-back Fashion Shows\, Red Carpet Appearances\, Brand Activations\, Performances\, Vendors\, and more. The festival kicks off on Saturday with a DJ set from Shaun Ross\, panel discussions on the side stages\, and musical performances from Def Jam artists and headliner Saucy Santana inside the massive Barker Hangar in Santa Monica.
URL:https://laguestlist.com/event/the-model-experience-lafw/
LOCATION:The Barker Hangar\, 3021 Airport Ave\, Santa Monica\, CA\, 90405\, United States
CATEGORIES:Fashion
ATTACH;FMTTYPE=image/png:https://laguestlist.com/wp-content/uploads/2023/03/FWF.png
END:VEVENT
BEGIN:VEVENT
DTSTART;TZID=America/Los_Angeles:20230316T183000
DTEND;TZID=America/Los_Angeles:20230316T203000
DTSTAMP:20260422T234852
CREATED:20230316T010645Z
LAST-MODIFIED:20230316T010645Z
UID:48243-1678991400-1678998600@laguestlist.com
SUMMARY:The Webster x Ferragamo SS23 Launch
DESCRIPTION:Invite Only – The Webster and Ferragamo will preview an exclusive apertivo to celebrate the Spring/Summer 2023 Collection By Maximilian Davis with Music by Kitty Ca$h.
URL:https://laguestlist.com/event/the-webster-x-ferragamo-ss23-launch/
CATEGORIES:Fashion
ATTACH;FMTTYPE=image/png:https://laguestlist.com/wp-content/uploads/2023/03/Webster-1.png
END:VEVENT
BEGIN:VEVENT
DTSTART;TZID=America/Los_Angeles:20230316T190000
DTEND;TZID=America/Los_Angeles:20230316T220000
DTSTAMP:20260422T234852
CREATED:20230316T011825Z
LAST-MODIFIED:20230316T011957Z
UID:48245-1678993200-1679004000@laguestlist.com
SUMMARY:Aldo Spring 2023
DESCRIPTION:Invite Only – Aldo will celebrate the launch of their Spring 2023 Campaign in LA with tastemakers: Tinx\, Scott Pippen Jr.\, Noor Stars\, Rishab Sharma\, and Irene Kim at a private location in the hills.
URL:https://laguestlist.com/event/aldo-spring-2023/
CATEGORIES:Fashion
ATTACH;FMTTYPE=image/png:https://laguestlist.com/wp-content/uploads/2023/03/Aldo.png
END:VEVENT
BEGIN:VEVENT
DTSTART;TZID=America/Los_Angeles:20230318T180000
DTEND;TZID=America/Los_Angeles:20230318T220000
DTSTAMP:20260422T234852
CREATED:20230317T040043Z
LAST-MODIFIED:20230317T040043Z
UID:48253-1679162400-1679176800@laguestlist.com
SUMMARY:JLO x REVOLVE
DESCRIPTION:Invite Only – REVOLVE is throwing a party to celebrate the launch of their exclusive shoe collection by Jennifer Lopez in Beverly Hills.
URL:https://laguestlist.com/event/jlo-x-revolve/
LOCATION:Beverly Hills
CATEGORIES:Fashion
ATTACH;FMTTYPE=image/png:https://laguestlist.com/wp-content/uploads/2023/03/jay.png
END:VEVENT
BEGIN:VEVENT
DTSTART;TZID=America/Los_Angeles:20230323T120000
DTEND;TZID=America/Los_Angeles:20230323T160000
DTSTAMP:20260422T234852
CREATED:20230322T160529Z
LAST-MODIFIED:20230322T160529Z
UID:48301-1679572800-1679587200@laguestlist.com
SUMMARY:Guess Denim
DESCRIPTION:Invite Only – Guess Denim is hosting a pre-festival season kick-off event where guests can pick out an outfit while enjoying drinks\, music\, denim customization\, goodies\, and more.
URL:https://laguestlist.com/event/guess-denim/
CATEGORIES:Event,Fashion
ATTACH;FMTTYPE=image/png:https://laguestlist.com/wp-content/uploads/2023/03/Guess.png
END:VEVENT
BEGIN:VEVENT
DTSTART;TZID=America/Los_Angeles:20230323T180000
DTEND;TZID=America/Los_Angeles:20230323T210000
DTSTAMP:20260422T234852
CREATED:20230309T013540Z
LAST-MODIFIED:20230309T013540Z
UID:48148-1679594400-1679605200@laguestlist.com
SUMMARY:INDOCHINO Spring 2023 Launch
DESCRIPTION:Invite Only – INDOCHINO will celebrate their upcoming Spring Season with Celebrity Stylist Host\, Ashley North. Throughout the evening\, invited guests will explore INDOCHINO’s latest Spring Collection\, while enjoying canapés\, cocktails\, live monogramming\, and music.
URL:https://laguestlist.com/event/indochino-spring-2023-launch/
CATEGORIES:Fashion
ATTACH;FMTTYPE=image/png:https://laguestlist.com/wp-content/uploads/2023/03/indo.png
END:VEVENT
BEGIN:VEVENT
DTSTART;TZID=America/Los_Angeles:20230330T193000
DTEND;TZID=America/Los_Angeles:20230330T223000
DTSTAMP:20260422T234852
CREATED:20230329T030717Z
LAST-MODIFIED:20230329T030717Z
UID:48356-1680204600-1680215400@laguestlist.com
SUMMARY:Diesel SS23 Runway Launch
DESCRIPTION:Invite Only  – Diesel SS23 Runway Launch Party with sounds by Brian Vidal and XOCHIC.
URL:https://laguestlist.com/event/diesel-ss23-runway-launch/
CATEGORIES:Fashion
ATTACH;FMTTYPE=image/png:https://laguestlist.com/wp-content/uploads/2023/03/Diesel.png
END:VEVENT
BEGIN:VEVENT
DTSTART;TZID=America/Los_Angeles:20230413T120000
DTEND;TZID=America/Los_Angeles:20230416T170000
DTSTAMP:20260422T234852
CREATED:20230406T031544Z
LAST-MODIFIED:20230406T031544Z
UID:48437-1681387200-1681664400@laguestlist.com
SUMMARY:Dior Presents Enter The Grey Zone
DESCRIPTION:RSVP – Dare in Gris Dior and enter The Grey Zone in Los Angeles– a fully immersive art exhibition open to the public\, Thursday\, April 13 – Sunday\, April 16. A creative collaboration with five international artists\, the Los Angeles-based event features original artwork inspired by Gris Dior and a Gris Dior fragrance in limited-edition\, artist-designed packaging available for purchase exclusively at The Grey Zone.
URL:https://laguestlist.com/event/dior-presents-enter-the-grey-zone/
CATEGORIES:Beauty,Fashion
ATTACH;FMTTYPE=image/png:https://laguestlist.com/wp-content/uploads/2023/04/Dior.png
END:VEVENT
BEGIN:VEVENT
DTSTART;TZID=America/Los_Angeles:20230419T190000
DTEND;TZID=America/Los_Angeles:20230419T230000
DTSTAMP:20260422T234852
CREATED:20230405T024703Z
LAST-MODIFIED:20230405T024703Z
UID:48420-1681930800-1681945200@laguestlist.com
SUMMARY:Fear Of God at Hollywood Bowl
DESCRIPTION:Invite Only – Jerry Lorenzo is set to present Fear of God’s first-ever runway at the Hollywood Bowl on April 19th. His adidas line will also be presented in it. 
URL:https://laguestlist.com/event/fear-of-god-at-hollywood-bowl/
LOCATION:The Hollywood Bowl\, 2301 Highland Ave \, Los Angeles\, CA\, 90068\, United States
CATEGORIES:Fashion
ATTACH;FMTTYPE=image/png:https://laguestlist.com/wp-content/uploads/2023/04/fear.png
END:VEVENT
BEGIN:VEVENT
DTSTART;TZID=America/Los_Angeles:20230423T170000
DTEND;TZID=America/Los_Angeles:20230423T220000
DTSTAMP:20260422T234852
CREATED:20230419T045950Z
LAST-MODIFIED:20230419T045950Z
UID:48489-1682269200-1682287200@laguestlist.com
SUMMARY:The Daily Front Row 7th Annual Fashion Los Angeles Awards
DESCRIPTION:Invite Only – The Daily Front Row’s Fashion Los Angeles Awards celebrate the visionaries who make the intersection between fashion and Hollywood the most stylish place to be. This year\, they will take place in Beverly Hills and honor Bradley Kenneth\, Chris Appleton \, Gwyneth Paltrow\, Jeanne Yang\, Mônot\, Dani Michelle\, Meghann Fahy\, and many more
URL:https://laguestlist.com/event/the-daily-front-row-7th-annual-fashion-los-angeles-awards/
LOCATION:Beverly Hills
CATEGORIES:Award Show,Fashion
ATTACH;FMTTYPE=image/png:https://laguestlist.com/wp-content/uploads/2023/04/DailyFrontRow_Logo.png
END:VEVENT
END:VCALENDAR