BEGIN:VCALENDAR
VERSION:2.0
PRODID:-//LA Guestlist - ECPv6.15.20//NONSGML v1.0//EN
CALSCALE:GREGORIAN
METHOD:PUBLISH
X-ORIGINAL-URL:https://laguestlist.com
X-WR-CALDESC:Events for LA Guestlist
REFRESH-INTERVAL;VALUE=DURATION:PT1H
X-Robots-Tag:noindex
X-PUBLISHED-TTL:PT1H
BEGIN:VTIMEZONE
TZID:America/Los_Angeles
BEGIN:DAYLIGHT
TZOFFSETFROM:-0800
TZOFFSETTO:-0700
TZNAME:PDT
DTSTART:20140309T100000
END:DAYLIGHT
BEGIN:STANDARD
TZOFFSETFROM:-0700
TZOFFSETTO:-0800
TZNAME:PST
DTSTART:20141102T090000
END:STANDARD
BEGIN:DAYLIGHT
TZOFFSETFROM:-0800
TZOFFSETTO:-0700
TZNAME:PDT
DTSTART:20150308T100000
END:DAYLIGHT
BEGIN:STANDARD
TZOFFSETFROM:-0700
TZOFFSETTO:-0800
TZNAME:PST
DTSTART:20151101T090000
END:STANDARD
BEGIN:DAYLIGHT
TZOFFSETFROM:-0800
TZOFFSETTO:-0700
TZNAME:PDT
DTSTART:20160313T100000
END:DAYLIGHT
BEGIN:STANDARD
TZOFFSETFROM:-0700
TZOFFSETTO:-0800
TZNAME:PST
DTSTART:20161106T090000
END:STANDARD
END:VTIMEZONE
BEGIN:VEVENT
DTSTART;TZID=America/Los_Angeles:20150316T180000
DTEND;TZID=America/Los_Angeles:20150316T210000
DTSTAMP:20260420T001601
CREATED:20150313T202537Z
LAST-MODIFIED:20150313T202537Z
UID:1706-1426528800-1426539600@laguestlist.com
SUMMARY:Michelle Blade Summer 15 Collection for RVCA
DESCRIPTION:Invite Only –  Michelle Blade will be showcasing her Summer 15′ for capsule for RVCA collection at Terroni’s in DTLA while guest enjoy complimentary apertivos & wine.
URL:https://laguestlist.com/event/michelle-blade-summer-15-collection-for-rvca/
LOCATION:Terroni DTLA\, 802 S. Spring St\, Los Angeles\, CA\, 90014\, United States
CATEGORIES:Fashion
ATTACH;FMTTYPE=image/png:https://laguestlist.com/wp-content/uploads/2015/03/Screen-Shot-2015-03-13-at-1.21.29-PM.png
END:VEVENT
BEGIN:VEVENT
DTSTART;TZID=America/Los_Angeles:20150317T190000
DTEND;TZID=America/Los_Angeles:20150317T230000
DTSTAMP:20260420T001601
CREATED:20150317T194723Z
LAST-MODIFIED:20150317T194723Z
UID:1804-1426618800-1426633200@laguestlist.com
SUMMARY:Style Fashion Week Opening Reception at Pump
DESCRIPTION:RSVP – Join the Opening Celebration of the 10th Season of Style Fashion Week at Pump Restaurant Lounge.
URL:https://laguestlist.com/event/style-fashion-week-opening-reception-at-pump/
LOCATION:Pump\, 8948 Santa Monica Blvd\, West Hollywood\, CA\, 90069\, United States
CATEGORIES:Fashion
ATTACH;FMTTYPE=image/jpeg:https://laguestlist.com/wp-content/uploads/2015/03/pumpopeningreceptionfliercopy.jpg
END:VEVENT
BEGIN:VEVENT
DTSTART;TZID=America/Los_Angeles:20150318T190000
DTEND;TZID=America/Los_Angeles:20150318T190000
DTSTAMP:20260420T001601
CREATED:20150317T193259Z
LAST-MODIFIED:20150317T193259Z
UID:1799-1426705200-1426705200@laguestlist.com
SUMMARY:Nikki Lund Fall/Winter 2015 Runway Show
DESCRIPTION:Ticketed – Nikki Lund of Nikki Rich will debut Style Fashion week with Larry Rudolph\, manager to Miley Cyrus and Brittany Spears to unveil their Fall Winter 2015 Collection.
URL:https://laguestlist.com/event/nikki-lund-fallwinter-2015-runway-show/
LOCATION:Style Fashion Week Tent\, 1933 S Broadway St\, Los Angeles\, CA\, 90007\, United States
CATEGORIES:Fashion
ATTACH;FMTTYPE=image/jpeg:https://laguestlist.com/wp-content/uploads/2015/03/nllafw0318invite.jpg
END:VEVENT
BEGIN:VEVENT
DTSTART;TZID=America/Los_Angeles:20150318T200000
DTEND;TZID=America/Los_Angeles:20150318T200000
DTSTAMP:20260420T001601
CREATED:20150316T220629Z
LAST-MODIFIED:20150316T220629Z
UID:1767-1426708800-1426708800@laguestlist.com
SUMMARY:The DRIPPED Fashion Presentation Los Angeles Fashion Week Edition
DESCRIPTION:Invite Only – Dripped founder Geisha has joined forces with 25 LA Fashion brands and designers to present a unique pop-up retail experience in an Underground party atmosphere in the emerging Arts District in Downtown Los Angeles. Lot 613 has been taken over in its entirety by a custom Dripped Pop Up shopping Installation comprised of men’s and women’s offerings in Contemporary\, Street wear\, Custom\, Rave Goth\, and Vintage Fashions in a 15\,000 square feet event space.
URL:https://laguestlist.com/event/the-dripped-fashion-presentation-los-angeles-fashion-week-edition/
LOCATION:Lot 613\, 613 Imperial St\, Los Angeles\, CA\, 90021\, United States
CATEGORIES:Fashion
ATTACH;FMTTYPE=image/jpeg:https://laguestlist.com/wp-content/uploads/2015/03/unnamed-15.jpg
END:VEVENT
BEGIN:VEVENT
DTSTART;TZID=America/Los_Angeles:20150319T170000
DTEND;TZID=America/Los_Angeles:20150319T190000
DTSTAMP:20260420T001601
CREATED:20150304T001738Z
LAST-MODIFIED:20150304T001738Z
UID:1428-1426784400-1426791600@laguestlist.com
SUMMARY:'Thread & Bone' Opening Art Installation by Kimberly Brooks
DESCRIPTION:RSVP – SAGE Projects and the Do Art Foundation are pleased to present Los Angeles based artist Kimberly Brooks as she debuts the first art installation of her career at Gateway Gallery at Cooper Design Space. “Thread & Bone” will explore the ever-present relationship between art and fashion. The exhibition will go from March 19th to April 30th. RSVP: rsvp@SAGE-Projects.com
URL:https://laguestlist.com/event/thread-bone-opening-art-installation-by-kimberly-brooks/
LOCATION:Gateway Gallery @ Cooper Design Space\, 860 S Los Angeles St\, Los Angeles\, CA\, 90014\, United States
CATEGORIES:Art,Fashion
ATTACH;FMTTYPE=image/png:https://laguestlist.com/wp-content/uploads/2015/03/Screen-Shot-2015-03-03-at-4.10.19-PM.png
END:VEVENT
BEGIN:VEVENT
DTSTART;TZID=America/Los_Angeles:20150319T183000
DTEND;TZID=America/Los_Angeles:20150319T203000
DTSTAMP:20260420T001601
CREATED:20150317T213829Z
LAST-MODIFIED:20150317T213829Z
UID:1823-1426789800-1426797000@laguestlist.com
SUMMARY:The Launch of the Faceted Metal Collection @ David Yurman
DESCRIPTION:RSVP – Please join LA Clippers’ JJ Redick for the launch of the Faceted Metal Collection at David Yurman on Rodeo Drive. A portion of the proceeds will benefit the LA Children’s Hospitals.
URL:https://laguestlist.com/event/the-launch-of-the-faceted-metal-collection-david-yurman/
LOCATION:David Yurman\, 371 N Rodeo Dr\, Beverly Hills\, CA\, 90210\, United States
CATEGORIES:Fashion
ATTACH;FMTTYPE=image/jpeg:https://laguestlist.com/wp-content/uploads/2015/03/David_Yurman_Beverly_Hills_5.jpg
END:VEVENT
BEGIN:VEVENT
DTSTART;TZID=America/Los_Angeles:20150319T190000
DTEND;TZID=America/Los_Angeles:20150319T210000
DTSTAMP:20260420T001601
CREATED:20150319T174324Z
LAST-MODIFIED:20150319T174324Z
UID:1855-1426791600-1426798800@laguestlist.com
SUMMARY:Todd Reed Cocktail Event w/ LA Confidential
DESCRIPTION:Invite Only – Los Angeles Confidential has partnered with Todd Reed to host an exclusive cocktail party\, where guests can browse the designer’s latest contemporary collection\, while enjoying libations\, light bites\, and entertainment.
URL:https://laguestlist.com/event/todd-reed-cocktail-event-w-la-confidential/
LOCATION:Loft\, 1511 Abbot Kinney Blvd\, Venice\, CA\, 90291\, United States
CATEGORIES:Fashion
ATTACH;FMTTYPE=image/jpeg:https://laguestlist.com/wp-content/uploads/2015/03/10872823_10153115631799544_5982155345368389801_o.jpg
END:VEVENT
BEGIN:VEVENT
DTSTART;TZID=America/Los_Angeles:20150319T200000
DTEND;TZID=America/Los_Angeles:20150319T220000
DTSTAMP:20260420T001601
CREATED:20150317T194102Z
LAST-MODIFIED:20150317T194102Z
UID:1802-1426795200-1426802400@laguestlist.com
SUMMARY:GO RED For Women - Celebrity Red Dress Fashion Show
DESCRIPTION:Ticketed – The Red Dress Collection will kick of Los Angeles Fashion Week—this year backed by the first-ever collaboration of leaders in the fight against heart disease in women.
URL:https://laguestlist.com/event/go-red-for-women-celebrity-red-dress-fashion-show/
LOCATION:Style Fashion Week Tent\, 1933 S Broadway St\, Los Angeles\, CA\, 90007\, United States
CATEGORIES:Fashion
ATTACH;FMTTYPE=image/png:https://laguestlist.com/wp-content/uploads/2015/03/Screen-Shot-2015-03-17-at-12.36.34-PM.png
END:VEVENT
BEGIN:VEVENT
DTSTART;TZID=America/Los_Angeles:20150320T190000
DTEND;TZID=America/Los_Angeles:20150320T233000
DTSTAMP:20260420T001601
CREATED:20150311T175143Z
LAST-MODIFIED:20150311T175143Z
UID:1629-1426878000-1426894200@laguestlist.com
SUMMARY:The Look of LA
DESCRIPTION:Ticketed –  Go inside Maxwell Dickson Studios in the heart of downtown to present The Look of LA (http://www.thelookofla.com)\, a black-tie\, luxury streetwear extravaganza\, during Los Angeles Fashion Week. Showcasing luxury collections with both runway and installation presentations\, the night will feature numerous brands including: EmbellishNY to Modern Hearts Love Maters.
URL:https://laguestlist.com/event/the-look-of-la/
LOCATION:Maxwell Dickson Studios\, 110 E 9th St B1220\, Los Angeles\, CA\, 90079\, United States
CATEGORIES:Fashion
ATTACH;FMTTYPE=image/png:https://laguestlist.com/wp-content/uploads/2015/03/Screen-Shot-2015-03-11-at-10.50.41-AM.png
END:VEVENT
BEGIN:VEVENT
DTSTART;TZID=America/Los_Angeles:20150322T120000
DTEND;TZID=America/Los_Angeles:20150322T120000
DTSTAMP:20260420T001601
CREATED:20150319T215251Z
LAST-MODIFIED:20150319T215251Z
UID:1882-1427025600-1427025600@laguestlist.com
SUMMARY:LA's First Kids Fashion Fair
DESCRIPTION:Open – Fashion Mamas LA is hosting the first ever kid’s fashion show at The Grove this Sunday with the help of The Honest Company and treats from Pure Bar and Pressed Juicery.
URL:https://laguestlist.com/event/las-first-kids-fashion-fair/
LOCATION:The Grove\, 189 The Grove Drive\, Los Angeles\, Los Angeles\, CA\, 90036\, United States
CATEGORIES:Fashion
ATTACH;FMTTYPE=image/jpeg:https://laguestlist.com/wp-content/uploads/2015/03/KidsFashionFair_Final_2015.0.jpg
END:VEVENT
BEGIN:VEVENT
DTSTART;TZID=America/Los_Angeles:20150325T213000
DTEND;TZID=America/Los_Angeles:20150325T230000
DTSTAMP:20260420T001601
CREATED:20150323T194321Z
LAST-MODIFIED:20150323T194321Z
UID:1942-1427319000-1427324400@laguestlist.com
SUMMARY:Kinetix x Shorebar Spring Launch Party
DESCRIPTION:Open – Join Shorebar this Wednesday for some drink specials while you shop through some affordable cloth for spring.
URL:https://laguestlist.com/event/kinetix-x-shorebar-spring-launch-party/
LOCATION:Shorebar\, 112 W Channel Rd\, Santa Monica\, CA\, 90402\, United States
CATEGORIES:Fashion,Pop-Up Shop
ATTACH;FMTTYPE=image/jpeg:https://laguestlist.com/wp-content/uploads/2015/03/unnamed-18.jpg
END:VEVENT
BEGIN:VEVENT
DTSTART;TZID=America/Los_Angeles:20150326T110000
DTEND;TZID=America/Los_Angeles:20150326T163000
DTSTAMP:20260420T001601
CREATED:20150324T215023Z
LAST-MODIFIED:20150324T215023Z
UID:2019-1427367600-1427387400@laguestlist.com
SUMMARY:Nike’s giant Air Max Box Pop-Up Shop
DESCRIPTION:RSVP – To celebrate Air Max Day (March 26th\, 1987)\, Nike will have a three day pop-up shop in the Arts District. The Nike Air Max Box is open 11am-4:30pm Thursday\, 11am-6pm on Friday and 12-6pm on Saturday.
URL:https://laguestlist.com/event/nikes-giant-air-max-box-pop-up-shop/
LOCATION:Nike’s Air Max Box\, 735 E. 3rd St\, Los Angeles\, CA\, 90013\, United States
CATEGORIES:Fashion
ATTACH;FMTTYPE=image/jpeg:https://laguestlist.com/wp-content/uploads/2015/03/image.jpg
END:VEVENT
BEGIN:VEVENT
DTSTART;TZID=America/Los_Angeles:20150326T190000
DTEND;TZID=America/Los_Angeles:20150326T220000
DTSTAMP:20260420T001601
CREATED:20150326T224103Z
LAST-MODIFIED:20150326T224103Z
UID:2065-1427396400-1427407200@laguestlist.com
SUMMARY:ADBD Presents Los Fairfax\, Vol. 3
DESCRIPTION:RSVP – Featuring Mural Art and Fashion Capsule by Tonia Calderon/ Live Musical Performance by Troi Breeze and DJ Slim/ Video Production by YKMG/ Drinks Provided by Mama’s Boy Infusions
URL:https://laguestlist.com/event/adbd-presents-los-fairfax-vol-3/
LOCATION:ADBD\, 430 N. Fairfax Ave\, Los Angeles\, CA\, 90036\, United States
CATEGORIES:Fashion
ATTACH;FMTTYPE=image/jpeg:https://laguestlist.com/wp-content/uploads/2015/03/unnamed15.jpg
END:VEVENT
BEGIN:VEVENT
DTSTART;TZID=America/Los_Angeles:20150327T120000
DTEND;TZID=America/Los_Angeles:20150327T120000
DTSTAMP:20260420T001601
CREATED:20150324T223506Z
LAST-MODIFIED:20150324T223506Z
UID:2021-1427457600-1427457600@laguestlist.com
SUMMARY:Nasty Gal Santa Monica Grand Opening
DESCRIPTION:Open – Nasty Gal is opening its second location in Santa Monica this Friday\, with lots of festivities happening in the store throughout the weekend.  First 150 girls to the store on Friday\, Saturday and Sunday will receive limited edition Nasty Gal Santa Monica crop tops. Attendees will have the chance to try their luck at scratch-off promo cards\, take photos in an in-store GIF booth and more.
URL:https://laguestlist.com/event/nasty-gal-santa-monica-grand-opening/
LOCATION:Nasty Gal Santa Monica\, 1254 3rd Street Promenade\, Santa Monica\, CA\, 90401\, United States
CATEGORIES:Fashion
ATTACH;FMTTYPE=image/png:https://laguestlist.com/wp-content/uploads/2015/03/Screen-Shot-2015-03-24-at-3.33.37-PM.png
END:VEVENT
BEGIN:VEVENT
DTSTART;TZID=America/Los_Angeles:20150327T210000
DTEND;TZID=America/Los_Angeles:20150327T210000
DTSTAMP:20260420T001601
CREATED:20150325T013654Z
LAST-MODIFIED:20150325T013654Z
UID:2024-1427490000-1427490000@laguestlist.com
SUMMARY:A Night with Stylestalker
DESCRIPTION:Invite Only – Join Stylestalker at Teddy’s for a night of dancing\, photobooths and special guests!
URL:https://laguestlist.com/event/a-night-with-stylestalker/
LOCATION:Teddy’s @ Roosevelt\, 7000 Hollywood Blvd\, Los Angeles\, CA\, 90028\, United States
CATEGORIES:Fashion,Nightlife
ATTACH;FMTTYPE=image/jpeg:https://laguestlist.com/wp-content/uploads/2015/03/unnamed12.jpg
END:VEVENT
BEGIN:VEVENT
DTSTART;TZID=America/Los_Angeles:20150328T100000
DTEND;TZID=America/Los_Angeles:20150328T180000
DTSTAMP:20260420T001601
CREATED:20150311T015851Z
LAST-MODIFIED:20150311T015851Z
UID:1625-1427536800-1427565600@laguestlist.com
SUMMARY:Simply Stylist Los Angeles 2015
DESCRIPTION:Ticketed – There will be 11 inspiring speakers from the fashion & beauty industry including Alessandra Ambrosio. Learn what it takes\, how to succeed\, the importance of networking and how to follow your dream – all from the experts!
URL:https://laguestlist.com/event/simply-stylist-los-angeles-2015/
LOCATION:The Grove\, 189 The Grove Drive\, Los Angeles\, Los Angeles\, CA\, 90036\, United States
CATEGORIES:Fashion
ATTACH;FMTTYPE=image/png:https://laguestlist.com/wp-content/uploads/2015/03/Screen-Shot-2015-03-10-at-6.58.11-PM.png
END:VEVENT
BEGIN:VEVENT
DTSTART;TZID=America/Los_Angeles:20150328T150000
DTEND;TZID=America/Los_Angeles:20150328T190000
DTSTAMP:20260420T001601
CREATED:20150318T181602Z
LAST-MODIFIED:20150318T181602Z
UID:1843-1427554800-1427569200@laguestlist.com
SUMMARY:Roberston Block Party
DESCRIPTION:Open – The West Hollywood Design District and South Robertson Boulevard retailers are pleased to host the #RBP\, Robertson Block Party on Robertson Boulevard\, between 3rd Street and Beverly Boulevard. The event will feature the SS15 Collections from 35 iconic stores\, LA’s best food trucks\, drinks\, live music\, hashtag photobooth.
URL:https://laguestlist.com/event/roberston-block-party/
LOCATION:CA
CATEGORIES:Fashion
ATTACH;FMTTYPE=image/jpeg:https://laguestlist.com/wp-content/uploads/2015/03/rbp-postcard-3-10-e1426015762428-620x400.jpg
END:VEVENT
BEGIN:VEVENT
DTSTART;TZID=America/Los_Angeles:20150402T100000
DTEND;TZID=America/Los_Angeles:20150402T180000
DTSTAMP:20260420T001601
CREATED:20150430T214757Z
LAST-MODIFIED:20150430T214757Z
UID:3046-1427968800-1427997600@laguestlist.com
SUMMARY:Vintage Fashion Expo LA 2015
DESCRIPTION:Ticketed – The Vintage Fashion Expo is California’s marketplace for the best in vintage design\, style and period pieces. Now in our 27th year\, the Expo continues to provide a setting where clothing\, jewelry and accessories from the late 18th century to the 1990’s can be found. Whether you’re a collector\, aficionado or simply label obsessed\, there’s something to discover among the many offerings for both men and women. From May 2nd-3rd (check exact time on ticket checkout)
URL:https://laguestlist.com/event/vintage-fashion-expo-la-2015/
LOCATION:The Reef\, 1933 S. Broadway St\, Los Angeles\, CA\, 90007\, United States
CATEGORIES:Fashion
ATTACH;FMTTYPE=image/png:https://laguestlist.com/wp-content/uploads/2015/04/https_proxy.png
END:VEVENT
BEGIN:VEVENT
DTSTART;TZID=America/Los_Angeles:20150404T100000
DTEND;TZID=America/Los_Angeles:20150404T160000
DTSTAMP:20260420T001601
CREATED:20150331T214655Z
LAST-MODIFIED:20150331T214655Z
UID:2266-1428141600-1428163200@laguestlist.com
SUMMARY:Babechella Sample Sale
DESCRIPTION:RSVP – Get ready for coachella weekend with a massive sample sale\, and a chance to win Coachella tickets.
URL:https://laguestlist.com/event/babechella-sample-sale/
LOCATION:Babechella\, 212 W. 12 St\, Los Angeles\, CA\, 90015\, United States
CATEGORIES:Coachella,Fashion
ATTACH;FMTTYPE=image/png:https://laguestlist.com/wp-content/uploads/2015/03/unnamed1.png
END:VEVENT
BEGIN:VEVENT
DTSTART;TZID=America/Los_Angeles:20150404T120000
DTEND;TZID=America/Los_Angeles:20150404T180000
DTSTAMP:20260420T001601
CREATED:20150331T215555Z
LAST-MODIFIED:20150331T215555Z
UID:2269-1428148800-1428170400@laguestlist.com
SUMMARY:Buchella Pop Your Shop's Pre-Coachella Fashion Event
DESCRIPTION:RSVP – Join The Buchella Pop-Up Shop this Saturday to get Coachella ready. Refreshments by Caffeinated Club\, infused flavored club soda made with a boost of caffeine\, Wines by Rosenthal Winery\, Swim Fashions by Natalie Zena Beachwear. RSVP: rsvp@popyourshop.com
URL:https://laguestlist.com/event/buchella-pop-your-shops-pre-coachella-fashion-event/
LOCATION:Rosenthal  Winery\, 18471 Pacific Coast Highway\, Malibe\, CA\, 90265\, United States
CATEGORIES:Coachella,Fashion
ATTACH;FMTTYPE=image/jpeg:https://laguestlist.com/wp-content/uploads/2015/03/unnamed23.jpg
END:VEVENT
BEGIN:VEVENT
DTSTART;TZID=America/Los_Angeles:20150404T180000
DTEND;TZID=America/Los_Angeles:20150404T210000
DTSTAMP:20260420T001601
CREATED:20150401T190529Z
LAST-MODIFIED:20150401T190529Z
UID:2275-1428170400-1428181200@laguestlist.com
SUMMARY:Mister Triple X Presents Bunny Land Los Angeles
DESCRIPTION:Invite Only – Mister Triple X will host a trunk show fashion event and press preview at the Art Hearts Fashion Boutique this Saturday at Hollywood and Highland. Please join us for fashion\, Art exhibits\, entertainment\, complimentary beverages and fun.
URL:https://laguestlist.com/event/mister-triple-x-presents-bunny-land-los-angeles/
LOCATION:Hollywood & Highland
CATEGORIES:Fashion
ATTACH;FMTTYPE=image/jpeg:https://laguestlist.com/wp-content/uploads/2015/04/unnamed-1.jpg
END:VEVENT
BEGIN:VEVENT
DTSTART;TZID=America/Los_Angeles:20150407T100000
DTEND;TZID=America/Los_Angeles:20150408T170000
DTSTAMP:20260420T001601
CREATED:20150305T174715Z
LAST-MODIFIED:20150305T174715Z
UID:1455-1428400800-1428512400@laguestlist.com
SUMMARY:Kari Feinstein's Music Festival Lounge
DESCRIPTION:Invite Only – Kari Feinstein PR will host their annual Music Festival Lounge in the wake of Coachella.
URL:https://laguestlist.com/event/kari-feinsteins-music-festival-lounge/
LOCATION:N/A\, 8368 Hollywood Blvd.\, Los Angeles\, CA\, 90069\, United States
CATEGORIES:Beauty,Entertainment,Fashion
ATTACH;FMTTYPE=image/png:https://laguestlist.com/wp-content/uploads/2015/03/14620_932835026735184_1909380657930040942_n.png
END:VEVENT
BEGIN:VEVENT
DTSTART;TZID=America/Los_Angeles:20150416T190000
DTEND;TZID=America/Los_Angeles:20150416T220000
DTSTAMP:20260420T001601
CREATED:20150406T192655Z
LAST-MODIFIED:20150406T192655Z
UID:2390-1429210800-1429221600@laguestlist.com
SUMMARY:Burberry celebrates London in Los Angeles at Griffith Observatory
DESCRIPTION:Invite Only – Burberry has today announced that it will celebrate fashion\, music\, and Britishness at an exclusive event to be staged at Griffith Observatory in Los Angeles on 16 April 2015 and also marks the launch of its new flagship store on Rodeo Drive that opened in November. The event\, to be hosted by Burberry’s Chief Creative and Chief Executive Officer Christopher Bailey\, will take place at the iconic venue in Griffith Park marking the first time a British luxury brand has used the location to celebrate Los Angeles and its communities.
URL:https://laguestlist.com/event/burberry-celebrates-london-in-los-angeles-at-griffith-observatory/
LOCATION:Griffith Observatory\, 2800 E Observatory Rd\, Los Angeles\, CA\, 90027\, United States
CATEGORIES:Fashion
ATTACH;FMTTYPE=image/jpeg:https://laguestlist.com/wp-content/uploads/2015/04/2014_store_images_la_rodeo_drive_brief2_cropped_02_490x279.jpg
END:VEVENT
BEGIN:VEVENT
DTSTART;TZID=America/Los_Angeles:20150418T100000
DTEND;TZID=America/Los_Angeles:20150418T190000
DTSTAMP:20260420T001601
CREATED:20150415T232317Z
LAST-MODIFIED:20150415T232317Z
UID:2640-1429351200-1429383600@laguestlist.com
SUMMARY:Kitson Warehouse Sale 2015
DESCRIPTION:Open – Come to our Kitson Warehouse Sale. It’s Now or Never ONE WEEK sale. Up to 80% Off original prices. Browse online and see what brands will be at the sale! The sale will go until April 24th.
URL:https://laguestlist.com/event/kitson-warehouse-sale-2015/
LOCATION:Warehouse\, 1124 Citrus Ave\, Los Angeles\, CA\, 90038\, United States
CATEGORIES:Fashion
ATTACH;FMTTYPE=image/jpeg:https://laguestlist.com/wp-content/uploads/2015/04/11096428_1575150006068986_7830527360302322967_o.jpg
END:VEVENT
BEGIN:VEVENT
DTSTART;TZID=America/Los_Angeles:20150418T140000
DTEND;TZID=America/Los_Angeles:20150418T150000
DTSTAMP:20260420T001601
CREATED:20150331T172258Z
LAST-MODIFIED:20150331T172258Z
UID:2225-1429365600-1429369200@laguestlist.com
SUMMARY:Whitney Port @ Nordstrom for her Whitney Eve Collection
DESCRIPTION:RSVP – Join Whitney Port as she debuts her Whitney Eve Collection at Nordstroms. The first 10 customers to make a Whitney Eve purchase will get a free pair of her seamless leggings.
URL:https://laguestlist.com/event/whitney-port-nordstrom-for-her-whitney-eve-collection/
LOCATION:The Grove\, 189 The Grove Drive\, Los Angeles\, Los Angeles\, CA\, 90036\, United States
CATEGORIES:Fashion
ATTACH;FMTTYPE=image/jpeg:https://laguestlist.com/wp-content/uploads/2015/03/whitney-eve_header.jpg
END:VEVENT
BEGIN:VEVENT
DTSTART;TZID=America/Los_Angeles:20150425T110000
DTEND;TZID=America/Los_Angeles:20150425T160000
DTSTAMP:20260420T001601
CREATED:20150418T034847Z
LAST-MODIFIED:20150418T034847Z
UID:2696-1429959600-1429977600@laguestlist.com
SUMMARY:Tavik Women's Modern Beach Party
DESCRIPTION:Open – Tavik Women’s Modern Beach Party at Hip’tique in Santa Monica will be held 11am-4pm on April 25. There will be lots of great deals going on as well as a couple fun cocktails and food.
URL:https://laguestlist.com/event/tavik-womens-modern-beach-party/
LOCATION:Hip’Tique\, 2727 Main St.\, Santa Monica\, CA\, 90405\, United States
CATEGORIES:Fashion
ATTACH;FMTTYPE=image/jpeg:https://laguestlist.com/wp-content/uploads/2015/04/unnamed14.jpg
END:VEVENT
BEGIN:VEVENT
DTSTART;TZID=America/Los_Angeles:20150429T190000
DTEND;TZID=America/Los_Angeles:20150429T210000
DTSTAMP:20260420T001601
CREATED:20150421T183150Z
LAST-MODIFIED:20150421T183150Z
UID:2794-1430334000-1430341200@laguestlist.com
SUMMARY:Bonpoint & Peyton List Celebrate YAM Collection
DESCRIPTION:Invite Only – Bonpoint & Peyton List invite you to celebrate the YAM Spring Summer 2015 Collection at The Palihouse Rooftop. The Spring Collection will be available at Bonpoint in Beverly Hills.
URL:https://laguestlist.com/event/bonpoint-peyton-list-celebrate-yam-collection/
LOCATION:Palihouse West Hollywood\, 8465 Holloway Dr.\, West Hollywood\, 90069
CATEGORIES:Fashion
ATTACH;FMTTYPE=image/png:https://laguestlist.com/wp-content/uploads/2015/04/Screen-Shot-2015-04-21-at-11.25.37-AM.png
END:VEVENT
BEGIN:VEVENT
DTSTART;TZID=America/Los_Angeles:20150430T190000
DTEND;TZID=America/Los_Angeles:20150430T210000
DTSTAMP:20260420T001601
CREATED:20150428T212730Z
LAST-MODIFIED:20150428T212730Z
UID:2929-1430420400-1430427600@laguestlist.com
SUMMARY:Converse x Amoeba Pop Up Opening
DESCRIPTION:Open – Amoeba has joined forces with the folks at Converse for a unique celebration of musical self-expression. We’ve collected Chuck Taylor All Stars from the Amoeba Music and Converse community and curated them into an exhibition that celebrates self-expression from a truly unexpected perspective. In addition to the portraits you’ll be able to have a sneak peek into the psychedelic world of musician King Tuff where you’ll experience a journey through his mind with a virtual reality film. On opening night Thursday\, April 30\, we’ll have music from our very own Byrdsol as well as free beer from 7 p.m. to 9 p.m. The exhibit runs through May 6.
URL:https://laguestlist.com/event/converse-x-amoeba-pop-up-opening/
LOCATION:Project Gallery\, 1553 N. Cahuenga Blvd\, Los Angeles\, CA\, 90028\, United States
CATEGORIES:Fashion,Pop-Up Shop
ATTACH;FMTTYPE=image/jpeg:https://laguestlist.com/wp-content/uploads/2015/04/converse-exhibit1200x627-1.jpg
END:VEVENT
BEGIN:VEVENT
DTSTART;TZID=America/Los_Angeles:20150501T170000
DTEND;TZID=America/Los_Angeles:20150501T200000
DTSTAMP:20260420T001601
CREATED:20150422T205856Z
LAST-MODIFIED:20150422T205856Z
UID:2832-1430499600-1430510400@laguestlist.com
SUMMARY:Tanya Heath Paris Store Opening
DESCRIPTION:Invite Only – Tanya Heath Paris is a concept shoe store where you can interchange the heels on a shoe. Originating from Paris\, this is the very first TANYA HEATH store opening in America.
URL:https://laguestlist.com/event/tanya-heath-paris-store-opening/
LOCATION:Tanya Heath Paris\, 108 S. Robertson Blvd\, Los Angeles\, CA\, 2015\, United States
CATEGORIES:Fashion
ATTACH;FMTTYPE=image/png:https://laguestlist.com/wp-content/uploads/2015/04/Screen-Shot-2015-04-22-at-1.55.39-PM.png
END:VEVENT
BEGIN:VEVENT
DTSTART;TZID=America/Los_Angeles:20150503T180000
DTEND;TZID=America/Los_Angeles:20150503T220000
DTSTAMP:20260420T001601
CREATED:20150503T191627Z
LAST-MODIFIED:20150503T191627Z
UID:3116-1430676000-1430690400@laguestlist.com
SUMMARY:Art Hearts Fashion Presents Brandon Bailey's Book Signing & Fashion Soiree
DESCRIPTION:Invite Only –\nRed Carpet @ 6PM \nArt Exhibit by:\nJosef Jasso\nSham Ibrahim\nEugene Huffman \nComplimentary Cocktail Reception\n& Shirt Giveaway by Mister Triple X \nBuy the Book and have it signed by Brandon\nFree Gifts Included
URL:https://laguestlist.com/event/art-hearts-fashion-presents-brandon-baileys-book-signing-fashion-soiree/
LOCATION:Art Hearts Fashion Boutique\, 6801 Hollywood Blvd #201\, Los Angeles\, CA\, 90028\, United States
CATEGORIES:Fashion
ATTACH;FMTTYPE=image/jpeg:https://laguestlist.com/wp-content/uploads/2015/05/unnamed-1.jpg
END:VEVENT
END:VCALENDAR