BEGIN:VCALENDAR
VERSION:2.0
PRODID:-//LA Guestlist - ECPv6.15.20//NONSGML v1.0//EN
CALSCALE:GREGORIAN
METHOD:PUBLISH
X-ORIGINAL-URL:https://laguestlist.com
X-WR-CALDESC:Events for LA Guestlist
REFRESH-INTERVAL;VALUE=DURATION:PT1H
X-Robots-Tag:noindex
X-PUBLISHED-TTL:PT1H
BEGIN:VTIMEZONE
TZID:America/Los_Angeles
BEGIN:DAYLIGHT
TZOFFSETFROM:-0800
TZOFFSETTO:-0700
TZNAME:PDT
DTSTART:20180311T100000
END:DAYLIGHT
BEGIN:STANDARD
TZOFFSETFROM:-0700
TZOFFSETTO:-0800
TZNAME:PST
DTSTART:20181104T090000
END:STANDARD
BEGIN:DAYLIGHT
TZOFFSETFROM:-0800
TZOFFSETTO:-0700
TZNAME:PDT
DTSTART:20190310T100000
END:DAYLIGHT
BEGIN:STANDARD
TZOFFSETFROM:-0700
TZOFFSETTO:-0800
TZNAME:PST
DTSTART:20191103T090000
END:STANDARD
BEGIN:DAYLIGHT
TZOFFSETFROM:-0800
TZOFFSETTO:-0700
TZNAME:PDT
DTSTART:20200308T100000
END:DAYLIGHT
BEGIN:STANDARD
TZOFFSETFROM:-0700
TZOFFSETTO:-0800
TZNAME:PST
DTSTART:20201101T090000
END:STANDARD
END:VTIMEZONE
BEGIN:VEVENT
DTSTART;TZID=America/Los_Angeles:20191030T190000
DTEND;TZID=America/Los_Angeles:20191031T010000
DTSTAMP:20260420T202313
CREATED:20191024T142831Z
LAST-MODIFIED:20191024T142831Z
UID:39150-1572462000-1572483600@laguestlist.com
SUMMARY:Tyga’s Mamacita Of The Dead
DESCRIPTION:Ticketed – Tyga’s Mamacita Of The Dead is a haunted maze with a night full of scares\, creepy snacks and drinks\, and a surprise live performance at the iconic Yamashiro restaurant overlooking Hollywood Blvd.
URL:https://laguestlist.com/event/tygas-mamacita-of-the-dead-2/
LOCATION:Yamashiro
CATEGORIES:Event
ATTACH;FMTTYPE=image/png:https://laguestlist.com/wp-content/uploads/2019/10/unnamed-2.png
END:VEVENT
BEGIN:VEVENT
DTSTART;TZID=America/Los_Angeles:20191102T110000
DTEND;TZID=America/Los_Angeles:20191103T200000
DTSTAMP:20260420T202313
CREATED:20190911T041755Z
LAST-MODIFIED:20191008T044826Z
UID:38811-1572692400-1572811200@laguestlist.com
SUMMARY:ComplexCon Long Beach 2019
DESCRIPTION:Ticketed – ComplexCon is a groundbreaking festival and exhibition that brings together pop culture\, music\, art\, food\, sports\, innovation\, activism\, and education. Guests in attendance will be able to shop hundreds of exclusive releases from the most sought-after brands\, watch inspiring talks from the most influential minds in our culture\, and experience the future through the most immersive and ambitious pop culture experience yet. Music superstar and fashion icon Pharrell Williams returns for the 4th year as host committee chair of ComplexCon Long Beach. He’s joined by internationally prolific contemporary artist Takashi Murakami\, who also returns to ComplexCon as a member of the host committee and the mastermind behind the event’s brand identity\, overall design\, and aesthetic experience.  \nAlready announced is multi-platinum artist and producer Kid Cudi who will headline ComplexCon Long Beach on Saturday November 2 and California native\, Anderson .Paak is set to hit the stage on Sunday\, November 3. Additional artists scheduled to perform include A Boogie Wit Da Hoodie\, YBN Crew\, Rico Nasty\, EarthGang\, and a guest appearance by Trap Manny.
URL:https://laguestlist.com/event/complexcon-long-beach-2019/
LOCATION:Long Beach Convention Center\, 300 E Ocean Blvd\, Long Beach\, CA\, 90802\, United States
CATEGORIES:Event,Fashion,Music
ATTACH;FMTTYPE=image/png:https://laguestlist.com/wp-content/uploads/2019/09/Screen-Shot-2019-09-10-at-7.55.33-PM.png
END:VEVENT
BEGIN:VEVENT
DTSTART;TZID=America/Los_Angeles:20191105T190000
DTEND;TZID=America/Los_Angeles:20191105T210000
DTSTAMP:20260420T202313
CREATED:20190929T183524Z
LAST-MODIFIED:20190929T183524Z
UID:38944-1572980400-1572987600@laguestlist.com
SUMMARY:Book Soup Presents An Evening with Hillary and Chelsea Clinton
DESCRIPTION:Ticketed – Join Secretary Hillary Rodham Clinton and Chelsea Clinton on Tuesday November 5th at Wilshire Ebell Theatre as they discuss their new collaboration\, The Book of Gutsy Women\, and celebrate the women who have inspired them throughout their lives.
URL:https://laguestlist.com/event/book-soup-presents-an-evening-with-hillary-and-chelsea-clinton/
LOCATION:Wilshire Ebell\, 4401 W 8th Street \, Los Angeles\, CA\, 90005\, United States
CATEGORIES:Event
ATTACH;FMTTYPE=image/jpeg:https://laguestlist.com/wp-content/uploads/2019/09/unnamed-4.jpg
END:VEVENT
BEGIN:VEVENT
DTSTART;TZID=America/Los_Angeles:20191106T150000
DTEND;TZID=America/Los_Angeles:20191106T180000
DTSTAMP:20260420T202313
CREATED:20191106T041921Z
LAST-MODIFIED:20191106T041921Z
UID:39236-1573052400-1573063200@laguestlist.com
SUMMARY:Amuse x Cassie Randolph Launch
DESCRIPTION:Invite Only – An exclusive golden hour preview celebrating Cassie Randolph’s collaboration with Amuse Society with festive drinks\, yummy appetizers and a preview of the new collection.
URL:https://laguestlist.com/event/amuse-x-cassie-randolph-launch/
CATEGORIES:Event
ATTACH;FMTTYPE=image/png:https://laguestlist.com/wp-content/uploads/2019/11/Screen-Shot-2019-11-05-at-8.18.09-PM.png
END:VEVENT
BEGIN:VEVENT
DTSTART;TZID=America/Los_Angeles:20191106T180000
DTEND;TZID=America/Los_Angeles:20191106T200000
DTSTAMP:20260420T202313
CREATED:20191106T042252Z
LAST-MODIFIED:20191106T042252Z
UID:39239-1573063200-1573070400@laguestlist.com
SUMMARY:Indochino Red Carpet Ready Party
DESCRIPTION:Invite Only – Indochino\, the revolutionary digital-first made-to-measure men’s apparel brand\, will be celebrating the launch of their Tux & Formal Wear Collection with a party at their Melrose Showroom Hosted by Celebrity Stylist Warren Alfie Baker.
URL:https://laguestlist.com/event/indochino-red-carpet-ready-party/
CATEGORIES:Event
ATTACH;FMTTYPE=image/png:https://laguestlist.com/wp-content/uploads/2019/11/Screen-Shot-2019-11-05-at-8.21.01-PM.png
END:VEVENT
BEGIN:VEVENT
DTSTART;TZID=America/Los_Angeles:20191107T180000
DTEND;TZID=America/Los_Angeles:20191107T210000
DTSTAMP:20260420T202313
CREATED:20191106T035927Z
LAST-MODIFIED:20191106T035927Z
UID:39224-1573149600-1573160400@laguestlist.com
SUMMARY:Ray-Ban Venice Opening Party
DESCRIPTION:Invite Only – Ray-Ban is celebrating the opening of their Venice store on Abbot Kinney with Music by May Kwok\, Drinks by Cha cha and bites by Gjusta.
URL:https://laguestlist.com/event/ray-ban-venice-opening-party/
CATEGORIES:Event
ATTACH;FMTTYPE=image/png:https://laguestlist.com/wp-content/uploads/2019/11/Screen-Shot-2019-11-05-at-7.58.46-PM.png
END:VEVENT
BEGIN:VEVENT
DTSTART;TZID=America/Los_Angeles:20191107T190000
DTEND;TZID=America/Los_Angeles:20191107T220000
DTSTAMP:20260420T202313
CREATED:20190929T185755Z
LAST-MODIFIED:20190929T185755Z
UID:38961-1573153200-1573164000@laguestlist.com
SUMMARY:Grand Opening of Funko Hollywood
DESCRIPTION:Invite only – Funko will celebrate the arrival of its brand-new Hollywood location with a special event taking place on Thursday\, November 7th\, 2019. Guests attending the VIP preview event will get a first look at the 40\,000 square-foot store featuring life-size Funko figures\, a toy version of the Batmobile\, and a custom POP! factory. Funko Hollywood isn’t your typical brick-and-mortar retail location\, but rather an immersive experience with an awe-inducing array of pop-culture themed “worlds” and highly shareable social media moments. Funko’s first and original store\, located at the company’s headquarters in Everett\, Washington\, has become a destination for pop culture enthusiasts and more.
URL:https://laguestlist.com/event/grand-opening-of-funko-hollywood/
CATEGORIES:Event
ATTACH;FMTTYPE=image/jpeg:https://laguestlist.com/wp-content/uploads/2019/09/funko-e1551360943763-700x343.jpg
END:VEVENT
BEGIN:VEVENT
DTSTART;TZID=America/Los_Angeles:20191107T190000
DTEND;TZID=America/Los_Angeles:20191107T220000
DTSTAMP:20260420T202313
CREATED:20191106T040756Z
LAST-MODIFIED:20191106T040756Z
UID:39230-1573153200-1573164000@laguestlist.com
SUMMARY:Moncler House of Genius Los Angeles
DESCRIPTION:Invite Only – One year after its groundbreaking inception\, Moncler Genius is back with a grand opening in four cities on November 7th including an installation in Los Angeles.
URL:https://laguestlist.com/event/moncler-house-of-genius-los-angeles/
CATEGORIES:Event
ATTACH;FMTTYPE=image/png:https://laguestlist.com/wp-content/uploads/2019/11/Screen-Shot-2019-11-05-at-8.05.14-PM.png
END:VEVENT
BEGIN:VEVENT
DTSTART;TZID=America/Los_Angeles:20191107T200000
DTEND;TZID=America/Los_Angeles:20191108T000000
DTSTAMP:20260420T202313
CREATED:20191106T035543Z
LAST-MODIFIED:20191106T035543Z
UID:39221-1573156800-1573171200@laguestlist.com
SUMMARY:Boohoo Presents All That Glitter
DESCRIPTION:Invite Only – Boohoo Presents All That Glitter Launch Party with a special surprise performances.
URL:https://laguestlist.com/event/boohoo-presents-all-that-glitter/
CATEGORIES:Event
ATTACH;FMTTYPE=image/png:https://laguestlist.com/wp-content/uploads/2019/11/Screen-Shot-2019-11-05-at-7.53.20-PM.png
END:VEVENT
BEGIN:VEVENT
DTSTART;TZID=America/Los_Angeles:20191108T170000
DTEND;TZID=America/Los_Angeles:20191109T020000
DTSTAMP:20260420T202313
CREATED:20191103T001354Z
LAST-MODIFIED:20191103T001354Z
UID:39199-1573232400-1573264800@laguestlist.com
SUMMARY:Canary Grand Opening
DESCRIPTION:Invite Only – Canary is a modern contemporary lounge with an inviting tropical floral decor with a cocktail-driven menu that will provide a unique and sophisticated experience.
URL:https://laguestlist.com/event/canary-grand-opening/
CATEGORIES:Event
ATTACH;FMTTYPE=image/png:https://laguestlist.com/wp-content/uploads/2019/11/Screen-Shot-2019-11-02-at-5.05.15-PM.png
END:VEVENT
BEGIN:VEVENT
DTSTART;TZID=America/Los_Angeles:20191108T190000
DTEND;TZID=America/Los_Angeles:20191108T230000
DTSTAMP:20260420T202313
CREATED:20191103T011029Z
LAST-MODIFIED:20191103T011029Z
UID:39208-1573239600-1573254000@laguestlist.com
SUMMARY:Refinery29 Presents 29Rooms LA "Expand Your Reality" Preview
DESCRIPTION:Ticketed – Join Refinery29 for a first look at the highly anticipated Los Angeles return of 29Rooms: Expand Your Reality. Take a tour of the acclaimed experience where you can pick up a paintbrush\, connect with a stranger and dance your heart out while enjoying light bites\, drinks and special performances on the Republic Records Stage.  \nThe immersive festival of cause\, culture\, and creativity will land in LA with a diverse group of local and national collaborators across the spectrum of art\, culture\, tech\, entertainment\, politics\, and style. Each room will put attendees at the center of the event\, inviting them to step into the unexpected and tap into the curiosity and creativity of the experience.  \n29Rooms Los Angeles will welcome new brand collaborations with Uber\, Lola\, Facebook AR\, Smashbox\, Clarins\, Hulu and more! The #ExpandYourReality tour aims to open guests up to new experiences\, providing a chance to connect\, explore\, and discover. As an experiential pioneer\, Refinery29 continues to build immersive moments that reflect the company’s commitment to supporting creative talent and sparking vital conversation with its audience. \nThe event will be open to the public in Los Angeles on November 8-17.
URL:https://laguestlist.com/event/refinery29-presents-29rooms-la-expand-your-reality-preview/
CATEGORIES:Event
ATTACH;FMTTYPE=image/jpeg:https://laguestlist.com/wp-content/uploads/2019/11/e314532665.jpg
END:VEVENT
BEGIN:VEVENT
DTSTART;TZID=America/Los_Angeles:20191112T210000
DTEND;TZID=America/Los_Angeles:20191113T010000
DTSTAMP:20260420T202313
CREATED:20191106T041424Z
LAST-MODIFIED:20191106T041424Z
UID:39233-1573592400-1573606800@laguestlist.com
SUMMARY:“Live Authentic” a Kappa Experience
DESCRIPTION:Invite Only – Next week\, industry tastemakers and influencers will gather to celebrate Kappa’s rich brand history and look into what Kappa represents today. Guests will be taken through a full immersive fashion experience\, walking through a Kappa “Hall of Fame” as well as a curated exhibit of upcoming and present Kappa collections and collaborations. The evening will include the unveiling of their new exclusive collaborations while enjoying music by Zack Bia + Pedro
URL:https://laguestlist.com/event/live-authentic-a-kappa-experience/
CATEGORIES:Event
ATTACH;FMTTYPE=image/png:https://laguestlist.com/wp-content/uploads/2019/11/Screen-Shot-2019-11-05-at-8.12.10-PM.png
END:VEVENT
BEGIN:VEVENT
DTSTART;TZID=America/Los_Angeles:20191114T190000
DTEND;TZID=America/Los_Angeles:20191114T210000
DTSTAMP:20260420T202313
CREATED:20191113T041508Z
LAST-MODIFIED:20191113T041508Z
UID:39306-1573758000-1573765200@laguestlist.com
SUMMARY:FaZe Clan Arcade Pop Up
DESCRIPTION:Invite Only – Building on its massive success of lifestyle collaborations\, FaZe Clan\, the world’s unmatched leader in competitive esports and gaming entertainment\, will open the pop-up at 7312 Melrose Avenue a few blocks west of La Brea Avenue. The FaZe Clan Los Angeles Pop-Up\, open November 16 – through December\, will showcase and sell designs with Kappa\, CLOT and Lyrical Lemonade\, as well as FaZe Clan and FaZe Clan talent apparel and merchandise.
URL:https://laguestlist.com/event/faze-clan-arcade-pop-up/
CATEGORIES:Event
ATTACH;FMTTYPE=image/png:https://laguestlist.com/wp-content/uploads/2019/11/Screen-Shot-2019-11-12-at-8.10.56-PM.png
END:VEVENT
BEGIN:VEVENT
DTSTART;TZID=America/Los_Angeles:20191115T170000
DTEND;TZID=America/Los_Angeles:20191116T230000
DTSTAMP:20260420T202313
CREATED:20191107T051525Z
LAST-MODIFIED:20191107T051525Z
UID:39242-1573837200-1573945200@laguestlist.com
SUMMARY:Adult Swim Festival 2019
DESCRIPTION:Ticketed – The ADULT SWIM FESTIVAL is returning with an extra ridiculous assembly of music\, comedy and life-altering experiences to Los Angeles on Nov 15 & 16. We’re blowing it out with different acts including Dethklok\, Jamie xx\, Vince Staples\, Young Thug\, The Eric Andre Show Live!\, Captain Murphy\, Tierra Whack\, Lil Nas X and more!
URL:https://laguestlist.com/event/adult-swim-festival-2019/
LOCATION:Banc of California Stadium\, 3939 S Figueroa S\, Los Angeles\, CA\, 90037\, United States
CATEGORIES:Entertainment,Event
ATTACH;FMTTYPE=image/jpeg:https://laguestlist.com/wp-content/uploads/2019/11/ASF_ShellImage_V1.jpg
END:VEVENT
BEGIN:VEVENT
DTSTART;TZID=America/Los_Angeles:20191115T180000
DTEND;TZID=America/Los_Angeles:20191115T210000
DTSTAMP:20260420T202313
CREATED:20191102T234807Z
LAST-MODIFIED:20191102T234807Z
UID:39192-1573840800-1573851600@laguestlist.com
SUMMARY:Off The Menu Present TenderFest
DESCRIPTION:Ticket – On November 15th\, come experience L.A.’s first-ever TenderFest – a ‘celebration of all things pounded\, breaded and fried’. You’ll get to try some of LA’s most lauded tenders and watch celebrity chefs battle for tender supremacy at the ‘conTENDER competition’.
URL:https://laguestlist.com/event/off-the-menu-present-tenderfest/
LOCATION:Wallis Annenberg Center for the Performing Arts\, 9390 N. Santa Monica Blvd.\, Beverly Hills\, CA\, 90210\, United States
CATEGORIES:Event
ATTACH;FMTTYPE=image/png:https://laguestlist.com/wp-content/uploads/2019/11/unnamed.png
END:VEVENT
BEGIN:VEVENT
DTSTART;TZID=America/Los_Angeles:20191115T180000
DTEND;TZID=America/Los_Angeles:20191115T230000
DTSTAMP:20260420T202313
CREATED:20191114T155654Z
LAST-MODIFIED:20191114T155654Z
UID:39312-1573840800-1573858800@laguestlist.com
SUMMARY:2019 Revolve Awards
DESCRIPTION:Invite Only – REVOLVE is hosting its own Award Show this November celebrating their favorite influencers. Cast your vote now for such categories as “Best Influencer Brand” and “BFFs of the Year.
URL:https://laguestlist.com/event/2019-revolve-awards/
CATEGORIES:Award Show,Event,Fashion
ATTACH;FMTTYPE=image/png:https://laguestlist.com/wp-content/uploads/2019/11/Screen-Shot-2019-11-14-at-7.55.49-AM.png
END:VEVENT
BEGIN:VEVENT
DTSTART;TZID=America/Los_Angeles:20191116T140000
DTEND;TZID=America/Los_Angeles:20191116T190000
DTSTAMP:20260420T202313
CREATED:20191112T043401Z
LAST-MODIFIED:20191112T043401Z
UID:39280-1573912800-1573930800@laguestlist.com
SUMMARY:Snap Inc. Unveils Spectacles at Ron Robinson
DESCRIPTION:Invite Only – Guests will join Ron Robinson to experience the launch of SPECTACLES 3 from the creators of SnapChat and experience live interactive experiences from artists\, designers\, and influencers. Ron Robinson is the only US retailer that has been chosen to host this Launch + Learn in-store experience. There will be demo stations\, video displays\, and AR test stations.
URL:https://laguestlist.com/event/snap-inc-unveils-spectacles-at-ron-robinson/
LOCATION:Ron Ronbinson\, 1327 5th Street\, Santa Monica\, CA\, 90401\, United States
CATEGORIES:Event,Technology
ATTACH;FMTTYPE=image/png:https://laguestlist.com/wp-content/uploads/2019/11/Screen-Shot-2019-11-11-at-8.31.33-PM.png
END:VEVENT
BEGIN:VEVENT
DTSTART;TZID=America/Los_Angeles:20191120T140000
DTEND;TZID=America/Los_Angeles:20191120T190000
DTSTAMP:20260420T202313
CREATED:20191118T050624Z
LAST-MODIFIED:20191118T050624Z
UID:39315-1574258400-1574276400@laguestlist.com
SUMMARY:FabFitFun Winter Box Tour
DESCRIPTION:Invite Only – Hop on the FabFitFun tour bus and experience the iconic Box IRL – activities will include a blowout at DryBar\, a surprise experience courtesy of Unhide blankets and throws\, and more. Following the tour\, join us for happy hour at FabFitFun HQ! Enjoy wine and light bites\, mini-facials and hand masks with Karuna\, makeup and manicures with Priv\, and more.
URL:https://laguestlist.com/event/fabfitfun-winter-box-tour/
CATEGORIES:Event,Networking
ATTACH;FMTTYPE=image/png:https://laguestlist.com/wp-content/uploads/2019/11/Screen-Shot-2019-11-17-at-9.04.40-PM.png
END:VEVENT
BEGIN:VEVENT
DTSTART;TZID=America/Los_Angeles:20191120T183000
DTEND;TZID=America/Los_Angeles:20191120T203000
DTSTAMP:20260420T202314
CREATED:20191103T012426Z
LAST-MODIFIED:20191103T012426Z
UID:39211-1574274600-1574281800@laguestlist.com
SUMMARY:Pop TV Presents: Visit Schitt’s Creek
DESCRIPTION:Invite Only – Join us for in celebrating the final season as we bring the beloved town to life at the one-time-only immersive pop-up. “Check-in” to the iconic roadside Rosebud Motel\nTalk a snap amidst Moira’s iconic wig wall Order up at the iconic Cafe Tropical Peruse the luxury\, locally-sourced goods at Rose Apothecary\nAnd\, once you make the rounds\, be sure to capture your picture-perfect family Holiday card\, Rose Family-style
URL:https://laguestlist.com/event/pop-tv-presents-visit-schitts-creek/
CATEGORIES:Entertainment,Event
ATTACH;FMTTYPE=image/png:https://laguestlist.com/wp-content/uploads/2019/11/Screen-Shot-2019-11-02-at-6.13.03-PM.png
END:VEVENT
BEGIN:VEVENT
DTSTART;TZID=America/Los_Angeles:20191121T180000
DTEND;TZID=America/Los_Angeles:20191121T220000
DTSTAMP:20260420T202314
CREATED:20191120T152833Z
LAST-MODIFIED:20191120T152833Z
UID:39364-1574359200-1574373600@laguestlist.com
SUMMARY:Sherbinskis Fairfax Grand Opening
DESCRIPTION:Invite Only – Guests will join for the exclusive first look of the famed grower Mario Guzman\, aka\, Mr. Sherbinski’s branded flagship SHERBINSKIS\, the first namesake dispensary of its kind to stake out a spot at the epicenter of West Coast culture on legendary Fairfax Avenue shopping destination in Los Angeles.
URL:https://laguestlist.com/event/sherbinskis-fairfax-grand-opening/
CATEGORIES:Event
ATTACH;FMTTYPE=image/png:https://laguestlist.com/wp-content/uploads/2019/11/Screen-Shot-2019-11-20-at-7.25.22-AM.png
END:VEVENT
BEGIN:VEVENT
DTSTART;TZID=America/Los_Angeles:20191121T190000
DTEND;TZID=America/Los_Angeles:20191121T210000
DTSTAMP:20260420T202314
CREATED:20191119T145249Z
LAST-MODIFIED:20191119T145249Z
UID:39358-1574362800-1574370000@laguestlist.com
SUMMARY:Mondrian Penthouse Unveiling Event
DESCRIPTION:Invite Only – “An Icon Reimagined\,” an exclusive look at the new Mondrian Los Angeles Penthouse\, the final element of the hotel’s newly completed $19 million renovations. Join the Mondrian for lite bites and libations on Thursday\, November 21st for an intimate look at the newly redesigned and renovated space inside the iconic sbe hotel.
URL:https://laguestlist.com/event/mondrian-penthouse-unveiling-event/
LOCATION:Mondrian Hotel\, 8440 Sunset Blvd\, West Hollywood\, CA\, 90069\, United States
CATEGORIES:Event
ATTACH;FMTTYPE=image/png:https://laguestlist.com/wp-content/uploads/2019/11/Screen-Shot-2019-11-19-at-6.50.39-AM.png
END:VEVENT
BEGIN:VEVENT
DTSTART;TZID=America/Los_Angeles:20191121T190000
DTEND;TZID=America/Los_Angeles:20191121T220000
DTSTAMP:20260420T202314
CREATED:20191119T144955Z
LAST-MODIFIED:20191119T144955Z
UID:39355-1574362800-1574373600@laguestlist.com
SUMMARY:Burton x Style Firm Los Angeles
DESCRIPTION:RSVP – Celebrate the winter launch of Burton x Style Firm Los Angeles\, Relax to an acoustic performance of BMG recording country singer/songwriter\, Sykamore\,\nwhile enjoying festive drinks and sweets as you shop the launch!
URL:https://laguestlist.com/event/burton-x-style-firm-los-angeles/
LOCATION:Burton Santa Monica\, 1460 4th Street\, Santa Monica\, CA\, 90401\, United States
CATEGORIES:Event
ATTACH;FMTTYPE=image/png:https://laguestlist.com/wp-content/uploads/2019/11/Screen-Shot-2019-11-19-at-6.47.36-AM.png
END:VEVENT
BEGIN:VEVENT
DTSTART;TZID=America/Los_Angeles:20191121T200000
DTEND;TZID=America/Los_Angeles:20191121T230000
DTSTAMP:20260420T202314
CREATED:20191121T145703Z
LAST-MODIFIED:20191121T145703Z
UID:39367-1574366400-1574377200@laguestlist.com
SUMMARY:Puma x Balmain Created With Cara Delevingne
DESCRIPTION:Invite Only – Puma x Balmain Created With Cara Delevingne Launch Event
URL:https://laguestlist.com/event/puma-x-balmain-created-with-cara-delevingne/
CATEGORIES:Event,Fashion
ATTACH;FMTTYPE=image/png:https://laguestlist.com/wp-content/uploads/2019/11/Screen-Shot-2019-11-21-at-6.56.09-AM.png
END:VEVENT
BEGIN:VEVENT
DTSTART;TZID=America/Los_Angeles:20191122T210000
DTEND;TZID=America/Los_Angeles:20191123T020000
DTSTAMP:20260420T202314
CREATED:20191121T155833Z
LAST-MODIFIED:20191121T155833Z
UID:39378-1574456400-1574474400@laguestlist.com
SUMMARY:The Choo Choo Club Preview
DESCRIPTION:Invite Only – The Choo Choo Club Preview with art curated by In Heroes We Trust featuring the works by Tasya Van Ree.
URL:https://laguestlist.com/event/the-choo-choo-club-preview/
CATEGORIES:Event
ATTACH;FMTTYPE=image/png:https://laguestlist.com/wp-content/uploads/2019/11/Screen-Shot-2019-11-21-at-7.56.04-AM.png
END:VEVENT
BEGIN:VEVENT
DTSTART;TZID=America/Los_Angeles:20191123T120000
DTEND;TZID=America/Los_Angeles:20191124T200000
DTSTAMP:20260420T202314
CREATED:20191119T151536Z
LAST-MODIFIED:20191119T151536Z
UID:39361-1574510400-1574625600@laguestlist.com
SUMMARY:Amazon Prime Presents The Aeronauts' Incredible Journey
DESCRIPTION:RSVP – Prepare for the thrill of a lifetime! In honor of its new film\, The Aeronauts—in theaters December 6 and available on Prime Video December 20—Amazon Prime Video is bringing the spirit and magic of 1862 to cities all across the country. Families\, schemers\, dreamers and altitude enthusiasts of all ages will be awed by The Aeronauts’ Incredible Journey—a sprawling Victorian fair featuring period performers\, breathtaking exhibits\, and two hot air balloons.
URL:https://laguestlist.com/event/amazon-prime-presents-the-aeronauts-incredible-journey/
LOCATION:The Rose Bowl\, 1001 Rose Bowl Drive\, Pasadena\, CA\, 91103\, United States
CATEGORIES:Event,Things to do
ATTACH;FMTTYPE=image/jpeg:https://laguestlist.com/wp-content/uploads/2019/11/https___cdn.evbuc_.com_images_80933803_174948982971_1_original.jpg
END:VEVENT
BEGIN:VEVENT
DTSTART;TZID=America/Los_Angeles:20191204T193000
DTEND;TZID=America/Los_Angeles:20191204T213000
DTSTAMP:20260420T202314
CREATED:20191126T193243Z
LAST-MODIFIED:20191126T193243Z
UID:39424-1575487800-1575495000@laguestlist.com
SUMMARY:3rd Base - New Social Sports Lounge Opening
DESCRIPTION:Invite Only – The launch of 3rd Base\, a new social sports lounge that has opened its doors in Hollywood with elevated bar bites and specialty cocktails to celebrate the grand opening.
URL:https://laguestlist.com/event/3rd-base-new-social-sports-lounge-opening/
CATEGORIES:Event
ATTACH;FMTTYPE=image/png:https://laguestlist.com/wp-content/uploads/2019/11/Screen-Shot-2019-11-26-at-12.30.17-PM.png
END:VEVENT
BEGIN:VEVENT
DTSTART;TZID=America/Los_Angeles:20191205T163000
DTEND;TZID=America/Los_Angeles:20191205T210000
DTSTAMP:20260420T202314
CREATED:20191202T035040Z
LAST-MODIFIED:20191202T035040Z
UID:39448-1575563400-1575579600@laguestlist.com
SUMMARY:Dress for Success Worldwide Fundraiser
DESCRIPTION:Ticketed – Dress for Success Worldwide will launch its ninth annual Shop for Success pop up shop\, featuring merchandise from nearly 200 brands at up to 70 percent off retail price. Leading ladies Maye Musk and Perrey Reeves will serve as celebrity hosts in support of the organization’s mission. The ultimate five-day shopping fundraiser will kick off with a ticketed star-studded VIP night on December 5. \nLeading brands such as Fendi\, Frye\, Joe’s Jeans\, Zadig et Voltaire\, Vince.\, and Alice + Olivia are donating luxury product and allowing the organization to sell the items at a fraction of the cost to shoppers seeking to support a great cause during the holiday season. Additionally\, one hundred percent of ticket and retail sales will go directly to Dress for Success Worldwide-West’s career development and employment retention programs.
URL:https://laguestlist.com/event/dress-for-success-worldwide-fundraiser/
CATEGORIES:Event
ATTACH;FMTTYPE=image/png:https://laguestlist.com/wp-content/uploads/2019/12/Screen-Shot-2019-12-01-at-7.49.44-PM.png
END:VEVENT
BEGIN:VEVENT
DTSTART;TZID=America/Los_Angeles:20191205T190000
DTEND;TZID=America/Los_Angeles:20191205T220000
DTSTAMP:20260420T202314
CREATED:20191125T194114Z
LAST-MODIFIED:20191125T194114Z
UID:39398-1575572400-1575583200@laguestlist.com
SUMMARY:Lancôme x Vogue Rouge Ruby Collection
DESCRIPTION:Invite Only – Lancôme x Vogue invite guests to toast to the holidays with the L’Absolu Rouge Ruby Collection.
URL:https://laguestlist.com/event/lancome-x-vogue-rouge-ruby-collection/
CATEGORIES:Event,Fashion
ATTACH;FMTTYPE=image/png:https://laguestlist.com/wp-content/uploads/2019/11/Screen-Shot-2019-11-25-at-12.35.43-PM.png
END:VEVENT
BEGIN:VEVENT
DTSTART;TZID=America/Los_Angeles:20191209T170000
DTEND;TZID=America/Los_Angeles:20191209T200000
DTSTAMP:20260420T202314
CREATED:20191126T192900Z
LAST-MODIFIED:20191126T192900Z
UID:39421-1575910800-1575921600@laguestlist.com
SUMMARY:Let it Zoe 2019
DESCRIPTION:Invite Only – Celebrate the holiday season at Rachel Zoes’ winter soirée Let it Zoe for a night of curated gifting\, seasonal bites\, cocktails\, and glamour style moments.
URL:https://laguestlist.com/event/let-it-zoe-2019/
CATEGORIES:Event,Holiday Party
ATTACH;FMTTYPE=image/png:https://laguestlist.com/wp-content/uploads/2019/11/Screen-Shot-2019-11-26-at-12.26.59-PM.png
END:VEVENT
BEGIN:VEVENT
DTSTART;TZID=America/Los_Angeles:20191211T100000
DTEND;TZID=America/Los_Angeles:20191211T143000
DTSTAMP:20260420T202314
CREATED:20191211T043502Z
LAST-MODIFIED:20191211T043502Z
UID:39559-1576058400-1576074600@laguestlist.com
SUMMARY:Harry Styles 'Love Bus' by American Express
DESCRIPTION:Open – On Wednesday\, December 11\, 2019\, American Express is partnering with Harry Styles to give fans the ultimate holiday gift. The Harry Styles Love Bus by American Express will debut in Los Angeles and surprise and delight fans with a chance to receive tickets to his sold-out show – Harry Styles Fine Line Live: One Night Only – at the Forum on Friday\, December 13. \nThe Harry Styles Love Bus by American Express is a Fine Line-inspired\, groovy\, 70s style decked out bus that will surprise fans at The Forum on December 11\, beginning at 12:00PM PST and with doors opening at 10 am PST\, by giving out tickets to Harry’s upcoming\, sold-out show at the Forum\, where he will perform his new album live for the very first time.
URL:https://laguestlist.com/event/harry-styles-love-bus-by-american-express/
LOCATION:The Forum\, 3900 W Manchester Blvd\, Inglewood\, CA\, 90305\, United States
CATEGORIES:Event
ATTACH;FMTTYPE=image/png:https://laguestlist.com/wp-content/uploads/2019/12/unnamed.png
END:VEVENT
END:VCALENDAR