BEGIN:VCALENDAR
VERSION:2.0
PRODID:-//LA Guestlist - ECPv6.15.20//NONSGML v1.0//EN
CALSCALE:GREGORIAN
METHOD:PUBLISH
X-ORIGINAL-URL:https://laguestlist.com
X-WR-CALDESC:Events for LA Guestlist
REFRESH-INTERVAL;VALUE=DURATION:PT1H
X-Robots-Tag:noindex
X-PUBLISHED-TTL:PT1H
BEGIN:VTIMEZONE
TZID:America/Los_Angeles
BEGIN:DAYLIGHT
TZOFFSETFROM:-0800
TZOFFSETTO:-0700
TZNAME:PDT
DTSTART:20250309T100000
END:DAYLIGHT
BEGIN:STANDARD
TZOFFSETFROM:-0700
TZOFFSETTO:-0800
TZNAME:PST
DTSTART:20251102T090000
END:STANDARD
BEGIN:DAYLIGHT
TZOFFSETFROM:-0800
TZOFFSETTO:-0700
TZNAME:PDT
DTSTART:20260308T100000
END:DAYLIGHT
BEGIN:STANDARD
TZOFFSETFROM:-0700
TZOFFSETTO:-0800
TZNAME:PST
DTSTART:20261101T090000
END:STANDARD
BEGIN:DAYLIGHT
TZOFFSETFROM:-0800
TZOFFSETTO:-0700
TZNAME:PDT
DTSTART:20270314T100000
END:DAYLIGHT
BEGIN:STANDARD
TZOFFSETFROM:-0700
TZOFFSETTO:-0800
TZNAME:PST
DTSTART:20271107T090000
END:STANDARD
END:VTIMEZONE
BEGIN:VEVENT
DTSTART;TZID=America/Los_Angeles:20260326T110000
DTEND;TZID=America/Los_Angeles:20260326T180000
DTSTAMP:20260420T185019
CREATED:20260323T192634Z
LAST-MODIFIED:20260323T192634Z
UID:52071-1774522800-1774548000@laguestlist.com
SUMMARY:Nike Air Max Day 2026
DESCRIPTION:Open – Nike and Complex present the Nike Air Max Day experience where Nike enthusiasts are invited to pull up in their best kicks for Air Max Day for a celebration of culture\, creativity\, and the collection’s 38-year history.
URL:https://laguestlist.com/event/nike-air-max-day-2026/
LOCATION:Complex LA\, 806 E Colorado St\, Glendale\, CA\, 91205\, United States
CATEGORIES:Event,Fashion
ATTACH;FMTTYPE=image/png:https://laguestlist.com/wp-content/uploads/2026/03/Air-MAx-Day.png
END:VEVENT
BEGIN:VEVENT
DTSTART;TZID=America/Los_Angeles:20260404T120000
DTEND;TZID=America/Los_Angeles:20260404T180000
DTSTAMP:20260420T185019
CREATED:20260331T185914Z
LAST-MODIFIED:20260331T185914Z
UID:52134-1775304000-1775325600@laguestlist.com
SUMMARY:JuneShine 5 year Anniversary
DESCRIPTION:Open – JuneShine Santa Monica is celebrating 5 YEARS on Main St with live DJ’s and dancing\, a new JuneShine flavor\, birthday bingo\, raffles\, custom totes\, temporary tattoos\, and more!
URL:https://laguestlist.com/event/juneshine-5-year-anniversary/
LOCATION:JuneShine Santa Monia\, 2914 Main Street\, Santa Monica\, CA\, 90405\, United States
CATEGORIES:Event
ATTACH;FMTTYPE=image/png:https://laguestlist.com/wp-content/uploads/2026/03/JuneShine-5-year-Anniversary.png
END:VEVENT
END:VCALENDAR