BEGIN:VCALENDAR
VERSION:2.0
PRODID:-//LA Guestlist - ECPv6.15.20//NONSGML v1.0//EN
CALSCALE:GREGORIAN
METHOD:PUBLISH
X-ORIGINAL-URL:https://laguestlist.com
X-WR-CALDESC:Events for LA Guestlist
REFRESH-INTERVAL;VALUE=DURATION:PT1H
X-Robots-Tag:noindex
X-PUBLISHED-TTL:PT1H
BEGIN:VTIMEZONE
TZID:America/Los_Angeles
BEGIN:DAYLIGHT
TZOFFSETFROM:-0800
TZOFFSETTO:-0700
TZNAME:PDT
DTSTART:20160313T100000
END:DAYLIGHT
BEGIN:STANDARD
TZOFFSETFROM:-0700
TZOFFSETTO:-0800
TZNAME:PST
DTSTART:20161106T090000
END:STANDARD
BEGIN:DAYLIGHT
TZOFFSETFROM:-0800
TZOFFSETTO:-0700
TZNAME:PDT
DTSTART:20170312T100000
END:DAYLIGHT
BEGIN:STANDARD
TZOFFSETFROM:-0700
TZOFFSETTO:-0800
TZNAME:PST
DTSTART:20171105T090000
END:STANDARD
BEGIN:DAYLIGHT
TZOFFSETFROM:-0800
TZOFFSETTO:-0700
TZNAME:PDT
DTSTART:20180311T100000
END:DAYLIGHT
BEGIN:STANDARD
TZOFFSETFROM:-0700
TZOFFSETTO:-0800
TZNAME:PST
DTSTART:20181104T090000
END:STANDARD
END:VTIMEZONE
BEGIN:VEVENT
DTSTART;TZID=America/Los_Angeles:20171020T170000
DTEND;TZID=America/Los_Angeles:20171020T200000
DTSTAMP:20260419T062059
CREATED:20171012T223852Z
LAST-MODIFIED:20171012T223852Z
UID:28029-1508518800-1508529600@laguestlist.com
SUMMARY:fabfitfun Build-Your-Own-Box Pop Up
DESCRIPTION:Ticketed – In celebration of the opening of the brand’s LA Head Quarters\, fabfitfun will be hosting their first pop-up open to consumers! All ticket holders will be provided the opportunity to build their own fabfitfun box\, selecting 8 products across the beauty\, wellness\, fashion and fitness space! As always with fabfitfun events\, the fun won’t stop with whats in the box! Additional wellness\, beauty and happiness experiences will be on offer.
URL:https://laguestlist.com/event/fabfitfun-build-box-pop/
CATEGORIES:Event,Pop-Up Shop
ATTACH;FMTTYPE=image/jpeg:https://laguestlist.com/wp-content/uploads/2017/10/unnamed-4-1.jpg
END:VEVENT
BEGIN:VEVENT
DTSTART;TZID=America/Los_Angeles:20171021T110000
DTEND;TZID=America/Los_Angeles:20171021T110000
DTSTAMP:20260419T062059
CREATED:20171012T224158Z
LAST-MODIFIED:20171012T224158Z
UID:28032-1508583600-1508583600@laguestlist.com
SUMMARY:fabfitfun Build-Your-Own-Box Pop Up
DESCRIPTION:Ticketed – In celebration of the opening of the brand’s LA Head Quarters\, fabfitfun will be hosting their first pop-up open to consumers! All ticket holders will be provided the opportunity to build their own fabfitfun box\, selecting 8 products across the beauty\, wellness\, fashion and fitness space! As always with fabfitfun events\, the fun won’t stop with whats in the box! Additional wellness\, beauty and happiness experiences will be on offer.
URL:https://laguestlist.com/event/fabfitfun-build-box-pop-2/
CATEGORIES:Event,Pop-Up Shop
ATTACH;FMTTYPE=image/jpeg:https://laguestlist.com/wp-content/uploads/2017/10/unnamed-4-1.jpg
END:VEVENT
BEGIN:VEVENT
DTSTART;TZID=America/Los_Angeles:20171021T190000
DTEND;TZID=America/Los_Angeles:20171021T230000
DTSTAMP:20260419T062059
CREATED:20171019T170321Z
LAST-MODIFIED:20171019T170321Z
UID:28297-1508612400-1508626800@laguestlist.com
SUMMARY:RHOBH Star & Fashion Designer Dorit Kemsley hosts Beverly Beach
DESCRIPTION:Invite Only – Fashion designer and star of The Real Housewives of Beverly Hills Dorit Kemsley hosts an intimate and exclusive preview event for her new line Beverly Beach by Dorit\, which will release for Spring Summer 2018. The night will start out with a red carpet to capture celebrity arrivals for photos and interviews and will then be followed by a fashion show and after-party. Guests will enjoy specialty cocktails provided by Absolut Elyx and the event will be held at the Trunk Club
URL:https://laguestlist.com/event/rhobh-star-fashion-designer-dorit-kemsley-hosts-beverly-beach/
CATEGORIES:Event,Fashion
ATTACH;FMTTYPE=image/png:https://laguestlist.com/wp-content/uploads/2017/10/Screen-Shot-2017-10-19-at-9.57.56-AM.png
END:VEVENT
BEGIN:VEVENT
DTSTART;TZID=America/Los_Angeles:20171024T180000
DTEND;TZID=America/Los_Angeles:20171024T200000
DTSTAMP:20260419T062059
CREATED:20171023T224919Z
LAST-MODIFIED:20171023T224919Z
UID:28386-1508868000-1508875200@laguestlist.com
SUMMARY:Coveteur x Dr. Jart
DESCRIPTION:Invite Only – Join Coveteur Co-founder Stephanie Mark to celebrate Dr. Jart’s new cicapair tiger grass collection. Come enjoy light bites & cocktails with a DJ set ny Brittany Sky.
URL:https://laguestlist.com/event/coveteur-x-dr-jart/
CATEGORIES:Event
ATTACH;FMTTYPE=image/png:https://laguestlist.com/wp-content/uploads/2017/10/Screen-Shot-2017-10-23-at-3.45.50-PM.png
END:VEVENT
BEGIN:VEVENT
DTSTART;TZID=America/Los_Angeles:20171025T090000
DTEND;TZID=America/Los_Angeles:20171025T200000
DTSTAMP:20260419T062059
CREATED:20171017T200530Z
LAST-MODIFIED:20171017T200530Z
UID:28221-1508922000-1508961600@laguestlist.com
SUMMARY:Paul Smith Los Angeles Sample Sale
DESCRIPTION:Open – 260LA is excited to host the Paul Smith Los Angeles sample sale from Wedesday\, October 25 through Sunday\, October 29. Come #shop the brand behind the infamous LA Pink Wall featuring up to 75% off men’s and women’s clothing\, shoes\, and accessories. Looking forward to seeing you at 265 N Beverly Drive in Beverly Hills!
URL:https://laguestlist.com/event/paul-smith-los-angeles-sample-sale/
LOCATION:260la\, 265 N Beverly Dr\, Beverly Hills\, CA\, 90210\, United States
CATEGORIES:Event,Sale
ATTACH;FMTTYPE=image/jpeg:https://laguestlist.com/wp-content/uploads/2017/10/ps_invite_POSTER.jpg
END:VEVENT
BEGIN:VEVENT
DTSTART;TZID=America/Los_Angeles:20171026T180000
DTEND;TZID=America/Los_Angeles:20171026T210000
DTSTAMP:20260419T062059
CREATED:20171019T162419Z
LAST-MODIFIED:20171019T162419Z
UID:28293-1509040800-1509051600@laguestlist.com
SUMMARY:Kendra Scott Shop for a Cause Event
DESCRIPTION:Open – Celebrate Kendra Scott’s new store with host Lauren Scruggs Kennedy on October 26. Enjoy bubbles\, light bites\, and sweet treats with a complimentary gift bag with $75 purchase. 20% of event sales will be donated to Lauren Scruggs Kennedy Foundation.
URL:https://laguestlist.com/event/kendra-scott-shop-cause-event/
LOCATION:Kendra Scott
CATEGORIES:Event
ATTACH;FMTTYPE=image/png:https://laguestlist.com/wp-content/uploads/2017/10/Screen-Shot-2017-10-19-at-9.22.16-AM.png
END:VEVENT
BEGIN:VEVENT
DTSTART;TZID=America/Los_Angeles:20171026T200000
DTEND;TZID=America/Los_Angeles:20171026T200000
DTSTAMP:20260419T062059
CREATED:20171018T220844Z
LAST-MODIFIED:20171019T192733Z
UID:28275-1509048000-1509048000@laguestlist.com
SUMMARY:Garden of Wonder with Simon Hammerstein
DESCRIPTION:Invite Only – Globally recognized theatrical director Simon Hammerstein joins Perrier-Jouët\, the world’s most iconic boutique champagne house\, to present Garden of Wonder by Perrier-Jouët.
URL:https://laguestlist.com/event/garden-wonder-cwith-simon-hammerstein/
CATEGORIES:Event
ATTACH;FMTTYPE=image/png:https://laguestlist.com/wp-content/uploads/2017/10/Screen-Shot-2017-10-12-at-3.05.59-PM.png
END:VEVENT
BEGIN:VEVENT
DTSTART;TZID=America/Los_Angeles:20171026T200000
DTEND;TZID=America/Los_Angeles:20171026T200000
DTSTAMP:20260419T062059
CREATED:20171024T210048Z
LAST-MODIFIED:20171024T210048Z
UID:28477-1509048000-1509048000@laguestlist.com
SUMMARY:Night Market ft. Samantha Robinson
DESCRIPTION:Open – Make your way to Skybar this Thursday\, October 26 for another exclusive Night Market with Samantha Robinson and other VIP guests.
URL:https://laguestlist.com/event/night-market-ft-samantha-robinson/
LOCATION:Skybar at Mondrian\, 8440 Sunset Boulevard\, West Hollywood\, CA\, 90069\, United States
CATEGORIES:Event,Fashion
ATTACH;FMTTYPE=image/jpeg:https://laguestlist.com/wp-content/uploads/2017/10/unnamed-10.jpg
END:VEVENT
BEGIN:VEVENT
DTSTART;TZID=America/Los_Angeles:20171101T190000
DTEND;TZID=America/Los_Angeles:20171101T220000
DTSTAMP:20260419T062059
CREATED:20171025T190714Z
LAST-MODIFIED:20171025T190714Z
UID:28561-1509562800-1509573600@laguestlist.com
SUMMARY:"Maddman: The Steve Madden Story" Premiere
DESCRIPTION:Invite Only – Madmdman Productions & Onslot films presents the advance screening of the documentary “Maddman: The Steve Madden Story.”
URL:https://laguestlist.com/event/maddman-steve-madden-story-premiere/
CATEGORIES:Event,Movies
ATTACH;FMTTYPE=image/png:https://laguestlist.com/wp-content/uploads/2017/10/Screen-Shot-2017-10-25-at-12.04.04-PM.png
END:VEVENT
BEGIN:VEVENT
DTSTART;TZID=America/Los_Angeles:20171102T190000
DTEND;TZID=America/Los_Angeles:20171102T210000
DTSTAMP:20260419T062059
CREATED:20171019T193836Z
LAST-MODIFIED:20171019T193836Z
UID:28330-1509649200-1509656400@laguestlist.com
SUMMARY:American Express #ExpressLove LA
DESCRIPTION:Invite Only – PAPER Magazine is excited to partner with American Express to #ExpressLove and celebrate Pride in Los Angeles hosted by Ginger Minj with eats\, drinks\, peace\, love and fun\, supporting The Center.
URL:https://laguestlist.com/event/american-express-expresslove-la/
CATEGORIES:Event
ATTACH;FMTTYPE=image/png:https://laguestlist.com/wp-content/uploads/2017/10/Screen-Shot-2017-10-19-at-12.36.42-PM.png
END:VEVENT
BEGIN:VEVENT
DTSTART;TZID=America/Los_Angeles:20171108T190000
DTEND;TZID=America/Los_Angeles:20171108T213000
DTSTAMP:20260419T062059
CREATED:20171024T234826Z
LAST-MODIFIED:20171024T234826Z
UID:28501-1510167600-1510176600@laguestlist.com
SUMMARY:Tradesy x Illma Gore Preview
DESCRIPTION:Invite Only –  the official opening of the Tradesy showroom on November 8th. Expect an evening of fashion and art\, with an exclusive exhibition by Illma Gore and food by Casey Lane. \nThis is a first-of-its-kind luxury resale boutique and will be a unique fashion destination for Los Angeles. It will feature some of the rarest and exceptional pre-owned pieces from the Tradesy Collection\, such as Louis Vuitton boxing gloves\, a fuchsia crocodile Hermes Kelly Bag\, Chanel ski boards\, and more. The Tradesy showroom will be the first brick and mortar location for an online-only consignment boutique.
URL:https://laguestlist.com/event/tradesy-x-illma-gore-preview/
CATEGORIES:Event,Fashion
ATTACH;FMTTYPE=image/png:https://laguestlist.com/wp-content/uploads/2017/10/Screen-Shot-2017-10-24-at-4.45.29-PM.png
END:VEVENT
BEGIN:VEVENT
DTSTART;TZID=America/Los_Angeles:20171108T200000
DTEND;TZID=America/Los_Angeles:20171108T230000
DTSTAMP:20260419T062059
CREATED:20171031T183401Z
LAST-MODIFIED:20171031T183401Z
UID:28671-1510171200-1510182000@laguestlist.com
SUMMARY:Ember Launch with Iggy Azalea
DESCRIPTION:Invite Only – The Exclusive launch of Ember celebrating a journey through Temperature and taste with a special performance by Iggy Azalea.
URL:https://laguestlist.com/event/ember-launch-iggy-azalea/
CATEGORIES:Event
ATTACH;FMTTYPE=image/png:https://laguestlist.com/wp-content/uploads/2017/10/Screen-Shot-2017-10-31-at-11.31.27-AM.png
END:VEVENT
BEGIN:VEVENT
DTSTART;TZID=America/Los_Angeles:20171109T183000
DTEND;TZID=America/Los_Angeles:20171109T220000
DTSTAMP:20260419T062059
CREATED:20171107T005301Z
LAST-MODIFIED:20171107T005301Z
UID:28864-1510252200-1510264800@laguestlist.com
SUMMARY:Footaction Capsule 213 Grand Opening
DESCRIPTION:Invite Only –  Footaction for the grand opening of its new creative lab\, Capsule 213\, in Downtown LA. Be among the first to step into the new experiential space and celebrate with live art\, a DJ\, customizable giveaways\, and refreshments. The event will also feature an LA Creatives panel discussion at 8:30pm.
URL:https://laguestlist.com/event/footaction-capsule-213-grand-opening/
CATEGORIES:Event,Sports
ATTACH;FMTTYPE=image/png:https://laguestlist.com/wp-content/uploads/2017/11/Screen-Shot-2017-11-06-at-4.50.53-PM.png
END:VEVENT
BEGIN:VEVENT
DTSTART;TZID=America/Los_Angeles:20171112T090000
DTEND;TZID=America/Los_Angeles:20171112T130000
DTSTAMP:20260419T062059
CREATED:20171026T204239Z
LAST-MODIFIED:20171026T204239Z
UID:28579-1510477200-1510491600@laguestlist.com
SUMMARY:The Color Run Dream Tour
DESCRIPTION:Ticketed – Get ready to be California Dreamin’ at the #Happiest5k on the planet\, The Color Run\, as it brings its 2017 tour theme\, “The Color Run Dream Tour\, Presented by Lay’s®” to the Los Angeles on Sunday\, November 12. The Color Run Dream Tour will create a world where anything is possible\, unicorns are real and foam clouds make everything better at StubHub Center.
URL:https://laguestlist.com/event/color-run-dream-tour/
LOCATION:StubHub Center\, 18400 Avalon Blvd\, Carson\, CA\, 90746\, United States
CATEGORIES:Event
ATTACH;FMTTYPE=image/jpeg:https://laguestlist.com/wp-content/uploads/2017/10/c1a3789.jpg
END:VEVENT
BEGIN:VEVENT
DTSTART;VALUE=DATE:20171115
DTEND;VALUE=DATE:20171116
DTSTAMP:20260419T062059
CREATED:20171113T210827Z
LAST-MODIFIED:20171113T210827Z
UID:28978-1510704000-1510790399@laguestlist.com
SUMMARY:A Night At The Museum: NHMLA TATTOO Exhibit VIP Receptio
DESCRIPTION:Invite Only – The night at the museum will give you an exclusive look at the TATTOO exhibit that examines 5\,000 years of history\, culture and art connected by ink\, live tattooing in the exhibit’s tattoo parlor\, and cocktails by Sailor Jerry Spiced Rum. The exhibit will feature more than 125 images and objects\, ranging from historical artifacts to intricate contemporary designs tattooed onto silicone models of the human body. Each tells the story of this unique and diverse art. The Museum will enhance the West Coast incarnation of Tattoo with objects from the Museum’s expansive collection
URL:https://laguestlist.com/event/night-museum-nhmla-tattoo-exhibit-vip-receptio/
LOCATION:Natural History Museum\, 900 Exposition Blvd\, Los Angeles\, CA\, 90007\, United States
CATEGORIES:Event
ATTACH;FMTTYPE=image/png:https://laguestlist.com/wp-content/uploads/2017/11/Screen-Shot-2017-11-13-at-1.01.32-PM.png
END:VEVENT
BEGIN:VEVENT
DTSTART;TZID=America/Los_Angeles:20171116T190000
DTEND;TZID=America/Los_Angeles:20171116T220000
DTSTAMP:20260419T062100
CREATED:20171113T212244Z
LAST-MODIFIED:20171113T212244Z
UID:28986-1510858800-1510869600@laguestlist.com
SUMMARY:Ultimate Soundscapes by Sarah Bahbah + Pizzaslime
DESCRIPTION:Invite Only – Ultimate Ears is all about big\, bold\, 360° sound in totally waterproof\, sleek portable speakers. The latest additions to the family are BLAST and MEGABLAST with Amazon Alexa. You can now control your music with the power of your voice. This Thursday\, November 16th from 7-10PM\, guests are invited to check out these new Bluetooth and Wi-Fi speakers\, through Ultimate Soundscapes curated by Sarah Bahbah and Pizzaslime.
URL:https://laguestlist.com/event/ultimate-soundscapes-sarah-bahbah-pizzaslime/
CATEGORIES:Event,Technology
ATTACH;FMTTYPE=image/png:https://laguestlist.com/wp-content/uploads/2017/11/Screen-Shot-2017-11-13-at-1.20.07-PM.png
END:VEVENT
BEGIN:VEVENT
DTSTART;TZID=America/Los_Angeles:20171117T100000
DTEND;TZID=America/Los_Angeles:20171117T140000
DTSTAMP:20260419T062100
CREATED:20171109T213522Z
LAST-MODIFIED:20171109T213522Z
UID:28961-1510912800-1510927200@laguestlist.com
SUMMARY:Disney x Kiehls
DESCRIPTION:Invite Only – Join Kiehls to celebrate their special holiday collaboration with Disney\, benefitting Feeding America. Help Kiehl’s pack food for Los Angeles Regional Food Bank hosted by Chris Salgardo and special guest Dan Nisbet.
URL:https://laguestlist.com/event/disney-x-kiehls/
CATEGORIES:Charity,Event
ATTACH;FMTTYPE=image/png:https://laguestlist.com/wp-content/uploads/2017/11/Screen-Shot-2017-11-09-at-1.31.08-PM.png
END:VEVENT
BEGIN:VEVENT
DTSTART;TZID=America/Los_Angeles:20171118T150000
DTEND;TZID=America/Los_Angeles:20171118T160000
DTSTAMP:20260419T062100
CREATED:20171113T215219Z
LAST-MODIFIED:20171113T215219Z
UID:29005-1511017200-1511020800@laguestlist.com
SUMMARY:Jessica Alba x The Honest Company at Nordstrom
DESCRIPTION:RSVP – Jessica Alba is joining Nordstrom to celebrate latest from The Honest Company at Nordstrom – including new merchandise\, a brand-new cleaning line and a build-your-own gift station that’s only available in select stores. You’re invited to shop the latest products in our Honest Company Shop-­in­-Shop\, including an exclusive black quilted City Backpack\, personal care\, baby care\, brand-new cleaning line and a build-your-own gift station. Plus\, with your Honest Company purchase of $35 or more\, you’ll get a black faux-leather clutch (while supply lasts)­­ and be among the first to meet Jessica in person (as time permits).
URL:https://laguestlist.com/event/jessica-alba-x-honest-company-nordstrom/
LOCATION:Westfield Century City
CATEGORIES:Event,Fashion
ATTACH;FMTTYPE=image/png:https://laguestlist.com/wp-content/uploads/2017/11/Screen-Shot-2017-11-13-at-1.48.31-PM.png
END:VEVENT
BEGIN:VEVENT
DTSTART;TZID=America/Los_Angeles:20171119T100000
DTEND;TZID=America/Los_Angeles:20171119T220000
DTSTAMP:20260419T062100
CREATED:20171031T214941Z
LAST-MODIFIED:20171031T214941Z
UID:28750-1511085600-1511128800@laguestlist.com
SUMMARY:Vulture Festival Los Angeles
DESCRIPTION:Ticketed – Vulture Festival Los Angeles\, taking place on November 18 & 19 at The Hollywood Roosevelt in Los Angeles.  Just last week Vulture announced the lineup for the festival\, a weekend of high-profile events bringing the entertainment site to life\, which includes a roster of Natalie Portman\, Kerry Washington and the cast of Scandal\, James Franco\, Issa Rae\, Lena Dunham & Jenni Konner\, Ava DuVernay\, Sofia Coppola\, Lena Waithe\, Erika Jayne\, and many others! \nThe two-day live showcase\, curated by Vulture’s editors will feature a wide variety of panels\, screenings\, and in-conversations ranging from Natalie Portman’s career-spanning conversation about her groundbreaking work as an artist to a reunion of the cast and creators of It’s Always Sunny in Philadelphia.
URL:https://laguestlist.com/event/vulture-festival-los-angeles-2/
LOCATION:Hollywood Roosevelt\, 7000 Hollywood Boulevard\, Los Angeles\, CA\, 90028\, United States
CATEGORIES:Entertainment,Event
ATTACH;FMTTYPE=image/jpeg:https://laguestlist.com/wp-content/uploads/2017/10/https-2F2Fcdn.evbuc_.com2Fimages2F365692782F226846930282F12Foriginal.jpg
END:VEVENT
BEGIN:VEVENT
DTSTART;TZID=America/Los_Angeles:20171130T090000
DTEND;TZID=America/Los_Angeles:20171130T190000
DTSTAMP:20260419T062100
CREATED:20171128T163509Z
LAST-MODIFIED:20171128T164600Z
UID:29313-1512032400-1512068400@laguestlist.com
SUMMARY:Ted Baker Sample Sale
DESCRIPTION:Open– Men’s & Women’s Collections\, Handbags & Accessories! Looking to get your Ted Baker London fix? Don’t worry about packing your bags and dusting off your passport. Instead visit downtown Los Angeles to score deep discounts on exceptional offerings for both men and women. Visit the Cooper Building’s 8th-floor showroom Suite 801 to add Ted Baker pieces to your collection at the best price. Make sure to mark your calendars and prepare to find premiere clothing\, handbags\, and accessories for you and yours.
URL:https://laguestlist.com/event/ted-baker-sample-sale/
LOCATION:Cooper Building\, 860 South Los Angeles Str Suit 800\, Los Angeles\, CA\, 90014\, United States
CATEGORIES:Event
ATTACH;FMTTYPE=image/jpeg:https://laguestlist.com/wp-content/uploads/2017/11/unnamed-1-3.jpg
END:VEVENT
BEGIN:VEVENT
DTSTART;TZID=America/Los_Angeles:20171130T200000
DTEND;TZID=America/Los_Angeles:20171130T230000
DTSTAMP:20260419T062100
CREATED:20171121T192542Z
LAST-MODIFIED:20171121T192542Z
UID:29182-1512072000-1512082800@laguestlist.com
SUMMARY:Land of Distraction Launch
DESCRIPTION:Invite Only – Land of Distraction Launch Celebration.
URL:https://laguestlist.com/event/land-distraction-launch/
CATEGORIES:Event
ATTACH;FMTTYPE=image/png:https://laguestlist.com/wp-content/uploads/2017/11/Screen-Shot-2017-11-21-at-12.23.43-PM.png
END:VEVENT
BEGIN:VEVENT
DTSTART;TZID=America/Los_Angeles:20171201T220000
DTEND;TZID=America/Los_Angeles:20171201T220000
DTSTAMP:20260419T062100
CREATED:20171121T192252Z
LAST-MODIFIED:20171121T192252Z
UID:29179-1512165600-1512165600@laguestlist.com
SUMMARY:Young & Reckless Prom 2017
DESCRIPTION:Invite Only – The Annual Young & Reckless Prom is back for another memorable night.
URL:https://laguestlist.com/event/young-reckless-prom-2017/
CATEGORIES:Event,Fashion
ATTACH;FMTTYPE=image/png:https://laguestlist.com/wp-content/uploads/2017/11/Screen-Shot-2017-11-21-at-12.19.40-PM.png
END:VEVENT
BEGIN:VEVENT
DTSTART;TZID=America/Los_Angeles:20171202T190000
DTEND;TZID=America/Los_Angeles:20171202T233000
DTSTAMP:20260419T062100
CREATED:20171128T002940Z
LAST-MODIFIED:20171128T002940Z
UID:29273-1512241200-1512257400@laguestlist.com
SUMMARY:Bellami Presents #DovexBellami
DESCRIPTION:Invite Only – Bellami Presents #DovexBellami Hosted by Dove Cameron with special live performances.
URL:https://laguestlist.com/event/bellami-presents-dovexbellami/
CATEGORIES:Event
ATTACH;FMTTYPE=image/png:https://laguestlist.com/wp-content/uploads/2017/11/Screen-Shot-2017-11-27-at-5.27.26-PM.png
END:VEVENT
BEGIN:VEVENT
DTSTART;TZID=America/Los_Angeles:20171205T110000
DTEND;TZID=America/Los_Angeles:20171205T160000
DTSTAMP:20260419T062100
CREATED:20171128T173404Z
LAST-MODIFIED:20171128T173404Z
UID:29337-1512471600-1512489600@laguestlist.com
SUMMARY:Sama Concept Store Century City Preview
DESCRIPTION:Invite Only – Sama Eyewear Founder Sheila Vance is celebrating Loree Rodkin\, the designer of the new Sama Boutique at the Westfield Century City Mall.
URL:https://laguestlist.com/event/sama-concept-store-century-city-preview/
LOCATION:Westfield Century City
CATEGORIES:Event
ATTACH;FMTTYPE=image/png:https://laguestlist.com/wp-content/uploads/2017/11/Screen-Shot-2017-11-28-at-10.28.53-AM.png
END:VEVENT
BEGIN:VEVENT
DTSTART;TZID=America/Los_Angeles:20171207T110000
DTEND;TZID=America/Los_Angeles:20171207T220000
DTSTAMP:20260419T062100
CREATED:20171128T172646Z
LAST-MODIFIED:20171128T172646Z
UID:29333-1512644400-1512684000@laguestlist.com
SUMMARY:29Rooms Los Angeles by Refinery 29
DESCRIPTION:Ticketed – 29Rooms\, Refinery29’s festival of style\, culture\, and technology\, taking place for the first time in Los Angeles\, California. For the past three years\, 29Rooms has captivated audiences in both physical and digital worlds\, with its immersive storytelling experience designed for discovery and social sharing. Building on its success in New York\, where the latest installation saw more than 20\,000 attendees from 47 states and 24 countries and generated over 500M social interactions\, 29Rooms is expanding the franchise for new audiences. Set in Los Angeles’ Arts District\, 29Rooms brings 29 interactive spaces to life in collaboration with visionary artists\, causes\, and brands. The inaugural West Coast festival will include some of the most popular installations from New York’s event this year\, along with a roster of new brand and celebrity collaborators.
URL:https://laguestlist.com/event/29rooms-los-angeles-refinery-29/
LOCATION:Row DTLA\, 777 S. Alameda Street\, Los Angeles\, CA\, 90021\, United States
CATEGORIES:Event,Things to do
ATTACH;FMTTYPE=image/png:https://laguestlist.com/wp-content/uploads/2017/11/https_2F2Fcdn.evbuc_.com2Fimages2F356342812F2129294128762F12Foriginal.png
END:VEVENT
BEGIN:VEVENT
DTSTART;TZID=America/Los_Angeles:20171214T180000
DTEND;TZID=America/Los_Angeles:20171214T200000
DTSTAMP:20260419T062100
CREATED:20171212T005114Z
LAST-MODIFIED:20171212T005114Z
UID:29605-1513274400-1513281600@laguestlist.com
SUMMARY:PAIGE x Nordstrom Local
DESCRIPTION:RSVP – PAIGE x Nordstrom Local men’s and women’s shopping event this Thursday with Nordstrom Local\, Petite Taqueria + Lot\, Stock and Barrel. Get custom embroidery with every purchase\, grab a bite to eat and win prizes.
URL:https://laguestlist.com/event/paige-x-nordstrom-local/
CATEGORIES:Event,Fashion
ATTACH;FMTTYPE=image/jpeg:https://laguestlist.com/wp-content/uploads/2017/12/24909634_10155777718747221_2672433647149971109_n.jpg
END:VEVENT
BEGIN:VEVENT
DTSTART;TZID=America/Los_Angeles:20171214T180000
DTEND;TZID=America/Los_Angeles:20171214T210000
DTSTAMP:20260419T062100
CREATED:20171213T032556Z
LAST-MODIFIED:20171213T032556Z
UID:29653-1513274400-1513285200@laguestlist.com
SUMMARY:Artist Lola Thompson + Gorman Collaboration
DESCRIPTION:Invite Only – Talented Los Angeles-based artist Lola Thompson joined forces with Australian clothing label Gorman. Enjoy light bites and craft cocktails\, and music by DJ Grace.
URL:https://laguestlist.com/event/artist-lola-thompson-gorman-collaboration/
CATEGORIES:Event
ATTACH;FMTTYPE=image/png:https://laguestlist.com/wp-content/uploads/2017/12/Screen-Shot-2017-12-12-at-7.21.57-PM.png
END:VEVENT
BEGIN:VEVENT
DTSTART;TZID=America/Los_Angeles:20171214T190000
DTEND;TZID=America/Los_Angeles:20171214T210000
DTSTAMP:20260419T062100
CREATED:20171213T182200Z
LAST-MODIFIED:20171213T182301Z
UID:29656-1513278000-1513285200@laguestlist.com
SUMMARY:Space 15 Twenty Holiday Event
DESCRIPTION:Open – Exclusive Tote with Lime Crime Velvetine Matte Lipstick + OUAI Haircare Mini Dry Shampoo Free with Any Dress Purchase\, Hair Styling Station by OUAI Haircare\, DIY Nail Bar and Complimentary Beverages at Space 15 Twenty.
URL:https://laguestlist.com/event/jhene-aiko-meet-greet/
CATEGORIES:Event
ATTACH;FMTTYPE=image/jpeg:https://laguestlist.com/wp-content/uploads/2017/12/download.jpg
END:VEVENT
BEGIN:VEVENT
DTSTART;TZID=America/Los_Angeles:20171214T190000
DTEND;TZID=America/Los_Angeles:20171214T220000
DTSTAMP:20260419T062100
CREATED:20171213T203944Z
LAST-MODIFIED:20171213T203944Z
UID:29663-1513278000-1513288800@laguestlist.com
SUMMARY:Asphalt x Too Short
DESCRIPTION:Invite Only – Asphalt x Too Short Pop Up Shop Opening reception.
URL:https://laguestlist.com/event/asphalt-x-short/
CATEGORIES:Event
ATTACH;FMTTYPE=image/png:https://laguestlist.com/wp-content/uploads/2017/12/Screen-Shot-2017-12-13-at-12.36.50-PM.png
END:VEVENT
BEGIN:VEVENT
DTSTART;TZID=America/Los_Angeles:20171214T190000
DTEND;TZID=America/Los_Angeles:20171214T230000
DTSTAMP:20260419T062100
CREATED:20171212T181238Z
LAST-MODIFIED:20171212T181238Z
UID:29611-1513278000-1513292400@laguestlist.com
SUMMARY:Hardware LDN | FTWS Pop Up
DESCRIPTION:RSVP – Hardware LDN | FTWS Pop Up Art Installation at the Well LA with Free Tattoos.
URL:https://laguestlist.com/event/hardware-ldn-ftws-pop/
LOCATION:The Well\, 1006 S. Olive St.\, Los Angeles\, CA\, 90015\, United States
CATEGORIES:Event
ATTACH;FMTTYPE=image/jpeg:https://laguestlist.com/wp-content/uploads/2017/12/unnamed-7-1.jpg
END:VEVENT
END:VCALENDAR