BEGIN:VCALENDAR
VERSION:2.0
PRODID:-//LA Guestlist - ECPv6.15.20//NONSGML v1.0//EN
CALSCALE:GREGORIAN
METHOD:PUBLISH
X-ORIGINAL-URL:https://laguestlist.com
X-WR-CALDESC:Events for LA Guestlist
REFRESH-INTERVAL;VALUE=DURATION:PT1H
X-Robots-Tag:noindex
X-PUBLISHED-TTL:PT1H
BEGIN:VTIMEZONE
TZID:America/Los_Angeles
BEGIN:DAYLIGHT
TZOFFSETFROM:-0800
TZOFFSETTO:-0700
TZNAME:PDT
DTSTART:20220313T100000
END:DAYLIGHT
BEGIN:STANDARD
TZOFFSETFROM:-0700
TZOFFSETTO:-0800
TZNAME:PST
DTSTART:20221106T090000
END:STANDARD
BEGIN:DAYLIGHT
TZOFFSETFROM:-0800
TZOFFSETTO:-0700
TZNAME:PDT
DTSTART:20230312T100000
END:DAYLIGHT
BEGIN:STANDARD
TZOFFSETFROM:-0700
TZOFFSETTO:-0800
TZNAME:PST
DTSTART:20231105T090000
END:STANDARD
BEGIN:DAYLIGHT
TZOFFSETFROM:-0800
TZOFFSETTO:-0700
TZNAME:PDT
DTSTART:20240310T100000
END:DAYLIGHT
BEGIN:STANDARD
TZOFFSETFROM:-0700
TZOFFSETTO:-0800
TZNAME:PST
DTSTART:20241103T090000
END:STANDARD
BEGIN:DAYLIGHT
TZOFFSETFROM:-0800
TZOFFSETTO:-0700
TZNAME:PDT
DTSTART:20250309T100000
END:DAYLIGHT
BEGIN:STANDARD
TZOFFSETFROM:-0700
TZOFFSETTO:-0800
TZNAME:PST
DTSTART:20251102T090000
END:STANDARD
END:VTIMEZONE
BEGIN:VEVENT
DTSTART;TZID=America/Los_Angeles:20230323T120000
DTEND;TZID=America/Los_Angeles:20230323T160000
DTSTAMP:20260425T111935
CREATED:20230322T160529Z
LAST-MODIFIED:20230322T160529Z
UID:48301-1679572800-1679587200@laguestlist.com
SUMMARY:Guess Denim
DESCRIPTION:Invite Only – Guess Denim is hosting a pre-festival season kick-off event where guests can pick out an outfit while enjoying drinks\, music\, denim customization\, goodies\, and more.
URL:https://laguestlist.com/event/guess-denim/
LOCATION:CA
CATEGORIES:Event,Fashion
ATTACH;FMTTYPE=image/png:https://laguestlist.com/wp-content/uploads/2023/03/Guess.png
END:VEVENT
BEGIN:VEVENT
DTSTART;TZID=America/Los_Angeles:20230331T140000
DTEND;TZID=America/Los_Angeles:20230331T180000
DTSTAMP:20260425T111935
CREATED:20230326T195519Z
LAST-MODIFIED:20230326T195519Z
UID:48321-1680271200-1680285600@laguestlist.com
SUMMARY:Don Julia Rosado Take PTO Event
DESCRIPTION:Invite Only – Don Julia Rosado Take PTO (Party Time Off) Event with music by Politik and a surprise performance.
URL:https://laguestlist.com/event/don-julia-rosado-take-pto-event/
LOCATION:CA
CATEGORIES:Event,Fun in the Sun
ATTACH;FMTTYPE=image/png:https://laguestlist.com/wp-content/uploads/2023/03/PTO.png
END:VEVENT
BEGIN:VEVENT
DTSTART;TZID=America/Los_Angeles:20230420T100000
DTEND;TZID=America/Los_Angeles:20230420T220000
DTSTAMP:20260425T111935
CREATED:20230406T032824Z
LAST-MODIFIED:20230406T032824Z
UID:48444-1681984800-1682028000@laguestlist.com
SUMMARY:Highway Cannabis 420 Stash & Bash with Tyga
DESCRIPTION:Ticketed – Highway\, OOKA and seven9 pods partner to bring Tyga to fans for a special meet-and-greet and live performance of Hookah.
URL:https://laguestlist.com/event/highway-cannabis-420-stash-bash-with-tyga/
LOCATION:Highway Cannabis\, 13452 Washington Blvd.\, Marina Del Rey\, CA\, United States
CATEGORIES:Event
ATTACH;FMTTYPE=image/jpeg:https://laguestlist.com/wp-content/uploads/2023/04/unnamed-1.jpg
END:VEVENT
BEGIN:VEVENT
DTSTART;TZID=America/Los_Angeles:20230430T120000
DTEND;TZID=America/Los_Angeles:20230430T170000
DTSTAMP:20260425T111935
CREATED:20230319T220733Z
LAST-MODIFIED:20230319T220733Z
UID:48267-1682856000-1682874000@laguestlist.com
SUMMARY:KCRW’s Good Food PieFest & Contest
DESCRIPTION:Open – KCRW is partnering with The Fowler Museum for a full day of festival action revolving around the biggest pie contest you’ve ever seen! The event will feature music sets from your favorite KCRW DJs\, live interviews with Evan Kleiman\, baking demos\, a marketplace\, beer garden\, kids’ activities\, exhibitions at the Fowler Museum\, and lots of pies.
URL:https://laguestlist.com/event/kcrws-good-food-piefest-contest/
LOCATION:UCLA
CATEGORIES:Event
ATTACH;FMTTYPE=image/png:https://laguestlist.com/wp-content/uploads/2023/03/page-header.png
END:VEVENT
BEGIN:VEVENT
DTSTART;TZID=America/Los_Angeles:20230504T190000
DTEND;TZID=America/Los_Angeles:20230504T220000
DTSTAMP:20260425T111935
CREATED:20230430T144426Z
LAST-MODIFIED:20230430T144426Z
UID:48554-1683226800-1683237600@laguestlist.com
SUMMARY:Glow x Kaviar Summer Party
DESCRIPTION:Invite Only – The GLOW x KAVIAR SUMMER PARTY EVENT is an exclusive tasting party highlighting the delicious flavors of GLOW Beverages Inc.’s sparkling drinks\, paired with items curated by KAVIAR’s chef just for this event. Grab a specialty cocktail mixed with the best-selling GLOW Sparkling Beverages while munching on some of KAVIAR’s finest food.
URL:https://laguestlist.com/event/glow-x-kaviar-summer-party/
LOCATION:Kaviar\, 449 S. Hewitt Street\, Los Angeles\, CA\, 90013\, United States
CATEGORIES:Event
ATTACH;FMTTYPE=image/png:https://laguestlist.com/wp-content/uploads/2023/04/kaviar.png
END:VEVENT
BEGIN:VEVENT
DTSTART;TZID=America/Los_Angeles:20230505T190000
DTEND;TZID=America/Los_Angeles:20230505T220000
DTSTAMP:20260425T111935
CREATED:20230430T143026Z
LAST-MODIFIED:20230430T143026Z
UID:48547-1683313200-1683324000@laguestlist.com
SUMMARY:Tequila Casa Del Sol Cinco De Mayo
DESCRIPTION:Invite Only – Tequila Casa Del Sol celebrates Cinco De Mayo with a Mariachia Band and DJ Graham Funke.
URL:https://laguestlist.com/event/tequila-casa-del-sol-cinco-de-mayo/
LOCATION:CA
CATEGORIES:Event
ATTACH;FMTTYPE=image/jpeg:https://laguestlist.com/wp-content/uploads/2023/04/0-7.jpg
END:VEVENT
BEGIN:VEVENT
DTSTART;TZID=America/Los_Angeles:20230513T190000
DTEND;TZID=America/Los_Angeles:20230513T220000
DTSTAMP:20260425T111935
CREATED:20230509T092523Z
LAST-MODIFIED:20230509T092523Z
UID:48639-1684004400-1684015200@laguestlist.com
SUMMARY:adidas Skateboarding & Dime: Unworldly
DESCRIPTION:Invite Only –  intergalactic launch party co-hosted with Montreal-based skate institution Dime in celebration of their all-new adidas DIME Collection–taking place at HVW8 Gallery in the Fairfax neighborhood of Los Angeles on Saturday\, May 13. The indoor/outdoor immersive event will bring to life the capsule’s galactic-inspired narrative through interactive installations inspired by UFO sites\, alien archaeology and meteors along with the full adidas DIME Collection on display to endcap the full storytelling.
URL:https://laguestlist.com/event/adidas-skateboarding-dime-unworldly/
LOCATION:HVW8 Gallery\, 661 N. Spaulding Ave.\, Los Angeles\, CA\, 90036\, United States
CATEGORIES:Event
ATTACH;FMTTYPE=image/png:https://laguestlist.com/wp-content/uploads/2023/05/unnamed-1.png
END:VEVENT
BEGIN:VEVENT
DTSTART;TZID=America/Los_Angeles:20230517T190000
DTEND;TZID=America/Los_Angeles:20230517T220000
DTSTAMP:20260425T111935
CREATED:20230515T160227Z
LAST-MODIFIED:20230515T160227Z
UID:48688-1684350000-1684360800@laguestlist.com
SUMMARY:ROMWE’s 13th Anniversary
DESCRIPTION:Invite Only – ROMWE is celebrating its 13th Anniversary! ROMWE has partnered with fashion IT girl Sarah Snyder to host a Corpse Bride theme birthday party with intuitive medium readings\, aura photos\, scary good bites + bevs and a private screening of Tim Burton’s Corpse Bride.
URL:https://laguestlist.com/event/romwes-13th-anniversary/
LOCATION:CA
CATEGORIES:Event
ATTACH;FMTTYPE=image/png:https://laguestlist.com/wp-content/uploads/2023/05/romwe.png
END:VEVENT
BEGIN:VEVENT
DTSTART;TZID=America/Los_Angeles:20230520T120000
DTEND;TZID=America/Los_Angeles:20230521T180000
DTSTAMP:20260425T111935
CREATED:20230322T041421Z
LAST-MODIFIED:20230322T041421Z
UID:48294-1684584000-1684692000@laguestlist.com
SUMMARY:EEEEEATSCON 2023
DESCRIPTION:Ticketed – The Infatuation\, announced the return of its signature food festival\, EEEEEATSCON Los Angeles\, presented by Chase Sapphire\, at the Barker Hangar in Santa Monica on Saturday\, May 20 and Sunday\, May 21. The event will feature food from more than 20 incredible restaurants from around Los Angeles and across the U.S.
URL:https://laguestlist.com/event/eeeeeatscon-2023/
LOCATION:The Barker Hangar\, 3021 Airport Ave\, Santa Monica\, CA\, 90405\, United States
CATEGORIES:Event,Gastronomy
ATTACH;FMTTYPE=image/png:https://laguestlist.com/wp-content/uploads/2023/03/eats.png
END:VEVENT
BEGIN:VEVENT
DTSTART;TZID=America/Los_Angeles:20230608T180000
DTEND;TZID=America/Los_Angeles:20230608T200000
DTSTAMP:20260425T111935
CREATED:20230607T043058Z
LAST-MODIFIED:20230607T222308Z
UID:48778-1686247200-1686254400@laguestlist.com
SUMMARY:La Lo La Rooftop Sunset Sound Launch Party
DESCRIPTION:Reservation – Every Thursday from 6pm to 8pm\, La Lo La Rooftop will host Sunset Sounds featuring incredible LA-based music talent. To mark this momentous occasion\, this Thursday\, La Lo La has arranged a special performance by the incredible Mariachi Arcoiris – the first and only LGBTQ+ Mariachi in the world.
URL:https://laguestlist.com/event/la-lo-la-rooftop-sunset-sound-launch-party/
LOCATION:Moxy & AC Hotel Downtown LA\, 1260 S Figueroa St.\, Los Angeles\, CA\, 90015\, United States
CATEGORIES:Event
ATTACH;FMTTYPE=image/png:https://laguestlist.com/wp-content/uploads/2023/06/unnamed-1.png
END:VEVENT
BEGIN:VEVENT
DTSTART;TZID=America/Los_Angeles:20230609T120000
DTEND;TZID=America/Los_Angeles:20230609T120000
DTSTAMP:20260425T111935
CREATED:20230607T034931Z
LAST-MODIFIED:20230607T034931Z
UID:48762-1686312000-1686312000@laguestlist.com
SUMMARY:JuneShine Fifth Anniversary Party
DESCRIPTION:Ticketed – Join JuneShine for a full day of programming featuring live vinyl DJs\, five talented musicians\, multiple live DJs\, food trucks\, custom onsite chain stitching\, a DIY tie-dye station for customizing your own creations\, and much more.
URL:https://laguestlist.com/event/juneshine-fifth-anniversary-party/
LOCATION:JuneShine Santa Monia\, 2914 Main Street\, Santa Monica\, CA\, 90405\, United States
CATEGORIES:Event
ATTACH;FMTTYPE=image/jpeg:https://laguestlist.com/wp-content/uploads/2023/06/https___cdn.evbuc_.com_images_527539139_483795155917_1_original.jpg
END:VEVENT
BEGIN:VEVENT
DTSTART;TZID=America/Los_Angeles:20230615T180000
DTEND;TZID=America/Los_Angeles:20230615T210000
DTSTAMP:20260425T111935
CREATED:20230607T041403Z
LAST-MODIFIED:20230607T041403Z
UID:48772-1686852000-1686862800@laguestlist.com
SUMMARY:1975 L'Ermitage Country Club
DESCRIPTION:Invite Only – Unwind at L’Ermitage Country Club for an exclusive event on the rooftop to celebrate the return of the U.S. Open Championship to Los Angeles.
URL:https://laguestlist.com/event/1975-lermitage-country-club/
LOCATION:CA
CATEGORIES:Event
END:VEVENT
BEGIN:VEVENT
DTSTART;TZID=America/Los_Angeles:20230622T223000
DTEND;TZID=America/Los_Angeles:20230623T020000
DTSTAMP:20260425T111935
CREATED:20230613T045154Z
LAST-MODIFIED:20230613T045154Z
UID:48829-1687473000-1687485600@laguestlist.com
SUMMARY:Swedish Summer with ZEDD
DESCRIPTION:Ticketed – TAO is bringing their Swedish Midsummer Party to LA with a special performance by Zedd on Thursday\, June 22nd.
URL:https://laguestlist.com/event/swedish-summer-with-zedd/
LOCATION:TAO Hollywood\, 6417 Selma Ave\, Los Angeles\, CA\, 90028\, United States
CATEGORIES:Event,Nightlife
ATTACH;FMTTYPE=image/png:https://laguestlist.com/wp-content/uploads/2023/06/zedd.png
END:VEVENT
BEGIN:VEVENT
DTSTART;TZID=America/Los_Angeles:20230623T180000
DTEND;TZID=America/Los_Angeles:20230623T230000
DTSTAMP:20260425T111935
CREATED:20230617T164149Z
LAST-MODIFIED:20230617T164149Z
UID:48842-1687543200-1687561200@laguestlist.com
SUMMARY:Jack Honey AB+L Los Angeles
DESCRIPTION:RSVP – Jack Daniel’s Tennessee Honey presents Art\, Beats & Lyrics. This traveling urban art and music exhibition supports visionary artists and musicians who share our values of authenticity\, creativity\, and individuality. These uniquely curated showcases blur the line between artist and audience\, and have had featured performances from the likes of Kendrick Lamar\, Rapsody\, Mannie Fresh\, Scarface\, and Bun B.
URL:https://laguestlist.com/event/jack-honey-abl-los-angeles/
LOCATION:Shrine Expo Hall\, 665 W Jefferson Blvd\, Los Angeles\, CA\, 90007\, United States
CATEGORIES:Event
ATTACH;FMTTYPE=image/jpeg:https://laguestlist.com/wp-content/uploads/2023/06/352405530_205621382379295_3067565200045533796_n.jpg
END:VEVENT
BEGIN:VEVENT
DTSTART;TZID=America/Los_Angeles:20230715T193000
DTEND;TZID=America/Los_Angeles:20230715T230000
DTSTAMP:20260425T111935
CREATED:20230712T024420Z
LAST-MODIFIED:20230712T024420Z
UID:48949-1689449400-1689462000@laguestlist.com
SUMMARY:Giorgio Armani: Acqua Di Gio
DESCRIPTION:Invite Only – Giorgio Armani celebrates the launch of their new parfum Acqua Di Gio in Malibu with a special DJ set by Joe Jonas.
URL:https://laguestlist.com/event/giorgio-armani-acqua-di-gio/
LOCATION:Malibu
CATEGORIES:Event,Fashion
ATTACH;FMTTYPE=image/png:https://laguestlist.com/wp-content/uploads/2023/07/gio.png
END:VEVENT
BEGIN:VEVENT
DTSTART;TZID=America/Los_Angeles:20230809T190000
DTEND;TZID=America/Los_Angeles:20230809T210000
DTSTAMP:20260425T111935
CREATED:20230802T125121Z
LAST-MODIFIED:20230802T125121Z
UID:49075-1691607600-1691614800@laguestlist.com
SUMMARY:Savage X Maternity
DESCRIPTION:Invite Only – Savage Xclusive launch party to celebrate their capsule of maternity bralettes\, hosted in partnership with Babylist.
URL:https://laguestlist.com/event/savage-x-maternity/
LOCATION:CA
CATEGORIES:Event
ATTACH;FMTTYPE=image/png:https://laguestlist.com/wp-content/uploads/2023/08/savage.png
END:VEVENT
BEGIN:VEVENT
DTSTART;TZID=America/Los_Angeles:20230810T220000
DTEND;TZID=America/Los_Angeles:20230811T020000
DTSTAMP:20260425T111935
CREATED:20230802T123153Z
LAST-MODIFIED:20230802T123153Z
UID:49065-1691704800-1691719200@laguestlist.com
SUMMARY:Ripndip x PUMA Launch Party
DESCRIPTION:Invite Only – Ripndip x PUMA Capsule launch party in Echo Park with House Music All Night and Special Guest DJs.
URL:https://laguestlist.com/event/ripndip-x-puma-launch-party/
LOCATION:CA
CATEGORIES:Event
ATTACH;FMTTYPE=image/png:https://laguestlist.com/wp-content/uploads/2023/08/ripndip.png
END:VEVENT
BEGIN:VEVENT
DTSTART;TZID=America/Los_Angeles:20230915T190000
DTEND;TZID=America/Los_Angeles:20230915T210000
DTSTAMP:20260425T111935
CREATED:20230910T034607Z
LAST-MODIFIED:20230910T034607Z
UID:49211-1694804400-1694811600@laguestlist.com
SUMMARY:Bobby Berk "Right at Home" Signing
DESCRIPTION:Ticketed – Join Barnes & Noble The Grove at Farmers Market on September 15\, 2023\, as we welcome design expert and Emmy-nominated TV host of Netflix’s Queer Eye\, Bobby Berk to the store to sign and take photos for the release of Right at Home. Learn how to follow your happiness to find your style\, optimize the function of every room\, organize your space\, and so much more.
URL:https://laguestlist.com/event/bobby-berk-right-at-home-signing/
LOCATION:The Grove\, 189 The Grove Drive\, Los Angeles\, Los Angeles\, CA\, 90036\, United States
CATEGORIES:Event
ATTACH;FMTTYPE=image/jpeg:https://laguestlist.com/wp-content/uploads/2023/09/https___cdn.evbuc_.com_images_531640019_274162098128_1_original.jpg
END:VEVENT
BEGIN:VEVENT
DTSTART;TZID=America/Los_Angeles:20230917T170000
DTEND;TZID=America/Los_Angeles:20230917T190000
DTSTAMP:20260425T111935
CREATED:20230913T195901Z
LAST-MODIFIED:20230913T195901Z
UID:49249-1694970000-1694977200@laguestlist.com
SUMMARY:The Roxy Celebrates 50 Years with GRAMMY Museum
DESCRIPTION:Invite Only – With the 50th anniversary of The Roxy coming up next week\, the iconic music club is starting the celebrations with a series of extraordinary events around LA. We’d love to invite you to a private opening night reception for the GRAMMY Museum’s The ROXY: 50 and Still Rockin’ exhibit on Sunday September 17.
URL:https://laguestlist.com/event/the-roxy-celebrates-50-years-with-grammy-museum/
LOCATION:The Grammy Museum\, 800 West Olympic Boulevard\, Los Angeles\, CA\, 90015\, United States
CATEGORIES:Event,Music
ATTACH;FMTTYPE=image/png:https://laguestlist.com/wp-content/uploads/2023/09/roxy.png
END:VEVENT
BEGIN:VEVENT
DTSTART;TZID=America/Los_Angeles:20230917T180000
DTEND;TZID=America/Los_Angeles:20230917T210000
DTSTAMP:20260425T111935
CREATED:20230910T031815Z
LAST-MODIFIED:20230910T031815Z
UID:49202-1694973600-1694984400@laguestlist.com
SUMMARY:Golden Road Brewing’s ‘Follow Your Dreams’
DESCRIPTION:Invite Only – Golden Road Brewing is partnering with multi-talented Latina powerhouse\, Lele Pons\, to celebrate the “Follow Your Dreams” Finale during Hispanic Heritage Month. The “Follow Your Dreams” program aims to empower people to dream big by offering monetary support and mentorship – especially for historically underrepresented communities in business\, entrepreneurship\, media\, the arts and many other industries.
URL:https://laguestlist.com/event/golden-road-brewings-follow-your-dreams/
LOCATION:Perch LA\, 448 S Hill St\, Los Angeles\, CA\, 90013\, United States
CATEGORIES:Event
ATTACH;FMTTYPE=image/png:https://laguestlist.com/wp-content/uploads/2023/09/golden.png
END:VEVENT
BEGIN:VEVENT
DTSTART;TZID=America/Los_Angeles:20230920T190000
DTEND;TZID=America/Los_Angeles:20230920T220000
DTSTAMP:20260425T111935
CREATED:20230920T010833Z
LAST-MODIFIED:20230920T010833Z
UID:49267-1695236400-1695247200@laguestlist.com
SUMMARY:Levi’s x Crocs Collaboration
DESCRIPTION:Invite Only – Guests will celebrate the Levi’s x Crocs collaboration. Come for the Clogs but stay for the custom Jibbits\, open bar\, food\, and sounds by Wojavelli.
URL:https://laguestlist.com/event/levis-x-crocs-collaboration/
LOCATION:Row DTLA\, 777 S. Alameda Street\, Los Angeles\, CA\, 90021\, United States
CATEGORIES:Event
ATTACH;FMTTYPE=image/png:https://laguestlist.com/wp-content/uploads/2023/09/levis.png
END:VEVENT
BEGIN:VEVENT
DTSTART;TZID=America/Los_Angeles:20231005T200000
DTEND;TZID=America/Los_Angeles:20231005T230000
DTSTAMP:20260425T111935
CREATED:20230922T163753Z
LAST-MODIFIED:20230922T163753Z
UID:49280-1696536000-1696546800@laguestlist.com
SUMMARY:Barry's 25th Anniversary
DESCRIPTION:Invite Only – Barry’s was born and raised in LA\, and now they’re going all in on the west coast city just in time for their 25th anniversary.  to celebrate the 25th anniversary\, Barry’s is hosting an experiential event with a celebrity DJ.
URL:https://laguestlist.com/event/barrys-25th-anniversary/
LOCATION:CA
CATEGORIES:Event,Sports
ATTACH;FMTTYPE=image/png:https://laguestlist.com/wp-content/uploads/2023/09/barrys25.png
END:VEVENT
BEGIN:VEVENT
DTSTART;TZID=America/Los_Angeles:20231018T200000
DTEND;TZID=America/Los_Angeles:20231019T000000
DTSTAMP:20260425T111935
CREATED:20231009T002743Z
LAST-MODIFIED:20231009T002743Z
UID:49435-1697659200-1697673600@laguestlist.com
SUMMARY:White Fox 10th Birthday Party
DESCRIPTION:Invite Only – White Fox 10th Birthday Party in Hollywood.
URL:https://laguestlist.com/event/white-fox-10th-birthday-party/
LOCATION:CA
CATEGORIES:Event
ATTACH;FMTTYPE=image/png:https://laguestlist.com/wp-content/uploads/2023/10/white.png
END:VEVENT
BEGIN:VEVENT
DTSTART;TZID=America/Los_Angeles:20231107T180000
DTEND;TZID=America/Los_Angeles:20231108T230000
DTSTAMP:20260425T111935
CREATED:20231101T112059Z
LAST-MODIFIED:20231101T112059Z
UID:49506-1699380000-1699484400@laguestlist.com
SUMMARY:Bulleit Frontier Whiskey: The Limitless Lounge
DESCRIPTION:RSVP – Bars have always been a place for inspiration\, but it’s not often that the space itself is the source. Bulleit Frontier Whiskey presents The Limitless Lounge for a special tasting\, and a fully immersive experience of art\, music\, cocktails that pushes the limits of what a bar can be.
URL:https://laguestlist.com/event/bulleit-frontier-whiskey-the-limitless-lounge/
LOCATION:CA
CATEGORIES:Event,Things to do
ATTACH;FMTTYPE=image/jpeg:https://laguestlist.com/wp-content/uploads/2023/11/IMG_9118.jpg
END:VEVENT
BEGIN:VEVENT
DTSTART;TZID=America/Los_Angeles:20231108T190000
DTEND;TZID=America/Los_Angeles:20231108T230000
DTSTAMP:20260425T111935
CREATED:20231101T112752Z
LAST-MODIFIED:20231101T112752Z
UID:49508-1699470000-1699484400@laguestlist.com
SUMMARY:Ilegal Mezcal: Bar Ilegal Pop Up
DESCRIPTION:RSVP – Bar Ilegal is an experiential outpost of Cafe No Sé\, which was opened by Ilegal founder John Rexer and has become the beating heart of an international music scene in Antigua\, Guatemala- and is celebrating its 20(ish) year anniversary this year. At each Bar Ilegal pop up\, Ilegal Mezcal transforms venues into Café No Sé\, complete with plenty of mezcal\, specialty cocktails\, live music by the iconic band SUSU and tattoo artists on-site.
URL:https://laguestlist.com/event/ilegal-mezcal-bar-ilegal-pop-up/
LOCATION:Everson Royce Bar\, 1936 E 7th St.\, Los Angeles\, CA\, 90021\, United States
CATEGORIES:Event
ATTACH;FMTTYPE=image/png:https://laguestlist.com/wp-content/uploads/2023/11/Untitled.png
END:VEVENT
BEGIN:VEVENT
DTSTART;TZID=America/Los_Angeles:20231118T080000
DTEND;TZID=America/Los_Angeles:20231119T170000
DTSTAMP:20260425T111935
CREATED:20230910T032411Z
LAST-MODIFIED:20230910T032411Z
UID:49204-1700294400-1700413200@laguestlist.com
SUMMARY:ComplexCon 2023
DESCRIPTION:Ticketed – Complex announced that the culture-defining ComplexCon festival will return to Long Beach in 2023 for two back-to-back days on Saturday\, November 18 and Sunday\, November 19. ComplexCon is an expertly-curated festival of the future\, bringing together the world’s most influential brands and artists for an immersive and unforgettable two days of style\, sneakers\, art\, food\, music\, inspiration\, and more. As part of the epic experience\, the First We Feast Lagoon will also return\, bringing attendees the most delicious\, “can’t get them anywhere else” fan-favorite First We Feast and Hot Ones dishes\, hosts\, and events.
URL:https://laguestlist.com/event/complexcon-2023/
LOCATION:Long Beach Convention Center\, 300 E Ocean Blvd\, Long Beach\, CA\, 90802\, United States
CATEGORIES:Event
ATTACH;FMTTYPE=image/png:https://laguestlist.com/wp-content/uploads/2023/09/complexcon.png
END:VEVENT
BEGIN:VEVENT
DTSTART;TZID=America/Los_Angeles:20231130T110000
DTEND;TZID=America/Los_Angeles:20231203T180000
DTSTAMP:20260425T111935
CREATED:20231129T032438Z
LAST-MODIFIED:20231129T032438Z
UID:49673-1701342000-1701626400@laguestlist.com
SUMMARY:Fear of God: The Athletic Atmosphere
DESCRIPTION:Open – Ahead of the release\, however\, Fear of God will hold an event called “The Athletics Atmosphere” in Los Angeles on November 30 to December 3 from 11am to 6pm PT.
URL:https://laguestlist.com/event/fear-of-god-the-athletic-atmosphere/
LOCATION:CA
CATEGORIES:Event,Fashion
ATTACH;FMTTYPE=image/png:https://laguestlist.com/wp-content/uploads/2023/11/athletic.png
END:VEVENT
BEGIN:VEVENT
DTSTART;TZID=America/Los_Angeles:20231202T110000
DTEND;TZID=America/Los_Angeles:20231202T160000
DTSTAMP:20260425T111935
CREATED:20231113T010759Z
LAST-MODIFIED:20231113T010759Z
UID:49601-1701514800-1701532800@laguestlist.com
SUMMARY:Vanderpump Dog Foundation World Dog Day
DESCRIPTION:Open – World Dog Day is a day that focuses on the celebration of dogs!  The day aims to draw attention to the amazing\, empathetic creatures that dogs are\, all while raising awareness about global dog abuse hosted by Lisa Vanderpump with vendors\, food trucks\, puppy adoptions\, contests and performers.
URL:https://laguestlist.com/event/vanderpump-dog-foundation-world-dog-day/
LOCATION:West Hollywood Park\, 647 N San Vicente Blvd\, West Hollywood\, CA\, 90069\, United States
CATEGORIES:Charity,Event
ATTACH;FMTTYPE=image/png:https://laguestlist.com/wp-content/uploads/2023/11/dog.png
END:VEVENT
BEGIN:VEVENT
DTSTART;TZID=America/Los_Angeles:20241003T200000
DTEND;TZID=America/Los_Angeles:20241003T230000
DTSTAMP:20260425T111935
CREATED:20240924T010525Z
LAST-MODIFIED:20240924T010525Z
UID:50760-1727985600-1727996400@laguestlist.com
SUMMARY:IHEATCOMIX Anniversary Gala
DESCRIPTION:Invite Only – The LA-based creative agency IHEARTCOMIX will celebrate its 20th anniversary with a private gala.
URL:https://laguestlist.com/event/iheatcomix-anniversary-gala/
LOCATION:CA
CATEGORIES:Event
ATTACH;FMTTYPE=image/png:https://laguestlist.com/wp-content/uploads/2024/09/unnamed-1.png
END:VEVENT
BEGIN:VEVENT
DTSTART;TZID=America/Los_Angeles:20241030T200000
DTEND;TZID=America/Los_Angeles:20241030T230000
DTSTAMP:20260425T111935
CREATED:20241022T024614Z
LAST-MODIFIED:20241022T024614Z
UID:50788-1730318400-1730329200@laguestlist.com
SUMMARY:W Hollywood Official Relaunch Party
DESCRIPTION:Invite Only – Marriott International and the W Hotels Brand are hosting an exciting party in honor of the relaunch and newly transformed W Hollywood on Wednesday\, October 30th.
URL:https://laguestlist.com/event/w-hollywood-official-relaunch-party/
LOCATION:W Hollywood\, 6250 Hollywood Blvd\, Los Angeles\, CA\, 90028\, United States
CATEGORIES:Event
ATTACH;FMTTYPE=image/png:https://laguestlist.com/wp-content/uploads/2024/10/w.png
END:VEVENT
END:VCALENDAR