BEGIN:VCALENDAR
VERSION:2.0
PRODID:-//LA Guestlist - ECPv6.15.20//NONSGML v1.0//EN
CALSCALE:GREGORIAN
METHOD:PUBLISH
X-ORIGINAL-URL:https://laguestlist.com
X-WR-CALDESC:Events for LA Guestlist
REFRESH-INTERVAL;VALUE=DURATION:PT1H
X-Robots-Tag:noindex
X-PUBLISHED-TTL:PT1H
BEGIN:VTIMEZONE
TZID:America/Los_Angeles
BEGIN:DAYLIGHT
TZOFFSETFROM:-0800
TZOFFSETTO:-0700
TZNAME:PDT
DTSTART:20170312T100000
END:DAYLIGHT
BEGIN:STANDARD
TZOFFSETFROM:-0700
TZOFFSETTO:-0800
TZNAME:PST
DTSTART:20171105T090000
END:STANDARD
BEGIN:DAYLIGHT
TZOFFSETFROM:-0800
TZOFFSETTO:-0700
TZNAME:PDT
DTSTART:20180311T100000
END:DAYLIGHT
BEGIN:STANDARD
TZOFFSETFROM:-0700
TZOFFSETTO:-0800
TZNAME:PST
DTSTART:20181104T090000
END:STANDARD
BEGIN:DAYLIGHT
TZOFFSETFROM:-0800
TZOFFSETTO:-0700
TZNAME:PDT
DTSTART:20190310T100000
END:DAYLIGHT
BEGIN:STANDARD
TZOFFSETFROM:-0700
TZOFFSETTO:-0800
TZNAME:PST
DTSTART:20191103T090000
END:STANDARD
END:VTIMEZONE
BEGIN:VEVENT
DTSTART;TZID=America/Los_Angeles:20180215T190000
DTEND;TZID=America/Los_Angeles:20180215T230000
DTSTAMP:20260424T110643
CREATED:20180213T040502Z
LAST-MODIFIED:20180213T040502Z
UID:30639-1518721200-1518735600@laguestlist.com
SUMMARY:Reigning Champ x New Era
DESCRIPTION:Invite Only – Reigning Champ x New Era NBA All-Star Party.
URL:https://laguestlist.com/event/reigning-champ-x-new-era/
LOCATION:CA
CATEGORIES:Event,Sports
ATTACH;FMTTYPE=image/png:https://laguestlist.com/wp-content/uploads/2018/02/Screen-Shot-2018-02-12-at-7.58.31-PM.png
END:VEVENT
BEGIN:VEVENT
DTSTART;TZID=America/Los_Angeles:20180215T210000
DTEND;TZID=America/Los_Angeles:20180215T210000
DTSTAMP:20260424T110643
CREATED:20180206T235906Z
LAST-MODIFIED:20180206T235906Z
UID:30488-1518728400-1518728400@laguestlist.com
SUMMARY:Jack Daniel's House No. 7
DESCRIPTION:Invite Only – Let the bright neons and thumping bass pave the way to House No. 7. Check in for a night of music and mayhem as Jack Daniel’s pays homage to the madness of life on tour. The main stage will be alive and whiskey will be served all night. Wander the House where you’ll find rooms to explore and guests to encounter.
URL:https://laguestlist.com/event/jack-daniels-house-no-7/
LOCATION:CA
CATEGORIES:Event
ATTACH;FMTTYPE=image/jpeg:https://laguestlist.com/wp-content/uploads/2018/02/HouseNo7_sign.jpg
END:VEVENT
BEGIN:VEVENT
DTSTART;TZID=America/Los_Angeles:20180216T193000
DTEND;TZID=America/Los_Angeles:20180216T230000
DTSTAMP:20260424T110643
CREATED:20180213T035110Z
LAST-MODIFIED:20180213T035110Z
UID:30636-1518809400-1518822000@laguestlist.com
SUMMARY:Mr Chow 50th Anniversary
DESCRIPTION:Invite Only – Mr. Chow 50th Anniversary on Chinese New Years.
URL:https://laguestlist.com/event/mr-chow-50th-anniversary/
LOCATION:CA
CATEGORIES:Event
ATTACH;FMTTYPE=image/png:https://laguestlist.com/wp-content/uploads/2018/02/Screen-Shot-2018-02-12-at-7.46.51-PM.png
END:VEVENT
BEGIN:VEVENT
DTSTART;TZID=America/Los_Angeles:20180216T210000
DTEND;TZID=America/Los_Angeles:20180216T210000
DTSTAMP:20260424T110643
CREATED:20180206T235955Z
LAST-MODIFIED:20180206T235955Z
UID:30491-1518814800-1518814800@laguestlist.com
SUMMARY:Jack’s House No. 7
DESCRIPTION:Invite Only – Let the bright neons and thumping bass pave the way to House No. 7. Check in for a night of music and mayhem as Jack Daniel’s pays homage to the madness of life on tour. The main stage will be alive and whiskey will be served all night. Wander the House where you’ll find rooms to explore and guests to encounter.
URL:https://laguestlist.com/event/jacks-house-no-7/
LOCATION:CA
CATEGORIES:Event
ATTACH;FMTTYPE=image/jpeg:https://laguestlist.com/wp-content/uploads/2018/02/HouseNo7_sign.jpg
END:VEVENT
BEGIN:VEVENT
DTSTART;TZID=America/Los_Angeles:20180216T210000
DTEND;TZID=America/Los_Angeles:20180216T210000
DTSTAMP:20260424T110643
CREATED:20180209T190950Z
LAST-MODIFIED:20180209T190950Z
UID:30550-1518814800-1518814800@laguestlist.com
SUMMARY:Budweiser Live Launch at NBA All-Star Weekend
DESCRIPTION:Invite Only – Come join us for performances by T-Pain\, A Boogie Wit Da Hoodie\, MadeinTYO and many more\, cool custom merch from Levi’s\, NBA legend meet and greets (names TBA)\, live art exhibition from Kickasso\, fun basketball contests and fresh Budweiser on tap.
URL:https://laguestlist.com/event/budweiser-live-launch-nba-star-weekend/
LOCATION:CA
CATEGORIES:Event
ATTACH;FMTTYPE=image/png:https://laguestlist.com/wp-content/uploads/2018/02/Screen-Shot-2018-02-09-at-11.07.51-AM.png
END:VEVENT
BEGIN:VEVENT
DTSTART;TZID=America/Los_Angeles:20180217T190000
DTEND;TZID=America/Los_Angeles:20180217T190000
DTSTAMP:20260424T110643
CREATED:20180209T191105Z
LAST-MODIFIED:20180209T191105Z
UID:30553-1518894000-1518894000@laguestlist.com
SUMMARY:Budweiser Live Launch at NBA All-Star Weekend
DESCRIPTION:Invite Only – Come join us for performances by T-Pain\, A Boogie Wit Da Hoodie\, MadeinTYO and many more\, cool custom merch from Levi’s\, NBA legend meet and greets (names TBA)\, live art exhibition from Kickasso\, fun basketball contests and fresh Budweiser on tap.
URL:https://laguestlist.com/event/budweiser-live-launch-nba-star-weekend-2/
LOCATION:CA
CATEGORIES:Event,Sports
ATTACH;FMTTYPE=image/png:https://laguestlist.com/wp-content/uploads/2018/02/Screen-Shot-2018-02-09-at-11.07.51-AM.png
END:VEVENT
BEGIN:VEVENT
DTSTART;TZID=America/Los_Angeles:20180217T220000
DTEND;TZID=America/Los_Angeles:20180217T220000
DTSTAMP:20260424T110643
CREATED:20180209T191518Z
LAST-MODIFIED:20180209T191518Z
UID:30555-1518904800-1518904800@laguestlist.com
SUMMARY:GQ x Neiman Marcus: Suit Up
DESCRIPTION:Invite Only – GQ and Neiman Marcus are teaming up for All-Star Weekend with a special performance by Cardi B and DJ set by Metro Boomin.
URL:https://laguestlist.com/event/gq-x-neiman-marcus-suit/
LOCATION:CA
CATEGORIES:Event,Magazine,Sports
ATTACH;FMTTYPE=image/png:https://laguestlist.com/wp-content/uploads/2018/02/Screen-Shot-2018-02-09-at-11.13.02-AM.png
END:VEVENT
BEGIN:VEVENT
DTSTART;TZID=America/Los_Angeles:20180220T190000
DTEND;TZID=America/Los_Angeles:20180220T210000
DTSTAMP:20260424T110643
CREATED:20180212T211124Z
LAST-MODIFIED:20180212T211124Z
UID:30628-1519153200-1519160400@laguestlist.com
SUMMARY:Jhené Aiko Celebrates "2Fish"
DESCRIPTION:Open – Meet Grammy-nominated singer/songwriter Jhené Aiko when she joins us to celebrate has developed and refined a method of emoting through writing. 2Fish is a collection of intimate poems (and a few short stories) written by Chilombo from adolescence to adulthood\, in no particular order. The book details Chilombo’s thoughts in their most raw and honest form taken directly from a collection of notebooks she has kept since age 12.
URL:https://laguestlist.com/event/jhene-aiko-celebrates-2fish/
LOCATION:The Grove\, 189 The Grove Drive\, Los Angeles\, Los Angeles\, CA\, 90036\, United States
CATEGORIES:Event
ATTACH;FMTTYPE=image/jpeg:https://laguestlist.com/wp-content/uploads/2018/02/27907833_10155085019886246_1303788358865558929_o.jpg
END:VEVENT
BEGIN:VEVENT
DTSTART;TZID=America/Los_Angeles:20180221T200000
DTEND;TZID=America/Los_Angeles:20180221T200000
DTSTAMP:20260424T110643
CREATED:20180219T204122Z
LAST-MODIFIED:20180219T204122Z
UID:30684-1519243200-1519243200@laguestlist.com
SUMMARY:Toca Madera 3 Year Anniversary Party
DESCRIPTION:Invite Only – Celebrate Toca Maderas’ 3-Year Anniversary for an evening of hosted fare and libations\, live music and special performances. Invite below.
URL:https://laguestlist.com/event/toca-madera-3-year-anniversary-party/
LOCATION:Toca Madera\, 8450 W 3rd St\, Los Angeles\, CA\, 90048\, United States
CATEGORIES:Event
ATTACH;FMTTYPE=image/png:https://laguestlist.com/wp-content/uploads/2018/02/Screen-Shot-2018-02-19-at-12.27.22-PM.png
END:VEVENT
BEGIN:VEVENT
DTSTART;TZID=America/Los_Angeles:20180222T190000
DTEND;TZID=America/Los_Angeles:20180222T220000
DTSTAMP:20260424T110643
CREATED:20180219T204400Z
LAST-MODIFIED:20180219T204400Z
UID:30687-1519326000-1519336800@laguestlist.com
SUMMARY:Levi's Made & Crafted + Shopbop Launch
DESCRIPTION:Invite Only – Levi’s + Shopbop are hosting a private party to celebrate the Levi’s Made & Crafted + Shopbop Launch with a special performance.
URL:https://laguestlist.com/event/levis-made-crafted-shopbop-launch/
LOCATION:CA
CATEGORIES:Event,Fashion
ATTACH;FMTTYPE=image/png:https://laguestlist.com/wp-content/uploads/2018/02/Screen-Shot-2018-02-19-at-12.42.20-PM.png
END:VEVENT
BEGIN:VEVENT
DTSTART;TZID=America/Los_Angeles:20180222T193000
DTEND;TZID=America/Los_Angeles:20180222T210000
DTSTAMP:20260424T110643
CREATED:20180221T172731Z
LAST-MODIFIED:20180221T172731Z
UID:30783-1519327800-1519333200@laguestlist.com
SUMMARY:NYLON x the Grove: Playlisted Music Series featuring ASHE
DESCRIPTION:RSVP – NYLON and The Grove present PLAYLISTED\, a new monthly live-music series featuring our favorite artists. On February 22\, we kick off the series with alt-pop vocalist ASHE. Doors open at 7:30PM. Performance begins at 8:00PM in The Park at The Grove.
URL:https://laguestlist.com/event/nylon-x-grove-playlisted-music-series-featuring-ashe/
LOCATION:The Grove\, 189 The Grove Drive\, Los Angeles\, Los Angeles\, CA\, 90036\, United States
CATEGORIES:Event
ATTACH;FMTTYPE=image/png:https://laguestlist.com/wp-content/uploads/2018/02/https_2F2Fcdn.evbuc_.com2Fimages2F409802742F967837397412F12Foriginal.png
END:VEVENT
BEGIN:VEVENT
DTSTART;TZID=America/Los_Angeles:20180223T180000
DTEND;TZID=America/Los_Angeles:20180223T210000
DTSTAMP:20260424T110643
CREATED:20180221T224827Z
LAST-MODIFIED:20180221T224827Z
UID:30835-1519408800-1519419600@laguestlist.com
SUMMARY:TAPPAN Open Studio
DESCRIPTION:RSVP – The digitally native art gallery TAPPAN\, known for its artists in residency program\, is hosting an Open Studio Event that will give the public the opportunity to connect first hand with Tappan artists. Those featured include London based painter Michael Wall\, Virginia based Gabrielle Teschner and contemporary furniture artist Brant Ritter. Join us to chat with the artists and enjoy a glass of wine. RSVP at info@thetappancollective.com
URL:https://laguestlist.com/event/tappan-open-studio-2/
LOCATION:TAPPAN Studio\, 3507 W 6th Street\, Los Angeles\, CA\, 90020\, United States
CATEGORIES:Event
ATTACH;FMTTYPE=image/png:https://laguestlist.com/wp-content/uploads/2018/02/unnamed-1-1.png
END:VEVENT
BEGIN:VEVENT
DTSTART;TZID=America/Los_Angeles:20180225T180000
DTEND;TZID=America/Los_Angeles:20180225T220000
DTSTAMP:20260424T110643
CREATED:20180219T205637Z
LAST-MODIFIED:20180219T205637Z
UID:30701-1519581600-1519596000@laguestlist.com
SUMMARY:ABFF Awards Celebration
DESCRIPTION:Invite Only – ABFF Honors is an annual awards show saluting excellence in motion pictures and television. Presented as part of the industry’s awards season\, the event celebrates individuals of African descent who have made distinguished contributions to American culture through their work\, as well as the year’s best movies and television shows. ABFF Honors\, which stems from the American Black Film Festival (ABFF)\, was created by Jeff Friday\, to promote camaraderie among multicultural artists in Hollywood. The 2018 show\, hosted by Cedric the Entertainer\, will be held at the Beverly Hilton Hotel in California on Sunday\, Feb. 25.
URL:https://laguestlist.com/event/abff-awards-celebration/
LOCATION:The Beverly Hilton\, 9876 Wilshire Boulevard\, Beverly Hills\, CA\, 90210\, United States
CATEGORIES:Award Show,Event
ATTACH;FMTTYPE=image/jpeg:https://laguestlist.com/wp-content/uploads/2018/02/BE_2016-ABFF-AWARDS_WEB-image.jpg
END:VEVENT
BEGIN:VEVENT
DTSTART;TZID=America/Los_Angeles:20180226T220000
DTEND;TZID=America/Los_Angeles:20180226T220000
DTSTAMP:20260424T110643
CREATED:20180226T225747Z
LAST-MODIFIED:20180226T225747Z
UID:30932-1519682400-1519682400@laguestlist.com
SUMMARY:Nike x Nyjah Houston Shoe Launch
DESCRIPTION:Invite Only – the Nike signature shoe launch party for skateboarding champion x Nyjah Houston.
URL:https://laguestlist.com/event/nike-x-nyjah-houston-shoe-launch/
LOCATION:CA
CATEGORIES:Event
ATTACH;FMTTYPE=image/jpeg:https://laguestlist.com/wp-content/uploads/2018/02/Nyjah-Pro-Model-Header.jpg
END:VEVENT
BEGIN:VEVENT
DTSTART;TZID=America/Los_Angeles:20180227T183000
DTEND;TZID=America/Los_Angeles:20180227T203000
DTSTAMP:20260424T110643
CREATED:20180221T203355Z
LAST-MODIFIED:20180221T203355Z
UID:30811-1519756200-1519763400@laguestlist.com
SUMMARY:Reyka Vodka Happy Hour
DESCRIPTION:Invite Only – On Tuesday\, February 27th\, Reyka Vodka is hosting a fun happy hour with Reyka Vodka and some light bites at The Eveleigh. Expect craft cocktails and chat with Reyka Vodka Ambassador\, Trevor Schneider\, to learn more about Iceland\, Reyka.
URL:https://laguestlist.com/event/reyka-vodka-happy-hour/
LOCATION:CA
CATEGORIES:Event
ATTACH;FMTTYPE=image/jpeg:https://laguestlist.com/wp-content/uploads/2018/02/unnamed-2-1.jpg
END:VEVENT
BEGIN:VEVENT
DTSTART;TZID=America/Los_Angeles:20180228T210000
DTEND;TZID=America/Los_Angeles:20180228T210000
DTSTAMP:20260424T110643
CREATED:20180226T231010Z
LAST-MODIFIED:20180226T231010Z
UID:30938-1519851600-1519851600@laguestlist.com
SUMMARY:Uptown Honors Hollywood
DESCRIPTION:Invite Only – Uptown Honors Hollywood with Lexus at Lure Nightclub with tunes by DJ Mos.
URL:https://laguestlist.com/event/uptown-honors-hollywood/
LOCATION:Lure Nightclub\, 1439 Ivar Ave\, Los Angeles\, CA\, 90028\, United States
CATEGORIES:Entertainment,Event
ATTACH;FMTTYPE=image/png:https://laguestlist.com/wp-content/uploads/2018/02/Screen-Shot-2018-02-26-at-3.06.34-PM.png
END:VEVENT
BEGIN:VEVENT
DTSTART;TZID=America/Los_Angeles:20180301T110000
DTEND;TZID=America/Los_Angeles:20180301T213000
DTSTAMP:20260424T110643
CREATED:20180213T223219Z
LAST-MODIFIED:20180213T223219Z
UID:30651-1519902000-1519939800@laguestlist.com
SUMMARY:Planned Parenthood LA's Annual Food Fare
DESCRIPTION:Ticketed – From its prestigious beginnings as a cooking demonstration with Julia Child in 1979\, Food Fare has become one of the most recognized culinary fundraisers in Los Angeles. Food Fare features well over 150 of LA’s best restaurants\, caterers\, wineries\, breweries\, libation purveyors and retail merchants. Food Fare also includes a Wine Silent Auction\, a Raffle for Choice\, a Dream Experiences Auction and a VIP reception for sponsors. Proceeds from Food Fare benefit Planned Parenthood Los Angeles (PPLA) and in 2017\, Food Fare raised over $1.2 million in support of PPLA.
URL:https://laguestlist.com/event/planned-parenthood-las-annual-food-fare/
LOCATION:The Barker Hangar\, 3021 Airport Ave\, Santa Monica\, CA\, 90405\, United States
CATEGORIES:Event,Things to do
ATTACH;FMTTYPE=image/png:https://laguestlist.com/wp-content/uploads/2018/02/Screen-Shot-2018-02-13-at-2.30.12-PM.png
END:VEVENT
BEGIN:VEVENT
DTSTART;TZID=America/Los_Angeles:20180303T180000
DTEND;TZID=America/Los_Angeles:20180303T230000
DTSTAMP:20260424T110643
CREATED:20180228T221306Z
LAST-MODIFIED:20180228T221306Z
UID:31008-1520100000-1520118000@laguestlist.com
SUMMARY:Maison De Mode Sustainable Style
DESCRIPTION:Invite Only – Maison De Mode Presents Sustainable Style Honoring Suzy Amis Cameron.
URL:https://laguestlist.com/event/maison-de-mode-sustainable-style/
LOCATION:CA
CATEGORIES:Event,Fashion
ATTACH;FMTTYPE=image/png:https://laguestlist.com/wp-content/uploads/2018/02/Screen-Shot-2018-02-28-at-2.11.31-PM.png
END:VEVENT
BEGIN:VEVENT
DTSTART;TZID=America/Los_Angeles:20180304T110000
DTEND;TZID=America/Los_Angeles:20180304T180000
DTSTAMP:20260424T110643
CREATED:20180223T190451Z
LAST-MODIFIED:20180223T190451Z
UID:30892-1520161200-1520186400@laguestlist.com
SUMMARY:CHANEL Beauty House
DESCRIPTION:RSVP – Explore colour at the CHANEL Beauty House in Los Angeles from March 1-4\, 2018. In celebration of @welovecoco\, a new Instagram community dedicated exclusively to user-generated content (UGC) with the public debut of @welovecoco\, the U.S. Beauty Instagram page. The brand will host a four-day beauty event that offers the Los Angeles community privileged access to one of Hollywood’s most iconic addresses. Free and open to the public\, guests will have the opportunity to play with colour and unleash their creativity in this interactive beauty space. CHANEL lip products in shades ranging from bold red to understated neutrals will be available for purchase at the onsite pop-up
URL:https://laguestlist.com/event/chanel-beauty-house-3/
LOCATION:CHANEL Beauty House\, 9169 Sunset Boulevard\, Los Angeles\, CA\, 90069\, United States
CATEGORIES:Event
ATTACH;FMTTYPE=image/gif:https://laguestlist.com/wp-content/uploads/2018/02/unnamed-1.gif
END:VEVENT
BEGIN:VEVENT
DTSTART;TZID=America/Los_Angeles:20180304T160000
DTEND;TZID=America/Los_Angeles:20180304T160000
DTSTAMP:20260424T110643
CREATED:20180228T074221Z
LAST-MODIFIED:20180228T074221Z
UID:30999-1520179200-1520179200@laguestlist.com
SUMMARY:Treats! Mag Oscar Viewing Party
DESCRIPTION:Invite Only – Please join Johnas Talin and Steve Shaw for cocktails & dinner in an intimate & beautiful setting in the Hollywood Hills to view the 90th Academy Awards & celebrate in style at the Treats! after party.
URL:https://laguestlist.com/event/treats-mag-oscar-viewing-party/
LOCATION:CA
CATEGORIES:Award Show,Event
ATTACH;FMTTYPE=image/png:https://laguestlist.com/wp-content/uploads/2018/02/Screen-Shot-2018-02-27-at-11.39.14-PM.png
END:VEVENT
BEGIN:VEVENT
DTSTART;TZID=America/Los_Angeles:20180305T170000
DTEND;TZID=America/Los_Angeles:20180305T190000
DTSTAMP:20260424T110643
CREATED:20180301T172119Z
LAST-MODIFIED:20180301T172119Z
UID:31015-1520269200-1520276400@laguestlist.com
SUMMARY:Tory Lanez: Live at ADBD
DESCRIPTION:Open – Come meet Tory Lanez and celebrate the release of his new album MEMORIES DON’T DIE with a FREE Limited Edition signed lithograph\, available exclusively from ADBD. This is an ALL AGES event that is FREE\, but it is first come-first served\, so come early and get your spot in line.
URL:https://laguestlist.com/event/tory-lanez-live-adbd/
LOCATION:ADBD\, 430 N. Fairfax Ave\, Los Angeles\, CA\, 90036\, United States
CATEGORIES:Event,Fashion
ATTACH;FMTTYPE=image/jpeg:https://laguestlist.com/wp-content/uploads/2018/03/28422964_1831303380227393_7513491329475599704_o.jpg
END:VEVENT
BEGIN:VEVENT
DTSTART;TZID=America/Los_Angeles:20180307T180000
DTEND;TZID=America/Los_Angeles:20180307T200000
DTSTAMP:20260424T110643
CREATED:20180306T195654Z
LAST-MODIFIED:20180306T195654Z
UID:31126-1520445600-1520452800@laguestlist.com
SUMMARY:Veranda Magazine Spring 2018 Issue
DESCRIPTION:Invite Only – Join Clinton Smith\, Editor in Chief of Veranda to celebrate the launch of the Spring 2018 Issue.
URL:https://laguestlist.com/event/veranda-magazine-spring-2018-issue/
LOCATION:CA
CATEGORIES:Event
ATTACH;FMTTYPE=image/png:https://laguestlist.com/wp-content/uploads/2018/03/Screen-Shot-2018-03-06-at-11.55.05-AM.png
END:VEVENT
BEGIN:VEVENT
DTSTART;TZID=America/Los_Angeles:20180307T190000
DTEND;TZID=America/Los_Angeles:20180307T220000
DTSTAMP:20260424T110643
CREATED:20180305T213519Z
LAST-MODIFIED:20180305T213519Z
UID:31059-1520449200-1520460000@laguestlist.com
SUMMARY:Dr. Paul Nassif MedSpa VIP Grand Opening
DESCRIPTION:Invite Only –  View the gorgeous interior design work of American television star\, Faye Resnick\, during the exclusive Grand Opening of Dr. Paul Nassif’s New MedSpa in Beverly Hills\, California!
URL:https://laguestlist.com/event/dr-paul-nassif-medspa-vip-grand-opening/
LOCATION:CA
CATEGORIES:Event
ATTACH;FMTTYPE=image/png:https://laguestlist.com/wp-content/uploads/2018/03/Screen-Shot-2018-03-05-at-1.33.27-PM.png
END:VEVENT
BEGIN:VEVENT
DTSTART;TZID=America/Los_Angeles:20180309T150000
DTEND;TZID=America/Los_Angeles:20180309T210000
DTSTAMP:20260424T110643
CREATED:20180308T163525Z
LAST-MODIFIED:20180308T163549Z
UID:31254-1520607600-1520629200@laguestlist.com
SUMMARY:Ghostface Killah Wu-Goo Flavor Launch
DESCRIPTION:RSVP – Wu-Goo new product release and flavor drop on Friday 3/9 at @citycompassionatecare Meet the God himself Ghostface Killah in-store from 7-9pm! Then afterwards join him around the corner for the cannabis mixer to follow @indiebrewco
URL:https://laguestlist.com/event/ghostface-killah-wu-goo-flavor-launch/
LOCATION:CA
CATEGORIES:Event
ATTACH;FMTTYPE=image/png:https://laguestlist.com/wp-content/uploads/2018/03/Screen-Shot-2018-03-08-at-8.32.32-AM.png
END:VEVENT
BEGIN:VEVENT
DTSTART;TZID=America/Los_Angeles:20180313T190000
DTEND;TZID=America/Los_Angeles:20180313T220000
DTSTAMP:20260424T110643
CREATED:20180306T212414Z
LAST-MODIFIED:20180306T212414Z
UID:31167-1520967600-1520978400@laguestlist.com
SUMMARY:Levi's Celebrates Women's History Month
DESCRIPTION:Invite Only – Levi’s Celebrates Women’s History Month with an evening hosted by Levi’s and decorated gymnasts Mattie Larson and Jamie Dantzcher with music by DJ Eden Hagos.
URL:https://laguestlist.com/event/levis-celebrates-womens-history-month/
LOCATION:CA
CATEGORIES:Event
ATTACH;FMTTYPE=image/png:https://laguestlist.com/wp-content/uploads/2018/03/HOS_Boards_01.png
END:VEVENT
BEGIN:VEVENT
DTSTART;TZID=America/Los_Angeles:20180315T180000
DTEND;TZID=America/Los_Angeles:20180315T210000
DTSTAMP:20260424T110643
CREATED:20180306T195438Z
LAST-MODIFIED:20180306T195438Z
UID:31123-1521136800-1521147600@laguestlist.com
SUMMARY:Officina Bernardi x Fred Segal
DESCRIPTION:Invite Only – An evening celebrating the Officina Bernardi x Fred Segal jewelry collection.
URL:https://laguestlist.com/event/officina-bernardi-x-fred-segal/
LOCATION:CA
CATEGORIES:Event
ATTACH;FMTTYPE=image/png:https://laguestlist.com/wp-content/uploads/2018/03/Screen-Shot-2018-03-06-at-11.42.27-AM.png
END:VEVENT
BEGIN:VEVENT
DTSTART;TZID=America/Los_Angeles:20180315T180000
DTEND;TZID=America/Los_Angeles:20180315T210000
DTSTAMP:20260424T110643
CREATED:20180310T212418Z
LAST-MODIFIED:20180310T212418Z
UID:31305-1521136800-1521147600@laguestlist.com
SUMMARY:Nine West's 40th Anniversary
DESCRIPTION:Invite Only – Join Nine West and Olivia Culpo for the Ultimate Throwback Party in celebration of Nine West’s 40th Anniversary.
URL:https://laguestlist.com/event/nine-wests-40th-anniversary/
LOCATION:CA
CATEGORIES:Event,Fashion
ATTACH;FMTTYPE=image/png:https://laguestlist.com/wp-content/uploads/2018/03/Screen-Shot-2018-03-10-at-1.23.31-PM.png
END:VEVENT
BEGIN:VEVENT
DTSTART;TZID=America/Los_Angeles:20180315T183000
DTEND;TZID=America/Los_Angeles:20180315T203000
DTSTAMP:20260424T110643
CREATED:20180310T211759Z
LAST-MODIFIED:20180310T211759Z
UID:31297-1521138600-1521145800@laguestlist.com
SUMMARY:SeaVees Collection Launch Party
DESCRIPTION:RSVP – Join Trina Turk\, Mr Turk and SeaVees in celebrating the launch of their Spring 2018 sneaker collaboration! Enjoy snacks from Burger Lounge\, garden-to-glass cocktails from Jardesca + photobooth fun!
URL:https://laguestlist.com/event/seavees-collection-launch-party/
LOCATION:Trina Turk\, 212 North Larchmont Boulevard\, Los Angeles\, CA\, 90004\, United States
CATEGORIES:Event
ATTACH;FMTTYPE=image/jpeg:https://laguestlist.com/wp-content/uploads/2018/03/28871054_10155596846100735_7314480187289108480_o.jpg
END:VEVENT
BEGIN:VEVENT
DTSTART;TZID=America/Los_Angeles:20180315T183000
DTEND;TZID=America/Los_Angeles:20180315T203000
DTSTAMP:20260424T110643
CREATED:20180315T173948Z
LAST-MODIFIED:20180315T173948Z
UID:31465-1521138600-1521145800@laguestlist.com
SUMMARY:Superga x Alexa Chung
DESCRIPTION:Invite Only – Superga is throwing a party with Alexa Chung in honor of the launch for their new collab.
URL:https://laguestlist.com/event/superga-x-alexa-chung/
LOCATION:CA
CATEGORIES:Event,Fashion
ATTACH;FMTTYPE=image/png:https://laguestlist.com/wp-content/uploads/2018/03/Screen-Shot-2018-03-15-at-10.34.45-AM.png
END:VEVENT
BEGIN:VEVENT
DTSTART;TZID=America/Los_Angeles:20180315T190000
DTEND;TZID=America/Los_Angeles:20180315T220000
DTSTAMP:20260424T110643
CREATED:20180312T020504Z
LAST-MODIFIED:20180312T020504Z
UID:31308-1521140400-1521151200@laguestlist.com
SUMMARY:Tocaya Organica Century City Private Preview
DESCRIPTION:Invite Only – Celebrate the unveiling of Tocaya Organicas’ brand new space + design in Century City before our doors open. Enjoy a taste of our menu and hosted cocktails.
URL:https://laguestlist.com/event/tocaya-organica-century-city-private-preview/
LOCATION:CA
CATEGORIES:Event,Gastronomy
ATTACH;FMTTYPE=image/png:https://laguestlist.com/wp-content/uploads/2018/03/Screen-Shot-2018-03-11-at-7.02.45-PM.png
END:VEVENT
END:VCALENDAR