BEGIN:VCALENDAR
VERSION:2.0
PRODID:-//LA Guestlist - ECPv6.15.20//NONSGML v1.0//EN
CALSCALE:GREGORIAN
METHOD:PUBLISH
X-ORIGINAL-URL:https://laguestlist.com
X-WR-CALDESC:Events for LA Guestlist
REFRESH-INTERVAL;VALUE=DURATION:PT1H
X-Robots-Tag:noindex
X-PUBLISHED-TTL:PT1H
BEGIN:VTIMEZONE
TZID:America/Los_Angeles
BEGIN:DAYLIGHT
TZOFFSETFROM:-0800
TZOFFSETTO:-0700
TZNAME:PDT
DTSTART:20180311T100000
END:DAYLIGHT
BEGIN:STANDARD
TZOFFSETFROM:-0700
TZOFFSETTO:-0800
TZNAME:PST
DTSTART:20181104T090000
END:STANDARD
BEGIN:DAYLIGHT
TZOFFSETFROM:-0800
TZOFFSETTO:-0700
TZNAME:PDT
DTSTART:20190310T100000
END:DAYLIGHT
BEGIN:STANDARD
TZOFFSETFROM:-0700
TZOFFSETTO:-0800
TZNAME:PST
DTSTART:20191103T090000
END:STANDARD
BEGIN:DAYLIGHT
TZOFFSETFROM:-0800
TZOFFSETTO:-0700
TZNAME:PDT
DTSTART:20200308T100000
END:DAYLIGHT
BEGIN:STANDARD
TZOFFSETFROM:-0700
TZOFFSETTO:-0800
TZNAME:PST
DTSTART:20201101T090000
END:STANDARD
BEGIN:DAYLIGHT
TZOFFSETFROM:-0800
TZOFFSETTO:-0700
TZNAME:PDT
DTSTART:20210314T100000
END:DAYLIGHT
BEGIN:STANDARD
TZOFFSETFROM:-0700
TZOFFSETTO:-0800
TZNAME:PST
DTSTART:20211107T090000
END:STANDARD
END:VTIMEZONE
BEGIN:VEVENT
DTSTART;TZID=America/Los_Angeles:20191214T200000
DTEND;TZID=America/Los_Angeles:20191215T000000
DTSTAMP:20260421T122624
CREATED:20191211T054008Z
LAST-MODIFIED:20191211T054008Z
UID:39577-1576353600-1576368000@laguestlist.com
SUMMARY:Onewheel X Juneshine Party at the Pop-Up Shop
DESCRIPTION:RSVP/a> – We’re coming down to LA and we’re bringing the party with us. Come hang out and help us celebrate our first Onewheel pop-up retail shop! There will be food trucks serving up some hot meals\, Juneshine will be offering some of that good drank\, and our friends Sega Genecide will be playing your favorite 90’s bangers. Come get weird with us. It’s gonna be a blast baby!
URL:https://laguestlist.com/event/onewheel-x-juneshine-party-at-the-pop-up-shop/
CATEGORIES:Event
ATTACH;FMTTYPE=image/jpeg:https://laguestlist.com/wp-content/uploads/2019/12/https___cdn.evbuc_.com_images_83280879_270307565962_1_original-1.jpg
END:VEVENT
BEGIN:VEVENT
DTSTART;TZID=America/Los_Angeles:20191218T110000
DTEND;TZID=America/Los_Angeles:20191218T170000
DTSTAMP:20260421T122624
CREATED:20191215T221124Z
LAST-MODIFIED:20191215T221124Z
UID:39585-1576666800-1576688400@laguestlist.com
SUMMARY:6th Annual TDE Concert
DESCRIPTION:Bring Gift for Admission – Top Dawg Entertainment\, home to Kendrick Lamar\, ScHoolboy Q\, SZA\, Jay Rock\, Isaiah Rashad\, Ab-Soul\, SiR\, Lance Skiiiwalker\, REASON and Zacari for TDE’s 6th Annual Holiday Concert/Toy Drive and Nickerson Gardens Community Day. The two-day event kicks off Wednesday\, December 18th\, with the concert featuring performances from TDE’s entire roster and surprise guests. 2018’s concert featured a performance from the Astroworld rapper Travis Scott\, preceded by words from LA’s very own Councilman Joe Buscaino.
URL:https://laguestlist.com/event/6th-annual-tde-concert/
LOCATION:Nickerson Gardens\, 1590 E 114th St\, Watts\, CA\, 90059\, United States
CATEGORIES:Event,Holiday Party
ATTACH;FMTTYPE=image/png:https://laguestlist.com/wp-content/uploads/2019/12/Screen-Shot-2019-12-15-at-2.07.24-PM.png
END:VEVENT
BEGIN:VEVENT
DTSTART;TZID=America/Los_Angeles:20191218T200000
DTEND;TZID=America/Los_Angeles:20191219T000000
DTSTAMP:20260421T122624
CREATED:20191219T035632Z
LAST-MODIFIED:20191219T035632Z
UID:39605-1576699200-1576713600@laguestlist.com
SUMMARY:FabFitFun What Dreams Are Made Of
DESCRIPTION:Invite Only – FabFitFun What Dreams Are Made Of Holiday Part celebrating their winter box.
URL:https://laguestlist.com/event/fabfitfun-what-dreams-are-made-of/
CATEGORIES:Event,History
ATTACH;FMTTYPE=image/png:https://laguestlist.com/wp-content/uploads/2019/12/Screen-Shot-2019-12-18-at-7.54.20-PM.png
END:VEVENT
BEGIN:VEVENT
DTSTART;TZID=America/Los_Angeles:20191218T200000
DTEND;TZID=America/Los_Angeles:20191219T010000
DTSTAMP:20260421T122624
CREATED:20191205T054615Z
LAST-MODIFIED:20191205T054615Z
UID:39468-1576699200-1576717200@laguestlist.com
SUMMARY:IHEARTCOMIX Presents LA Gives Back
DESCRIPTION:Ticketed – Created by IHEARTCOMIX\, the one-night event will consist of some of LA’s most influential music curators coming together: the line-up includes rooms curated by Brownies & Lemonade\, 143\, Electric Feels\, Adult Swim\, Mad Decent\, Ham on Everything\, Restless Nites\, Late Night Laggers\, 2Plus2 and Spaceland. The night will feature endless amounts of secret guests and big-name talent. Happening on all floors and all rooms of The Belasco Theater. 100% of all proceeds raised will go to benefit the local charities Downtown Women’s Center and My Friend’s Place.
URL:https://laguestlist.com/event/iheartcomix-presents-la-gives-back-3/
LOCATION:The Belasco Theatre\, 1050 South Hill Str\, 90015\, CA\, 90015\, United States
CATEGORIES:Charity,Event
ATTACH;FMTTYPE=image/jpeg:https://laguestlist.com/wp-content/uploads/2019/12/0.jpg
END:VEVENT
BEGIN:VEVENT
DTSTART;TZID=America/Los_Angeles:20191231T180000
DTEND;TZID=America/Los_Angeles:20200101T010000
DTSTAMP:20260421T122624
CREATED:20191227T030339Z
LAST-MODIFIED:20191227T030339Z
UID:39698-1577815200-1577840400@laguestlist.com
SUMMARY:Dave and Busters NYE '20
DESCRIPTION:Ticketed – Come out to Dave & Busters Hollywood to Celebrate the New Year with the whole family. Enjoy the sounds of our Live DJ\, an awesome Virtual Reality experience\, an assorted appetizer buffet\, a champagne toast\, and of course a countdown and ball drop!
URL:https://laguestlist.com/event/dave-and-busters-nye-20/
LOCATION:Dave & Buster’s Hollywood\, 6801 Hollywood Blvd\, Los Angeles\, CA\, 90028\, United States
CATEGORIES:Event,Holiday Party
ATTACH;FMTTYPE=image/png:https://laguestlist.com/wp-content/uploads/2019/12/Screen-Shot-2019-12-26-at-7.58.52-PM.png
END:VEVENT
BEGIN:VEVENT
DTSTART;TZID=America/Los_Angeles:20191231T200000
DTEND;TZID=America/Los_Angeles:20191231T200000
DTSTAMP:20260421T122624
CREATED:20191227T001039Z
LAST-MODIFIED:20191227T001039Z
UID:39621-1577822400-1577822400@laguestlist.com
SUMMARY:#BOOM! 2020: An Alcohol- and Drug-Free Extravaganza
DESCRIPTION:RSVP –  The excitement is building in West Hollywood as New Year’s Eve gets closer. Preparations are underway for the 7th annual alcohol- and drug-free party known as #BOOM! This annual FREE glittering gala is one of the hottest New Year’s Eve events in Southern California.  #BOOM! is known for its safe and celebratory environment\, as well as free admission\, free food\, free non-alcoholic drinks\, and free fun\, including a costume competition\, face and body painting\, photobooth\, midnight toast and hours of dancing.
URL:https://laguestlist.com/event/boom-2020-an-alcohol-and-drug-free-extravaganza/
LOCATION:West Hollywood Park\, 647 N San Vicente Blvd\, West Hollywood\, CA\, 90069\, United States
CATEGORIES:Event,Holiday Party
ATTACH;FMTTYPE=image/jpeg:https://laguestlist.com/wp-content/uploads/2019/12/https___cdn.evbuc_.com_images_85254645_269506876094_1_original.jpg
END:VEVENT
BEGIN:VEVENT
DTSTART;TZID=America/Los_Angeles:20200101T140000
DTEND;TZID=America/Los_Angeles:20200101T220000
DTSTAMP:20260421T122624
CREATED:20191227T005624Z
LAST-MODIFIED:20191227T005624Z
UID:39643-1577887200-1577916000@laguestlist.com
SUMMARY:The New-Over
DESCRIPTION:RSVP – Join adidas Originals\, and The Do-Over as we start 2020 with Open Vodka Bar from 2-3pm.
URL:https://laguestlist.com/event/the-new-over/
LOCATION:Le Jardin\, 1430 N. Cahuenga Blvd.\, Los Angeles\, CA\, 90028\, United States
CATEGORIES:Event
ATTACH;FMTTYPE=image/png:https://laguestlist.com/wp-content/uploads/2019/12/Screen-Shot-2019-12-26-at-5.54.15-PM.png
END:VEVENT
BEGIN:VEVENT
DTSTART;TZID=America/Los_Angeles:20200109T190000
DTEND;TZID=America/Los_Angeles:20200109T210000
DTSTAMP:20260421T122624
CREATED:20200109T050538Z
LAST-MODIFIED:20200109T050538Z
UID:39761-1578596400-1578603600@laguestlist.com
SUMMARY:Kendra Scott “Radiant” Launch Party
DESCRIPTION:Invite Only – Kendra Scott has partnered with Columbia Records to launch the “Radiant” playlist\, which is dedicated to spotlighting the best rising stars in female pop music. In support of the partnership\, Kendra Scott invites customers to follow the “Radiant” playlist on Spotify or Apple Music to receive 15% off their purchase in any one of the 100+ Kendra Scott stores nationwide. Kendra Scott will host a “Radiant” Launch Party in Los Angeles on Thursday\, January 9th at 7pm. Guests can expect sips\, sweets\, a DJ\, and new engravable demi-fine jewelry.
URL:https://laguestlist.com/event/kendra-scott-radiant-launch-party/
CATEGORIES:Event
ATTACH;FMTTYPE=image/png:https://laguestlist.com/wp-content/uploads/2020/01/Screen-Shot-2020-01-08-at-9.03.18-PM.png
END:VEVENT
BEGIN:VEVENT
DTSTART;TZID=America/Los_Angeles:20200110T120000
DTEND;TZID=America/Los_Angeles:20200110T190000
DTSTAMP:20260421T122624
CREATED:20191226T235922Z
LAST-MODIFIED:20191226T235922Z
UID:39615-1578657600-1578682800@laguestlist.com
SUMMARY:Chuck Palahniuk Signs "Consider This!"
DESCRIPTION:Ticketed – Book Soup & Alta present Chuck Palahniuk signing copies of this new book\, Consider This: Moments in My Writing Life After Which Everything Was Different. In this spellbinding blend of memoir and insight\, bestselling author Chuck Palahniuk shares stories and generous advice on what makes writing powerful and what makes for powerful writing.
URL:https://laguestlist.com/event/chuck-palahniuk-signs-consider-this/
LOCATION:Book Soup\, 8818 Sunset Blvd.\, Los Angeles\, CA\, 90069\, United States
CATEGORIES:Event
ATTACH;FMTTYPE=image/png:https://laguestlist.com/wp-content/uploads/2019/12/Screen-Shot-2019-12-26-at-4.57.03-PM.png
END:VEVENT
BEGIN:VEVENT
DTSTART;TZID=America/Los_Angeles:20200113T180000
DTEND;TZID=America/Los_Angeles:20200113T200000
DTSTAMP:20260421T122624
CREATED:20200111T194653Z
LAST-MODIFIED:20200111T194653Z
UID:39798-1578938400-1578945600@laguestlist.com
SUMMARY:The RealReal Presents A Conversation With Amy Fine Collins
DESCRIPTION:RSVP – Join The RealReal for a riveting talk on the history of red-carpet fashion\, how the international best-dressed list came to be and what makes an iconic look as journalist and author Amy Fine Collins shares exclusive insights from her new book\, The International Best-Dressed List (published by Rizzoli)\, with The RealReal CEO Julie Wainwright. Enjoy refreshments\, receive a coupon to shop same-day and don’t forget to bring pieces to sell.
URL:https://laguestlist.com/event/the-realreal-presents-a-conversation-with-amy-fine-collins/
LOCATION:The RealReal\, 8500 Melrose Avenue\, West Hollywood\, CA\, 90069\, United States
CATEGORIES:Event,Networking
ATTACH;FMTTYPE=image/png:https://laguestlist.com/wp-content/uploads/2020/01/Screen-Shot-2020-01-11-at-11.44.55-AM.png
END:VEVENT
BEGIN:VEVENT
DTSTART;TZID=America/Los_Angeles:20200116T193000
DTEND;TZID=America/Los_Angeles:20200116T220000
DTSTAMP:20260421T122624
CREATED:20200111T195016Z
LAST-MODIFIED:20200111T195016Z
UID:39802-1579203000-1579212000@laguestlist.com
SUMMARY:S Bar Brentwood VIP Opening Preview
DESCRIPTION:Invite Only – Sam Nazarian\, Founder + CEO of sbe is excited to announce the next chapter of sbe’s Brentwood story. sbe opened their first Katsuya ever on San Vicente 15 years ago\, and is excited to bring new energy to the city of Brentwood with the highly anticipated opening of S Bar.
URL:https://laguestlist.com/event/s-bar-brentwood-vip-opening-preview/
CATEGORIES:Event
ATTACH;FMTTYPE=image/png:https://laguestlist.com/wp-content/uploads/2020/01/Screen-Shot-2020-01-11-at-11.48.23-AM.png
END:VEVENT
BEGIN:VEVENT
DTSTART;TZID=America/Los_Angeles:20200118T140000
DTEND;TZID=America/Los_Angeles:20200119T230000
DTSTAMP:20260421T122624
CREATED:20191202T040351Z
LAST-MODIFIED:20191202T040351Z
UID:39459-1579356000-1579474800@laguestlist.com
SUMMARY:4xFAR Presented by Land Rover - Music and Adventure Festival
DESCRIPTION:Ticketed – Land Rover presents 4xFAR\, a weekend festival featuring live performances from some of the music industry’s most celebrated artists\, along with culinary and adventure experiences for people with a passion for exploring the unknown. Designed to celebrate the launch of the 2020 Land Rover Defender\, 4xFAR will also be an opportunity for festival attendees to experience the full range of Land Rover vehicles on purpose-built\, off-road courses. 4xFAR will feature an adventure area curated by Outside Magazine\, offering guided workshops and classes\, gear demos\, and activities such as slacklining\, rock climbing and mountain biking.
URL:https://laguestlist.com/event/4xfar-presented-by-land-rover-music-and-adventure-festival/
LOCATION:Indio\, CA
CATEGORIES:Event,Music
ATTACH;FMTTYPE=image/png:https://laguestlist.com/wp-content/uploads/2019/12/4XFAR-POSTER-PORTRAIT-1-819x1024.png
END:VEVENT
BEGIN:VEVENT
DTSTART;TZID=America/Los_Angeles:20200121T180000
DTEND;TZID=America/Los_Angeles:20200121T200000
DTSTAMP:20260421T122624
CREATED:20200118T194223Z
LAST-MODIFIED:20200118T194223Z
UID:39855-1579629600-1579636800@laguestlist.com
SUMMARY:Alice + Olivia by Stacey Bendet x Jenna Andrews
DESCRIPTION:Invite Only – Alice + Olivia by Stacey Bendet invites guests to join Jenna Andrews and friends for a special event. Enjoy champagne and special performances by Lennon Stella\, Sophia Messa\, and DJ set by KITO while you shop the alice + olivia pre-spring collection with 10% of sales to benefit The Jed Foundation.
URL:https://laguestlist.com/event/alice-olivia-by-stacey-bendet-x-jenna-andrews/
CATEGORIES:Charity,Event
ATTACH;FMTTYPE=image/png:https://laguestlist.com/wp-content/uploads/2020/01/Screen-Shot-2020-01-18-at-11.40.11-AM.png
END:VEVENT
BEGIN:VEVENT
DTSTART;TZID=America/Los_Angeles:20200122T200000
DTEND;TZID=America/Los_Angeles:20200122T230000
DTSTAMP:20260421T122624
CREATED:20200118T201422Z
LAST-MODIFIED:20200118T201422Z
UID:39880-1579723200-1579734000@laguestlist.com
SUMMARY:Tidal and Dolby Celebrate Meek Mill's Grammy Celebration
DESCRIPTION:Invite Only – Tidal and Dolby Celebrate Meek Mill’s Grammy Celebration for “Championships” with an intimate live performance.
URL:https://laguestlist.com/event/tidal-and-dolby-celebrate-meek-mills-grammy-celebration/
CATEGORIES:Event,Music
ATTACH;FMTTYPE=image/png:https://laguestlist.com/wp-content/uploads/2020/01/Screen-Shot-2020-01-18-at-12.10.55-PM.png
END:VEVENT
BEGIN:VEVENT
DTSTART;TZID=America/Los_Angeles:20200123T190000
DTEND;TZID=America/Los_Angeles:20200123T220000
DTSTAMP:20260421T122624
CREATED:20200118T195848Z
LAST-MODIFIED:20200118T195848Z
UID:39867-1579806000-1579816800@laguestlist.com
SUMMARY:4th Annual Create & Cultivate 100 List
DESCRIPTION:Invite Only – Create & Cultivate and Chevrolet are celebrating the launch of the 4th Annual Create & Cultivate 100 List. The CC100 list honors women across ten different categories\, including Music\, Fashion\, Food\, Entertainment\, Entrepreneurship\, and more. This year’s honorees include Priyanka Chopra\, Shay Mitchell\, Bebe Rexha\, and many more.
URL:https://laguestlist.com/event/4th-annual-create-cultivate-100-list/
CATEGORIES:Event,Networking
ATTACH;FMTTYPE=image/jpeg:https://laguestlist.com/wp-content/uploads/2020/01/CC100PartyInvite.jpg
END:VEVENT
BEGIN:VEVENT
DTSTART;TZID=America/Los_Angeles:20200123T190000
DTEND;TZID=America/Los_Angeles:20200123T220000
DTSTAMP:20260421T122624
CREATED:20200122T035626Z
LAST-MODIFIED:20200122T035626Z
UID:39945-1579806000-1579816800@laguestlist.com
SUMMARY:Morrison Hotel Gallery and Equinox Toast the GRAMMYS
DESCRIPTION:Invite Only – Morrison Hotel Gallery\, the world leader in music fine art photography\, and Equinox\, the global high-performance lifestyle brand\, are partnering to throw a GRAMMY Week celebration at the iconic Sunset Marquis in Los Angeles on January 23rd. The event\, an ode to the History of Hip-Hop\, will be a no-holds barred celebration of music and dance featuring live performances from noteworthy artists. The GRAMMY Week party will feature performances from Rock & Roll Hall of Famer Darryl “DMC” McDaniels of renowned hip hop trio Run DMC and GRAMMY-nominated artist\, Kelis. Guests will also experience an exclusive performance designed by renowned choreographer Nick Kenkel.
URL:https://laguestlist.com/event/morrison-hotel-gallery-and-equinox-toast-the-grammys/
CATEGORIES:Event,Music
ATTACH;FMTTYPE=image/png:https://laguestlist.com/wp-content/uploads/2020/01/Screen-Shot-2020-01-21-at-7.24.18-PM.png
END:VEVENT
BEGIN:VEVENT
DTSTART;TZID=America/Los_Angeles:20200124T120000
DTEND;TZID=America/Los_Angeles:20200124T150000
DTSTAMP:20260421T122624
CREATED:20200116T152109Z
LAST-MODIFIED:20200122T031315Z
UID:39844-1579867200-1579878000@laguestlist.com
SUMMARY:Instagram's Grammy Luncheon
DESCRIPTION:Invite Only – On Friday\, January 24\, Instagram will host a luncheon to celebrate women in music during Grammy Weekend.
URL:https://laguestlist.com/event/instagrams-grammy-luncheon/
CATEGORIES:Award Show,Event
ATTACH;FMTTYPE=image/png:https://laguestlist.com/wp-content/uploads/2020/01/Screen-Shot-2020-01-21-at-7.08.43-PM.png
END:VEVENT
BEGIN:VEVENT
DTSTART;TZID=America/Los_Angeles:20200124T190000
DTEND;TZID=America/Los_Angeles:20200124T230000
DTSTAMP:20260421T122624
CREATED:20200116T151803Z
LAST-MODIFIED:20200116T151803Z
UID:39841-1579892400-1579906800@laguestlist.com
SUMMARY:Iron & Ink X boohooMAN
DESCRIPTION:Invite Only – Two of Europe’s hottest brands are teaming up in LA for a special event! Iron & Ink\, Europe’s hottest tattoo studio\, opened their first US location in October 2019. Iron & Ink’s mission is to bring Nordic Cool to Los Angeles. The space is an exclusive cozy\, clean and minimalistic shop that brings luxury and Scandinavian design to American consumers. British fashion brand\, boohooMAN\, born from boohoo.com\, is bringing cutting edge design to the menswear market. Together the two brands will be hosting an invite only-VIP event on Friday\, January 24. Attendees will have the opportunity to be tattooed on-site as well as receive boohooMAN products.
URL:https://laguestlist.com/event/iron-ink-x-boohooman/
CATEGORIES:Event
ATTACH;FMTTYPE=image/png:https://laguestlist.com/wp-content/uploads/2020/01/Screen-Shot-2020-01-16-at-7.16.59-AM.png
END:VEVENT
BEGIN:VEVENT
DTSTART;TZID=America/Los_Angeles:20200124T210000
DTEND;TZID=America/Los_Angeles:20200125T010000
DTSTAMP:20260421T122624
CREATED:20200118T194506Z
LAST-MODIFIED:20200118T194506Z
UID:39858-1579899600-1579914000@laguestlist.com
SUMMARY:Lunar New Year with Johnnie Walker and 88Rising
DESCRIPTION:Invite Only – Johnnie Walker – the world’s number one Scotch Whisky brand – and international media collective & record label focusing on Asian talents 88Rising are throwing an epic Lunar New Year party to welcome the Year of the Rat. The Rat is a symbol of prosperity and abundance – and this party’s lineup is filled with live performances by Deb Never\, Yeek\, Dumbfoundeaded\, and other surprise musical guests – all accompanied by signature Johnnie Walker cocktails curated by Los Angeles mixologist Cari Hah.
URL:https://laguestlist.com/event/lunar-new-year-with-johnnie-walker-and-88rising/
CATEGORIES:Event
ATTACH;FMTTYPE=image/png:https://laguestlist.com/wp-content/uploads/2020/01/Screen-Shot-2020-01-18-at-11.43.19-AM.png
END:VEVENT
BEGIN:VEVENT
DTSTART;TZID=America/Los_Angeles:20200125T120000
DTEND;TZID=America/Los_Angeles:20200125T150000
DTSTAMP:20260421T122624
CREATED:20200122T032303Z
LAST-MODIFIED:20200122T032303Z
UID:39942-1579953600-1579964400@laguestlist.com
SUMMARY:ROC NATION Grammy Brunch
DESCRIPTION:Invite Only – ROC NATION’s THE BRUNCH returns to host members of the ROC NATION family and specially invited guests. This year’s event is in conjunction with partners Modern Fidelity\, Puma\, Super Coffee\, American Express\, Saks Fifth Avenue\, and DLA Piper.
URL:https://laguestlist.com/event/roc-nation-grammy-brunch/
CATEGORIES:Event
ATTACH;FMTTYPE=image/jpeg:https://laguestlist.com/wp-content/uploads/2020/01/rocnation-logo-2017-billboard-1548.jpg
END:VEVENT
BEGIN:VEVENT
DTSTART;TZID=America/Los_Angeles:20200204T190000
DTEND;TZID=America/Los_Angeles:20200204T220000
DTSTAMP:20260421T122624
CREATED:20200203T192305Z
LAST-MODIFIED:20200203T192305Z
UID:40027-1580842800-1580853600@laguestlist.com
SUMMARY:Vanity Fair: Hollywood Calling—The Stars\, the Parties\, and the Powerbrokers
DESCRIPTION:Invite Only – Curated by Vanity Fair’s creative development editor David Friend and the magazine’s former director of photography Susan White\, “Vanity Fair: Hollywood Calling” features photographic portraiture and multimedia installations that capture the magic and glamour of the film and television industry’s major players from the last four decades. The exhibition is a look at the Hollywood stars\, the parties\, and the influential figures through the distinctive lens of Vanity Fair—the most widely celebrated journalistic arbiter of Hollywood power and personality. The exhibition will be open to the public from February 8 through July 26.
URL:https://laguestlist.com/event/vanity-fair-hollywood-calling-the-stars-the-parties-and-the-powerbrokers/
LOCATION:Annenberg Space for Photography\, 2000 Avenue of the Stars \, Los Angeles\, CA\, 90067\, United States
CATEGORIES:Event
ATTACH;FMTTYPE=image/jpeg:https://laguestlist.com/wp-content/uploads/2020/02/AF-VFHC-thumb.jpg
END:VEVENT
BEGIN:VEVENT
DTSTART;TZID=America/Los_Angeles:20200205T190000
DTEND;TZID=America/Los_Angeles:20200205T220000
DTSTAMP:20260421T122624
CREATED:20200204T024819Z
LAST-MODIFIED:20200204T024819Z
UID:40042-1580929200-1580940000@laguestlist.com
SUMMARY:The Hundreds X Brooklyn Projects Launch Party
DESCRIPTION:Invite Only – This Wednesday\, February 5th\, meet The Hundreds team at Brooklyn Projects on Melrose to celebrate the release of our collaboration with the streetwear legends. Never know\, might end up with your own questionable Brooklyn Dom story that you don’t tell your kids until they’re of legal age.
URL:https://laguestlist.com/event/the-hundreds-x-brooklyn-projects-launch-party/
CATEGORIES:Event
ATTACH;FMTTYPE=image/png:https://laguestlist.com/wp-content/uploads/2020/02/Screen-Shot-2020-02-03-at-6.46.23-PM.png
END:VEVENT
BEGIN:VEVENT
DTSTART;TZID=America/Los_Angeles:20200206T180000
DTEND;TZID=America/Los_Angeles:20200206T200000
DTSTAMP:20260421T122624
CREATED:20200203T165255Z
LAST-MODIFIED:20200203T165255Z
UID:40010-1581012000-1581019200@laguestlist.com
SUMMARY:Volcom x Coco Ho Launch Celebration
DESCRIPTION:Open – Pro Surfer Coco Ho’s In-Store Appearance at Volcom Irvine to Celebrate the Launch of Her New Volcom x Coco Ho Collection\, Sip & Shop with Coco Ho\, DIY Sea Salt Spray & Free Gift With Purchase.
URL:https://laguestlist.com/event/volcom-x-coco-ho-launch-celebration/
LOCATION:Volcom Irvine\, 642 Spectrum Center Dr #642\, Irvina\, CA\, 92618\, United States
CATEGORIES:Event
ATTACH;FMTTYPE=image/jpeg:https://laguestlist.com/wp-content/uploads/2020/02/unnamed-1.jpg
END:VEVENT
BEGIN:VEVENT
DTSTART;TZID=America/Los_Angeles:20200206T180000
DTEND;TZID=America/Los_Angeles:20200206T210000
DTSTAMP:20260421T122624
CREATED:20200204T194042Z
LAST-MODIFIED:20200204T194042Z
UID:40052-1581012000-1581022800@laguestlist.com
SUMMARY:The Velvet Underground x Jacques Marie Mage Launch
DESCRIPTION:Invite Only – Celebrate the launch of The Velvet Underground x Jacques Marie Mage limited edition eyewear collaboration\, “White Light\,” on Thursday\, February 6. In collaboration with Universal Music Enterprises\, Framed EWE Optical\, and Fred Segal Sunset\, enjoy a special night of complimentary cocktails and music. \nGuests will experience a limited edition homage to the fashion\, mystique and counter-cultural cool of one of the most influential bands ever\, The Velvet Underground. The collection is inspired by the actual glasses worn by founding band member\, John Cale.
URL:https://laguestlist.com/event/the-velvet-underground-x-jacques-marie-mage-launch/
CATEGORIES:Event
ATTACH;FMTTYPE=image/png:https://laguestlist.com/wp-content/uploads/2020/02/Screen-Shot-2020-02-04-at-11.38.46-AM.png
END:VEVENT
BEGIN:VEVENT
DTSTART;TZID=America/Los_Angeles:20200206T190000
DTEND;TZID=America/Los_Angeles:20200206T220000
DTSTAMP:20260421T122624
CREATED:20200203T170515Z
LAST-MODIFIED:20200203T170515Z
UID:40021-1581015600-1581026400@laguestlist.com
SUMMARY:The Webster LA Grand Opening
DESCRIPTION:Invite Only – The Grand Opening Celebration of The Webster in Los Angeles hosted by Founder and Creative Director Laure Heriard Dubreuil\, Dakota Fanning and Arianne Phillips of the Oscar-nominated film\, Once Upon a Time in Hollywood\, as well as Tallulah Willis.
URL:https://laguestlist.com/event/the-webster-la-grand-opening/
CATEGORIES:Event
ATTACH;FMTTYPE=image/png:https://laguestlist.com/wp-content/uploads/2020/02/Screen-Shot-2020-02-03-at-9.03.09-AM.png
END:VEVENT
BEGIN:VEVENT
DTSTART;TZID=America/Los_Angeles:20200207T160000
DTEND;TZID=America/Los_Angeles:20200207T180000
DTSTAMP:20260421T122624
CREATED:20200203T165631Z
LAST-MODIFIED:20200203T165631Z
UID:40014-1581091200-1581098400@laguestlist.com
SUMMARY:Volcom x Coco Ho Launch Celebration
DESCRIPTION:Open – Pro Surfer Coco Ho’s In-Store Appearance at Nordstrom to Celebrate the Launch of Her New Volcom x Coco Ho Collection\, DIY Leis & Haikus\, Free Kopari Facials & Free Gift With Purchase.
URL:https://laguestlist.com/event/volcom-x-coco-ho-launch-celebration-2/
LOCATION:Nordstrom South Coast Plaza\, 3333 Bristol St\, Costa Mesa\, CA\, 92626\, United States
CATEGORIES:Event
ATTACH;FMTTYPE=image/jpeg:https://laguestlist.com/wp-content/uploads/2020/02/unnamed-1-1.jpg
END:VEVENT
BEGIN:VEVENT
DTSTART;TZID=America/Los_Angeles:20200207T190000
DTEND;TZID=America/Los_Angeles:20200207T220000
DTSTAMP:20260421T122624
CREATED:20200203T192909Z
LAST-MODIFIED:20200203T192909Z
UID:40033-1581102000-1581112800@laguestlist.com
SUMMARY:Vanity Fair Celebrates Neon Studio’s Parasite and Honeyland
DESCRIPTION:Invite Only – Vanity Fair Celebrates Neon Studio’s Parasite and Honeyland with a private cocktail party at Chateau Marmont on Friday night\, with the cast\, filmmakers\, and friends of the films.
URL:https://laguestlist.com/event/vanity-fair-celebrates-neon-studios-parasite-and-honeyland/
CATEGORIES:Event,Oscars
ATTACH;FMTTYPE=image/jpeg:https://laguestlist.com/wp-content/uploads/2020/02/neon-logo-small.jpg
END:VEVENT
BEGIN:VEVENT
DTSTART;TZID=America/Los_Angeles:20200208T190000
DTEND;TZID=America/Los_Angeles:20200208T220000
DTSTAMP:20260421T122624
CREATED:20200204T030213Z
LAST-MODIFIED:20200204T030213Z
UID:40049-1581188400-1581199200@laguestlist.com
SUMMARY:Morrison Hotel 50th Anniversary Celebration
DESCRIPTION:Invite Only – Upon the half-centennial of The Doors’ epochal album and the 20th anniversary of Morrison Hotel Gallery\, guests will meet for special homecoming celebration hosted by John Varvatos and Timothy White with special appearances from The Doors’ Robby Kreiger\, legendary photographer Henry Diltz and other industry trailblazers. From an exhibition of rare images and never-before-seen outtakes from Diltz’s historic session to poolside performances by a star-studded supergroup.
URL:https://laguestlist.com/event/morrison-hotel-50th-anniversary-celebration/
CATEGORIES:Event,Photography
ATTACH;FMTTYPE=image/png:https://laguestlist.com/wp-content/uploads/2020/02/Screen-Shot-2020-02-03-at-6.58.01-PM.png
END:VEVENT
BEGIN:VEVENT
DTSTART;TZID=America/Los_Angeles:20200209T153000
DTEND;TZID=America/Los_Angeles:20200209T213000
DTSTAMP:20260421T122624
CREATED:20200204T023824Z
LAST-MODIFIED:20200204T023824Z
UID:40039-1581262200-1581283800@laguestlist.com
SUMMARY:Elton John AIDS Foundation Academy Awards Viewing Party
DESCRIPTION:Invite Only – Jonathan van Ness along with his co-hosts Tan France\, Karamo Brown\, and Bobby Berk will join Elton John and David Furnish at the 28th Annual Elton John AIDS Foundation Academy Awards Viewing Party.
URL:https://laguestlist.com/event/elton-john-aids-foundation-academy-awards-viewing-party/
LOCATION:West Hollywood Park\, 647 N San Vicente Blvd\, West Hollywood\, CA\, 90069\, United States
CATEGORIES:Event,Oscars
ATTACH;FMTTYPE=image/png:https://laguestlist.com/wp-content/uploads/2020/02/Screen-Shot-2020-02-03-at-6.33.30-PM.png
END:VEVENT
BEGIN:VEVENT
DTSTART;TZID=America/Los_Angeles:20200213T180000
DTEND;TZID=America/Los_Angeles:20200213T200000
DTSTAMP:20260421T122624
CREATED:20200212T010403Z
LAST-MODIFIED:20200212T010403Z
UID:40178-1581616800-1581624000@laguestlist.com
SUMMARY:Boiler Room Los Angeles x Opening Ceremony
DESCRIPTION:Invite Only – Boiler Room x Opening Ceremony Kick-off party for their Club 20/20 Los Angeles takeover with Mia Carucci and Mistervacation.
URL:https://laguestlist.com/event/boiler-room-los-angeles-x-opening-ceremony/
CATEGORIES:Event,Music
ATTACH;FMTTYPE=image/png:https://laguestlist.com/wp-content/uploads/2020/02/Screen-Shot-2020-02-11-at-5.02.03-PM.png
END:VEVENT
END:VCALENDAR