BEGIN:VCALENDAR
VERSION:2.0
PRODID:-//LA Guestlist - ECPv6.15.20//NONSGML v1.0//EN
CALSCALE:GREGORIAN
METHOD:PUBLISH
X-WR-CALNAME:LA Guestlist
X-ORIGINAL-URL:https://laguestlist.com
X-WR-CALDESC:Events for LA Guestlist
REFRESH-INTERVAL;VALUE=DURATION:PT1H
X-Robots-Tag:noindex
X-PUBLISHED-TTL:PT1H
BEGIN:VTIMEZONE
TZID:America/Los_Angeles
BEGIN:DAYLIGHT
TZOFFSETFROM:-0800
TZOFFSETTO:-0700
TZNAME:PDT
DTSTART:20190310T100000
END:DAYLIGHT
BEGIN:STANDARD
TZOFFSETFROM:-0700
TZOFFSETTO:-0800
TZNAME:PST
DTSTART:20191103T090000
END:STANDARD
BEGIN:DAYLIGHT
TZOFFSETFROM:-0800
TZOFFSETTO:-0700
TZNAME:PDT
DTSTART:20200308T100000
END:DAYLIGHT
BEGIN:STANDARD
TZOFFSETFROM:-0700
TZOFFSETTO:-0800
TZNAME:PST
DTSTART:20201101T090000
END:STANDARD
BEGIN:DAYLIGHT
TZOFFSETFROM:-0800
TZOFFSETTO:-0700
TZNAME:PDT
DTSTART:20210314T100000
END:DAYLIGHT
BEGIN:STANDARD
TZOFFSETFROM:-0700
TZOFFSETTO:-0800
TZNAME:PST
DTSTART:20211107T090000
END:STANDARD
END:VTIMEZONE
BEGIN:VEVENT
DTSTART;TZID=America/Los_Angeles:20200509T130000
DTEND;TZID=America/Los_Angeles:20200509T180000
DTSTAMP:20260420T014709
CREATED:20200506T190227Z
LAST-MODIFIED:20200506T190227Z
UID:40668-1589029200-1589047200@laguestlist.com
SUMMARY:SHEIN Together Virtual Event
DESCRIPTION:Live Link – Global industry-leading e-retailer SHEIN\, announces the brand’s first-ever digital entertainment festival\, SHEIN Together on May 9\, 2020. The four-hour digital event SHEIN Together will be streamed via SHEIN’s free app and will help to support and raise awareness and donations to benefit the COVID-19 Solidarity Response Fund for the World Health Organization (WHO) – powered by the United Nations Foundation. The COVID-19 Solidarity Response Fund for the WHO is the only way individuals\, corporations\, foundations\, and other organizations around the world can directly support WHO’s global work to help countries prevent\, detect\, and respond to the COVID-19 pandemic. This fund also supports the work of two partners\, UNICEF and the Coalition for Epidemic Preparedness Innovations (CEPI). The unique virtual showcase begins Saturday\, May 9th at 1 pm PT and will be packed with exclusive music performances\, celebrity segments\, special influencer appearances\, and TikTok guests. Hosted by E! News’ “The Rundown” host Erin Lim\, viewers will also see a beauty tutorial by Chrisspy\, at-home styling sessions by celebrity stylists Maeve Reilly and Karla Welch\, and plenty of surprises!
URL:https://laguestlist.com/event/shein-together-virtual-event/
LOCATION:CA
CATEGORIES:Event
ATTACH;FMTTYPE=image/jpeg:https://laguestlist.com/wp-content/uploads/2020/05/unnamed.jpg
END:VEVENT
BEGIN:VEVENT
DTSTART;TZID=America/Los_Angeles:20200516T190000
DTEND;TZID=America/Los_Angeles:20200516T220000
DTSTAMP:20260420T014709
CREATED:20200506T190613Z
LAST-MODIFIED:20200506T190613Z
UID:40671-1589655600-1589666400@laguestlist.com
SUMMARY:#GraduateTogether Class of 2020
DESCRIPTION:Live Link – As coronavirus has prompted the cancellation of high school graduation ceremonies\, some of the nation’s biggest media companies will honor the more than 3 million high school seniors across the country with a joyful tribute to the Class of 2020. Graduate Together: America Honors the High School Class of 2020\, on Saturday\, May 16 with LeBron James\, Bad Bunny\, Charli D’Amelio\, Dixie D’Amelio\, Chika\, YBN Cordae\, Loren Gray\, H.E.R.\, the Jonas Brothers\, Brandan Bmike Odums\, Ben Platt\, Henry Platt\, Jonah Platt\, Megan Rapinoe\, Yara Shahidi\, Lena Waithe\, Pharrell Williams\, Malala Yousafzai\, and many more will participate in #GraduateTogether.
URL:https://laguestlist.com/event/graduatetogether-class-of-2020/
LOCATION:CA
CATEGORIES:Event
ATTACH;FMTTYPE=image/png:https://laguestlist.com/wp-content/uploads/2020/05/Screen-Shot-2020-05-06-at-12.05.31-PM.png
END:VEVENT
BEGIN:VEVENT
DTSTART;TZID=America/Los_Angeles:20200530T190000
DTEND;TZID=America/Los_Angeles:20200530T210000
DTSTAMP:20260420T014709
CREATED:20200529T170617Z
LAST-MODIFIED:20200529T170617Z
UID:40771-1590865200-1590872400@laguestlist.com
SUMMARY:We Rise 2020: Conversation + Performance with Miguel
DESCRIPTION:Virtual Party – Tune in for an exclusive performance and conversation with Miguel. Followed by a one-on-one conversation with Madison Bailey and Lacy Hartselle. There’s a full roster of powerful voices lined up as we close out Mental Health Awareness Month and gear up to continue these important conversations all year long.
URL:https://laguestlist.com/event/we-rise-2020-conversation-performance-with-miguel/
LOCATION:CA
CATEGORIES:Event
ATTACH;FMTTYPE=image/jpeg:https://laguestlist.com/wp-content/uploads/2020/05/unnamed-3.jpg
END:VEVENT
END:VCALENDAR