BEGIN:VCALENDAR
VERSION:2.0
PRODID:-//LA Guestlist - ECPv6.15.20//NONSGML v1.0//EN
CALSCALE:GREGORIAN
METHOD:PUBLISH
X-WR-CALNAME:LA Guestlist
X-ORIGINAL-URL:https://laguestlist.com
X-WR-CALDESC:Events for LA Guestlist
REFRESH-INTERVAL;VALUE=DURATION:PT1H
X-Robots-Tag:noindex
X-PUBLISHED-TTL:PT1H
BEGIN:VTIMEZONE
TZID:America/Los_Angeles
BEGIN:DAYLIGHT
TZOFFSETFROM:-0800
TZOFFSETTO:-0700
TZNAME:PDT
DTSTART:20170312T100000
END:DAYLIGHT
BEGIN:STANDARD
TZOFFSETFROM:-0700
TZOFFSETTO:-0800
TZNAME:PST
DTSTART:20171105T090000
END:STANDARD
BEGIN:DAYLIGHT
TZOFFSETFROM:-0800
TZOFFSETTO:-0700
TZNAME:PDT
DTSTART:20180311T100000
END:DAYLIGHT
BEGIN:STANDARD
TZOFFSETFROM:-0700
TZOFFSETTO:-0800
TZNAME:PST
DTSTART:20181104T090000
END:STANDARD
BEGIN:DAYLIGHT
TZOFFSETFROM:-0800
TZOFFSETTO:-0700
TZNAME:PDT
DTSTART:20190310T100000
END:DAYLIGHT
BEGIN:STANDARD
TZOFFSETFROM:-0700
TZOFFSETTO:-0800
TZNAME:PST
DTSTART:20191103T090000
END:STANDARD
END:VTIMEZONE
BEGIN:VEVENT
DTSTART;TZID=America/Los_Angeles:20180101T140000
DTEND;TZID=America/Los_Angeles:20180101T220000
DTSTAMP:20260423T085033
CREATED:20171226T205905Z
LAST-MODIFIED:20171226T205905Z
UID:29764-1514815200-1514844000@laguestlist.com
SUMMARY:The New-Over - New Year's Day in L.A.
DESCRIPTION:RSVP – The Do-Over and adidas Originals kick off 2018 in a major way! The New-Over returns\, saving your New Year’s festivities with our annual New Year’s Day swirler to give you your first best party of 2018! Open vodka bar from 2-3pm + the big blue VOID x adidas Originals x The Do-Over Sound System keeping the bounce moving!
URL:https://laguestlist.com/event/new-new-years-day-l/
LOCATION:Lure Nightclub\, 1439 Ivar Ave\, Los Angeles\, CA\, 90028\, United States
CATEGORIES:Event
ATTACH;FMTTYPE=image/png:https://laguestlist.com/wp-content/uploads/2017/12/unnamed-1-2.png
END:VEVENT
BEGIN:VEVENT
DTSTART;TZID=America/Los_Angeles:20180117T183000
DTEND;TZID=America/Los_Angeles:20180117T210000
DTSTAMP:20260423T085033
CREATED:20180111T213119Z
LAST-MODIFIED:20180111T213119Z
UID:29970-1516213800-1516222800@laguestlist.com
SUMMARY:Style On The Spot x Kendra Scott Spring Soiree
DESCRIPTION:RSVP – Style On The Spot invites you to our Spring Soiree at Kendra Scott’s 2018 Spring launch! The event will display this season’s new compilation of gorgeous looks with materials like Amazonite\, Navy Dusted Glass and Blush Mother-of-Pearl\, infusing the collection with a mix of blush\, blue and neutrals.
URL:https://laguestlist.com/event/style-spot-x-kendra-scott-spring-soiree/
LOCATION:Kendra Scott\, 830 South Sepulveda Boulevard\, El Segundo\, CA\, 90245\, United States
CATEGORIES:Event
ATTACH;FMTTYPE=image/jpeg:https://laguestlist.com/wp-content/uploads/2018/01/https_2F2Fcdn.evbuc_.com2Fimages2F394201032F1797818669942F12Foriginal.jpg
END:VEVENT
BEGIN:VEVENT
DTSTART;TZID=America/Los_Angeles:20180118T210000
DTEND;TZID=America/Los_Angeles:20180118T210000
DTSTAMP:20260423T085033
CREATED:20180111T205417Z
LAST-MODIFIED:20180111T205417Z
UID:29945-1516309200-1516309200@laguestlist.com
SUMMARY:Casper x American Airlines 'A Night in Flight'
DESCRIPTION:Invite Only – Casper & American Airlines presents”A Night in Flight\,” hosted by Jamie Foxx. Join Casper and American Airlines to celebrate the partnership of your dreams.
URL:https://laguestlist.com/event/casper-x-american-airlines-night-flight/
LOCATION:CA
CATEGORIES:Event
ATTACH;FMTTYPE=image/png:https://laguestlist.com/wp-content/uploads/2018/01/Screen-Shot-2018-01-11-at-12.50.53-PM.png
END:VEVENT
BEGIN:VEVENT
DTSTART;TZID=America/Los_Angeles:20180120T090000
DTEND;TZID=America/Los_Angeles:20180120T140000
DTSTAMP:20260423T085033
CREATED:20180111T211425Z
LAST-MODIFIED:20180111T211425Z
UID:29956-1516438800-1516456800@laguestlist.com
SUMMARY:Women's March Los Angeles
DESCRIPTION:Open – The Women’s March Los Angeles Foundation invites all the 750\,000 Angelenos who helped us fill the streets to join us AGAIN on January 20th\, 2018 in downtown LA! If you missed the last March – it’s not too late to be a part of history and we need you… together we will show the power of our collective voice!
URL:https://laguestlist.com/event/womens-march-los-angeles/
LOCATION:Downtown LA
CATEGORIES:Event
ATTACH;FMTTYPE=image/png:https://laguestlist.com/wp-content/uploads/2018/01/WMLAF_Horizontal_864px.png
END:VEVENT
BEGIN:VEVENT
DTSTART;TZID=America/Los_Angeles:20180122T113000
DTEND;TZID=America/Los_Angeles:20180122T120000
DTSTAMP:20260423T085033
CREATED:20180118T045148Z
LAST-MODIFIED:20180118T045148Z
UID:30060-1516620600-1516622400@laguestlist.com
SUMMARY:Minnie Mouse Hollywood Walk of Fame
DESCRIPTION:Open – On January 22\, Minnie will receive the 2\,627th star on the historic stretch of Hollywood Boulevard in honor of her 90 years of entertaining billions of people. Disney CEO Bob Iger and singer Katy Perry will be on hand to celebrate the momentous occasion right outside of Disney’s El Capitan Theatre\, where Minnie’s star\, given in the Motion Pictures category\, will be located.
URL:https://laguestlist.com/event/minnie-mouse-hollywood-walk-fame/
LOCATION:Hollywood & Highland
CATEGORIES:Event
ATTACH;FMTTYPE=image/jpeg:https://laguestlist.com/wp-content/uploads/2018/01/Minnie-Mouse-800x400.jpg
END:VEVENT
BEGIN:VEVENT
DTSTART;TZID=America/Los_Angeles:20180124T180000
DTEND;TZID=America/Los_Angeles:20180124T200000
DTSTAMP:20260423T085033
CREATED:20180124T053942Z
LAST-MODIFIED:20180124T053942Z
UID:30191-1516816800-1516824000@laguestlist.com
SUMMARY:Sugarfina xo Gray Malin
DESCRIPTION:Invite Only – Meet renowned photograpger\, Gray Malin and celebrate the Sugarfina xo Gray Malin candy collection with a chic evening of surprises and sweets.
URL:https://laguestlist.com/event/sugarfina-xo-gray-malin/
LOCATION:CA
CATEGORIES:Event
ATTACH;FMTTYPE=image/png:https://laguestlist.com/wp-content/uploads/2018/01/Screen-Shot-2018-01-23-at-9.34.08-PM.png
END:VEVENT
BEGIN:VEVENT
DTSTART;TZID=America/Los_Angeles:20180124T183000
DTEND;TZID=America/Los_Angeles:20180124T203000
DTSTAMP:20260423T085033
CREATED:20180124T054616Z
LAST-MODIFIED:20180124T054616Z
UID:30194-1516818600-1516825800@laguestlist.com
SUMMARY:Conde Nast x Women's March
DESCRIPTION:Invite Only – Conde Nast x Women’s March celebrate the one year anniversary of The Women’s March and release of Together We Rise.
URL:https://laguestlist.com/event/conde-nast-x-womens-march/
LOCATION:CA
CATEGORIES:Event
ATTACH;FMTTYPE=image/jpeg:https://laguestlist.com/wp-content/uploads/2018/01/81BJUV9RCoL.jpg
END:VEVENT
BEGIN:VEVENT
DTSTART;TZID=America/Los_Angeles:20180125T190000
DTEND;TZID=America/Los_Angeles:20180125T220000
DTSTAMP:20260423T085033
CREATED:20180121T223420Z
LAST-MODIFIED:20180121T223420Z
UID:30100-1516906800-1516917600@laguestlist.com
SUMMARY:Zappos x Cotton Incorporated Preview
DESCRIPTION:Invite Only – VIP preview of “Reframe Comfort\,” a limited-time pop-up shop at The Americana at Brand in Glendale\, CA on January 25th from 7PM-10PM\, where Cotton Incorporated has partnered with Zappos.com to showcase fashion-forward cotton athleisure trends for women and men during an artfully active weekend. The pop-up will host interactive activities throughout the weekend of January 26th – January 28th\, creating an immersive athleisure shopping experience.
URL:https://laguestlist.com/event/zappos-x-cotton-incorporated-preview/
LOCATION:The Americana at Brand\, 112 Caruso Ave\, Glendale\, CA\, 91210\, United States
CATEGORIES:Event
ATTACH;FMTTYPE=image/png:https://laguestlist.com/wp-content/uploads/2018/01/Screen-Shot-2018-01-21-at-2.32.16-PM.png
END:VEVENT
BEGIN:VEVENT
DTSTART;TZID=America/Los_Angeles:20180129T200000
DTEND;TZID=America/Los_Angeles:20180129T230000
DTSTAMP:20260423T085033
CREATED:20180111T212147Z
LAST-MODIFIED:20180111T212147Z
UID:29964-1517256000-1517266800@laguestlist.com
SUMMARY:SAM '76 California Launch Party
DESCRIPTION:Invite Only – Samuel Adams is celebrating Sam Adams’ newest lager & ale beer launch: Sam ’76.
URL:https://laguestlist.com/event/sam-76-california-launch-party/
LOCATION:CA
CATEGORIES:Event
ATTACH;FMTTYPE=image/jpeg:https://laguestlist.com/wp-content/uploads/2018/01/https_2F2Fcdn.evbuc_.com2Fimages2F381674432F2347036963372F12Foriginal.jpg
END:VEVENT
BEGIN:VEVENT
DTSTART;TZID=America/Los_Angeles:20180131T183000
DTEND;TZID=America/Los_Angeles:20180131T213000
DTSTAMP:20260423T085033
CREATED:20180124T181000Z
LAST-MODIFIED:20180124T181000Z
UID:30200-1517423400-1517434200@laguestlist.com
SUMMARY:@BarbieStyle x ShoeDazzle Dream House Party
DESCRIPTION:Invite Only – An exclusive party hosted by ShoeDazzle at @BarbieStyle’s West Hollywood Dream House. Each room will be decked out with special surprises (à la museum of ice cream) making it an Instagram-worthy bash with tons of treats\, cocktails\, dancing and more.
URL:https://laguestlist.com/event/barbiestyle-x-shoedazzle-dream-house-party/
LOCATION:CA
CATEGORIES:Event
ATTACH;FMTTYPE=image/jpeg:https://laguestlist.com/wp-content/uploads/2018/01/Barbie_1114_Blog-Banner_BB.jpg
END:VEVENT
BEGIN:VEVENT
DTSTART;TZID=America/Los_Angeles:20180131T190000
DTEND;TZID=America/Los_Angeles:20180131T220000
DTSTAMP:20260423T085033
CREATED:20180130T020508Z
LAST-MODIFIED:20180130T020508Z
UID:30243-1517425200-1517436000@laguestlist.com
SUMMARY:Footaction Private Event with Jonathan Mannion & Freddie Gibbs
DESCRIPTION:Invite Only – Footaction’s private event with Jonathan Mannion and Freddie Gibbs on Wednesday\, January 31 from 7 – 10 PM. Get a sneak peek of our exclusive new product line\, Be.Spoke. There will be a private pilot filming with talent\, along with lite bites and spirits.
URL:https://laguestlist.com/event/footaction-private-event-jonathan-mannion-freddie-gibbs/
LOCATION:Capsule 213 by Footaction\, 749 S. Broadway\, Los Angeles\, CA\, United States
CATEGORIES:Event,Fashion
ATTACH;FMTTYPE=image/png:https://laguestlist.com/wp-content/uploads/2018/01/Screen-Shot-2018-01-29-at-6.02.22-PM.png
END:VEVENT
END:VCALENDAR