BEGIN:VCALENDAR
VERSION:2.0
PRODID:-//LA Guestlist - ECPv6.15.20//NONSGML v1.0//EN
CALSCALE:GREGORIAN
METHOD:PUBLISH
X-WR-CALNAME:LA Guestlist
X-ORIGINAL-URL:https://laguestlist.com
X-WR-CALDESC:Events for LA Guestlist
REFRESH-INTERVAL;VALUE=DURATION:PT1H
X-Robots-Tag:noindex
X-PUBLISHED-TTL:PT1H
BEGIN:VTIMEZONE
TZID:America/Los_Angeles
BEGIN:DAYLIGHT
TZOFFSETFROM:-0800
TZOFFSETTO:-0700
TZNAME:PDT
DTSTART:20210314T100000
END:DAYLIGHT
BEGIN:STANDARD
TZOFFSETFROM:-0700
TZOFFSETTO:-0800
TZNAME:PST
DTSTART:20211107T090000
END:STANDARD
BEGIN:DAYLIGHT
TZOFFSETFROM:-0800
TZOFFSETTO:-0700
TZNAME:PDT
DTSTART:20220313T100000
END:DAYLIGHT
BEGIN:STANDARD
TZOFFSETFROM:-0700
TZOFFSETTO:-0800
TZNAME:PST
DTSTART:20221106T090000
END:STANDARD
BEGIN:DAYLIGHT
TZOFFSETFROM:-0800
TZOFFSETTO:-0700
TZNAME:PDT
DTSTART:20230312T100000
END:DAYLIGHT
BEGIN:STANDARD
TZOFFSETFROM:-0700
TZOFFSETTO:-0800
TZNAME:PST
DTSTART:20231105T090000
END:STANDARD
END:VTIMEZONE
BEGIN:VEVENT
DTSTART;TZID=America/Los_Angeles:20220806T190000
DTEND;TZID=America/Los_Angeles:20220806T230000
DTSTAMP:20260419T220624
CREATED:20220804T231645Z
LAST-MODIFIED:20220804T231645Z
UID:46318-1659812400-1659826800@laguestlist.com
SUMMARY:Cinespia Presents A League of Their Own 30th Anniversary
DESCRIPTION:Ticketed – Cinespia presents the 30th Anniversary Screening with Geena Davis and the stars of the new Prime Video Series A League of Their Own in person.
URL:https://laguestlist.com/event/cinespia-presents-a-league-of-their-own-30th-anniversary/
LOCATION:Hollywood Forever Cemetery\, 6000 Santa Monica Blvd\, Los Angeles\, CA\, 90038\, United States
CATEGORIES:Entertainment
ATTACH;FMTTYPE=image/png:https://laguestlist.com/wp-content/uploads/2022/08/League-Poster.png
END:VEVENT
END:VCALENDAR