BEGIN:VCALENDAR
VERSION:2.0
PRODID:-//LA Guestlist - ECPv6.15.20//NONSGML v1.0//EN
CALSCALE:GREGORIAN
METHOD:PUBLISH
X-ORIGINAL-URL:https://laguestlist.com
X-WR-CALDESC:Events for LA Guestlist
REFRESH-INTERVAL;VALUE=DURATION:PT1H
X-Robots-Tag:noindex
X-PUBLISHED-TTL:PT1H
BEGIN:VTIMEZONE
TZID:America/Los_Angeles
BEGIN:DAYLIGHT
TZOFFSETFROM:-0800
TZOFFSETTO:-0700
TZNAME:PDT
DTSTART:20200308T100000
END:DAYLIGHT
BEGIN:STANDARD
TZOFFSETFROM:-0700
TZOFFSETTO:-0800
TZNAME:PST
DTSTART:20201101T090000
END:STANDARD
BEGIN:DAYLIGHT
TZOFFSETFROM:-0800
TZOFFSETTO:-0700
TZNAME:PDT
DTSTART:20210314T100000
END:DAYLIGHT
BEGIN:STANDARD
TZOFFSETFROM:-0700
TZOFFSETTO:-0800
TZNAME:PST
DTSTART:20211107T090000
END:STANDARD
BEGIN:DAYLIGHT
TZOFFSETFROM:-0800
TZOFFSETTO:-0700
TZNAME:PDT
DTSTART:20220313T100000
END:DAYLIGHT
BEGIN:STANDARD
TZOFFSETFROM:-0700
TZOFFSETTO:-0800
TZNAME:PST
DTSTART:20221106T090000
END:STANDARD
END:VTIMEZONE
BEGIN:VEVENT
DTSTART;TZID=America/Los_Angeles:20210915T180000
DTEND;TZID=America/Los_Angeles:20210915T230000
DTSTAMP:20260420T114745
CREATED:20210915T171536Z
LAST-MODIFIED:20210915T171536Z
UID:44525-1631728800-1631746800@laguestlist.com
SUMMARY:Wu-Tang Series Emmy Nomination Party
DESCRIPTION:Invite Only – Celebrating Season 2 on the Wu-Tang: An American Saga on Hulu. This is a\nwatch party with an open bar and food to celebrate the new season with the cast and celebrity friends.
URL:https://laguestlist.com/event/wu-tang-series-emmy-nomination-party/
LOCATION:CA
CATEGORIES:Entertainment
ATTACH;FMTTYPE=image/jpeg:https://laguestlist.com/wp-content/uploads/2021/09/unnamed-3.jpg
END:VEVENT
END:VCALENDAR