BEGIN:VCALENDAR
VERSION:2.0
PRODID:-//LA Guestlist - ECPv6.15.20//NONSGML v1.0//EN
CALSCALE:GREGORIAN
METHOD:PUBLISH
X-WR-CALNAME:LA Guestlist
X-ORIGINAL-URL:https://laguestlist.com
X-WR-CALDESC:Events for LA Guestlist
REFRESH-INTERVAL;VALUE=DURATION:PT1H
X-Robots-Tag:noindex
X-PUBLISHED-TTL:PT1H
BEGIN:VTIMEZONE
TZID:America/Los_Angeles
BEGIN:DAYLIGHT
TZOFFSETFROM:-0800
TZOFFSETTO:-0700
TZNAME:PDT
DTSTART:20170312T100000
END:DAYLIGHT
BEGIN:STANDARD
TZOFFSETFROM:-0700
TZOFFSETTO:-0800
TZNAME:PST
DTSTART:20171105T090000
END:STANDARD
BEGIN:DAYLIGHT
TZOFFSETFROM:-0800
TZOFFSETTO:-0700
TZNAME:PDT
DTSTART:20180311T100000
END:DAYLIGHT
BEGIN:STANDARD
TZOFFSETFROM:-0700
TZOFFSETTO:-0800
TZNAME:PST
DTSTART:20181104T090000
END:STANDARD
BEGIN:DAYLIGHT
TZOFFSETFROM:-0800
TZOFFSETTO:-0700
TZNAME:PDT
DTSTART:20190310T100000
END:DAYLIGHT
BEGIN:STANDARD
TZOFFSETFROM:-0700
TZOFFSETTO:-0800
TZNAME:PST
DTSTART:20191103T090000
END:STANDARD
END:VTIMEZONE
BEGIN:VEVENT
DTSTART;TZID=America/Los_Angeles:20180329T200000
DTEND;TZID=America/Los_Angeles:20180329T230000
DTSTAMP:20260420T033549
CREATED:20180325T192006Z
LAST-MODIFIED:20180325T192006Z
UID:31702-1522353600-1522364400@laguestlist.com
SUMMARY:Fia NyXX Album Release Party
DESCRIPTION:Ticketed – Join Fia NyXX for her West Coast album release party on March 29 at The Mint! Fia released her EP entitled\, “Everything Girl” on March 23 and is bringing together fans and industry alike to celebrate. Doors open at 8 pm\, show at 9 pm. Fia NyXX adds a unique flair to pop music paying tribute to the soulful sounds of the Motown era. This larger-than-life show will feature an extravagant production complete with an eight piece band and backup dancers. You’ll be immersed into a classic old Hollywood setting\, fused with an all-night dance party. \n** Make sure to mention LA Guestlist at the bar for drink specials on the signature cocktail ‘She Devil’ and beer **
URL:https://laguestlist.com/event/fia-nyxx-album-release-party/
LOCATION:The Mint\, 6010 West Pico Blvd. \, Los Angeles\, CA\, 90035\, United States
CATEGORIES:Concert,Music
ATTACH;FMTTYPE=image/jpeg:https://laguestlist.com/wp-content/uploads/2018/03/unnamed-4-3.jpg
END:VEVENT
BEGIN:VEVENT
DTSTART;TZID=America/Los_Angeles:20180331T180000
DTEND;TZID=America/Los_Angeles:20180331T210000
DTSTAMP:20260420T033549
CREATED:20180329T153521Z
LAST-MODIFIED:20180329T153521Z
UID:31874-1522519200-1522530000@laguestlist.com
SUMMARY:Freya Ridings w/ Support from JP Saxe
DESCRIPTION:Ticketed – Freya Ridings is a singer-songwriter based in London\, UK. In 2017\, she debuted her pop ballad “Blackout” and released several other viral chart-topping releases. A magnetic live performer\, Ridings garnered attention from new music fans after supporting Lewis Capaldi\, Tash Sultana\, Dotan\, and Tears for Fears on their respective European tours. This spring Freya embarks on her first-ever North American tour opening for Ella Vos.
URL:https://laguestlist.com/event/freya-ridings-w-support-from-jp-saxe/
LOCATION:Hotel Cafe\, 1623 1/2 N Cahuenga Blvd\, Los Angeles\, CA\, 90028\, United States
CATEGORIES:Concert
ATTACH;FMTTYPE=image/jpeg:https://laguestlist.com/wp-content/uploads/2018/03/unnamed-9-2.jpg
END:VEVENT
BEGIN:VEVENT
DTSTART;TZID=America/Los_Angeles:20180331T190000
DTEND;TZID=America/Los_Angeles:20180331T230000
DTSTAMP:20260420T033549
CREATED:20180326T000647Z
LAST-MODIFIED:20180326T000715Z
UID:31744-1522522800-1522537200@laguestlist.com
SUMMARY:TidalX: Deadmau5 “Where's the Drop?”
DESCRIPTION:Ticketed – On Saturday\, March 31st and Sunday\, April 1\, TIDAL invites you to join electronic music icon deadmau5  at the legendary Wiltern Theatre in Los Angeles\, CA. At TIDAL X: deadmau5 “where’s the drop?”\, the prolific artist will be joined by a full orchestra to perform his music as orchestral pieces re-envisioned by musical director Gregory Reveret.
URL:https://laguestlist.com/event/tidalx-deadmau5-wheres-the-drop/
LOCATION:The Wiltern\, 3790 Wilshire Blvd\, Los Angeles\, CA\, 90010\, United States
CATEGORIES:Concert
ATTACH;FMTTYPE=image/jpeg:https://laguestlist.com/wp-content/uploads/2018/03/750x500.jpg
END:VEVENT
BEGIN:VEVENT
DTSTART;TZID=America/Los_Angeles:20180331T200000
DTEND;TZID=America/Los_Angeles:20180331T200000
DTSTAMP:20260420T033549
CREATED:20180127T231353Z
LAST-MODIFIED:20180127T231353Z
UID:30213-1522526400-1522526400@laguestlist.com
SUMMARY:Insomniac Presents Marshmello
DESCRIPTION:Ticketed – (18+) Chart-topping anonymous producer and DJ Marshmello announced today that he is set to perform at the iconic Los Angeles Convention Center on Saturday\, March 31. Presented by Insomniac\, the event marks Marshmello’s largest individually ticketed show and the fourth in a series of historical dance music events at the Convention Center in its 45-year history. “Gucci Gang” rapper\, Lil Pump\, will be joining Marshmello as he brings his Melloville tour to Los Angeles.
URL:https://laguestlist.com/event/insomniac-presents-marshmello/
LOCATION:LA Convention Center\, 1201 S Figueroa St\, Los Angeles\, CA\, 90015\, United States
CATEGORIES:Concert
ATTACH;FMTTYPE=image/png:https://laguestlist.com/wp-content/uploads/2018/01/Screen-Shot-2018-01-27-at-3.11.43-PM.png
END:VEVENT
BEGIN:VEVENT
DTSTART;TZID=America/Los_Angeles:20180403T203000
DTEND;TZID=America/Los_Angeles:20180403T233000
DTSTAMP:20260420T033549
CREATED:20180329T153945Z
LAST-MODIFIED:20180329T153945Z
UID:31877-1522787400-1522798200@laguestlist.com
SUMMARY:Emo Nite LA at The Echoplex
DESCRIPTION:$10 at the Door – Bringing together people who share the love of emo rock music from the 90’s\, 2000’s\, and today\, Emo Nite LA\, the event started by three friends at a small dive bar has grown into a full-blown phenomenon that has attracted some of the biggest and most diverse names in entertainment.
URL:https://laguestlist.com/event/emo-nite-la-at-the-echoplex/
LOCATION:Echoplex\, 1822 Sunset Blvd\, Los Angeles\, CA\, 90026\, United States
CATEGORIES:Concert
ATTACH;FMTTYPE=image/jpeg:https://laguestlist.com/wp-content/uploads/2018/03/unnamed-6-2.jpg
END:VEVENT
BEGIN:VEVENT
DTSTART;TZID=America/Los_Angeles:20180413T200000
DTEND;TZID=America/Los_Angeles:20180413T230000
DTSTAMP:20260420T033549
CREATED:20180409T035435Z
LAST-MODIFIED:20180409T035435Z
UID:32203-1523649600-1523660400@laguestlist.com
SUMMARY:"My Dick" Anniversary Tour with Dirt Nasty
DESCRIPTION:Ticketed – “My Dick” 11th Anniversary Tour at the Roxy with Dirt Nasty\, Mickey Avalon and special guests.
URL:https://laguestlist.com/event/my-dick-anniversary-tour-with-dirt-nasty/
LOCATION:The Roxy\, 9009 West Sunset Blvd. \, West Hollywood\, CA\, 90069\, United States
CATEGORIES:Concert
ATTACH;FMTTYPE=image/png:https://laguestlist.com/wp-content/uploads/2018/04/Screen-Shot-2018-04-08-at-8.52.23-PM.png
END:VEVENT
BEGIN:VEVENT
DTSTART;TZID=America/Los_Angeles:20180414T200000
DTEND;TZID=America/Los_Angeles:20180414T230000
DTSTAMP:20260420T033549
CREATED:20180409T042201Z
LAST-MODIFIED:20180409T042201Z
UID:32228-1523736000-1523746800@laguestlist.com
SUMMARY:Camila Cabello "Never be the Same" Tour
DESCRIPTION:Ticketed – “Havana” singer Camila Cabello comes to Hollywood Palladium on Saturday 14th April 2018 on her Never Be the Same Tour! Named after the album’s first track\, the tour sees former Fifth Harmony member Cabello performing songs from her smash hit number-one debut album!
URL:https://laguestlist.com/event/camila-cabello-never-be-the-same-tour/
LOCATION:The Palladium\, 6215 Sunset Boulevard\,  Los Angeles\, CA\, 90028\, United States
CATEGORIES:Concert
ATTACH;FMTTYPE=image/png:https://laguestlist.com/wp-content/uploads/2018/04/camila-cabelo-2018-hollywood-palladium.png
END:VEVENT
BEGIN:VEVENT
DTSTART;TZID=America/Los_Angeles:20180427T100000
DTEND;TZID=America/Los_Angeles:20180427T140000
DTSTAMP:20260420T033549
CREATED:20180418T181813Z
LAST-MODIFIED:20180418T181813Z
UID:32480-1524823200-1524837600@laguestlist.com
SUMMARY:H2O+ Beauty Oasis at Stagecoach
DESCRIPTION:RSVP –  join us at the H2O+ Beauty Oasis! Over April 27th and April 28th\, we will be hosting a series of exciting events at the jaw-dropping Zenyara property in Indio. \nDuring our day events\, VIP guests can expect spa treatments\, surprise performances\, an exclusive songwriter panel\, and more. Nighttime events will include the desert’s most exciting party outside of the festival grounds during country music’s biggest weekend.
URL:https://laguestlist.com/event/h2o-beauty-oasis-at-stagecoach/
LOCATION:CA
CATEGORIES:Concert
ATTACH;FMTTYPE=image/png:https://laguestlist.com/wp-content/uploads/2018/04/unnamed-2-3.png
END:VEVENT
BEGIN:VEVENT
DTSTART;TZID=America/Los_Angeles:20180427T120000
DTEND;TZID=America/Los_Angeles:20180427T150000
DTSTAMP:20260420T033549
CREATED:20180425T174924Z
LAST-MODIFIED:20180425T174924Z
UID:32774-1524830400-1524841200@laguestlist.com
SUMMARY:Private BBQ with Florida Georgia Line and Old Camp Whiskey
DESCRIPTION:Invite Only – In celebration of their upcoming headliner performance at THE biggest Country Music festival in Indio\, CA\, Florida Georgia Line will be hosting a private pregame BBQ with Old Camp Whiskey to toast with family\, friends and Country Music lovers alike!
URL:https://laguestlist.com/event/private-bbq-with-florida-georgia-line-and-old-camp-whiskey/
LOCATION:CA
CATEGORIES:Concert,Event
ATTACH;FMTTYPE=image/png:https://laguestlist.com/wp-content/uploads/2018/04/Screen-Shot-2018-04-25-at-10.33.48-AM.png
END:VEVENT
BEGIN:VEVENT
DTSTART;TZID=America/Los_Angeles:20180428T120000
DTEND;TZID=America/Los_Angeles:20180428T160000
DTSTAMP:20260420T033549
CREATED:20180424T175035Z
LAST-MODIFIED:20180424T175035Z
UID:32745-1524916800-1524931200@laguestlist.com
SUMMARY:100 Years of Chevy Trucks at Boots On Stage
DESCRIPTION:Invite Only – Celebrating 100 Years of Chevy Trucks at Boots On Stage 3rd Annual Shindig\, In The Desert Presented by Chevrolet during Stage Coach Weekend.
URL:https://laguestlist.com/event/100-years-of-chevy-trucks-at-boots-on-stage/
LOCATION:CA
CATEGORIES:Concert
ATTACH;FMTTYPE=image/png:https://laguestlist.com/wp-content/uploads/2018/04/Screen-Shot-2018-04-24-at-10.48.27-AM.png
END:VEVENT
BEGIN:VEVENT
DTSTART;TZID=America/Los_Angeles:20180428T200000
DTEND;TZID=America/Los_Angeles:20180428T230000
DTSTAMP:20260420T033549
CREATED:20180426T195419Z
LAST-MODIFIED:20180426T195419Z
UID:32822-1524945600-1524956400@laguestlist.com
SUMMARY:Justin Timberlake's 'Man of the Woods' Tour
DESCRIPTION:Ticketed – Following his performance on Sunday’s Super Bowl halftime show\, Justin Timberlake has added 85 dates to the Man of the Woods tour stopping at the Forum in Los Angeles.
URL:https://laguestlist.com/event/justin-timberlakes-man-of-the-woods-tour/
LOCATION:The Forum\, 3900 W Manchester Blvd\, Inglewood\, CA\, 90305\, United States
CATEGORIES:Concert
ATTACH;FMTTYPE=image/jpeg:https://laguestlist.com/wp-content/uploads/2018/04/Artist-Image-15da9a50da.jpg
END:VEVENT
BEGIN:VEVENT
DTSTART;TZID=America/Los_Angeles:20180429T150000
DTEND;TZID=America/Los_Angeles:20180429T220000
DTSTAMP:20260420T033549
CREATED:20180312T210631Z
LAST-MODIFIED:20180409T203314Z
UID:31383-1525014000-1525039200@laguestlist.com
SUMMARY:Jeffrey Sanker Presents the 29th Annual White Party Palm Springs
DESCRIPTION:Ticketed – Jeffrey Sanker Presents is happy to announce the 29th Annual White Party Palm Springs\, a three-day festival of entertainment\, music by renowned DJ’s and with a headline performance-by Grammy Award winner\, Kylie Minogue. Jeffrey Sanker’s White Party Palm Springs will be April 27th thru April 30th in Palm Springs\, California. World superstar and LGBTQ+ icon Kylie Minogue is set to headline the 29th Annual White Party Palm Springs with a performance on the 29th of April\, fresh off her newly released album GOLDEN and her hit single DANCING. The three-day music festival attracts over 30\,000 people of the LGBTQ+ community. Jeffrey Sanker has been cultivating this LGBTQ+ weekend long festival for the last 29 years.
URL:https://laguestlist.com/event/jeffrey-sanker-presents-the-29th-annual-white-party-palm-springs/
LOCATION:Palm Springs
CATEGORIES:Concert
ATTACH;FMTTYPE=image/jpeg:https://laguestlist.com/wp-content/uploads/2018/03/unnamed-2-4.jpg
END:VEVENT
BEGIN:VEVENT
DTSTART;TZID=America/Los_Angeles:20180429T200000
DTEND;TZID=America/Los_Angeles:20180429T230000
DTSTAMP:20260420T033549
CREATED:20180426T195554Z
LAST-MODIFIED:20180426T195554Z
UID:32825-1525032000-1525042800@laguestlist.com
SUMMARY:Justin Timberlake's 'Man of the Woods' Tour
DESCRIPTION:Ticketed – Following his performance on Sunday’s Super Bowl halftime show\, Justin Timberlake has added 85 dates to the Man of the Woods tour stopping at the Forum in Los Angeles.
URL:https://laguestlist.com/event/justin-timberlakes-man-of-the-woods-tour-2/
LOCATION:The Forum\, 3900 W Manchester Blvd\, Inglewood\, CA\, 90305\, United States
CATEGORIES:Concert
ATTACH;FMTTYPE=image/jpeg:https://laguestlist.com/wp-content/uploads/2018/04/Artist-Image-15da9a50da.jpg
END:VEVENT
BEGIN:VEVENT
DTSTART;TZID=America/Los_Angeles:20180505T200000
DTEND;TZID=America/Los_Angeles:20180505T230000
DTSTAMP:20260420T033549
CREATED:20180425T181932Z
LAST-MODIFIED:20180425T181932Z
UID:32795-1525550400-1525561200@laguestlist.com
SUMMARY:Leon Bridges 'Good Things' Album Release Show
DESCRIPTION:Ticketed –  Leon Bridges has announced a special Los Angeles performance at The Troubadour for Saturday\, May 5. The soul singer will be shaking things up in West Hollywood in celebration of his album release. His forthcoming sophomore album\, Good Thing\, is out May 4.
URL:https://laguestlist.com/event/leon-bridges-good-things-album-release-show/
LOCATION:Troubadour\, 9081 Santa Monica Blvd\, West Hollywood\, CA\, 90069\, United States
CATEGORIES:Concert
ATTACH;FMTTYPE=image/png:https://laguestlist.com/wp-content/uploads/2018/04/Screen-Shot-2018-04-25-at-11.15.14-AM.png
END:VEVENT
BEGIN:VEVENT
DTSTART;TZID=America/Los_Angeles:20180516T200000
DTEND;TZID=America/Los_Angeles:20180516T230000
DTSTAMP:20260420T033549
CREATED:20180511T220505Z
LAST-MODIFIED:20180511T220505Z
UID:33142-1526500800-1526511600@laguestlist.com
SUMMARY:Levis 501 Day
DESCRIPTION:Invite Only – Levis 501 Day Celebration with an all-star music lineup\, drinks\, customization and Levi’s XKarla Gallery.
URL:https://laguestlist.com/event/levis-501-day/
LOCATION:CA
CATEGORIES:Concert,Fashion
ATTACH;FMTTYPE=image/png:https://laguestlist.com/wp-content/uploads/2018/05/Screen-Shot-2018-05-11-at-2.54.25-PM.png
END:VEVENT
BEGIN:VEVENT
DTSTART;TZID=America/Los_Angeles:20180517T180000
DTEND;TZID=America/Los_Angeles:20180517T200000
DTSTAMP:20260420T033549
CREATED:20180516T005212Z
LAST-MODIFIED:20180516T005212Z
UID:33251-1526580000-1526587200@laguestlist.com
SUMMARY:Samsung Presents: KYLE in Concert
DESCRIPTION:RSVP – Join Samsung for the celebration of KYLE’s latest album\, Light of Mine\, the night before the release at Galaxy Studio on The Green.
URL:https://laguestlist.com/event/samsung-presents-kyle-in-concert/
LOCATION:Americana\, 889 Americana Way\, Glendale\, CA\, 91210\, United States
CATEGORIES:Concert
ATTACH;FMTTYPE=image/png:https://laguestlist.com/wp-content/uploads/2018/05/unnamed-1.png
END:VEVENT
BEGIN:VEVENT
DTSTART;TZID=America/Los_Angeles:20180521T200000
DTEND;TZID=America/Los_Angeles:20180521T230000
DTSTAMP:20260420T033549
CREATED:20180501T213028Z
LAST-MODIFIED:20180501T213028Z
UID:32899-1526932800-1526943600@laguestlist.com
SUMMARY:Florence and The Machine at Walt Disney Concert Hall
DESCRIPTION:Ticketed – Florence Welch and her band are set to perform at New York’s Brooklyn Academy of Music on May 13-14\, and at Los Angeles’ Walt Disney Concert Hall on May 21.
URL:https://laguestlist.com/event/florence-and-the-machine-at-walt-disney-concert-hall/
LOCATION:Walt Disney Concert Hall\, 	111 S Grand Ave
CATEGORIES:Concert
ATTACH;FMTTYPE=image/jpeg:https://laguestlist.com/wp-content/uploads/2018/05/x215B9623C-EA6E-5AF4-49ACB5AD58FD19A9.jpg.pagespeed.ic_.UQ_1DKOwy7.jpg
END:VEVENT
BEGIN:VEVENT
DTSTART;TZID=America/Los_Angeles:20180524T200000
DTEND;TZID=America/Los_Angeles:20180524T230000
DTSTAMP:20260420T033549
CREATED:20180519T202758Z
LAST-MODIFIED:20180519T202758Z
UID:33320-1527192000-1527202800@laguestlist.com
SUMMARY:Doja Cat & Kilo Kish with Special Guest Sudan Archives
DESCRIPTION:Ticketed – The Student Committee for the Arts at UCLA Presents Doja Cat & Kilo Kish with Special Guest Sudan Archives at Royce Hall\, UCLA.
URL:https://laguestlist.com/event/doja-cat-kilo-kish-with-special-guest-sudan-archives/
LOCATION:UCLA Royce Hall\, 10745 Dickson Ct\, Los Angeles\, CA\, 90095\, United States
CATEGORIES:Concert
ATTACH;FMTTYPE=image/png:https://laguestlist.com/wp-content/uploads/2018/05/KCRW_graphic_DOJA.png
END:VEVENT
BEGIN:VEVENT
DTSTART;TZID=America/Los_Angeles:20180525T193000
DTEND;TZID=America/Los_Angeles:20180525T213000
DTSTAMP:20260420T033549
CREATED:20180521T182822Z
LAST-MODIFIED:20180521T182822Z
UID:33393-1527276600-1527283800@laguestlist.com
SUMMARY:NYLON x The Grove PLAYLISTED featuring The Aces
DESCRIPTION:RSVP –  On Friday\, May 25\, NYLON and The Grove will host the fourth installment of their monthly music series\, Playlisted at The Grove. This month\, The Aces\, an all-female quartet hailing from Provo\, Utah will take the stage and spotlight their musical talents for the crowd. \nThe Aces debuted in 2008 and is comprised of singer and guitarist Cristal Ramirez\, guitarist Katie Henderson\, bass player McKenna Petty and drummer Alisa Ramirez. They were featured as one of “10 Utah Bands You Should Listen to Now” by Paste Magazine and further landed a record deal with Red Bull Records. Their first single\, “Stuck” racked up more than two million plays on streaming services and their first EP on the label\, “I Don’t Like Being Honest” is now out worldwide. \nAs a reigning authority in music for nearly two decades\, NYLON spotlights the hottest artists on the rise. The monthly\, live music series connects fans to their favorite artists at one of the country’s most renowned shopping\, dining and lifestyle destinations.
URL:https://laguestlist.com/event/nylon-x-the-grove-playlisted-featuring-the-aces/
LOCATION:The Grove\, 189 The Grove Drive\, Los Angeles\, Los Angeles\, CA\, 90036\, United States
CATEGORIES:Concert,Things to do
ATTACH;FMTTYPE=image/jpeg:https://laguestlist.com/wp-content/uploads/2018/05/https_2F2Fcdn.evbuc_.com2Fimages2F446840472F967837397412F12Foriginal.jpg
END:VEVENT
BEGIN:VEVENT
DTSTART;TZID=America/Los_Angeles:20180604T193000
DTEND;TZID=America/Los_Angeles:20180604T230000
DTSTAMP:20260420T033549
CREATED:20180531T171246Z
LAST-MODIFIED:20180531T171246Z
UID:33624-1528140600-1528153200@laguestlist.com
SUMMARY:Maroon 5 Red Pill Blues Tour 2018
DESCRIPTION:Ticketed –  Maroon 5 has announced a 2018 North American tour in support of their upcoming album\, “Red Pill Blues\,” with a stop at the Forum with special guest Julia Michaels.
URL:https://laguestlist.com/event/maroon-5-red-pill-blues-tour-2018/
LOCATION:The Forum\, 3900 W Manchester Blvd\, Inglewood\, CA\, 90305\, United States
CATEGORIES:Concert
ATTACH;FMTTYPE=image/jpeg:https://laguestlist.com/wp-content/uploads/2018/05/680x400-Maroon-5-c71861f14b.jpg
END:VEVENT
BEGIN:VEVENT
DTSTART;TZID=America/Los_Angeles:20180605T193000
DTEND;TZID=America/Los_Angeles:20180605T230000
DTSTAMP:20260420T033549
CREATED:20180531T171351Z
LAST-MODIFIED:20180531T171351Z
UID:33627-1528227000-1528239600@laguestlist.com
SUMMARY:Maroon 5 Red Pill Blues Tour 2018
DESCRIPTION:Ticketed –  Maroon 5 has announced a 2018 North American tour in support of their upcoming album\, “Red Pill Blues\,” with a stop at the Forum with special guest Julia Michaels.
URL:https://laguestlist.com/event/maroon-5-red-pill-blues-tour-2018-2/
LOCATION:The Forum\, 3900 W Manchester Blvd.\, Inglewood\, CA\, 90305\, United States
CATEGORIES:Concert
ATTACH;FMTTYPE=image/jpeg:https://laguestlist.com/wp-content/uploads/2018/05/680x400-Maroon-5-c71861f14b.jpg
END:VEVENT
BEGIN:VEVENT
DTSTART;TZID=America/Los_Angeles:20180606T160000
DTEND;TZID=America/Los_Angeles:20180606T200000
DTSTAMP:20260420T033549
CREATED:20180605T161802Z
LAST-MODIFIED:20180605T161802Z
UID:33727-1528300800-1528315200@laguestlist.com
SUMMARY:Chromeo Presented by Samsung Galaxy Studio
DESCRIPTION:RSVP – Join us at the Galaxy Studio for a live performance and the chance to meet electro-funk duo Chromeo.
URL:https://laguestlist.com/event/chromeo-presented-by-samsung-galaxy-studio/
LOCATION:Americana\, 889 Americana Way\, Glendale\, CA\, 91210\, United States
CATEGORIES:Concert
ATTACH;FMTTYPE=image/png:https://laguestlist.com/wp-content/uploads/2018/06/unnamed-3.png
END:VEVENT
BEGIN:VEVENT
DTSTART;TZID=America/Los_Angeles:20180608T180000
DTEND;TZID=America/Los_Angeles:20180608T210000
DTSTAMP:20260420T033549
CREATED:20180531T173650Z
LAST-MODIFIED:20180531T173650Z
UID:33635-1528480800-1528491600@laguestlist.com
SUMMARY:FIGFest Presents Lion Babe and Dave B
DESCRIPTION:Open – Celebrating its sixth year in DTLA\, the FIGat7th Downtown Festival (also known as FIGFest) will light up the city this June with eclectic sounds and tunes. Presented by Arts Brookfield\, this free festival kicks off June 1 and runs four consecutive Friday nights at Downtown LA’s premier shopping destination\, FIGat7th. The outdoor plaza will be transformed into an intimate concert venue and a poppin’ dance floor with performances by leading R&B\, hip-hop\, pop\, soul\, dance\, and electronic artists. \nFirst up is Poolside\, the dreamy “Daytime Disco” project of California duo Filip Nikolic and Jeffrey Paradise. They are sure to put your mind at ease while your body slinks into a smooth sway. June 8 will deliver an electric performance by sexy New York R&B duo Lion Babe. Their sound is seductive and eclectic\, promoting messages of empowerment supported by clanging percussion\, a thumping synth bass\, and notes of soul\, dance\, hip-hop and pop.
URL:https://laguestlist.com/event/figfest-presents-lion-babe-and-dave-b/
LOCATION:FIGat7th\, 735 S. Figueroa St.\, Los Angeles\, CA\, 90017\, United States
CATEGORIES:Concert
ATTACH;FMTTYPE=image/png:https://laguestlist.com/wp-content/uploads/2018/05/Screen-Shot-2018-05-31-at-10.34.51-AM.png
END:VEVENT
BEGIN:VEVENT
DTSTART;TZID=America/Los_Angeles:20180616T210000
DTEND;TZID=America/Los_Angeles:20180616T210000
DTSTAMP:20260420T033549
CREATED:20180525T173757Z
LAST-MODIFIED:20180525T173757Z
UID:33512-1529182800-1529182800@laguestlist.com
SUMMARY:Swisher Sweets Artist Project with Desiigner
DESCRIPTION:RSVP – Now in its 4th Year\, The Swisher Sweets Artist Project Pack Nights feature some of the biggest names in Hip Hop. This year the tour stops in five cities – Los Angeles\, Detroit\, Philadelphia\, Atlanta\, and Houston – and will culminate with a HUGE year end event. The Los Angeles Pack Night will feature Desiigner and local Los Angeles acts Charles Bryan\, Dice Soho\, and Ponce De’Leioun at the El Rey Theatre.
URL:https://laguestlist.com/event/swisher-sweets-artist-project-with-desiigner/
LOCATION:El Rey\, 5515 Wilshire Boulevard\, Los Angeles\, 90036
CATEGORIES:Concert
ATTACH;FMTTYPE=image/png:https://laguestlist.com/wp-content/uploads/2018/05/Screen-Shot-2018-05-25-at-10.34.30-AM.png
END:VEVENT
BEGIN:VEVENT
DTSTART;TZID=America/Los_Angeles:20180621T190000
DTEND;TZID=America/Los_Angeles:20180621T230000
DTSTAMP:20260420T033549
CREATED:20180606T003600Z
LAST-MODIFIED:20180606T003600Z
UID:33806-1529607600-1529622000@laguestlist.com
SUMMARY:BET Experience with LL Cool J\, Ludacris\, and Ne-yo
DESCRIPTION:Ticketed – BET NETWORKS and AEG have announced the first wave of star-studded talent that will take the stage at the 6th annual BET Experience at L.A. LIVE presented by Coca-Cola® taking place June 21-24. This year’s lineup of concerts at STAPLES Center will feature some of today’s hottest artists including Chris Brown\, SZA\, Rae Sremmurd\, Ferg\, Nipsey Hussle\, Playboi Carti\, LL Cool J feat. DJ Z-Trip\, Ludacris\, Ne-Yo\, Kamaiyah\, Ella Mai and Wondagurl.
URL:https://laguestlist.com/event/bet-experience-with-ll-cool-j-ludacris-and-ne-yo/
LOCATION:Staples Center\, 1111 S Figueroa St\, Los Angeles\, CA\, 90015\, United States
CATEGORIES:Concert
ATTACH;FMTTYPE=image/jpeg:https://laguestlist.com/wp-content/uploads/2018/06/1527803824-1527791139-BET-Experience-LL-Cool-J-Ludacris-Nas-More-tickets.jpg
END:VEVENT
BEGIN:VEVENT
DTSTART;TZID=America/Los_Angeles:20180622T190000
DTEND;TZID=America/Los_Angeles:20180622T230000
DTSTAMP:20260420T033549
CREATED:20180606T003935Z
LAST-MODIFIED:20180606T003935Z
UID:33809-1529694000-1529708400@laguestlist.com
SUMMARY:BET Experience with Chris Brown\, SZA\, and Ella Mai
DESCRIPTION:Ticketed – BET NETWORKS and AEG have announced the first wave of star-studded talent that will take the stage at the 6th annual BET Experience at L.A. LIVE presented by Coca-Cola taking place June 21-24. This year’s lineup of concerts at STAPLES Center will feature some of today’s hottest artists including Chris Brown\, SZA\, Rae Sremmurd\, Ferg\, Nipsey Hussle\, Playboi Carti\, LL Cool J feat. DJ Z-Trip\, Ludacris\, Ne-Yo\, Kamaiyah\, Ella Mai and Wondagurl.
URL:https://laguestlist.com/event/bet-experience-with-chris-brown-sza-and-ella-mai/
LOCATION:The Staple Center\, 1111 S Figueroa St\, Los Angeles\, CA\, 90015\, United States
CATEGORIES:Concert
ATTACH;FMTTYPE=image/jpeg:https://laguestlist.com/wp-content/uploads/2018/06/images.jpg
END:VEVENT
BEGIN:VEVENT
DTSTART;TZID=America/Los_Angeles:20180623T190000
DTEND;TZID=America/Los_Angeles:20180623T230000
DTSTAMP:20260420T033549
CREATED:20180606T004202Z
LAST-MODIFIED:20180606T004202Z
UID:33812-1529780400-1529794800@laguestlist.com
SUMMARY:BET Experience with Rae Sremmurd\, Ferg\, Nipsey Hussle\, and Playboi Carti
DESCRIPTION:Ticketed – BET NETWORKS and AEG have announced the first wave of star-studded talent that will take the stage at the 6th annual BET Experience at L.A. LIVE presented by Coca-Cola taking place June 21-24. This year’s lineup of concerts at STAPLES Center will feature some of today’s hottest artists including Chris Brown\, SZA\, Rae Sremmurd\, Ferg\, Nipsey Hussle\, Playboi Carti\, LL Cool J feat. DJ Z-Trip\, Ludacris\, Ne-Yo\, Kamaiyah\, Ella Mai and Wondagurl.
URL:https://laguestlist.com/event/bet-experience-with-rae-sremmurd-ferg-nipsey-hussle-and-playboi-carti/
LOCATION:Staples Center\, 1111 S Figueroa St\, Los Angeles\, CA\, 90015\, United States
CATEGORIES:Concert
ATTACH;FMTTYPE=image/jpeg:https://laguestlist.com/wp-content/uploads/2018/06/bet-experience-rae-sremmurd-ferg-nipsey-hussle-pl-22.jpg
END:VEVENT
BEGIN:VEVENT
DTSTART;TZID=America/Los_Angeles:20180627T193000
DTEND;TZID=America/Los_Angeles:20180627T213000
DTSTAMP:20260420T033549
CREATED:20180621T183408Z
LAST-MODIFIED:20180621T183408Z
UID:34173-1530127800-1530135000@laguestlist.com
SUMMARY:NYLON Playlisted with Zolita & Gavin Turek
DESCRIPTION:RSVP – Join us at PLAYLISTED\, a monthly concert series featuring NYLON’s favorite artists\, presented by Citi and co-sponsored by Lillet. On June 27\, at 8PM\, we continue the series with opening-act sensation Zolita\, followed by disco-pop princess Gavin Turek.
URL:https://laguestlist.com/event/nylon-playlisted-with-zolita-gavin-turek/
LOCATION:The Grove\, 189 The Grove Drive\, Los Angeles\, Los Angeles\, CA\, 90036\, United States
CATEGORIES:Concert
ATTACH;FMTTYPE=image/jpeg:https://laguestlist.com/wp-content/uploads/2018/06/GF_Nylon_Gavin_Zolita_900x600_r2.jpg
END:VEVENT
BEGIN:VEVENT
DTSTART;TZID=America/Los_Angeles:20180627T193000
DTEND;TZID=America/Los_Angeles:20180627T230000
DTSTAMP:20260420T033549
CREATED:20180511T232116Z
LAST-MODIFIED:20180511T232116Z
UID:33162-1530127800-1530140400@laguestlist.com
SUMMARY:Post Malone at Hollywood Bowl
DESCRIPTION:Ticketed – Post Malone & 21 Savage are taking over the Hollywood Bowl for an epic summer concert.
URL:https://laguestlist.com/event/post-malone-at-hollywood-bowl/
LOCATION:The Hollywood Bowl\, 2301 Highland Ave \, Los Angeles\, CA\, 90068\, United States
CATEGORIES:Concert
ATTACH;FMTTYPE=image/png:https://laguestlist.com/wp-content/uploads/2018/05/Screen-Shot-2018-05-11-at-4.19.17-PM.png
END:VEVENT
BEGIN:VEVENT
DTSTART;TZID=America/Los_Angeles:20180629T190000
DTEND;TZID=America/Los_Angeles:20180629T220000
DTSTAMP:20260420T033549
CREATED:20180619T020658Z
LAST-MODIFIED:20180619T020658Z
UID:34122-1530298800-1530309600@laguestlist.com
SUMMARY:AMP Summer Singles Party with Miguel
DESCRIPTION:Enter Contest – The AMP Radio Summer Singles Party with Miguel.
URL:https://laguestlist.com/event/amp-summer-singles-party-with-miguel/
LOCATION:CA
CATEGORIES:Concert
ATTACH;FMTTYPE=image/png:https://laguestlist.com/wp-content/uploads/2018/06/Screen-Shot-2018-06-18-at-7.04.53-PM.png
END:VEVENT
END:VCALENDAR