BEGIN:VCALENDAR
VERSION:2.0
PRODID:-//LA Guestlist - ECPv6.15.20//NONSGML v1.0//EN
CALSCALE:GREGORIAN
METHOD:PUBLISH
X-ORIGINAL-URL:https://laguestlist.com
X-WR-CALDESC:Events for LA Guestlist
REFRESH-INTERVAL;VALUE=DURATION:PT1H
X-Robots-Tag:noindex
X-PUBLISHED-TTL:PT1H
BEGIN:VTIMEZONE
TZID:America/Los_Angeles
BEGIN:DAYLIGHT
TZOFFSETFROM:-0800
TZOFFSETTO:-0700
TZNAME:PDT
DTSTART:20150308T100000
END:DAYLIGHT
BEGIN:STANDARD
TZOFFSETFROM:-0700
TZOFFSETTO:-0800
TZNAME:PST
DTSTART:20151101T090000
END:STANDARD
BEGIN:DAYLIGHT
TZOFFSETFROM:-0800
TZOFFSETTO:-0700
TZNAME:PDT
DTSTART:20160313T100000
END:DAYLIGHT
BEGIN:STANDARD
TZOFFSETFROM:-0700
TZOFFSETTO:-0800
TZNAME:PST
DTSTART:20161106T090000
END:STANDARD
BEGIN:DAYLIGHT
TZOFFSETFROM:-0800
TZOFFSETTO:-0700
TZNAME:PDT
DTSTART:20170312T100000
END:DAYLIGHT
BEGIN:STANDARD
TZOFFSETFROM:-0700
TZOFFSETTO:-0800
TZNAME:PST
DTSTART:20171105T090000
END:STANDARD
BEGIN:DAYLIGHT
TZOFFSETFROM:-0800
TZOFFSETTO:-0700
TZNAME:PDT
DTSTART:20180311T100000
END:DAYLIGHT
BEGIN:STANDARD
TZOFFSETFROM:-0700
TZOFFSETTO:-0800
TZNAME:PST
DTSTART:20181104T090000
END:STANDARD
END:VTIMEZONE
BEGIN:VEVENT
DTSTART;TZID=America/Los_Angeles:20161106T140000
DTEND;TZID=America/Los_Angeles:20161106T230000
DTSTAMP:20260421T233627
CREATED:20161012T212848Z
LAST-MODIFIED:20161012T212848Z
UID:19046-1478440800-1478473200@laguestlist.com
SUMMARY:ComplexCon 2016
DESCRIPTION:Ticketed – On November 5 and 6\, ComplexCon is taking over Long Beach\, California\, to offer you a glimpse into the future of art\, music\, film\, food\, and fashion w/ Snoop Dog\, 2 Chainz\, and Migos among many others.
URL:https://laguestlist.com/event/complexcon-2016-2/
LOCATION:Long Beach Convention Center\, 300 E Ocean Blvd\, Long Beach\, CA\, 90802\, United States
CATEGORIES:Concert
ATTACH;FMTTYPE=image/png:https://laguestlist.com/wp-content/uploads/2016/10/Screen-Shot-2016-10-12-at-2.22.25-PM.png
END:VEVENT
BEGIN:VEVENT
DTSTART;TZID=America/Los_Angeles:20161109T190000
DTEND;TZID=America/Los_Angeles:20161109T220000
DTSTAMP:20260421T233627
CREATED:20161107T231818Z
LAST-MODIFIED:20161107T231818Z
UID:19570-1478718000-1478728800@laguestlist.com
SUMMARY:Post Malone at The Wiltern
DESCRIPTION:Ticketed –  Monster Energy Outbreak Tour Presents: Post Malone\, Jazz Cartier\, Larry June\, and SAINt JHN at the Wiltern.
URL:https://laguestlist.com/event/post-malone-wiltern/
LOCATION:The Wiltern\, 3790 Wilshire Blvd\, Los Angeles\, CA\, 90010\, United States
CATEGORIES:Concert
ATTACH;FMTTYPE=image/png:https://laguestlist.com/wp-content/uploads/2016/11/Screen-Shot-2016-11-07-at-3.04.34-PM.png
END:VEVENT
BEGIN:VEVENT
DTSTART;TZID=America/Los_Angeles:20161130T170000
DTEND;TZID=America/Los_Angeles:20161130T210000
DTSTAMP:20260421T233627
CREATED:20161129T183714Z
LAST-MODIFIED:20161129T183714Z
UID:20076-1480525200-1480539600@laguestlist.com
SUMMARY:Keep The Promise Free Concert by AIDS Healthcare Foundation
DESCRIPTION:RSVP – Join us this World AIDS Day for a FREE march and concert starting at Hollywood Blvd and Schrader Blvd and ending at the Dolby Theatre in Hollywood! RAIN OR SHINE. \nHosted by Rosie Perez!\nSpecial appearances by Common\, Patti LaBelle\, Jojo\, Espinoza Paz\, and honoring Harry Belafonte.
URL:https://laguestlist.com/event/keep-promise-free-concert-aids-healthcare-foundation/
LOCATION:CA
CATEGORIES:Charity,Concert
ATTACH;FMTTYPE=image/jpeg:https://laguestlist.com/wp-content/uploads/2016/11/https-2F2Fcdn.evbuc_.com2Fimages2F260468142F1375887754432F12Foriginal.jpg
END:VEVENT
BEGIN:VEVENT
DTSTART;TZID=America/Los_Angeles:20161130T203000
DTEND;TZID=America/Los_Angeles:20161130T230000
DTSTAMP:20260421T233627
CREATED:20161129T061818Z
LAST-MODIFIED:20161129T061818Z
UID:20056-1480537800-1480546800@laguestlist.com
SUMMARY:Red Bull Sound Select Nick Murphy (Chet Faker) | 30 Days in LA
DESCRIPTION:Ticketed – 30 Days in LA is one month of 60 must-see artists in 30 different venues. Night 30 features Chet Faker. Tickets are exclusive to Red Bull Sound Select members\, and it’s free to join.  To get more info and a code to purchase tickets\, head to www.redbullsoundselect.com/30days
URL:https://laguestlist.com/event/red-bull-sound-select-nick-murphy-chet-faker-30-days-la/
LOCATION:Ace Hotel DTLA\, 921 S. Broadway\, Los Angeles\, CA\, 90015\, United States
CATEGORIES:Concert
ATTACH;FMTTYPE=image/png:https://laguestlist.com/wp-content/uploads/2016/11/Screen-Shot-2016-11-28-at-11.15.10-PM.png
END:VEVENT
BEGIN:VEVENT
DTSTART;TZID=America/Los_Angeles:20161202T193000
DTEND;TZID=America/Los_Angeles:20161202T193000
DTSTAMP:20260421T233627
CREATED:20161129T183427Z
LAST-MODIFIED:20161129T183427Z
UID:20072-1480707000-1480707000@laguestlist.com
SUMMARY:Jingle Ball 2016 | iHeartRadio
DESCRIPTION:Ticketed – There’s no better way to celebrate the magic of the holiday season than with a show on the Jingle Ball tour. Various venues across the country will showcase a vast assortment of the year’s hottest artists in an unforgettable night of performances including Bruno Mars\, Justin Bieber\, Britney Spears\, Meghan Trainor\, Fifth Harmony\, Diplo\, Alessia Cara\, Lukas Graham\, Daya\, Special Guest Appearance from Niall Horan.
URL:https://laguestlist.com/event/jingle-ball-2016-iheartradio/
LOCATION:The Staple Center\, 1111 S Figueroa St\, Los Angeles\, CA\, 90015\, United States
CATEGORIES:Concert
ATTACH;FMTTYPE=image/jpeg:https://laguestlist.com/wp-content/uploads/2016/11/url-3.jpg
END:VEVENT
BEGIN:VEVENT
DTSTART;TZID=America/Los_Angeles:20161210T190000
DTEND;TZID=America/Los_Angeles:20161210T230000
DTSTAMP:20260421T233627
CREATED:20161205T202300Z
LAST-MODIFIED:20161205T202300Z
UID:20289-1481396400-1481410800@laguestlist.com
SUMMARY:Kroq Almost Acoustic Christmas 2016
DESCRIPTION:Ticketed – KROQ Almost Acoustic Christmas 2016 makes its return to the legendary Forum on December 10th and 11th\, featuring two nights of incredible performances! Proceeds from the KROQ Almost Acoustic Christmas benefit local charities Para Los Niños and the Al Wooten Jr. Heritage Center. Night 1: Blink-182\, Kings Of Leon\, Jimmy Eat World\, AFI\, M83\, X Ambassadors\, and The Strumbellas.
URL:https://laguestlist.com/event/kroq-almost-acoustic-christmas-2016/
LOCATION:The Forum\, 3900 W Manchester Blvd\, Inglewood\, CA\, 90305\, United States
CATEGORIES:Concert
ATTACH;FMTTYPE=image/jpeg:https://laguestlist.com/wp-content/uploads/2016/12/unnamed.jpg
END:VEVENT
BEGIN:VEVENT
DTSTART;TZID=America/Los_Angeles:20161211T190000
DTEND;TZID=America/Los_Angeles:20161211T230000
DTSTAMP:20260421T233627
CREATED:20161205T202538Z
LAST-MODIFIED:20161205T202538Z
UID:20292-1481482800-1481497200@laguestlist.com
SUMMARY:Kroq Almost Acoustic Christmas 2016
DESCRIPTION:Ticketed – KROQ Almost Acoustic Christmas 2016 makes its return to the legendary Forum on December 10th and 11th\, featuring two nights of incredible performances! Proceeds from the KROQ Almost Acoustic Christmas benefit local charities Para Los Niños and the Al Wooten Jr. Heritage Center. Night 2: Green Day\, Beck\, Weezer\, Bastille\, Andrew McMahon in the Wilderness\, Phantogram\, Bishop Briggs\, The Head and The Heart.
URL:https://laguestlist.com/event/kroq-almost-acoustic-christmas-2016-2/
LOCATION:The Forum\, 3900 W Manchester Blvd\, Inglewood\, CA\, 90305\, United States
CATEGORIES:Concert
ATTACH;FMTTYPE=image/jpeg:https://laguestlist.com/wp-content/uploads/2016/12/unnamed.jpg
END:VEVENT
BEGIN:VEVENT
DTSTART;TZID=America/Los_Angeles:20161215T200000
DTEND;TZID=America/Los_Angeles:20161215T230000
DTSTAMP:20260421T233627
CREATED:20161208T180031Z
LAST-MODIFIED:20161208T180031Z
UID:20470-1481832000-1481842800@laguestlist.com
SUMMARY:Metallica at the Fonda Theatre
DESCRIPTION:Ticketed – Metallica just announced that they’ll be playing an intimate show at the Fonda Theatre on December 15th – their second to last show of 2016!
URL:https://laguestlist.com/event/metallica-fonda-theatre/
LOCATION:The Fonda Theatre\, 6126 Hollywood Blvd.\, Los Angeles\, CA\, 90028\, United States
CATEGORIES:Concert
ATTACH;FMTTYPE=image/png:https://laguestlist.com/wp-content/uploads/2016/12/Screen-Shot-2016-12-08-at-9.57.20-AM.png
END:VEVENT
BEGIN:VEVENT
DTSTART;TZID=America/Los_Angeles:20161216T193000
DTEND;TZID=America/Los_Angeles:20161216T230000
DTSTAMP:20260421T233627
CREATED:20161213T234926Z
LAST-MODIFIED:20161213T234926Z
UID:20613-1481916600-1481929200@laguestlist.com
SUMMARY:REAL 92.3 presents Real Big Holiday Show
DESCRIPTION:Ticketed – REAL 92.3 presents the Real Big Holiday Show with Trey Songz\, Rae Sremmurd\, Fetty Wap\, Kehlani\, D.R.A.M.\, & YFN Lucci
URL:https://laguestlist.com/event/real-92-3-presents-real-big-holiday-show/
LOCATION:Microsoft Theatre\, 777 Chick Hearn Court\, Los Angeles\, CA\, 90015\, United States
CATEGORIES:Concert
ATTACH;FMTTYPE=image/jpeg:https://laguestlist.com/wp-content/uploads/2016/12/real-big-holiday-show-tickets_12-16-16_3_584a0927cc421.jpg
END:VEVENT
BEGIN:VEVENT
DTSTART;TZID=America/Los_Angeles:20161216T210000
DTEND;TZID=America/Los_Angeles:20161216T210000
DTSTAMP:20260421T233627
CREATED:20161212T194508Z
LAST-MODIFIED:20161212T194508Z
UID:20524-1481922000-1481922000@laguestlist.com
SUMMARY:Earth\, Wind & Power - A Tribute to Earth Wind & Fire
DESCRIPTION:Ticketed – Funk-infused soul rockers The Nth Power will bring their guest-filled Earth Wind & Power tribute to the music of Earth Wind & Fire to the West Coast for the first time later this month. The Regent Theatre will host Earth Wind & Power as a benefit for The Harold Robinson Foundation on December 16 in Los Angeles.
URL:https://laguestlist.com/event/earth-wind-power-tribute-earth-wind-fire/
LOCATION:The Regent\, 448 S. Main St.\, Los Angeles\, CA\, 90013\, United States
CATEGORIES:Concert
ATTACH;FMTTYPE=image/jpeg:https://laguestlist.com/wp-content/uploads/2016/12/18-etxl1.jpg
END:VEVENT
BEGIN:VEVENT
DTSTART;TZID=America/Los_Angeles:20161218T190000
DTEND;TZID=America/Los_Angeles:20161218T230000
DTSTAMP:20260421T233627
CREATED:20161208T180510Z
LAST-MODIFIED:20161208T180510Z
UID:20473-1482087600-1482102000@laguestlist.com
SUMMARY:We Rock with Standing Rock Concert
DESCRIPTION:Ticketed – The concert\, headlined by TV on the Radio with over 17 other confirmed artists including Fiona Apple\, Devendra Banhart\, Patricia Arquette and Riley Keough\, will support the Standing Rock community\, who recently celebrated a victory from the Dakota Access Pipeline project (c) but will need continued support. \nThe US Army Corps of Engineers announced that they will not grant permission for the Dakota Access Pipeline (DAPL) to cross Lake Oahe\, the hotspot which would cross the Missouri River\, the primary drinking water source for the Standing Rock Sioux Reservation and 17 million downstream residents\, as well as through communities\, farms\, the tribe’s traditional and ancestral lands\, sensitive natural areas\, and wildlife habitats.
URL:https://laguestlist.com/event/rock-standing-rock-concert/
LOCATION:The Fonda Theatre\, 6126 Hollywood Blvd.\, Los Angeles\, CA\, 90028\, United States
CATEGORIES:Concert
ATTACH;FMTTYPE=image/jpeg:https://laguestlist.com/wp-content/uploads/2016/12/we-rock-with-standing-rock-tickets_12-19-16_17_5848a1b46c69f.jpg
END:VEVENT
BEGIN:VEVENT
DTSTART;TZID=America/Los_Angeles:20161221T210000
DTEND;TZID=America/Los_Angeles:20161221T210000
DTSTAMP:20260421T233627
CREATED:20161213T045822Z
LAST-MODIFIED:20161213T045835Z
UID:20530-1482354000-1482354000@laguestlist.com
SUMMARY:L.A. Gives Back: A Holiday Benefit for Los Angeles Homeless
DESCRIPTION:Ticketed – LA Gives Back: A Holiday Benefit for Los Angeles Homeless. 100% of all proceeds raised will go to benefit local charities. \n6 rooms of UNION will be curated by Brownies and Lemonade\, Ham On Everything\, Emo Nite\, SPACE YACHT\, Restless Nites\, Late Night Laggers\, Free Grilled Cheese\, and more.
URL:https://laguestlist.com/event/iheartcomix-presents-la-gives-back/
LOCATION:Union\, 4067 West Pico Boulevard\, Los Angeles\, CA\, 90019\, United States
CATEGORIES:Charity,Concert
ATTACH;FMTTYPE=image/jpeg:https://laguestlist.com/wp-content/uploads/2016/12/CzQfZs_VEAA0cSZ.jpg
END:VEVENT
BEGIN:VEVENT
DTSTART;TZID=America/Los_Angeles:20161229T200000
DTEND;TZID=America/Los_Angeles:20161229T230000
DTSTAMP:20260421T233627
CREATED:20161227T000808Z
LAST-MODIFIED:20161227T000808Z
UID:20795-1483041600-1483052400@laguestlist.com
SUMMARY:Pardon My French with DJ Snake
DESCRIPTION:Ticketed – Shaping up as one of the year’s most-anticipated events\, DJ Snake’s Pardon My French tour marks the return of DJ Snake\, Tchami\, Mercer\, and the mysterious Malaa. Together\, the four Parisians bring an undeniable amount of star power and cover a diverse array of genres that will satisfy any dance music fan.
URL:https://laguestlist.com/event/pardon-french-dj-snake/
LOCATION:Shrine Expo Hall\, 665 W Jefferson Blvd\, Los Angeles\, CA\, 90007\, United States
CATEGORIES:Concert
ATTACH;FMTTYPE=image/png:https://laguestlist.com/wp-content/uploads/2016/12/pardon-my-french-with-dj-snake-tchami-malaa-mercer-tickets_12-30-16_17_5820a41a52c2b.png
END:VEVENT
BEGIN:VEVENT
DTSTART;TZID=America/Los_Angeles:20161230T160000
DTEND;TZID=America/Los_Angeles:20161230T160000
DTSTAMP:20260421T233627
CREATED:20161213T225708Z
LAST-MODIFIED:20161213T225708Z
UID:20582-1483113600-1483113600@laguestlist.com
SUMMARY:Insomniac Presents Countdown NYE
DESCRIPTION:Ticketed – This year’s Countdown will be the biggest and loudest yet. We’ve expanded the festival to two days for the first time ever\, with multiple stages featuring world-renowned dance music artists from all your favorite genres\, including house\, trap\, dubstep\, bass music\, and so much more. New Year’s Eve festivities land on a weekend this year\, so you have one last chance to dance 2016 away before welcoming the New Year with all of your friends\, family and favorite artists at Countdown with of huge headliners.
URL:https://laguestlist.com/event/insomniac-presents-countdown-nye/
LOCATION:NOS Events Center\, 689 S E St\, San Bernardino\, CA\, 92408\, United States
CATEGORIES:Concert
ATTACH;FMTTYPE=image/png:https://laguestlist.com/wp-content/uploads/2016/12/Screen-Shot-2016-12-13-at-2.48.32-PM.png
END:VEVENT
BEGIN:VEVENT
DTSTART;TZID=America/Los_Angeles:20161231T160000
DTEND;TZID=America/Los_Angeles:20161231T160000
DTSTAMP:20260421T233627
CREATED:20161213T230015Z
LAST-MODIFIED:20161213T230015Z
UID:20585-1483200000-1483200000@laguestlist.com
SUMMARY:Insomniac Presents Countdown NYE
DESCRIPTION:Ticketed – This year’s Countdown will be the biggest and loudest yet. We’ve expanded the festival to two days for the first time ever\, with multiple stages featuring world-renowned dance music artists from all your favorite genres\, including house\, trap\, dubstep\, bass music\, and so much more. New Year’s Eve festivities land on a weekend this year\, so you have one last chance to dance 2016 away before welcoming the New Year with all of your friends\, family and favorite artists at Countdown with lots of huge headliners.
URL:https://laguestlist.com/event/insomniac-presents-countdown-nye-2/
LOCATION:NOS Events Center\, 689 S E St\, San Bernardino\, CA\, 92408\, United States
CATEGORIES:Concert
ATTACH;FMTTYPE=image/png:https://laguestlist.com/wp-content/uploads/2016/12/Screen-Shot-2016-12-13-at-2.57.10-PM.png
END:VEVENT
BEGIN:VEVENT
DTSTART;TZID=America/Los_Angeles:20170105T200000
DTEND;TZID=America/Los_Angeles:20170105T220000
DTSTAMP:20260421T233627
CREATED:20170103T222059Z
LAST-MODIFIED:20170103T222059Z
UID:20898-1483646400-1483653600@laguestlist.com
SUMMARY:Barbara Streisand: A Special Benefit to the Grammy Museum
DESCRIPTION:Ticketed – The GRAMMY Museum is thrilled to welcome eight-time GRAMMY winner and current GRAMMY nominee Barbra Streisand to the Clive Davis Theater for a special evening to benefit the music education initiatives of the GRAMMY Museum. Hosted by GRAMMY Museum Executive Director Bob Santelli\, the evening will feature an intimate discussion with Streisand surrounding her illustrious award-winning career.
URL:https://laguestlist.com/event/barbara-streisand-special-benefit-grammy-museum/
LOCATION:The Grammy Museum\, 800 West Olympic Boulevard\, Los Angeles\, CA\, 90015\, United States
CATEGORIES:Concert
ATTACH;FMTTYPE=image/jpeg:https://laguestlist.com/wp-content/uploads/2017/01/static.playbill.jpg
END:VEVENT
BEGIN:VEVENT
DTSTART;TZID=America/Los_Angeles:20170114T193000
DTEND;TZID=America/Los_Angeles:20170114T230000
DTSTAMP:20260421T233627
CREATED:20170103T033008Z
LAST-MODIFIED:20170103T033008Z
UID:20833-1484422200-1484434800@laguestlist.com
SUMMARY:The Rap Show with Nelly\, DMX\, TOO $hort and Cam'ron
DESCRIPTION:Ticketed – Goldenvoice and 93.5 KDAY present The Rap Show with Nelly\, DMX\, Too $hort\, Cam’ron feat Juelz Santana\, Mack 10\, 2nd II None and Jayo.
URL:https://laguestlist.com/event/rap-show-nelly-dmx-hort-camron/
LOCATION:Shrine Expo Hall\, 665 W Jefferson Blvd\, Los Angeles\, CA\, 90007\, United States
CATEGORIES:Concert
ATTACH;FMTTYPE=image/jpeg:https://laguestlist.com/wp-content/uploads/2017/01/the-rap-show-with-dmx-cam-ron-mack-10-the-pharcyde-2-ii-none-and-jayo-tickets_01-15-17_17_58455bdb27741.jpg
END:VEVENT
BEGIN:VEVENT
DTSTART;TZID=America/Los_Angeles:20170118T200000
DTEND;TZID=America/Los_Angeles:20170118T230000
DTSTAMP:20260421T233627
CREATED:20170117T015419Z
LAST-MODIFIED:20170117T015419Z
UID:21173-1484769600-1484780400@laguestlist.com
SUMMARY:Migos at Novo
DESCRIPTION:Ticketed – Get tickets for Migos with UnoTheActivist promoted by Goldenvoice & Trillectro present at The Novo by Microsoft in Los Angeles\, CA.
URL:https://laguestlist.com/event/migos-at-novo/
LOCATION:The Novo DTLA\, 800 W Olympic Blvd\, Ste A335\, Los Angeles\, CA\, 90015\, United States
CATEGORIES:Concert
ATTACH;FMTTYPE=image/png:https://laguestlist.com/wp-content/uploads/2017/01/migos_09-12-16_19_57d6f5a0c8a00.png
END:VEVENT
BEGIN:VEVENT
DTSTART;TZID=America/Los_Angeles:20170208T080000
DTEND;TZID=America/Los_Angeles:20170208T170000
DTSTAMP:20260421T233627
CREATED:20170207T000128Z
LAST-MODIFIED:20170207T000128Z
UID:21628-1486540800-1486573200@laguestlist.com
SUMMARY:Alicia Keys at The Belasco
DESCRIPTION:Ticketed –  In support of her new album Here\, Alicia Keys has scheduled an all-ages show at the Belasco Theater on Wednesday\, February 8.
URL:https://laguestlist.com/event/alicia-keys-belasco/
LOCATION:The Belasco Theatre\, 1050 South Hill Str\, 90015\, CA\, 90015\, United States
CATEGORIES:Concert
ATTACH;FMTTYPE=image/jpeg:https://laguestlist.com/wp-content/uploads/2017/02/LN_AliciaKeys-770x470.jpg
END:VEVENT
BEGIN:VEVENT
DTSTART;TZID=America/Los_Angeles:20170208T190000
DTEND;TZID=America/Los_Angeles:20170208T230000
DTSTAMP:20260421T233627
CREATED:20170131T183336Z
LAST-MODIFIED:20170131T183336Z
UID:21506-1486580400-1486594800@laguestlist.com
SUMMARY:Citi Sound Vault Presents Sting
DESCRIPTION:Ticketed – Kicking off in Los Angeles from February 8 – 12during one of the biggest weeks in music – traditionally only open to industry insiders – Citi and Live Nation have hand-selected Sting\, Beck\, The Chainsmokers\, and Metallica to perform for cardmembers at the iconic Hollywood Palladium.
URL:https://laguestlist.com/event/citi-sound-vault-presents-sting/
LOCATION:The Palladium\, 6215 Sunset Boulevard\,  Los Angeles\, CA\, 90028\, United States
CATEGORIES:Concert
ATTACH;FMTTYPE=image/jpeg:https://laguestlist.com/wp-content/uploads/2017/01/unnamed-2-3.jpg
END:VEVENT
BEGIN:VEVENT
DTSTART;TZID=America/Los_Angeles:20170209T190000
DTEND;TZID=America/Los_Angeles:20170209T230000
DTSTAMP:20260421T233627
CREATED:20170131T183502Z
LAST-MODIFIED:20170131T183502Z
UID:21509-1486666800-1486681200@laguestlist.com
SUMMARY:Citi Sound Vault Presents Sting
DESCRIPTION:Ticketed – Kicking off in Los Angeles from February 8 – 12during one of the biggest weeks in music – traditionally only open to industry insiders – Citi and Live Nation have hand-selected Sting\, Beck\, The Chainsmokers\, and Metallica to perform for cardmembers at the iconic Hollywood Palladium.
URL:https://laguestlist.com/event/citi-sound-vault-presents-sting-2/
LOCATION:The Palladium\, 6215 Sunset Boulevard\,  Los Angeles\, CA\, 90028\, United States
CATEGORIES:Concert
ATTACH;FMTTYPE=image/jpeg:https://laguestlist.com/wp-content/uploads/2017/01/unnamed-2-3.jpg
END:VEVENT
BEGIN:VEVENT
DTSTART;TZID=America/Los_Angeles:20170209T193000
DTEND;TZID=America/Los_Angeles:20170209T230000
DTSTAMP:20260421T233627
CREATED:20170128T203347Z
LAST-MODIFIED:20170201T190409Z
UID:21367-1486668600-1486681200@laguestlist.com
SUMMARY:Spotify: Best New Artist Grammy Celebration
DESCRIPTION:Invite Only – Join Spotify to celebrate the best new artist grammy nominations with The Chainsmokers and Maren Morris.
URL:https://laguestlist.com/event/spotify-best-new-artist-grammy-celebration/
LOCATION:Belaco Theatre
CATEGORIES:Award Show,Concert
ATTACH;FMTTYPE=image/png:https://laguestlist.com/wp-content/uploads/2017/01/unnamed-2.png
END:VEVENT
BEGIN:VEVENT
DTSTART;TZID=America/Los_Angeles:20170210T110000
DTEND;TZID=America/Los_Angeles:20170210T180000
DTSTAMP:20260421T233627
CREATED:20170131T184628Z
LAST-MODIFIED:20170131T184628Z
UID:21520-1486724400-1486749600@laguestlist.com
SUMMARY:59th Annual Grammy Awards Official Backstage Gift Lounge
DESCRIPTION:Invite Only – the Official Backstage Gift Lounge\, for the 59th Annual Grammy Awards\, Presented by MTG! This year marks the 18th year Distinctive Assets will be  hosting the Official Backstage Grammy Gift Lounge.
URL:https://laguestlist.com/event/59th-annual-grammy-awards-official-backstage-gift-lounge-2/
LOCATION:Staples Center\, 1111 S Figueroa St\, Los Angeles\, CA\, 90015\, United States
CATEGORIES:Concert
ATTACH;FMTTYPE=image/png:https://laguestlist.com/wp-content/uploads/2017/01/Screen-Shot-2017-01-31-at-10.42.39-AM.png
END:VEVENT
BEGIN:VEVENT
DTSTART;TZID=America/Los_Angeles:20170210T190000
DTEND;TZID=America/Los_Angeles:20170210T230000
DTSTAMP:20260421T233627
CREATED:20170131T183642Z
LAST-MODIFIED:20170131T183642Z
UID:21511-1486753200-1486767600@laguestlist.com
SUMMARY:Citi Sound Vault Presents Beck
DESCRIPTION:Ticketed – Kicking off in Los Angeles from February 8 – 12during one of the biggest weeks in music – traditionally only open to industry insiders – Citi and Live Nation have hand-selected Sting\, Beck\, The Chainsmokers\, and Metallica to perform for cardmembers at the iconic Hollywood Palladium.
URL:https://laguestlist.com/event/citi-sound-vault-presents-beck/
LOCATION:The Palladium\, 6215 Sunset Boulevard\,  Los Angeles\, CA\, 90028\, United States
CATEGORIES:Concert
ATTACH;FMTTYPE=image/jpeg:https://laguestlist.com/wp-content/uploads/2017/01/unnamed-2-3.jpg
END:VEVENT
BEGIN:VEVENT
DTSTART;TZID=America/Los_Angeles:20170210T200000
DTEND;TZID=America/Los_Angeles:20170210T230000
DTSTAMP:20260421T233627
CREATED:20170208T171534Z
LAST-MODIFIED:20170208T171534Z
UID:21682-1486756800-1486767600@laguestlist.com
SUMMARY:Los Angeles Ignite The Fyre Party
DESCRIPTION:Ticketed – With less than 80 days left\, Ignite the Fyre is launching a tour of secret private parties in only the world’s finest cities. Experience exclusive performances by two Fyre artists and receive a special clue to the treasure hunt. Party with the best of them in the limited 400 guest attendance that includes Fyre’s influencers\, artists\, and models. Local venues are entirely under wraps until the day of the show\, and will be revealed via email. Blaze your trail to the festival with this unique advance experience
URL:https://laguestlist.com/event/los-angeles-ignite-fyre-party/
LOCATION:CA
CATEGORIES:Concert
ATTACH;FMTTYPE=image/jpeg:https://laguestlist.com/wp-content/uploads/2017/02/ignite.jpg
END:VEVENT
BEGIN:VEVENT
DTSTART;TZID=America/Los_Angeles:20170211T120000
DTEND;TZID=America/Los_Angeles:20170211T170000
DTSTAMP:20260421T233627
CREATED:20170207T010513Z
LAST-MODIFIED:20170207T010513Z
UID:21639-1486814400-1486832400@laguestlist.com
SUMMARY:Masterpass #ThankTheFans House
DESCRIPTION:Open – The FADER and Mastercard present a must-see line-up. From 12 to 5 p.m. PT each day\, visitors can test their hand behind the turntables\, rock out with Gibson Guitars\, step into a recording booth or cozy up to a Vinyl Me\, Please curated listening station with a friend. Masterpass users will have the exclusive opportunity to purchase hard-to-find vinyl for just $10 and may even get a Priceless Surprise. All proceeds from the vinyl record sales will be donated to MusiCares.
URL:https://laguestlist.com/event/masterpass-thankthefans-house-3/
LOCATION:Gibson Brand Sunset\, 8801 Sunset Blvd\, Los Angeles\, CA\, 90069\, United States
CATEGORIES:Concert
ATTACH;FMTTYPE=image/png:https://laguestlist.com/wp-content/uploads/2017/02/Screen-Shot-2017-02-06-at-4.55.48-PM.png
END:VEVENT
BEGIN:VEVENT
DTSTART;TZID=America/Los_Angeles:20170211T190000
DTEND;TZID=America/Los_Angeles:20170211T230000
DTSTAMP:20260421T233627
CREATED:20170131T183824Z
LAST-MODIFIED:20170131T183824Z
UID:21513-1486839600-1486854000@laguestlist.com
SUMMARY:Citi Sound Vault Presents The Chainsmokers
DESCRIPTION:Ticketed – Kicking off in Los Angeles from February 8 – 12during one of the biggest weeks in music – traditionally only open to industry insiders – Citi and Live Nation have hand-selected Sting\, Beck\, The Chainsmokers\, and Metallica to perform for cardmembers at the iconic Hollywood Palladium.
URL:https://laguestlist.com/event/citi-sound-vault-presents-chainsmokers/
LOCATION:CA
CATEGORIES:Concert
ATTACH;FMTTYPE=image/jpeg:https://laguestlist.com/wp-content/uploads/2017/01/unnamed-2-3.jpg
END:VEVENT
BEGIN:VEVENT
DTSTART;TZID=America/Los_Angeles:20170211T190000
DTEND;TZID=America/Los_Angeles:20170211T230000
DTSTAMP:20260421T233627
CREATED:20170203T224146Z
LAST-MODIFIED:20170203T224146Z
UID:21593-1486839600-1486854000@laguestlist.com
SUMMARY:Migos at Novo
DESCRIPTION:Ticketed – Migos’s upcoming concert at The Novo by Microsoft in Los Angeles.
URL:https://laguestlist.com/event/migos-at-novo-2/
LOCATION:The Novo DTLA\, 800 W Olympic Blvd\, Ste A335\, Los Angeles\, CA\, 90015\, United States
CATEGORIES:Concert
ATTACH;FMTTYPE=image/png:https://laguestlist.com/wp-content/uploads/2017/02/migos_09-12-16_19_57d6f5a0c8a00.png
END:VEVENT
BEGIN:VEVENT
DTSTART;TZID=America/Los_Angeles:20170211T210000
DTEND;TZID=America/Los_Angeles:20170211T210000
DTSTAMP:20260421T233627
CREATED:20170202T220909Z
LAST-MODIFIED:20170202T220909Z
UID:21563-1486846800-1486846800@laguestlist.com
SUMMARY:CeeLo Green at Kiss-n-Grind
DESCRIPTION:Ticketed – On Friday\, February 10th\, 5x Grammy Award Winner CeeLo Green hosts are annual event with resident DJ Vikter Duplaix.
URL:https://laguestlist.com/event/ceelo-green-kiss-n-grind/
LOCATION:Globe Theatre\, 740 S Broadway\, Los Angeles\, CA\, 90014\, United States
CATEGORIES:Concert
ATTACH;FMTTYPE=image/jpeg:https://laguestlist.com/wp-content/uploads/2017/02/16402692_10158179026310261_2782296174516028680_o.jpg
END:VEVENT
BEGIN:VEVENT
DTSTART;TZID=America/Los_Angeles:20170212T190000
DTEND;TZID=America/Los_Angeles:20170212T230000
DTSTAMP:20260421T233627
CREATED:20170131T183954Z
LAST-MODIFIED:20170131T183954Z
UID:21515-1486926000-1486940400@laguestlist.com
SUMMARY:Citi Sound Vault Presents Metallica
DESCRIPTION:Ticketed – Kicking off in Los Angeles from February 8 – 12during one of the biggest weeks in music – traditionally only open to industry insiders – Citi and Live Nation have hand-selected Sting\, Beck\, The Chainsmokers\, and Metallica to perform for cardmembers at the iconic Hollywood Palladium.
URL:https://laguestlist.com/event/citi-sound-vault-presents-metallica/
LOCATION:The Palladium\, 6215 Sunset Boulevard\,  Los Angeles\, CA\, 90028\, United States
CATEGORIES:Concert
ATTACH;FMTTYPE=image/jpeg:https://laguestlist.com/wp-content/uploads/2017/01/unnamed-2-3.jpg
END:VEVENT
END:VCALENDAR