BEGIN:VCALENDAR
VERSION:2.0
PRODID:-//LA Guestlist - ECPv6.15.20//NONSGML v1.0//EN
CALSCALE:GREGORIAN
METHOD:PUBLISH
X-ORIGINAL-URL:https://laguestlist.com
X-WR-CALDESC:Events for LA Guestlist
REFRESH-INTERVAL;VALUE=DURATION:PT1H
X-Robots-Tag:noindex
X-PUBLISHED-TTL:PT1H
BEGIN:VTIMEZONE
TZID:America/Los_Angeles
BEGIN:DAYLIGHT
TZOFFSETFROM:-0800
TZOFFSETTO:-0700
TZNAME:PDT
DTSTART:20160313T100000
END:DAYLIGHT
BEGIN:STANDARD
TZOFFSETFROM:-0700
TZOFFSETTO:-0800
TZNAME:PST
DTSTART:20161106T090000
END:STANDARD
BEGIN:DAYLIGHT
TZOFFSETFROM:-0800
TZOFFSETTO:-0700
TZNAME:PDT
DTSTART:20170312T100000
END:DAYLIGHT
BEGIN:STANDARD
TZOFFSETFROM:-0700
TZOFFSETTO:-0800
TZNAME:PST
DTSTART:20171105T090000
END:STANDARD
BEGIN:DAYLIGHT
TZOFFSETFROM:-0800
TZOFFSETTO:-0700
TZNAME:PDT
DTSTART:20180311T100000
END:DAYLIGHT
BEGIN:STANDARD
TZOFFSETFROM:-0700
TZOFFSETTO:-0800
TZNAME:PST
DTSTART:20181104T090000
END:STANDARD
END:VTIMEZONE
BEGIN:VEVENT
DTSTART;TZID=America/Los_Angeles:20170408T110000
DTEND;TZID=America/Los_Angeles:20170408T170000
DTSTAMP:20260422T223031
CREATED:20170404T205558Z
LAST-MODIFIED:20170404T205558Z
UID:22926-1491649200-1491670800@laguestlist.com
SUMMARY:Pre-Festival Marketplace at PLATFORM
DESCRIPTION:Open – PLATFORM is gathering a few friends and special sponsors for an incredible weekend designed to get anyone Coachella ready whether or not you’re headed to Palm Springs. Among them include: HUM Nutrition\, RumbaTime\, Lisa Hoffman and more! A secret rooftop soiree will also take place to celebrate the official start to festival season so come pool ready to take a dip in our inflatable pools!
URL:https://laguestlist.com/event/pre-festival-marketplace-platform/
LOCATION:Platform\, 8820 Washington Blvd Suite 101\, Culver City\, CA\, United States
CATEGORIES:Coachella,Pop-Up Shop
ATTACH;FMTTYPE=image/png:https://laguestlist.com/wp-content/uploads/2017/04/unnamed-4.png
END:VEVENT
BEGIN:VEVENT
DTSTART;TZID=America/Los_Angeles:20170408T130000
DTEND;TZID=America/Los_Angeles:20170408T180000
DTSTAMP:20260422T223031
CREATED:20170405T002200Z
LAST-MODIFIED:20170405T002200Z
UID:22955-1491656400-1491674400@laguestlist.com
SUMMARY:BUCHELLA Festival Fashion Event by JD Luxe & Pop Your Shop
DESCRIPTION:RSVP – BUCHELLA: A Pre- Coachella Shopping Event featuring Top Festival Fashions from The J.D. Luxe Fashion Truck Featured on Bravo’s ‘Vanderpump Rules’. Enjoy Live Music x Mani + Pedi x Flash Tats x Tipi Lounge x Sparkles x Great Wine.
URL:https://laguestlist.com/event/buchella-festival-fashion-event-jd-luxe-pop-shop/
LOCATION:Rosenthal  Winery\, 18471 Pacific Coast Highway\, Malibe\, CA\, 90265\, United States
CATEGORIES:Coachella,Fun in the Sun
ATTACH;FMTTYPE=image/jpeg:https://laguestlist.com/wp-content/uploads/2017/04/unnamed-2-1.jpg
END:VEVENT
BEGIN:VEVENT
DTSTART;TZID=America/Los_Angeles:20170408T160000
DTEND;TZID=America/Los_Angeles:20170408T200000
DTSTAMP:20260422T223031
CREATED:20170329T003023Z
LAST-MODIFIED:20170329T003023Z
UID:22770-1491667200-1491681600@laguestlist.com
SUMMARY:Pre Chella Weekend @ TAGS
DESCRIPTION:Open – in\, be comfortable\, and somehow manage to be anything but basic.  If you are getting bored with the inspiration coming from your go-to sources\, you simply may need one-on-one time with a stylist. \nThis is not an ordinary shopping event; this is all about you. Whether you’ve got an idea already or are desperately seeking some NEW inspiration for your Coachella Weekend\, our TAGS team of stylists will take the time to sit one-on-one with you after hours at our boutique in West Hollywood. \nOh\, and did we forget to mention champagne\, and a live DJ set? We did\, we did… Ah well now you know. It is an event after all.
URL:https://laguestlist.com/event/pre-chella-weekend-tags/
LOCATION:TAGS\, 8570 W. Sunset Blvd.\, West Hollywood\, CA\, 90069\, United States
CATEGORIES:Coachella
ATTACH;FMTTYPE=image/jpeg:https://laguestlist.com/wp-content/uploads/2017/03/unnamed-2-7.jpg
END:VEVENT
BEGIN:VEVENT
DTSTART;TZID=America/Los_Angeles:20170409T110000
DTEND;TZID=America/Los_Angeles:20170409T170000
DTSTAMP:20260422T223031
CREATED:20170404T205717Z
LAST-MODIFIED:20170404T205717Z
UID:22929-1491735600-1491757200@laguestlist.com
SUMMARY:Pre-Festival Marketplace at PLATFORM
DESCRIPTION:Open – PLATFORM is gathering a few friends and special sponsors for an incredible weekend designed to get anyone Coachella ready whether or not you’re headed to Palm Springs. Among them include: HUM Nutrition\, RumbaTime\, Lisa Hoffman and more! A secret rooftop soiree will also take place to celebrate the official start to festival season so come pool ready to take a dip in our inflatable pools!
URL:https://laguestlist.com/event/pre-festival-marketplace-platform-2/
LOCATION:Platform\, 8820 Washington Blvd Suite 101\, Culver City\, CA\, United States
CATEGORIES:Coachella,Fashion
ATTACH;FMTTYPE=image/png:https://laguestlist.com/wp-content/uploads/2017/04/unnamed-4.png
END:VEVENT
BEGIN:VEVENT
DTSTART;TZID=America/Los_Angeles:20170409T160000
DTEND;TZID=America/Los_Angeles:20170409T200000
DTSTAMP:20260422T223031
CREATED:20170329T003335Z
LAST-MODIFIED:20170329T003335Z
UID:22773-1491753600-1491768000@laguestlist.com
SUMMARY:Pre Chella Weekend @ TAGS
DESCRIPTION:Open – in\, be comfortable\, and somehow manage to be anything but basic.  If you are getting bored with the inspiration coming from your go-to sources\, you simply may need one-on-one time with a stylist. \nThis is not an ordinary shopping event; this is all about you. Whether you’ve got an idea already or are desperately seeking some NEW inspiration for your Coachella Weekend\, our TAGS team of stylists will take the time to sit one-on-one with you after hours at our boutique in West Hollywood. \nOh\, and did we forget to mention champagne\, and a live DJ set? We did\, we did… Ah well now you know. It is an event after all.
URL:https://laguestlist.com/event/pre-chella-weekend-tags-2/
LOCATION:TAGS\, 8570 W. Sunset Blvd.\, West Hollywood\, CA\, 90069\, United States
CATEGORIES:Coachella
ATTACH;FMTTYPE=image/jpeg:https://laguestlist.com/wp-content/uploads/2017/03/unnamed-2-7.jpg
END:VEVENT
BEGIN:VEVENT
DTSTART;TZID=America/Los_Angeles:20170412T100000
DTEND;TZID=America/Los_Angeles:20170412T180000
DTSTAMP:20260422T223031
CREATED:20170323T163848Z
LAST-MODIFIED:20170323T163848Z
UID:22617-1491991200-1492020000@laguestlist.com
SUMMARY:AMUSE X PRISM Desert House
DESCRIPTION:Invite Only – Amuse x Prism Desert House with Amuse Society festival must-haves along with pieces from Matisse Footwear\, Flynn Skye\, D’Blanc Eyewear\, Five & Two Jewelry\, and more.
URL:https://laguestlist.com/event/amuse-x-prism-desert-house/
LOCATION:Palm Springs
CATEGORIES:Coachella
ATTACH;FMTTYPE=image/jpeg:https://laguestlist.com/wp-content/uploads/2017/03/unnamed-2-3.jpg
END:VEVENT
BEGIN:VEVENT
DTSTART;TZID=America/Los_Angeles:20170413T100000
DTEND;TZID=America/Los_Angeles:20170413T180000
DTSTAMP:20260422T223031
CREATED:20170323T164142Z
LAST-MODIFIED:20170323T164142Z
UID:22620-1492077600-1492106400@laguestlist.com
SUMMARY:AMUSE X PRISM Desert House
DESCRIPTION:Invite Only – Amuse x Prism Desert House with Amuse Society festival must-haves along with pieces from Matisse Footwear\, Flynn Skye\, D’Blanc Eyewear\, Five & Two Jewelry\, and more.
URL:https://laguestlist.com/event/amuse-x-prism-desert-house-2/
LOCATION:Palm Springs
CATEGORIES:Coachella
ATTACH;FMTTYPE=image/jpeg:https://laguestlist.com/wp-content/uploads/2017/03/unnamed-2-3.jpg
END:VEVENT
BEGIN:VEVENT
DTSTART;TZID=America/Los_Angeles:20170413T140000
DTEND;TZID=America/Los_Angeles:20170413T180000
DTSTAMP:20260422T223031
CREATED:20170403T225911Z
LAST-MODIFIED:20170403T225911Z
UID:22889-1492092000-1492106400@laguestlist.com
SUMMARY:Get Lit @ Desert Music Festival 2017 – Wknd 1
DESCRIPTION:Invite Only – Get Lit brings all your leading medical cannabis brands together for a magical time at the annual desert music festival. We provide a safe\, secure\, sanctioned\, and one-of-a-kind experience. Music\, activities\, pre and after parties. Come see the other side.
URL:https://laguestlist.com/event/get-lit-desert-music-festival-2017-wknd-1/
LOCATION:Indio\, CA
CATEGORIES:Coachella
ATTACH;FMTTYPE=image/jpeg:https://laguestlist.com/wp-content/uploads/2017/04/GetLitFlyer-Wknd1v2-805x1024.jpg
END:VEVENT
BEGIN:VEVENT
DTSTART;TZID=America/Los_Angeles:20170413T200000
DTEND;TZID=America/Los_Angeles:20170413T200000
DTSTAMP:20260422T223031
CREATED:20170322T191016Z
LAST-MODIFIED:20170322T191016Z
UID:22580-1492113600-1492113600@laguestlist.com
SUMMARY:Young Turks in Palm Springs
DESCRIPTION:Ticketed – Goldenvoice & FYF Present Young Turks in Palm Springs with Ben UFO\, Four Tet\, Francis and the Lights\, Jamie xx\, Kamaiyah\, Sampha with special guests PNL.
URL:https://laguestlist.com/event/young-turks-palm-springs/
LOCATION:Palm Springs Air Museum\, 745 N Gene Autry Trl\, Palm Springs\, CA\, 92262\, United States
CATEGORIES:Coachella
ATTACH;FMTTYPE=image/jpeg:https://laguestlist.com/wp-content/uploads/2017/03/16649194_10158176320700099_3106267760975796383_n.jpg
END:VEVENT
BEGIN:VEVENT
DTSTART;TZID=America/Los_Angeles:20170414T110000
DTEND;TZID=America/Los_Angeles:20170414T160000
DTSTAMP:20260422T223031
CREATED:20170411T201850Z
LAST-MODIFIED:20170411T201850Z
UID:23193-1492167600-1492185600@laguestlist.com
SUMMARY:Juicy Couture Coachella Pop-Up
DESCRIPTION:Open – Want a reason to attend the Juicy Couture activation other than breaking out your favorite terry cloth track suit? NYX will be in attendance for that perfect makeup touch-up needed after a long day in the desert sun; on-hand will be the newest from NYX (think chromatic makeup + glitter)\, perfect for your festival look
URL:https://laguestlist.com/event/juicy-couture-coachella-pop/
LOCATION:The Saguaro Palm Springs\, 1800 E Palm Canyon Dr\, Palm Springs\, CA\, 92264\, United States
CATEGORIES:Beauty,Coachella
ATTACH;FMTTYPE=image/jpeg:https://laguestlist.com/wp-content/uploads/2017/04/unnamed-2-6.jpg
END:VEVENT
BEGIN:VEVENT
DTSTART;TZID=America/Los_Angeles:20170414T120000
DTEND;TZID=America/Los_Angeles:20170414T160000
DTSTAMP:20260422T223031
CREATED:20170323T163611Z
LAST-MODIFIED:20170323T163611Z
UID:22613-1492171200-1492185600@laguestlist.com
SUMMARY:AMUSE x PRISM Desert House Poolside Kick-Off
DESCRIPTION:Invite Only – AMUSE x PRISM Desert House Poolside Kick-Off. Chill pollside to DJ Pamela Katz and grab a drink from Svedka + House Beer shop\, enjoy ‘Dos by Drybar and Mini Makeovers before you hit the polo fields.
URL:https://laguestlist.com/event/amuse-x-prism-desert-house-poolside-kick-off/
LOCATION:Palm Springs
CATEGORIES:Coachella
ATTACH;FMTTYPE=image/jpeg:https://laguestlist.com/wp-content/uploads/2017/03/rsvp-amusexprism-deserthouse_b-ebc2.jpg
END:VEVENT
BEGIN:VEVENT
DTSTART;TZID=America/Los_Angeles:20170414T120000
DTEND;TZID=America/Los_Angeles:20170414T180000
DTSTAMP:20260422T223031
CREATED:20170327T235930Z
LAST-MODIFIED:20170328T000005Z
UID:22714-1492171200-1492192800@laguestlist.com
SUMMARY:Day Club Weekend 1 Friday: Nicky Romero
DESCRIPTION:Ticketed – Formerly co-branded with San Diego’s LED Presents\, Day Club has announced a massive lineup for their Coachella Weekend 1 Party features headliners Nicky Romero and Skrillex\, with Sound Nightclub taking over the vibes.
URL:https://laguestlist.com/event/day-club-weekend-1-friday-nicky-romero/
LOCATION:Hilton Palm Springs\, 400 E Tahquitz Canyon Way\, Palm Springs\, CA\, 92262\, United States
CATEGORIES:Coachella
ATTACH;FMTTYPE=image/png:https://laguestlist.com/wp-content/uploads/2017/03/Screen-Shot-2017-03-27-at-4.56.04-PM.png
END:VEVENT
BEGIN:VEVENT
DTSTART;TZID=America/Los_Angeles:20170414T130000
DTEND;TZID=America/Los_Angeles:20170414T170000
DTSTAMP:20260422T223031
CREATED:20170405T191539Z
LAST-MODIFIED:20170405T191539Z
UID:22998-1492174800-1492189200@laguestlist.com
SUMMARY:Galore X Grindr Coachella Party
DESCRIPTION:Invite Only – GALORE X GRINDR editors PRINCE + JACOB invite you to celebrate with your gay best friends with Charli XCX\, Performances By Brooke Candy\,  Cupcakke\, Grave McKagan + Special Guest and DJ Sets by Simihaze\, Jordyn Woods\, Taryn Manning\, and Allie Layus.
URL:https://laguestlist.com/event/galore-x-grindr-coachella-party/
LOCATION:Palm Springs
CATEGORIES:Coachella
ATTACH;FMTTYPE=image/png:https://laguestlist.com/wp-content/uploads/2017/04/Screen-Shot-2017-04-05-at-12.12.05-PM.png
END:VEVENT
BEGIN:VEVENT
DTSTART;TZID=America/Los_Angeles:20170414T140000
DTEND;TZID=America/Los_Angeles:20170414T180000
DTSTAMP:20260422T223031
CREATED:20170328T182309Z
LAST-MODIFIED:20170331T221632Z
UID:22742-1492178400-1492192800@laguestlist.com
SUMMARY:Desert Oasis by FORAY & Vamped
DESCRIPTION:Invite Only – Desert Oasis by FORAY Collective held on Friday\, April 14\, 2017 from 2-6 PM during Coachella weekend one\, the exclusive party will be hosted by actress and model\, Emily Ratajkowski and include DJ sets by Brody Jenner\, Madds and Devin Lucien with title sponsors include L’Oréal and boohoo.
URL:https://laguestlist.com/event/desert-oasis-foray-vamped/
LOCATION:Indian Wells
CATEGORIES:Coachella
ATTACH;FMTTYPE=image/png:https://laguestlist.com/wp-content/uploads/2017/03/Screen-Shot-2017-03-31-at-3.14.56-PM.png
END:VEVENT
BEGIN:VEVENT
DTSTART;TZID=America/Los_Angeles:20170414T140000
DTEND;TZID=America/Los_Angeles:20170414T180000
DTSTAMP:20260422T223031
CREATED:20170329T190833Z
LAST-MODIFIED:20170405T202920Z
UID:22800-1492178400-1492192800@laguestlist.com
SUMMARY:Funboy x Smashbox Float into Coachella
DESCRIPTION:Invite Only – Float into Coachella with the Funboy x Smashbox on Friday\, April 14th from 2pm-6pm in Palm Springs. The afternoon will feature DJ Yasmin and floato-ops with custom Funboy Metallic Lip Floats as well as fortunes and festival glam with hair by Bumble & Bumble.
URL:https://laguestlist.com/event/funboy-x-smashbox-float-coachella/
LOCATION:Palm Springs
CATEGORIES:Beauty,Coachella
ATTACH;FMTTYPE=image/png:https://laguestlist.com/wp-content/uploads/2017/03/Screen-Shot-2017-04-05-at-1.27.51-PM.png
END:VEVENT
BEGIN:VEVENT
DTSTART;TZID=America/Los_Angeles:20170414T140000
DTEND;TZID=America/Los_Angeles:20170414T180000
DTSTAMP:20260422T223031
CREATED:20170407T034539Z
LAST-MODIFIED:20170407T034539Z
UID:23020-1492178400-1492192800@laguestlist.com
SUMMARY:Victoria's Secret: Angel Oasis
DESCRIPTION:Invite Only – Victoria’s Secret: Angel Oasis with angeles Alessandra Ambrosio\, Jasmine Tookes\, Josephine Skriver\, Martha Hunt and Taylor Hill. Live music by DJ Alexandra Richards\, Sexy Little Things Styling Suite\, Beauty Lounge and more.
URL:https://laguestlist.com/event/victorias-secret-angel-oasis/
LOCATION:Palm Springs
CATEGORIES:Coachella
ATTACH;FMTTYPE=image/png:https://laguestlist.com/wp-content/uploads/2017/04/Screen-Shot-2017-04-06-at-8.34.10-PM.png
END:VEVENT
BEGIN:VEVENT
DTSTART;TZID=America/Los_Angeles:20170414T140000
DTEND;TZID=America/Los_Angeles:20170414T180000
DTSTAMP:20260422T223031
CREATED:20170407T162759Z
LAST-MODIFIED:20170411T011908Z
UID:23046-1492178400-1492192800@laguestlist.com
SUMMARY:The h.wood Group presents: Blind Dragon Pop Up Desert Experience
DESCRIPTION:Invite Only – The h.wood Group will presents an exclusive festival kick-off party in the desert featuring special performances and celebrity guests.
URL:https://laguestlist.com/event/h-wood-group-presents-blind-dragon-pop-desert-experience/
LOCATION:La Quinta\, CA
CATEGORIES:Coachella
ATTACH;FMTTYPE=image/jpeg:https://laguestlist.com/wp-content/uploads/2017/04/unnamed-2-4.jpg
END:VEVENT
BEGIN:VEVENT
DTSTART;TZID=America/Los_Angeles:20170414T140000
DTEND;TZID=America/Los_Angeles:20170414T180000
DTSTAMP:20260422T223031
CREATED:20170411T013203Z
LAST-MODIFIED:20170411T202903Z
UID:23150-1492178400-1492192800@laguestlist.com
SUMMARY:Velocity Black x 1 OAK: Up&Down Beach Club
DESCRIPTION:Invite Only – The Velocity Black x 1 OAK: Up & Down Beach Club kicks off the biggest music festival weekend of the year with a truly one-of-a-kind party! Kings of nightlife Richie Akiva\, Darren Dzienciol\, and Ronnie Madra\, together with Velocity Black\, are transforming an elite mega-mansion\, complete with its very own lake into a weekend long beach party. Velocity Black\, a global membership club known for curating the most memorable experiences\, is treating VIP guests to an epic day party with music by DJ Taco (of ODD Future) as partygoers beat the heat with cocktails by Absolut Elyx and food by Catch LA. The annual star-studded pop-up will be the go to party destination for industry elite with epic surprise performances. Stay tuned for more information via @1OAKNYC\, @Up&Down and @Velocity.Black.
URL:https://laguestlist.com/event/velocity-black-x-1-oak-updown-beach-club/
CATEGORIES:Coachella
ATTACH;FMTTYPE=image/png:https://laguestlist.com/wp-content/uploads/2017/04/Screen-Shot-2017-04-11-at-1.27.40-PM.png
END:VEVENT
BEGIN:VEVENT
DTSTART;TZID=America/Los_Angeles:20170414T150000
DTEND;TZID=America/Los_Angeles:20170414T180000
DTSTAMP:20260422T223031
CREATED:20170407T043856Z
LAST-MODIFIED:20170407T161910Z
UID:23036-1492182000-1492192800@laguestlist.com
SUMMARY:Paper Magazine​ x Pretty Little Thing: The Pretty Little Playground
DESCRIPTION:Invite Only – Paper Magazine is teaming up with popular online fashion brand Pretty Little Thing for an exclusive festival kick-off bash.
URL:https://laguestlist.com/event/paper-magazine%e2%80%8b-x-pretty-little-thing-pretty-little-playground/
LOCATION:Palm Springs
CATEGORIES:Coachella,Magazine
ATTACH;FMTTYPE=image/jpeg:https://laguestlist.com/wp-content/uploads/2017/04/unnamed-1-3.jpg
END:VEVENT
BEGIN:VEVENT
DTSTART;TZID=America/Los_Angeles:20170414T220000
DTEND;TZID=America/Los_Angeles:20170414T220000
DTSTAMP:20260422T223031
CREATED:20170322T190747Z
LAST-MODIFIED:20170322T190747Z
UID:22575-1492207200-1492207200@laguestlist.com
SUMMARY:Rhonda: Queen of the Desert
DESCRIPTION:Ticketed – Framework & Goldenvoice Present Rhonda: Queen of the Desert with Solomun b2b Dixon featuring Doc Martin.
URL:https://laguestlist.com/event/rhonda-queen-desert/
LOCATION:Palm Springs Air Museum\, 745 N Gene Autry Trl\, Palm Springs\, CA\, 92262\, United States
CATEGORIES:Coachella
ATTACH;FMTTYPE=image/jpeg:https://laguestlist.com/wp-content/uploads/2017/03/17349881_10102095252559176_9222826669209419036_o.jpg
END:VEVENT
BEGIN:VEVENT
DTSTART;TZID=America/Los_Angeles:20170414T220000
DTEND;TZID=America/Los_Angeles:20170414T220000
DTSTAMP:20260422T223031
CREATED:20170408T184311Z
LAST-MODIFIED:20170408T184311Z
UID:23064-1492207200-1492207200@laguestlist.com
SUMMARY:NYLON Returns with Third Annual Midnight Garden Party
DESCRIPTION:Invite Only – NYLON returns for its third annual Midnight Garden Party during Weekend 1 of music’s most celebrated festival on Friday\, April 14. This year’s invite-only event will be headlined by DJ performances by Virgil Abloh and Taco\, two of the hottest music acts of the moment\, as well as feature notable DJ sets by Johnny Wujek\, Markus Molinari and Ana Calderon. Guests will be treated to a Batiste Dry Shampoo hairstyling station where beGlammed artists will provide guests with a series of festival-inspired looks. After attendees get their glam on they can top it off with a Flower Children Only flower crown to accessorize in style throughout the weekend. Guests will cool down from the desert heat with refreshing\, specialty Johnnie & Soda cocktails\, provided by Johnnie Walker in their exclusive 21+ lounge. Celebs and VIPs will be treated to Johnnie and Soda bottle service\, while guests can indulge in made-to-order ice cream sandwiches provided by Coolhaus.
URL:https://laguestlist.com/event/nylon-returns-third-annual-midnight-garden-party/
CATEGORIES:Coachella
ATTACH;FMTTYPE=image/png:https://laguestlist.com/wp-content/uploads/2017/04/Screen-Shot-2017-04-08-at-11.40.15-AM.png
END:VEVENT
BEGIN:VEVENT
DTSTART;TZID=America/Los_Angeles:20170415T100000
DTEND;TZID=America/Los_Angeles:20170415T180000
DTSTAMP:20260422T223031
CREATED:20170323T164306Z
LAST-MODIFIED:20170323T164306Z
UID:22622-1492250400-1492279200@laguestlist.com
SUMMARY:AMUSE X PRISM Desert House
DESCRIPTION:Invite Only – Amuse x Prism Desert House with Amuse Society festival must-haves along with pieces from Matisse Footwear\, Flynn Skye\, D’Blanc Eyewear\, Five & Two Jewelry\, and more.
URL:https://laguestlist.com/event/amuse-x-prism-desert-house-3/
LOCATION:Palm Springs
CATEGORIES:Coachella
ATTACH;FMTTYPE=image/jpeg:https://laguestlist.com/wp-content/uploads/2017/03/unnamed-2-3.jpg
END:VEVENT
BEGIN:VEVENT
DTSTART;TZID=America/Los_Angeles:20170415T110000
DTEND;TZID=America/Los_Angeles:20170415T130000
DTSTAMP:20260422T223031
CREATED:20170405T012130Z
LAST-MODIFIED:20170405T012130Z
UID:22961-1492254000-1492261200@laguestlist.com
SUMMARY:PopSugar Brunch with the CFDA and Emily Current and Meritt Elliott
DESCRIPTION:Invite Only – Celebrate the intersection of pop culture\, music\, and fashion with POPSUGAR and the Council of Fashion Designers of America. The event is hosted by American designers Emily Current and Meritt Elliott (THE GREAT.) and also luxury accessories designer Clare Vivier of Clare V.
URL:https://laguestlist.com/event/popsugar-brunch-cfda-emily-current-meritt-elliott/
LOCATION:Palm Springs
CATEGORIES:Coachella
ATTACH;FMTTYPE=image/png:https://laguestlist.com/wp-content/uploads/2017/04/Screen-Shot-2016-04-11-at-3.52.29-PM.png
END:VEVENT
BEGIN:VEVENT
DTSTART;TZID=America/Los_Angeles:20170415T110000
DTEND;TZID=America/Los_Angeles:20170415T160000
DTSTAMP:20260422T223031
CREATED:20170404T180919Z
LAST-MODIFIED:20170411T201610Z
UID:22912-1492254000-1492272000@laguestlist.com
SUMMARY:Juicy Couture Coachella Pop-Up
DESCRIPTION:Open – Want a reason to attend the Juicy Couture activation other than breaking out your favorite terry cloth track suit? NYX will be in attendance for that perfect makeup touch-up needed after a long day in the desert sun; on-hand will be the newest from NYX (think chromatic makeup + glitter)\, perfect for your festival look
URL:https://laguestlist.com/event/juicy-couture-nyx/
LOCATION:The Saguaro Palm Springs\, 1800 E Palm Canyon Dr\, Palm Springs\, CA\, 92264\, United States
CATEGORIES:Beauty,Coachella
ATTACH;FMTTYPE=image/jpeg:https://laguestlist.com/wp-content/uploads/2017/04/unnamed-2-6.jpg
END:VEVENT
BEGIN:VEVENT
DTSTART;TZID=America/Los_Angeles:20170415T110000
DTEND;TZID=America/Los_Angeles:20170415T170000
DTSTAMP:20260422T223031
CREATED:20170407T044318Z
LAST-MODIFIED:20170407T044318Z
UID:23039-1492254000-1492275600@laguestlist.com
SUMMARY:American Express Platinum House
DESCRIPTION:Invite Only – New in store this year is our first-ever American Express Platinum House at The Parker Palm Springs. Open exclusively for Platinum Card Members from 11:00 a.m. to 5:00 p.m. on Saturday\, April 15 and Sunday\, April 16\, The Platinum House at The Parker Palm Springs will be the perfect spot to hang out before hitting up festival grounds\, complete with access to:\n·         Exclusive Platinum SoulCycle classes (taught by Stacey Griffith) and custom Platinum x Soul merchandise\n·         DJ set by Hannah Bronfman\n·         Performance by singer Bebe Rexha\n·         Premium food and drinks
URL:https://laguestlist.com/event/american-express-platinum-house/
LOCATION:Parker Palm Springs\, 4200 E Palm Canyon Dr\, Palm Springs\, CA\, 92264\, United States
CATEGORIES:Coachella
ATTACH;FMTTYPE=image/jpeg:https://laguestlist.com/wp-content/uploads/2017/04/american-express-logo_318-55455.jpg
END:VEVENT
BEGIN:VEVENT
DTSTART;TZID=America/Los_Angeles:20170415T110000
DTEND;TZID=America/Los_Angeles:20170415T180000
DTSTAMP:20260422T223031
CREATED:20170321T234005Z
LAST-MODIFIED:20170321T234005Z
UID:22549-1492254000-1492279200@laguestlist.com
SUMMARY:Wicked Delight x Dr. Fresch present The Prescription Pool Party
DESCRIPTION:Ticketed – WICKED DELIGHT (Wicked Paradise x Afternoon Delight)\nCoachella Edition 2017 at The Saguaro Palm Springs. Dr. Fresch presents The Prescription Pool Party featuring: Dr. Fresch\, Hotel Garuda\, Point Point + VERY SPECIAL GUESTS  \nand even more to be announced soon… \nDay Beds // Tables // Bottle Service – Sang Aparadh\nSaparadh@thesaguaro.com
URL:https://laguestlist.com/event/wicked-delight-x-dr-fresch-present-prescription-pool-party/
LOCATION:The Saguaro Palm Springs\, 1800 E Palm Canyon Dr\, Palm Springs\, CA\, 92264\, United States
CATEGORIES:Coachella
ATTACH;FMTTYPE=image/jpeg:https://laguestlist.com/wp-content/uploads/2017/03/17389043_10155225536484382_2672610765730567792_o.jpg
END:VEVENT
BEGIN:VEVENT
DTSTART;TZID=America/Los_Angeles:20170415T120000
DTEND;TZID=America/Los_Angeles:20170415T160000
DTSTAMP:20260422T223031
CREATED:20170408T184624Z
LAST-MODIFIED:20170408T184624Z
UID:23067-1492257600-1492272000@laguestlist.com
SUMMARY:DEW Label Motel at Coachella
DESCRIPTION:Invite Only – DEW is taking over the Musicland Hotel in Palm Springs Saturday\, April 15 and Sunday\, April 16 and transforming it into the Label Motel. Inspired by MTN DEW® LABEL SERIES\, we’ve added a touch of class to the rooms and experiences for you to enjoy\, including two-days of epic pool parties\, live performances by G-EAZY and top DJs and live art installations and Virgil Abloh.
URL:https://laguestlist.com/event/dew-label-motel-coachella/
LOCATION:Musicland Hotel\, 1342 South Palm Canyon Drive\, Palm Springs\, CA\, 92264\, United States
CATEGORIES:Coachella
ATTACH;FMTTYPE=image/jpeg:https://laguestlist.com/wp-content/uploads/2017/04/https-2F2Fcdn.evbuc_.com2Fimages2F301490002F2088875434652F12Foriginal.jpg
END:VEVENT
BEGIN:VEVENT
DTSTART;TZID=America/Los_Angeles:20170415T120000
DTEND;TZID=America/Los_Angeles:20170415T170000
DTSTAMP:20260422T223031
CREATED:20170409T165512Z
LAST-MODIFIED:20170409T165512Z
UID:23093-1492257600-1492275600@laguestlist.com
SUMMARY:Livby Island Coachella
DESCRIPTION:Invite Only – Get refreshed before heading into the festival with the following: 02 station\, IV hookups\, Organic Juice bar\, Acai & fresh fruit\, more food & drinks\, pool\, hammock village and more at the Laguna Seca Estates with Livby.
URL:https://laguestlist.com/event/livby-island-coachella/
LOCATION:Laguna Seca Estate
CATEGORIES:Coachella
ATTACH;FMTTYPE=image/png:https://laguestlist.com/wp-content/uploads/2017/04/Screen-Shot-2017-04-09-at-9.47.13-AM.png
END:VEVENT
BEGIN:VEVENT
DTSTART;TZID=America/Los_Angeles:20170415T120000
DTEND;TZID=America/Los_Angeles:20170415T180000
DTSTAMP:20260422T223031
CREATED:20170328T001244Z
LAST-MODIFIED:20170328T001244Z
UID:22717-1492257600-1492279200@laguestlist.com
SUMMARY:Day Club: OWLSA Pool Party with Skrillex & Friends
DESCRIPTION:Ticketed – Formerly co-branded with San Diego’s LED Presents\, Day Club has announced a massive lineup for their Coachella Weekend 1 Party features headliners Nicky Romero and Skrillex\, with Sound Nightclub taking over the vibes.
URL:https://laguestlist.com/event/day-club-owlsa-pool-party-skrillex-friends/
LOCATION:Hilton Palm Springs\, 400 E Tahquitz Canyon Way\, Palm Springs\, CA\, 92262\, United States
CATEGORIES:Coachella
ATTACH;FMTTYPE=image/png:https://laguestlist.com/wp-content/uploads/2017/03/Screen-Shot-2017-03-27-at-4.59.32-PM.png
END:VEVENT
BEGIN:VEVENT
DTSTART;TZID=America/Los_Angeles:20170415T120000
DTEND;TZID=America/Los_Angeles:20170415T180000
DTSTAMP:20260422T223031
CREATED:20170409T170415Z
LAST-MODIFIED:20170409T170415Z
UID:23100-1492257600-1492279200@laguestlist.com
SUMMARY:Hypebeast Hotel at Coachella
DESCRIPTION:Invite Only – Hypebeast is taking over Coachella with the Hypebeast Hotel sponsored by Under Armour.
URL:https://laguestlist.com/event/hypebeast-hotel-coachella/
LOCATION:Palm Springs
CATEGORIES:Coachella
ATTACH;FMTTYPE=image/png:https://laguestlist.com/wp-content/uploads/2017/04/a42.745.hb_palmsprings4-01_720v1.png
END:VEVENT
END:VCALENDAR